{"text_format":"1","workbook":"xlsx","n_sheets":9,"sheets":["START HERE","LOAP","Cred Doc Crosswalk","Credentialing Doc Checklist","Hospitals","Sheet4","Sheet2","CBH_Taxonomies","Sheet1"],"not_rendered":{"charts":0,"images":2,"macros":1,"external_links":0,"defined_names":9,"comments":1,"pivot_tables":0},"unopened":[],"bounds":{"document_bytes":16777216,"sheet_cells":100000,"rows_first":2000,"rows_last":500,"rows_between":2000,"halvings":0,"cell_chars":16384,"cell_head_chars":4096},"cells_cut":0,"cells_raw":0,"read":"whole","date_system":"1900"}

{"sheet":"START HERE","index":0,"n_rows":22,"n_cols":1,"rows_kept":22,"cut":false,"hidden":false,"merged":[[21,0,21,13]]}
[]
[]
[]
[]
[]
[]
[]
[]
[]
[]
[]
[]
[]
[]
[]
[]
[]
[]
[]
[]
[]
["When first opening this document, please enable macros to access automation features."]

{"sheet":"LOAP","index":1,"n_rows":166,"n_cols":52,"rows_kept":166,"cut":false,"hidden":false,"merged":[[12,14,12,17],[11,14,11,17],[10,14,10,17],[9,14,9,17],[8,14,8,17],[7,14,7,17],[7,11,7,13],[12,11,12,13],[11,11,11,13],[10,11,10,13],[9,11,9,13],[8,11,8,13],[0,0,0,17],[1,0,1,17],[2,0,2,17],[0,18,0,54],[1,18,1,54],[2,18,2,54],[3,0,3,17],[4,38,4,41],[5,38,5,41],[4,34,4,35],[5,34,5,35],[4,19,4,25],[4,26,4,32],[5,19,5,25],[5,26,5,32],[8,48,8,50],[12,48,12,50],[11,25,11,26],[11,27,11,28],[11,29,11,31],[12,1,12,10],[12,25,12,26],[12,27,12,28],[12,21,12,22],[11,21,11,22],[12,32,12,38],[11,32,11,38],[10,29,10,31],[12,29,12,31],[7,1,7,10],[103,51,103,54],[104,51,104,54],[105,51,105,54],[106,51,106,54],[32,51,32,54],[33,51,33,54],[34,51,34,54],[35,51,35,54],[36,51,36,54],[37,51,37,54],[38,51,38,54],[39,51,39,54],[40,51,40,54],[41,51,41,54],[42,51,42,54],[43,51,43,54],[44,51,44,54],[45,51,45,54],[46,51,46,54],[47,51,47,54],[48,51,48,54],[16,51,16,54],[107,51,107,54],[108,51,108,54],[109,51,109,54],[110,51,110,54],[111,51,111,54],[112,51,112,54],[113,51,113,54],[114,51,114,54],[79,51,79,54],[80,51,80,54],[81,51,81,54],[82,51,82,54],[49,51,49,54],[50,51,50,54],[51,51,51,54],[52,51,52,54],[53,51,53,54],[54,51,54,54],[55,51,55,54],[56,51,56,54],[57,51,57,54],[58,51,58,54],[59,51,59,54],[60,51,60,54],[61,51,61,54],[62,51,62,54],[63,51,63,54],[64,51,64,54],[65,51,65,54],[100,51,100,54],[101,51,101,54],[102,51,102,54],[115,51,115,54],[17,51,17,54],[83,51,83,54],[84,51,84,54],[85,51,85,54],[86,51,86,54],[87,51,87,54],[88,51,88,54],[89,51,89,54],[90,51,90,54],[91,51,91,54],[92,51,92,54],[93,51,93,54],[94,51,94,54],[95,51,95,54],[96,51,96,54],[97,51,97,54],[98,51,98,54],[99,51,99,54],[66,51,66,54],[67,51,67,54],[68,51,68,54],[69,51,69,54],[70,51,70,54],[71,51,71,54],[72,51,72,54],[73,51,73,54],[74,51,74,54],[75,51,75,54],[76,51,76,54],[77,51,77,54],[78,51,78,54],[18,51,18,54],[19,51,19,54],[20,51,20,54],[21,51,21,54],[22,51,22,54],[23,51,23,54],[24,51,24,54],[25,51,25,54],[26,51,26,54],[27,51,27,54],[28,51,28,54],[29,51,29,54],[30,51,30,54],[31,51,31,54],[107,42,107,45],[61,42,61,45],[62,42,62,45],[63,42,63,45],[64,42,64,45],[65,42,65,45],[66,42,66,45],[67,42,67,45],[68,42,68,45],[69,42,69,45],[70,42,70,45],[71,42,71,45],[72,42,72,45],[73,42,73,45],[74,42,74,45],[75,42,75,45],[95,42,95,45],[96,42,96,45],[108,42,108,45],[76,42,76,45],[77,42,77,45],[90,42,90,45],[92,42,92,45],[93,42,93,45],[89,42,89,45],[109,42,109,45],[110,42,110,45],[111,42,111,45],[112,42,112,45],[113,42,113,45],[114,42,114,45],[115,42,115,45],[78,42,78,45],[79,42,79,45],[80,42,80,45],[81,42,81,45],[82,42,82,45],[83,42,83,45],[84,42,84,45],[85,42,85,45],[86,42,86,45],[99,42,99,45],[100,42,100,45],[101,42,101,45],[102,42,102,45],[103,42,103,45],[104,42,104,45],[105,42,105,45],[106,42,106,45],[94,42,94,45],[97,42,97,45],[98,42,98,45],[87,42,87,45],[88,42,88,45],[91,42,91,45],[43,42,43,45],[44,42,44,45],[45,42,45,45],[46,42,46,45],[47,42,47,45],[48,42,48,45],[49,42,49,45],[50,42,50,45],[51,42,51,45],[53,42,53,45],[54,42,54,45],[55,42,55,45],[56,42,56,45],[57,42,57,45],[58,42,58,45],[59,42,59,45],[60,42,60,45],[26,42,26,45],[27,42,27,45],[28,42,28,45],[29,42,29,45],[30,42,30,45],[31,42,31,45],[32,42,32,45],[33,42,33,45],[34,42,34,45],[35,42,35,45],[36,42,36,45],[37,42,37,45],[38,42,38,45],[39,42,39,45],[40,42,40,45],[41,42,41,45],[42,42,42,45],[16,47,16,50],[14,38,15,38],[16,42,16,45],[17,42,17,45],[15,46,15,50],[14,0,15,18],[15,39,15,45],[17,21,17,22],[16,21,16,22],[15,19,15,20],[17,25,17,27],[17,1,17,2],[17,3,17,4],[14,19,14,22],[16,19,16,20],[17,8,17,9],[17,10,17,11],[16,8,16,9],[16,10,16,11],[17,28,17,32],[16,12,16,13],[17,47,17,50],[15,25,15,27],[15,21,15,22],[16,1,16,2],[16,3,16,4],[106,47,106,50],[107,47,107,50],[108,47,108,50],[109,47,109,50],[110,47,110,50],[111,47,111,50],[112,47,112,50],[113,47,113,50],[114,47,114,50],[115,47,115,50],[85,47,85,50],[86,47,86,50],[87,47,87,50],[88,47,88,50],[89,47,89,50],[90,47,90,50],[91,47,91,50],[92,47,92,50],[93,47,93,50],[94,47,94,50],[95,47,95,50],[96,47,96,50],[97,47,97,50],[98,47,98,50],[99,47,99,50],[100,47,100,50],[101,47,101,50],[77,47,77,50],[78,47,78,50],[79,47,79,50],[82,47,82,50],[83,47,83,50],[84,47,84,50],[80,47,80,50],[81,47,81,50],[102,47,102,50],[103,47,103,50],[104,47,104,50],[105,47,105,50],[55,47,55,50],[56,47,56,50],[57,47,57,50],[58,47,58,50],[59,47,59,50],[60,47,60,50],[61,47,61,50],[62,47,62,50],[63,47,63,50],[64,47,64,50],[65,47,65,50],[66,47,66,50],[67,47,67,50],[68,47,68,50],[69,47,69,50],[70,47,70,50],[71,47,71,50],[72,47,72,50],[73,47,73,50],[74,47,74,50],[52,47,52,50],[53,47,53,50],[54,47,54,50],[39,47,39,50],[36,25,36,27],[37,25,37,27],[38,25,38,27],[40,25,40,27],[41,25,41,27],[42,25,42,27],[43,25,43,27],[47,47,47,50],[48,47,48,50],[46,28,46,32],[47,28,47,32],[76,47,76,50],[75,47,75,50],[63,28,63,32],[64,28,64,32],[65,28,65,32],[54,25,54,27],[55,25,55,27],[48,25,48,27],[49,25,49,27],[48,28,48,32],[49,28,49,32],[54,28,54,32],[55,28,55,32],[52,42,52,45],[37,28,37,32],[38,28,38,32],[39,28,39,32],[27,47,27,50],[28,47,28,50],[29,47,29,50],[9,52,9,54],[9,48,9,50],[8,43,8,46],[9,43,9,46],[10,43,10,46],[11,43,11,46],[12,43,12,46],[10,48,10,50],[11,48,11,50],[8,52,8,54],[46,47,46,50],[49,47,49,50],[50,47,50,50],[51,47,51,50],[30,47,30,50],[31,47,31,50],[32,47,32,50],[33,47,33,50],[34,47,34,50],[38,47,38,50],[43,47,43,50],[18,42,18,45],[19,42,19,45],[20,42,20,45],[21,42,21,45],[22,42,22,45],[23,42,23,45],[24,42,24,45],[25,42,25,45],[18,47,18,50],[19,47,19,50],[20,47,20,50],[21,47,21,50],[22,47,22,50],[23,47,23,50],[26,47,26,50],[24,47,24,50],[25,47,25,50],[9,29,9,31],[10,1,10,10],[10,25,10,26],[10,27,10,28],[9,1,9,10],[4,0,4,10],[4,11,4,12],[4,42,4,44],[5,0,5,10],[5,11,5,12],[5,42,5,44],[4,45,4,47],[4,48,4,50],[5,45,5,47],[5,48,5,50],[16,25,16,27],[15,28,15,32],[15,34,15,35],[9,23,9,24],[8,23,8,24],[7,32,7,38],[7,39,7,41],[11,1,11,10],[100,25,100,27],[96,28,96,32],[16,28,16,32],[100,8,100,9],[100,10,100,11],[100,12,100,13],[100,19,100,20],[100,21,100,22],[99,25,99,27],[94,8,94,9],[94,10,94,11],[94,12,94,13],[94,25,94,27],[95,25,95,27],[96,25,96,27],[97,25,97,27],[97,28,97,32],[95,28,95,32],[93,12,93,13],[95,8,95,9],[89,10,89,11],[89,12,89,13],[89,19,89,20],[89,21,89,22],[88,8,88,9],[88,10,88,11],[88,12,88,13],[88,19,88,20],[88,21,88,22],[85,19,85,20],[85,21,85,22],[84,8,84,9],[115,8,115,9],[115,10,115,11],[115,12,115,13],[115,19,115,20],[115,21,115,22],[114,8,114,9],[110,8,110,9],[110,19,110,20],[110,21,110,22],[108,8,108,9],[108,10,108,11],[108,12,108,13],[108,19,108,20],[108,21,108,22],[110,10,110,11],[110,12,110,13],[104,12,104,13],[104,19,104,20],[104,21,104,22],[107,8,107,9],[107,10,107,11],[107,12,107,13],[107,19,107,20],[107,21,107,22],[113,8,113,9],[113,10,113,11],[113,12,113,13],[111,8,111,9],[111,10,111,11],[111,12,111,13],[111,19,111,20],[111,21,111,22],[114,25,114,27],[115,25,115,27],[108,25,108,27],[109,25,109,27],[110,25,110,27],[111,25,111,27],[114,28,114,32],[115,28,115,32],[114,10,114,11],[114,12,114,13],[114,19,114,20],[114,21,114,22],[110,1,110,2],[112,25,112,27],[113,25,113,27],[110,28,110,32],[111,28,111,32],[112,28,112,32],[113,28,113,32],[109,8,109,9],[109,10,109,11],[109,12,109,13],[109,19,109,20],[108,3,108,4],[109,3,109,4],[113,19,113,20],[113,21,113,22],[112,8,112,9],[112,10,112,11],[112,12,112,13],[112,19,112,20],[112,21,112,22],[109,1,109,2],[108,28,108,32],[109,28,109,32],[109,21,109,22],[101,8,101,9],[101,10,101,11],[101,12,101,13],[107,1,107,2],[106,3,106,4],[107,3,107,4],[105,8,105,9],[105,10,105,11],[105,12,105,13],[105,19,105,20],[105,21,105,22],[104,8,104,9],[104,10,104,11],[104,1,104,2],[105,1,105,2],[104,3,104,4],[105,3,105,4],[103,21,103,22],[106,25,106,27],[107,25,107,27],[101,25,101,27],[102,25,102,27],[103,25,103,27],[106,28,106,32],[103,8,103,9],[103,10,103,11],[103,12,103,13],[103,19,103,20],[100,1,100,2],[100,3,100,4],[106,8,106,9],[106,10,106,11],[106,12,106,13],[106,19,106,20],[106,21,106,22],[106,1,106,2],[108,1,108,2],[99,8,99,9],[99,10,99,11],[99,12,99,13],[99,19,99,20],[99,21,99,22],[98,8,98,9],[98,10,98,11],[98,12,98,13],[98,19,98,20],[102,8,102,9],[102,10,102,11],[102,12,102,13],[102,19,102,20],[102,21,102,22],[102,1,102,2],[103,1,103,2],[102,3,102,4],[103,3,103,4],[101,19,101,20],[101,21,101,22],[101,1,101,2],[101,3,101,4],[98,1,98,2],[99,1,99,2],[98,3,98,4],[99,3,99,4],[97,8,97,9],[97,10,97,11],[97,12,97,13],[97,19,97,20],[97,21,97,22],[96,8,96,9],[96,10,96,11],[96,12,96,13],[96,19,96,20],[96,21,96,22],[98,25,98,27],[94,1,94,2],[95,1,95,2],[90,25,90,27],[91,25,91,27],[93,19,93,20],[93,21,93,22],[92,8,92,9],[92,10,92,11],[92,12,92,13],[92,19,92,20],[92,21,92,22],[92,1,92,2],[93,1,93,2],[92,3,92,4],[93,3,93,4],[98,21,98,22],[93,8,93,9],[93,10,93,11],[94,3,94,4],[95,3,95,4],[96,1,96,2],[97,1,97,2],[96,3,96,4],[97,3,97,4],[93,25,93,27],[94,19,94,20],[94,21,94,22],[95,10,95,11],[95,12,95,13],[95,19,95,20],[95,21,95,22],[88,1,88,2],[89,1,89,2],[88,3,88,4],[89,3,89,4],[91,8,91,9],[91,10,91,11],[91,12,91,13],[91,19,91,20],[91,21,91,22],[90,8,90,9],[90,10,90,11],[90,12,90,13],[90,19,90,20],[90,21,90,22],[90,1,90,2],[91,1,91,2],[90,3,90,4],[91,3,91,4],[89,8,89,9],[84,10,84,11],[84,12,84,13],[84,19,84,20],[84,21,84,22],[84,1,84,2],[85,1,85,2],[84,3,84,4],[85,3,85,4],[84,25,84,27],[85,8,85,9],[85,10,85,11],[85,12,85,13],[87,8,87,9],[87,10,87,11],[86,8,86,9],[86,10,86,11],[86,12,86,13],[86,19,86,20],[86,21,86,22],[87,12,87,13],[87,19,87,20],[87,21,87,22],[86,1,86,2],[87,1,87,2],[86,3,86,4],[87,3,87,4],[80,1,80,2],[81,1,81,2],[80,3,80,4],[81,3,81,4],[83,8,83,9],[83,10,83,11],[83,12,83,13],[83,19,83,20],[83,21,83,22],[82,8,82,9],[82,10,82,11],[82,12,82,13],[82,19,82,20],[82,21,82,22],[82,28,82,32],[83,28,83,32],[82,1,82,2],[83,1,83,2],[82,3,82,4],[83,3,83,4],[81,8,81,9],[81,10,81,11],[80,28,80,32],[81,28,81,32],[79,10,79,11],[79,12,79,13],[81,12,81,13],[81,19,81,20],[81,21,81,22],[80,8,80,9],[80,10,80,11],[80,12,80,13],[80,19,80,20],[80,21,80,22],[82,25,82,27],[83,25,83,27],[78,10,78,11],[78,12,78,13],[78,19,78,20],[78,21,78,22],[79,19,79,20],[79,21,79,22],[78,8,78,9],[80,25,80,27],[81,25,81,27],[73,8,73,9],[73,10,73,11],[73,12,73,13],[73,19,73,20],[73,21,73,22],[78,1,78,2],[79,1,79,2],[78,3,78,4],[79,3,79,4],[79,25,79,27],[77,19,77,20],[77,21,77,22],[76,8,76,9],[76,10,76,11],[76,12,76,13],[76,19,76,20],[76,21,76,22],[76,1,76,2],[77,1,77,2],[76,3,76,4],[77,3,77,4],[78,25,78,27],[77,8,77,9],[77,10,77,11],[77,12,77,13],[79,8,79,9],[75,8,75,9],[75,10,75,11],[75,12,75,13],[75,19,75,20],[75,21,75,22],[74,8,74,9],[74,10,74,11],[74,12,74,13],[74,19,74,20],[74,21,74,22],[74,1,74,2],[75,1,75,2],[74,3,74,4],[75,3,75,4],[72,8,72,9],[72,10,72,11],[72,12,72,13],[72,19,72,20],[72,21,72,22],[74,25,74,27],[75,25,75,27],[70,10,70,11],[70,12,70,13],[70,19,70,20],[70,21,70,22],[70,1,70,2],[71,1,71,2],[70,3,70,4],[71,3,71,4],[71,8,71,9],[71,10,71,11],[71,12,71,13],[71,19,71,20],[71,21,71,22],[70,8,70,9],[72,1,72,2],[73,1,73,2],[72,3,72,4],[69,19,69,20],[69,21,69,22],[68,8,68,9],[68,10,68,11],[68,12,68,13],[68,19,68,20],[68,21,68,22],[68,1,68,2],[69,1,69,2],[68,3,68,4],[69,3,69,4],[69,8,69,9],[69,10,69,11],[69,12,69,13],[64,1,64,2],[65,1,65,2],[64,3,64,4],[65,3,65,4],[67,8,67,9],[67,10,67,11],[67,12,67,13],[67,19,67,20],[67,21,67,22],[66,8,66,9],[66,10,66,11],[66,12,66,13],[66,19,66,20],[66,21,66,22],[66,1,66,2],[67,1,67,2],[66,3,66,4],[66,25,66,27],[67,25,67,27],[60,1,60,2],[61,1,61,2],[60,3,60,4],[61,3,61,4],[63,8,63,9],[63,10,63,11],[63,12,63,13],[63,19,63,20],[63,21,63,22],[62,8,62,9],[62,10,62,11],[62,12,62,13],[62,19,62,20],[62,21,62,22],[62,1,62,2],[63,1,63,2],[62,3,62,4],[63,3,63,4],[61,8,61,9],[65,25,65,27],[56,1,56,2],[57,1,57,2],[56,3,56,4],[57,3,57,4],[59,8,59,9],[59,10,59,11],[59,12,59,13],[59,19,59,20],[59,21,59,22],[58,8,58,9],[58,10,58,11],[58,12,58,13],[58,19,58,20],[58,21,58,22],[58,1,58,2],[59,1,59,2],[58,3,58,4],[59,3,59,4],[57,8,57,9],[57,10,57,11],[56,8,56,9],[56,10,56,11],[56,12,56,13],[56,19,56,20],[56,21,56,22],[56,28,56,32],[57,28,57,32],[58,28,58,32],[59,28,59,32],[55,19,55,20],[55,21,55,22],[61,10,61,11],[61,12,61,13],[55,8,55,9],[55,10,55,11],[55,12,55,13],[61,19,61,20],[61,21,61,22],[60,8,60,9],[60,10,60,11],[60,12,60,13],[60,19,60,20],[60,21,60,22],[56,25,56,27],[57,25,57,27],[58,25,58,27],[59,25,59,27],[54,1,54,2],[55,1,55,2],[54,3,54,4],[55,3,55,4],[47,25,47,27],[53,19,53,20],[53,21,53,22],[52,8,52,9],[52,10,52,11],[52,12,52,13],[52,19,52,20],[52,21,52,22],[48,1,48,2],[49,1,49,2],[48,3,48,4],[49,3,49,4],[51,8,51,9],[51,10,51,11],[51,12,51,13],[51,19,51,20],[51,21,51,22],[50,8,50,9],[50,10,50,11],[50,12,50,13],[50,19,50,20],[50,21,50,22],[52,1,52,2],[53,1,53,2],[52,3,52,4],[50,1,50,2],[51,1,51,2],[50,3,50,4],[7,25,7,26],[7,27,7,28],[7,29,7,31],[9,25,9,26],[9,27,9,28],[8,1,8,10],[8,25,8,26],[8,27,8,28],[8,29,8,31],[7,21,7,22],[10,21,10,22],[9,21,9,22],[8,21,8,22],[7,23,7,24],[10,23,10,24],[31,10,31,11],[27,19,27,20],[27,21,27,22],[20,19,20,20],[20,21,20,22],[21,19,21,20],[21,21,21,22],[19,12,19,13],[23,19,23,20],[20,12,20,13],[17,12,17,13],[17,19,17,20],[30,21,30,22],[30,19,30,20],[22,19,22,20],[22,21,22,22],[23,21,23,22],[18,28,18,32],[19,28,19,32],[20,28,20,32],[21,28,21,32],[35,25,35,27],[34,12,34,13],[31,19,31,20],[31,21,31,22],[33,10,33,11],[33,12,33,13],[51,3,51,4],[53,8,53,9],[53,10,53,11],[53,12,53,13],[53,3,53,4],[43,21,43,22],[44,12,44,13],[44,19,44,20],[44,21,44,22],[43,8,43,9],[32,3,32,4],[33,3,33,4],[34,3,34,4],[34,8,34,9],[34,10,34,11],[46,25,46,27],[39,25,39,27],[36,8,36,9],[36,10,36,11],[38,12,38,13],[38,19,38,20],[38,21,38,22],[23,25,23,27],[24,25,24,27],[25,25,25,27],[41,8,41,9],[37,19,37,20],[37,21,37,22],[36,12,36,13],[36,19,36,20],[36,21,36,22],[37,47,37,50],[43,19,43,20],[45,25,45,27],[42,28,42,32],[43,28,43,32],[18,19,18,20],[26,19,26,20],[26,21,26,22],[24,10,24,11],[24,12,24,13],[24,19,24,20],[24,21,24,22],[30,12,30,13],[34,19,34,20],[39,8,39,9],[39,10,39,11],[39,12,39,13],[39,19,39,20],[33,28,33,32],[34,28,34,32],[35,28,35,32],[36,28,36,32],[30,28,30,32],[18,3,18,4]],"merged_total":1919,"flags":["merged_cut"]}
["LIST OF AFFILIATED PRACTITIONERS (L.O.A.P.)"]
[" *** Only one billing/group TIN and NPI can be submitted per L.O.A.P. Please create a new tab for each TIN/billing NPI combination ***"]
["ALL COLUMN HEADERS HIGHLIGHTED IN RED ARE REQUIRED. PLEASE COMPLETE ALL REQUIRED FIELDS TO PREVENT DELAYS IN PROCESSING YOUR ENROLLMENT REQUEST."]
[]
["Legal Name of Contracted Group",null,null,null,null,null,null,null,null,null,null,"Federal Tax ID",null,"Group/Billing NPI","Group Type","Is this a Hospitalist-only group?","Group/Individual Medicaid ID","Group/Individual \nMedicare ID","Group/Individual\nTaxonomy Code","Complete Billing Address\n(Address, City, State, Zip)\nThe W-9 submitted must match this address.",null,null,null,null,null,null,"Complete Notice Address\n(Address, City, State, Zip)\nAddress were any correspondence should be sent, if different from mailing address",null,null,null,null,null,null,null,"Credentialing Contact or Office Manager Name",null,null,null,"Public-Facing Email Address\nAlso utilized to send correspondence and health plan news.",null,null,null,"Credentialing Staff Email \n(if different) from public facing email ",null,null,"Contact/Billing Phone Number ",null,null,"Contact/Billing Fax Number ",null,null,"Template Last Updated:\n4/22/25 SH_9973"]
[null,null,null,null,null,null,null,null,null,null,null,null,null,null,"Selection Required","Selection Required"]
["Practice/Service Locations (List All)  "]
["Location ID","Location Name to Display in Directory\nPlease ensure that each service location is registered on AHCA's Provider Master List (PML) for the Medicaid lines of business.\nWe will only display up to five (5) locations, per practitioner. If more than 5 locations are submitted, we will only display the first five (5) locations.\n",null,null,null,null,null,null,null,null,null,"Location Type\nPlease indicate if the location is practicing vs covering.",null,null,"Street Address ",null,null,null,"City","State","Zip","County",null,"Address Type",null,"Location Phone Number",null,"Location Fax Number",null,"Hours of Operation ",null,null,"After Hours Availability \nList Office Hours Outside of 8A-5P Only",null,null,null,null,null,null,"Service Location NPI \n(Not used for billing) \nThis will be used for Credentialing purposes only",null,null,"Contracted Products\nPlease indicate below the products in which you hold an executed contract. Note, this is not a guarantee for participation as the Health Plan will review eligibility, credentialing status, and contracted products prior to loading."]
["A",null,null,null,null,null,null,null,null,null,null,null,null,null,null,null,null,null,null,{"$f":"IF(ISBLANK(L9),\" \",\"FL\")","v":" "},null,null,null,null,null,null,null,null,null,null,null,null,null,null,null,null,null,null,null,null,null,null,null,"MMA - Medicaid",null,null,null,null,"MMA - Long Term Care (LTC)"]
["B",null,null,null,null,null,null,null,null,null,null,null,null,null,null,null,null,null,null,{"$f":"IF(ISBLANK(L10),\" \",\"FL\")","v":" "},null,null,null,null,null,null,null,null,null,null,null,null,null,null,null,null,null,null,null,null,null,null,null,"MMA - Pathway to Shine (Child Welfare)",null,null,null,null,"WellCare - Medicare"]
["C",null,null,null,null,null,null,null,null,null,null,null,null,null,null,null,null,null,null," ",null,null,null,null,null,null,null,null,null,null,null,null,null,null,null,null,null,null,null,null,null,null,null,"MMA - Children's Medical Services (CMS)",null,null,null,null,"Marketplace Exchange - Premier"]
["D",null,null,null,null,null,null,null,null,null,null,null,null,null,null,null,null,null,null," ",null,null,null,null,null,null,null,null,null,null,null,null,null,null,null,null,null,null,null,null,null,null,null,"MMA - Mindful Pathways (SMI)",null,null,null,null,"Marketplace Exchange - Value"]
["E",null,null,null,null,null,null,null,null,null,null,null,null,null,null,null,null,null,null," ",null,null,null,null,null,null,null,null,null,null,null,null,null,null,null,null,null,null,null,null,null,null,null,"MMA - Power to Thrive (HIV Specialty Plan)"]
["Physician Listing:  New Contracts - Please list ALL practicing physicians |  Adding to an Exisiting Group:  Please list the names of the NEW physicians only"]
[null,null,null,null,null,null,null,null,null,null,null,null,null,null,null,null,null,null,null,"Florida Medical Web Portal"]
[null,null,null,null,null,null,null,null,null,null,null,null,null,null,null,null,null,null,null,"Provider Master List",null,"PECOS",null,null,null,"Enter the Taxonomy Code",null,null,null,null,null,null,null,null,"Only applies to Medicaid enrollment",null,null,null,null,"Use Location IDs from Rows 9-13 Above\nA maximum of 5 locations per practitioner will print in directory "]
[null,"Practitioner Last Name",null,"Practitioner First Name",null,"Practitioner Gender","DOB","SSN\nThis data will not be displayed in the directory. Used for reporting purposes only.","Degree Code\nIf APRN must include APRN Protocol",null,"CAQH ID\nOnly required if credentialing applies",null,"Practitioner NPI\nMust be validated on NPPES NPI Registry ",null,"Practitioner Ethnicity\nThis data will NOT be displayed in the directory. Used for reporting purposes only.","Florida Medical License or Certification Number\nPlease include Exp. Date","DEA License Number\nOnly enter if applicable, Please include Exp. Date","Secondary Language Spoken\nDo not include English","Tertiary Language Spoken\nDo not include English","Active Practitoner Medicaid ID\nRequired to be enrolled in Medicaid Products ",null,"Active Practitoner Medicare ID\nRequired to be enrolled in Medicare Products ",null,"Practitioner Designation\nDesignate PCP or Specialist. If empty, practitioner will be loaded as a Specialist.","Provides Behavioral Health (BH) Services?\n(Y/N)","Primary Practicing\nTaxonomy Code \nAs listed on AHCA PML if loading for Medicaid\n",null,null,"Specialty Description\n(Medicaid practitioners will only be loaded with taxonomy code(s) found on the PML. The provider type and specialty code on the PML MUST match the TML.",null,null,null,null,"Credentialing Required?\nIf your specialty requires credentialing, please include all credentialing documents for this practitioner.","AHCA Provider Type\nProvider must be enrolled on the PML using any of these eligible Provider Types","AHCA Specialty Code\nProvider must be enrolled on the PML using any of these eligible Specialty Codes","Supervising Practitioner Name","Supervising Practitioner NPI","Telemedicine Provider (Y/N) & Eff Date","Primary Location ID","List Primary Location in Directory (Y/N)","Accepting New Patients?\n(Y/N)","Additional Locations to be listed in directory",null,null,null,"Patient Age Ranges","Primary Hospital Privileges\n(Select from drop-down menu)",null,null,null,"Secondary Hospital Privileges\n(Select from drop-down menu)"]
[1,null,null,null,null,null,null,null,null,null,null,null,null,null,null,null,null,null,null,null,null,null,null,null,null,null,null,null,{"$f":"IF(Z18<>\"\", VLOOKUP(Z18, CBH_Taxonomies!C:D, 2, 0), \"\")","v":""},null,null,null,null,{"$f":"IFERROR(VLOOKUP(Z18, Sheet4!A:D, 4, 0), \"\")","v":""},{"$f":"_xlfn.TEXTJOIN(\", \", TRUE, _xlfn.UNIQUE(IF(Sheet2!$A$2:$A$888 = LOAP!Z18, Sheet2!$B$2:$B$888, \"\")))","v":""},{"$f":"_xlfn.TEXTJOIN(\", \", TRUE, _xlfn.UNIQUE(IF(Sheet2!$A$2:$A$888 = LOAP!Z18, Sheet2!$C$2:$C$888, \"\")))","v":""},null,{"$f":"_xlfn.TEXTJOIN(\", \", TRUE, _xlfn.UNIQUE(IF(Sheet2!$A$2:$A$888 = LOAP!AC18, Sheet2!$B$2:$B$888, \"\")))","v":""},null,null,null,{"$f":"IF(ISBLANK(B18),\" \",\"Y\")","v":" "}]
[2,null,null,null,null,null,null,null,null,null,null,null,null,null,null,null,null,null,null,null,null,null,null,null,null,null,null,null,{"$f":"IF(Z19<>\"\", VLOOKUP(Z19, CBH_Taxonomies!C:D, 2, 0), \"\")","v":""},null,null,null,null,{"$f":"IFERROR(VLOOKUP(Z19, Sheet4!A:D, 4, 0), \"\")","v":""},{"$f":"_xlfn.TEXTJOIN(\", \", TRUE, _xlfn.UNIQUE(IF(Sheet2!$A$2:$A$888 = LOAP!Z19, Sheet2!$B$2:$B$888, \"\")))","v":""},{"$f":"_xlfn.TEXTJOIN(\", \", TRUE, _xlfn.UNIQUE(IF(Sheet2!$A$2:$A$888 = LOAP!Z19, Sheet2!$C$2:$C$888, \"\")))","v":""},null,null,null,null,null," "]
[3,null,null,null,null,null,null,null,null,null,null,null,null,null,null,null,null,null,null,null,null,null,null,null,null,null,null,null,{"$f":"IF(Z20<>\"\", VLOOKUP(Z20, CBH_Taxonomies!C:D, 2, 0), \"\")","v":""},null,null,null,null,{"$f":"IFERROR(VLOOKUP(Z20, Sheet4!A:D, 4, 0), \"\")","v":""},{"$f":"_xlfn.TEXTJOIN(\", \", TRUE, _xlfn.UNIQUE(IF(Sheet2!$A$2:$A$888 = LOAP!Z20, Sheet2!$B$2:$B$888, \"\")))","v":""},{"$f":"_xlfn.TEXTJOIN(\", \", TRUE, _xlfn.UNIQUE(IF(Sheet2!$A$2:$A$888 = LOAP!Z20, Sheet2!$C$2:$C$888, \"\")))","v":""},null,null,null,null,null," "]
[4,null,null,null,null,null,null,null,null,null,null,null,null,null,null,null,null,null,null,null,null,null,null,null,null,null,null,null,{"$f":"IF(Z21<>\"\", VLOOKUP(Z21, CBH_Taxonomies!C:D, 2, 0), \"\")","v":""},null,null,null,null,{"$f":"IFERROR(VLOOKUP(Z21, Sheet4!A:D, 4, 0), \"\")","v":""},{"$f":"_xlfn.TEXTJOIN(\", \", TRUE, _xlfn.UNIQUE(IF(Sheet2!$A$2:$A$888 = LOAP!Z21, Sheet2!$B$2:$B$888, \"\")))","v":""},{"$f":"_xlfn.TEXTJOIN(\", \", TRUE, _xlfn.UNIQUE(IF(Sheet2!$A$2:$A$888 = LOAP!Z21, Sheet2!$C$2:$C$888, \"\")))","v":""},null,null,null,null,null," "]
[5,null,null,null,null,null,null,null,null,null,null,null,null,null,null,null,null,null,null,null,null,null,null,null,null,null,null,null,{"$f":"IF(Z22<>\"\", VLOOKUP(Z22, CBH_Taxonomies!C:D, 2, 0), \"\")","v":""},null,null,null,null,{"$f":"IFERROR(VLOOKUP(Z22, Sheet4!A:D, 4, 0), \"\")","v":""},{"$f":"_xlfn.TEXTJOIN(\", \", TRUE, _xlfn.UNIQUE(IF(Sheet2!$A$2:$A$888 = LOAP!Z22, Sheet2!$B$2:$B$888, \"\")))","v":""},{"$f":"_xlfn.TEXTJOIN(\", \", TRUE, _xlfn.UNIQUE(IF(Sheet2!$A$2:$A$888 = LOAP!Z22, Sheet2!$C$2:$C$888, \"\")))","v":""},null,null,null,null,null," "]
[6,null,null,null,null,null,null,null,null,null,null,null,null,null,null,null,null,null,null,null,null,null,null,null,null,null,null,null,{"$f":"IF(Z23<>\"\", VLOOKUP(Z23, CBH_Taxonomies!C:D, 2, 0), \"\")","v":""},null,null,null,null,{"$f":"IFERROR(VLOOKUP(Z23, Sheet4!A:D, 4, 0), \"\")","v":""},{"$f":"_xlfn.TEXTJOIN(\", \", TRUE, _xlfn.UNIQUE(IF(Sheet2!$A$2:$A$888 = LOAP!Z23, Sheet2!$B$2:$B$888, \"\")))","v":""},{"$f":"_xlfn.TEXTJOIN(\", \", TRUE, _xlfn.UNIQUE(IF(Sheet2!$A$2:$A$888 = LOAP!Z23, Sheet2!$C$2:$C$888, \"\")))","v":""},null,null,null,null,null," "]
[7,null,null,null,null,null,null,null,null,null,null,null,null,null,null,null,null,null,null,null,null,null,null,null,null,null,null,null,{"$f":"IF(Z24<>\"\", VLOOKUP(Z24, CBH_Taxonomies!C:D, 2, 0), \"\")","v":""},null,null,null,null,{"$f":"IFERROR(VLOOKUP(Z24, Sheet4!A:D, 4, 0), \"\")","v":""},{"$f":"_xlfn.TEXTJOIN(\", \", TRUE, _xlfn.UNIQUE(IF(Sheet2!$A$2:$A$888 = LOAP!Z24, Sheet2!$B$2:$B$888, \"\")))","v":""},{"$f":"_xlfn.TEXTJOIN(\", \", TRUE, _xlfn.UNIQUE(IF(Sheet2!$A$2:$A$888 = LOAP!Z24, Sheet2!$C$2:$C$888, \"\")))","v":""},null,null,null,null,null," "]
[8,null,null,null,null,null,null,null,null,null,null,null,null,null,null,null,null,null,null,null,null,null,null,null,null,null,null,null,{"$f":"IF(Z25<>\"\", VLOOKUP(Z25, CBH_Taxonomies!C:D, 2, 0), \"\")","v":""},null,null,null,null,{"$f":"IFERROR(VLOOKUP(Z25, Sheet4!A:D, 4, 0), \"\")","v":""},{"$f":"_xlfn.TEXTJOIN(\", \", TRUE, _xlfn.UNIQUE(IF(Sheet2!$A$2:$A$888 = LOAP!Z25, Sheet2!$B$2:$B$888, \"\")))","v":""},{"$f":"_xlfn.TEXTJOIN(\", \", TRUE, _xlfn.UNIQUE(IF(Sheet2!$A$2:$A$888 = LOAP!Z25, Sheet2!$C$2:$C$888, \"\")))","v":""},null,null,null,null,null," "]
[9,null,null,null,null,null,null,null,null,null,null,null,null,null,null,null,null,null,null,null,null,null,null,null,null,null,null,null,{"$f":"IF(Z26<>\"\", VLOOKUP(Z26, CBH_Taxonomies!C:D, 2, 0), \"\")","v":""},null,null,null,null,{"$f":"IFERROR(VLOOKUP(Z26, Sheet4!A:D, 4, 0), \"\")","v":""},{"$f":"_xlfn.TEXTJOIN(\", \", TRUE, _xlfn.UNIQUE(IF(Sheet2!$A$2:$A$888 = LOAP!Z26, Sheet2!$B$2:$B$888, \"\")))","v":""},{"$f":"_xlfn.TEXTJOIN(\", \", TRUE, _xlfn.UNIQUE(IF(Sheet2!$A$2:$A$888 = LOAP!Z26, Sheet2!$C$2:$C$888, \"\")))","v":""},null,null,null,null,null," "]
[10,null,null,null,null,null,null,null,null,null,null,null,null,null,null,null,null,null,null,null,null,null,null,null,null,null,null,null,{"$f":"IF(Z27<>\"\", VLOOKUP(Z27, CBH_Taxonomies!C:D, 2, 0), \"\")","v":""},null,null,null,null,{"$f":"IFERROR(VLOOKUP(Z27, Sheet4!A:D, 4, 0), \"\")","v":""},{"$f":"_xlfn.TEXTJOIN(\", \", TRUE, _xlfn.UNIQUE(IF(Sheet2!$A$2:$A$888 = LOAP!Z27, Sheet2!$B$2:$B$888, \"\")))","v":""},{"$f":"_xlfn.TEXTJOIN(\", \", TRUE, _xlfn.UNIQUE(IF(Sheet2!$A$2:$A$888 = LOAP!Z27, Sheet2!$C$2:$C$888, \"\")))","v":""},null,null,null,null,null," "]
[11,null,null,null,null,null,null,null,null,null,null,null,null,null,null,null,null,null,null,null,null,null,null,null,null,null,null,null,{"$f":"IF(Z28<>\"\", VLOOKUP(Z28, CBH_Taxonomies!C:D, 2, 0), \"\")","v":""},null,null,null,null,{"$f":"IFERROR(VLOOKUP(Z28, Sheet4!A:D, 4, 0), \"\")","v":""},{"$f":"_xlfn.TEXTJOIN(\", \", TRUE, _xlfn.UNIQUE(IF(Sheet2!$A$2:$A$888 = LOAP!Z28, Sheet2!$B$2:$B$888, \"\")))","v":""},{"$f":"_xlfn.TEXTJOIN(\", \", TRUE, _xlfn.UNIQUE(IF(Sheet2!$A$2:$A$888 = LOAP!Z28, Sheet2!$C$2:$C$888, \"\")))","v":""},null,null,null,null,null," "]
[12,null,null,null,null,null,null,null,null,null,null,null,null,null,null,null,null,null,null,null,null,null,null,null,null,null,null,null,{"$f":"IF(Z29<>\"\", VLOOKUP(Z29, CBH_Taxonomies!C:D, 2, 0), \"\")","v":""},null,null,null,null,{"$f":"IFERROR(VLOOKUP(Z29, Sheet4!A:D, 4, 0), \"\")","v":""},{"$f":"_xlfn.TEXTJOIN(\", \", TRUE, _xlfn.UNIQUE(IF(Sheet2!$A$2:$A$888 = LOAP!Z29, Sheet2!$B$2:$B$888, \"\")))","v":""},{"$f":"_xlfn.TEXTJOIN(\", \", TRUE, _xlfn.UNIQUE(IF(Sheet2!$A$2:$A$888 = LOAP!Z29, Sheet2!$C$2:$C$888, \"\")))","v":""},null,null,null,null,null," "]
[13,null,null,null,null,null,null,null,null,null,null,null,null,null,null,null,null,null,null,null,null,null,null,null,null,null,null,null,{"$f":"IF(Z30<>\"\", VLOOKUP(Z30, CBH_Taxonomies!C:D, 2, 0), \"\")","v":""},null,null,null,null,{"$f":"IFERROR(VLOOKUP(Z30, Sheet4!A:D, 4, 0), \"\")","v":""},{"$f":"_xlfn.TEXTJOIN(\", \", TRUE, _xlfn.UNIQUE(IF(Sheet2!$A$2:$A$888 = LOAP!Z30, Sheet2!$B$2:$B$888, \"\")))","v":""},{"$f":"_xlfn.TEXTJOIN(\", \", TRUE, _xlfn.UNIQUE(IF(Sheet2!$A$2:$A$888 = LOAP!Z30, Sheet2!$C$2:$C$888, \"\")))","v":""},null,null,null,null,null," "]
[14,null,null,null,null,null,null,null,null,null,null,null,null,null,null,null,null,null,null,null,null,null,null,null,null,null,null,null,{"$f":"IF(Z31<>\"\", VLOOKUP(Z31, CBH_Taxonomies!C:D, 2, 0), \"\")","v":""},null,null,null,null,{"$f":"IFERROR(VLOOKUP(Z31, Sheet4!A:D, 4, 0), \"\")","v":""},{"$f":"_xlfn.TEXTJOIN(\", \", TRUE, _xlfn.UNIQUE(IF(Sheet2!$A$2:$A$888 = LOAP!Z31, Sheet2!$B$2:$B$888, \"\")))","v":""},{"$f":"_xlfn.TEXTJOIN(\", \", TRUE, _xlfn.UNIQUE(IF(Sheet2!$A$2:$A$888 = LOAP!Z31, Sheet2!$C$2:$C$888, \"\")))","v":""},null,null,null,null,null," "]
[15,null,null,null,null,null,null,null,null,null,null,null,null,null,null,null,null,null,null,null,null,null,null,null,null,null,null,null,{"$f":"IF(Z32<>\"\", VLOOKUP(Z32, CBH_Taxonomies!C:D, 2, 0), \"\")","v":""},null,null,null,null,{"$f":"IFERROR(VLOOKUP(Z32, Sheet4!A:D, 4, 0), \"\")","v":""},{"$f":"_xlfn.TEXTJOIN(\", \", TRUE, _xlfn.UNIQUE(IF(Sheet2!$A$2:$A$888 = LOAP!Z32, Sheet2!$B$2:$B$888, \"\")))","v":""},{"$f":"_xlfn.TEXTJOIN(\", \", TRUE, _xlfn.UNIQUE(IF(Sheet2!$A$2:$A$888 = LOAP!Z32, Sheet2!$C$2:$C$888, \"\")))","v":""},null,null,null,null,null," "]
[16,null,null,null,null,null,null,null,null,null,null,null,null,null,null,null,null,null,null,null,null,null,null,null,null,null,null,null,{"$f":"IF(Z33<>\"\", VLOOKUP(Z33, CBH_Taxonomies!C:D, 2, 0), \"\")","v":""},null,null,null,null,{"$f":"IFERROR(VLOOKUP(Z33, Sheet4!A:D, 4, 0), \"\")","v":""},{"$f":"_xlfn.TEXTJOIN(\", \", TRUE, _xlfn.UNIQUE(IF(Sheet2!$A$2:$A$888 = LOAP!Z33, Sheet2!$B$2:$B$888, \"\")))","v":""},{"$f":"_xlfn.TEXTJOIN(\", \", TRUE, _xlfn.UNIQUE(IF(Sheet2!$A$2:$A$888 = LOAP!Z33, Sheet2!$C$2:$C$888, \"\")))","v":""},null,null,null,null,null," "]
[17,null,null,null,null,null,null,null,null,null,null,null,null,null,null,null,null,null,null,null,null,null,null,null,null,null,null,null,{"$f":"IF(Z34<>\"\", VLOOKUP(Z34, CBH_Taxonomies!C:D, 2, 0), \"\")","v":""},null,null,null,null,{"$f":"IFERROR(VLOOKUP(Z34, Sheet4!A:D, 4, 0), \"\")","v":""},{"$f":"_xlfn.TEXTJOIN(\", \", TRUE, _xlfn.UNIQUE(IF(Sheet2!$A$2:$A$888 = LOAP!Z34, Sheet2!$B$2:$B$888, \"\")))","v":""},{"$f":"_xlfn.TEXTJOIN(\", \", TRUE, _xlfn.UNIQUE(IF(Sheet2!$A$2:$A$888 = LOAP!Z34, Sheet2!$C$2:$C$888, \"\")))","v":""},null,null,null,null,null," "]
[18,null,null,null,null,null,null,null,null,null,null,null,null,null,null,null,null,null,null,null,null,null,null,null,null,null,null,null,{"$f":"IF(Z35<>\"\", VLOOKUP(Z35, CBH_Taxonomies!C:D, 2, 0), \"\")","v":""},null,null,null,null,{"$f":"IFERROR(VLOOKUP(Z35, Sheet4!A:D, 4, 0), \"\")","v":""},{"$f":"_xlfn.TEXTJOIN(\", \", TRUE, _xlfn.UNIQUE(IF(Sheet2!$A$2:$A$888 = LOAP!Z35, Sheet2!$B$2:$B$888, \"\")))","v":""},{"$f":"_xlfn.TEXTJOIN(\", \", TRUE, _xlfn.UNIQUE(IF(Sheet2!$A$2:$A$888 = LOAP!Z35, Sheet2!$C$2:$C$888, \"\")))","v":""},null,null,null,null,null," "]
[19,null,null,null,null,null,null,null,null,null,null,null,null,null,null,null,null,null,null,null,null,null,null,null,null,null,null,null,{"$f":"IF(Z36<>\"\", VLOOKUP(Z36, CBH_Taxonomies!C:D, 2, 0), \"\")","v":""},null,null,null,null,{"$f":"IFERROR(VLOOKUP(Z36, Sheet4!A:D, 4, 0), \"\")","v":""},{"$f":"_xlfn.TEXTJOIN(\", \", TRUE, _xlfn.UNIQUE(IF(Sheet2!$A$2:$A$888 = LOAP!Z36, Sheet2!$B$2:$B$888, \"\")))","v":""},{"$f":"_xlfn.TEXTJOIN(\", \", TRUE, _xlfn.UNIQUE(IF(Sheet2!$A$2:$A$888 = LOAP!Z36, Sheet2!$C$2:$C$888, \"\")))","v":""},null,null,null,null,null," "]
[20,null,null,null,null,null,null,null,null,null,null,null,null,null,null,null,null,null,null,null,null,null,null,null,null,null,null,null,{"$f":"IF(Z37<>\"\", VLOOKUP(Z37, CBH_Taxonomies!C:D, 2, 0), \"\")","v":""},null,null,null,null,{"$f":"IFERROR(VLOOKUP(Z37, Sheet4!A:D, 4, 0), \"\")","v":""},{"$f":"_xlfn.TEXTJOIN(\", \", TRUE, _xlfn.UNIQUE(IF(Sheet2!$A$2:$A$888 = LOAP!Z37, Sheet2!$B$2:$B$888, \"\")))","v":""},{"$f":"_xlfn.TEXTJOIN(\", \", TRUE, _xlfn.UNIQUE(IF(Sheet2!$A$2:$A$888 = LOAP!Z37, Sheet2!$C$2:$C$888, \"\")))","v":""},null,null,null,null,null," "]
[21,null,null,null,null,null,null,null,null,null,null,null,null,null,null,null,null,null,null,null,null,null,null,null,null,null,null,null,{"$f":"IF(Z38<>\"\", VLOOKUP(Z38, CBH_Taxonomies!C:D, 2, 0), \"\")","v":""},null,null,null,null,{"$f":"IFERROR(VLOOKUP(Z38, Sheet4!A:D, 4, 0), \"\")","v":""},{"$f":"_xlfn.TEXTJOIN(\", \", TRUE, _xlfn.UNIQUE(IF(Sheet2!$A$2:$A$888 = LOAP!Z38, Sheet2!$B$2:$B$888, \"\")))","v":""},{"$f":"_xlfn.TEXTJOIN(\", \", TRUE, _xlfn.UNIQUE(IF(Sheet2!$A$2:$A$888 = LOAP!Z38, Sheet2!$C$2:$C$888, \"\")))","v":""},null,null,null,null,null," "]
[22,null,null,null,null,null,null,null,null,null,null,null,null,null,null,null,null,null,null,null,null,null,null,null,null,null,null,null,{"$f":"IF(Z39<>\"\", VLOOKUP(Z39, CBH_Taxonomies!C:D, 2, 0), \"\")","v":""},null,null,null,null,{"$f":"IFERROR(VLOOKUP(Z39, Sheet4!A:D, 4, 0), \"\")","v":""},{"$f":"_xlfn.TEXTJOIN(\", \", TRUE, _xlfn.UNIQUE(IF(Sheet2!$A$2:$A$888 = LOAP!Z39, Sheet2!$B$2:$B$888, \"\")))","v":""},{"$f":"_xlfn.TEXTJOIN(\", \", TRUE, _xlfn.UNIQUE(IF(Sheet2!$A$2:$A$888 = LOAP!Z39, Sheet2!$C$2:$C$888, \"\")))","v":""},null,null,null,null,null," "]
[23,null,null,null,null,null,null,null,null,null,null,null,null,null,null,null,null,null,null,null,null,null,null,null,null,null,null,null,{"$f":"IF(Z40<>\"\", VLOOKUP(Z40, CBH_Taxonomies!C:D, 2, 0), \"\")","v":""},null,null,null,null,{"$f":"IFERROR(VLOOKUP(Z40, Sheet4!A:D, 4, 0), \"\")","v":""},{"$f":"_xlfn.TEXTJOIN(\", \", TRUE, _xlfn.UNIQUE(IF(Sheet2!$A$2:$A$888 = LOAP!Z40, Sheet2!$B$2:$B$888, \"\")))","v":""},{"$f":"_xlfn.TEXTJOIN(\", \", TRUE, _xlfn.UNIQUE(IF(Sheet2!$A$2:$A$888 = LOAP!Z40, Sheet2!$C$2:$C$888, \"\")))","v":""},null,null,null,null,null," "]
[24,null,null,null,null,null,null,null,null,null,null,null,null,null,null,null,null,null,null,null,null,null,null,null,null,null,null,null,{"$f":"IF(Z41<>\"\", VLOOKUP(Z41, CBH_Taxonomies!C:D, 2, 0), \"\")","v":""},null,null,null,null,{"$f":"IFERROR(VLOOKUP(Z41, Sheet4!A:D, 4, 0), \"\")","v":""},{"$f":"_xlfn.TEXTJOIN(\", \", TRUE, _xlfn.UNIQUE(IF(Sheet2!$A$2:$A$888 = LOAP!Z41, Sheet2!$B$2:$B$888, \"\")))","v":""},{"$f":"_xlfn.TEXTJOIN(\", \", TRUE, _xlfn.UNIQUE(IF(Sheet2!$A$2:$A$888 = LOAP!Z41, Sheet2!$C$2:$C$888, \"\")))","v":""},null,null,null,null,null," "]
[25,null,null,null,null,null,null,null,null,null,null,null,null,null,null,null,null,null,null,null,null,null,null,null,null,null,null,null,{"$f":"IF(Z42<>\"\", VLOOKUP(Z42, CBH_Taxonomies!C:D, 2, 0), \"\")","v":""},null,null,null,null,{"$f":"IFERROR(VLOOKUP(Z42, Sheet4!A:D, 4, 0), \"\")","v":""},{"$f":"_xlfn.TEXTJOIN(\", \", TRUE, _xlfn.UNIQUE(IF(Sheet2!$A$2:$A$888 = LOAP!Z42, Sheet2!$B$2:$B$888, \"\")))","v":""},{"$f":"_xlfn.TEXTJOIN(\", \", TRUE, _xlfn.UNIQUE(IF(Sheet2!$A$2:$A$888 = LOAP!Z42, Sheet2!$C$2:$C$888, \"\")))","v":""},null,null,null,null,null," "]
[26,null,null,null,null,null,null,null,null,null,null,null,null,null,null,null,null,null,null,null,null,null,null,null,null,null,null,null,{"$f":"IF(Z43<>\"\", VLOOKUP(Z43, CBH_Taxonomies!C:D, 2, 0), \"\")","v":""},null,null,null,null,{"$f":"IFERROR(VLOOKUP(Z43, Sheet4!A:D, 4, 0), \"\")","v":""},{"$f":"_xlfn.TEXTJOIN(\", \", TRUE, _xlfn.UNIQUE(IF(Sheet2!$A$2:$A$888 = LOAP!Z43, Sheet2!$B$2:$B$888, \"\")))","v":""},{"$f":"_xlfn.TEXTJOIN(\", \", TRUE, _xlfn.UNIQUE(IF(Sheet2!$A$2:$A$888 = LOAP!Z43, Sheet2!$C$2:$C$888, \"\")))","v":""},null,null,null,null,null," "]
[27,null,null,null,null,null,null,null,null,null,null,null,null,null,null,null,null,null,null,null,null,null,null,null,null,null,null,null,{"$f":"IF(Z44<>\"\", VLOOKUP(Z44, CBH_Taxonomies!C:D, 2, 0), \"\")","v":""},null,null,null,null,{"$f":"IFERROR(VLOOKUP(Z44, Sheet4!A:D, 4, 0), \"\")","v":""},{"$f":"_xlfn.TEXTJOIN(\", \", TRUE, _xlfn.UNIQUE(IF(Sheet2!$A$2:$A$888 = LOAP!Z44, Sheet2!$B$2:$B$888, \"\")))","v":""},{"$f":"_xlfn.TEXTJOIN(\", \", TRUE, _xlfn.UNIQUE(IF(Sheet2!$A$2:$A$888 = LOAP!Z44, Sheet2!$C$2:$C$888, \"\")))","v":""},null,null,null,null,null," "]
[28,null,null,null,null,null,null,null,null,null,null,null,null,null,null,null,null,null,null,null,null,null,null,null,null,null,null,null,{"$f":"IF(Z45<>\"\", VLOOKUP(Z45, CBH_Taxonomies!C:D, 2, 0), \"\")","v":""},null,null,null,null,{"$f":"IFERROR(VLOOKUP(Z45, Sheet4!A:D, 4, 0), \"\")","v":""},{"$f":"_xlfn.TEXTJOIN(\", \", TRUE, _xlfn.UNIQUE(IF(Sheet2!$A$2:$A$888 = LOAP!Z45, Sheet2!$B$2:$B$888, \"\")))","v":""},{"$f":"_xlfn.TEXTJOIN(\", \", TRUE, _xlfn.UNIQUE(IF(Sheet2!$A$2:$A$888 = LOAP!Z45, Sheet2!$C$2:$C$888, \"\")))","v":""},null,null,null,null,null," "]
[29,null,null,null,null,null,null,null,null,null,null,null,null,null,null,null,null,null,null,null,null,null,null,null,null,null,null,null,{"$f":"IF(Z46<>\"\", VLOOKUP(Z46, CBH_Taxonomies!C:D, 2, 0), \"\")","v":""},null,null,null,null,{"$f":"IFERROR(VLOOKUP(Z46, Sheet4!A:D, 4, 0), \"\")","v":""},{"$f":"_xlfn.TEXTJOIN(\", \", TRUE, _xlfn.UNIQUE(IF(Sheet2!$A$2:$A$888 = LOAP!Z46, Sheet2!$B$2:$B$888, \"\")))","v":""},{"$f":"_xlfn.TEXTJOIN(\", \", TRUE, _xlfn.UNIQUE(IF(Sheet2!$A$2:$A$888 = LOAP!Z46, Sheet2!$C$2:$C$888, \"\")))","v":""},null,null,null,null,null," "]
[30,null,null,null,null,null,null,null,null,null,null,null,null,null,null,null,null,null,null,null,null,null,null,null,null,null,null,null,{"$f":"IF(Z47<>\"\", VLOOKUP(Z47, CBH_Taxonomies!C:D, 2, 0), \"\")","v":""},null,null,null,null,{"$f":"IFERROR(VLOOKUP(Z47, Sheet4!A:D, 4, 0), \"\")","v":""},{"$f":"_xlfn.TEXTJOIN(\", \", TRUE, _xlfn.UNIQUE(IF(Sheet2!$A$2:$A$888 = LOAP!Z47, Sheet2!$B$2:$B$888, \"\")))","v":""},{"$f":"_xlfn.TEXTJOIN(\", \", TRUE, _xlfn.UNIQUE(IF(Sheet2!$A$2:$A$888 = LOAP!Z47, Sheet2!$C$2:$C$888, \"\")))","v":""},null,null,null,null,null," "]
[31,null,null,null,null,null,null,null,null,null,null,null,null,null,null,null,null,null,null,null,null,null,null,null,null,null,null,null,{"$f":"IF(Z48<>\"\", VLOOKUP(Z48, CBH_Taxonomies!C:D, 2, 0), \"\")","v":""},null,null,null,null,{"$f":"IFERROR(VLOOKUP(Z48, Sheet4!A:D, 4, 0), \"\")","v":""},{"$f":"_xlfn.TEXTJOIN(\", \", TRUE, _xlfn.UNIQUE(IF(Sheet2!$A$2:$A$888 = LOAP!Z48, Sheet2!$B$2:$B$888, \"\")))","v":""},{"$f":"_xlfn.TEXTJOIN(\", \", TRUE, _xlfn.UNIQUE(IF(Sheet2!$A$2:$A$888 = LOAP!Z48, Sheet2!$C$2:$C$888, \"\")))","v":""},null,null,null,null,null," "]
[32,null,null,null,null,null,null,null,null,null,null,null,null,null,null,null,null,null,null,null,null,null,null,null,null,null,null,null,{"$f":"IF(Z49<>\"\", VLOOKUP(Z49, CBH_Taxonomies!C:D, 2, 0), \"\")","v":""},null,null,null,null,{"$f":"IFERROR(VLOOKUP(Z49, Sheet4!A:D, 4, 0), \"\")","v":""},{"$f":"_xlfn.TEXTJOIN(\", \", TRUE, _xlfn.UNIQUE(IF(Sheet2!$A$2:$A$888 = LOAP!Z49, Sheet2!$B$2:$B$888, \"\")))","v":""},{"$f":"_xlfn.TEXTJOIN(\", \", TRUE, _xlfn.UNIQUE(IF(Sheet2!$A$2:$A$888 = LOAP!Z49, Sheet2!$C$2:$C$888, \"\")))","v":""},null,null,null,null,null," "]
[33,null,null,null,null,null,null,null,null,null,null,null,null,null,null,null,null,null,null,null,null,null,null,null,null,null,null,null,{"$f":"IF(Z50<>\"\", VLOOKUP(Z50, CBH_Taxonomies!C:D, 2, 0), \"\")","v":""},null,null,null,null,{"$f":"IFERROR(VLOOKUP(Z50, Sheet4!A:D, 4, 0), \"\")","v":""},{"$f":"_xlfn.TEXTJOIN(\", \", TRUE, _xlfn.UNIQUE(IF(Sheet2!$A$2:$A$888 = LOAP!Z50, Sheet2!$B$2:$B$888, \"\")))","v":""},{"$f":"_xlfn.TEXTJOIN(\", \", TRUE, _xlfn.UNIQUE(IF(Sheet2!$A$2:$A$888 = LOAP!Z50, Sheet2!$C$2:$C$888, \"\")))","v":""},null,null,null,null,null," "]
[34,null,null,null,null,null,null,null,null,null,null,null,null,null,null,null,null,null,null,null,null,null,null,null,null,null,null,null,{"$f":"IF(Z51<>\"\", VLOOKUP(Z51, CBH_Taxonomies!C:D, 2, 0), \"\")","v":""},null,null,null,null,{"$f":"IFERROR(VLOOKUP(Z51, Sheet4!A:D, 4, 0), \"\")","v":""},{"$f":"_xlfn.TEXTJOIN(\", \", TRUE, _xlfn.UNIQUE(IF(Sheet2!$A$2:$A$888 = LOAP!Z51, Sheet2!$B$2:$B$888, \"\")))","v":""},{"$f":"_xlfn.TEXTJOIN(\", \", TRUE, _xlfn.UNIQUE(IF(Sheet2!$A$2:$A$888 = LOAP!Z51, Sheet2!$C$2:$C$888, \"\")))","v":""},null,null,null,null,null," "]
[35,null,null,null,null,null,null,null,null,null,null,null,null,null,null,null,null,null,null,null,null,null,null,null,null,null,null,null,{"$f":"IF(Z52<>\"\", VLOOKUP(Z52, CBH_Taxonomies!C:D, 2, 0), \"\")","v":""},null,null,null,null,{"$f":"IFERROR(VLOOKUP(Z52, Sheet4!A:D, 4, 0), \"\")","v":""},{"$f":"_xlfn.TEXTJOIN(\", \", TRUE, _xlfn.UNIQUE(IF(Sheet2!$A$2:$A$888 = LOAP!Z52, Sheet2!$B$2:$B$888, \"\")))","v":""},{"$f":"_xlfn.TEXTJOIN(\", \", TRUE, _xlfn.UNIQUE(IF(Sheet2!$A$2:$A$888 = LOAP!Z52, Sheet2!$C$2:$C$888, \"\")))","v":""},null,null,null,null,null," "]
[36,null,null,null,null,null,null,null,null,null,null,null,null,null,null,null,null,null,null,null,null,null,null,null,null,null,null,null,{"$f":"IF(Z53<>\"\", VLOOKUP(Z53, CBH_Taxonomies!C:D, 2, 0), \"\")","v":""},null,null,null,null,{"$f":"IFERROR(VLOOKUP(Z53, Sheet4!A:D, 4, 0), \"\")","v":""},{"$f":"_xlfn.TEXTJOIN(\", \", TRUE, _xlfn.UNIQUE(IF(Sheet2!$A$2:$A$888 = LOAP!Z53, Sheet2!$B$2:$B$888, \"\")))","v":""},{"$f":"_xlfn.TEXTJOIN(\", \", TRUE, _xlfn.UNIQUE(IF(Sheet2!$A$2:$A$888 = LOAP!Z53, Sheet2!$C$2:$C$888, \"\")))","v":""},null,null,null,null,null," "]
[37,null,null,null,null,null,null,null,null,null,null,null,null,null,null,null,null,null,null,null,null,null,null,null,null,null,null,null,{"$f":"IF(Z54<>\"\", VLOOKUP(Z54, CBH_Taxonomies!C:D, 2, 0), \"\")","v":""},null,null,null,null,{"$f":"IFERROR(VLOOKUP(Z54, Sheet4!A:D, 4, 0), \"\")","v":""},{"$f":"_xlfn.TEXTJOIN(\", \", TRUE, _xlfn.UNIQUE(IF(Sheet2!$A$2:$A$888 = LOAP!Z54, Sheet2!$B$2:$B$888, \"\")))","v":""},{"$f":"_xlfn.TEXTJOIN(\", \", TRUE, _xlfn.UNIQUE(IF(Sheet2!$A$2:$A$888 = LOAP!Z54, Sheet2!$C$2:$C$888, \"\")))","v":""},null,null,null,null,null," "]
[38,null,null,null,null,null,null,null,null,null,null,null,null,null,null,null,null,null,null,null,null,null,null,null,null,null,null,null,{"$f":"IF(Z55<>\"\", VLOOKUP(Z55, CBH_Taxonomies!C:D, 2, 0), \"\")","v":""},null,null,null,null,{"$f":"IFERROR(VLOOKUP(Z55, Sheet4!A:D, 4, 0), \"\")","v":""},{"$f":"_xlfn.TEXTJOIN(\", \", TRUE, _xlfn.UNIQUE(IF(Sheet2!$A$2:$A$888 = LOAP!Z55, Sheet2!$B$2:$B$888, \"\")))","v":""},{"$f":"_xlfn.TEXTJOIN(\", \", TRUE, _xlfn.UNIQUE(IF(Sheet2!$A$2:$A$888 = LOAP!Z55, Sheet2!$C$2:$C$888, \"\")))","v":""},null,null,null,null,null," "]
[39,null,null,null,null,null,null,null,null,null,null,null,null,null,null,null,null,null,null,null,null,null,null,null,null,null,null,null,{"$f":"IF(Z56<>\"\", VLOOKUP(Z56, CBH_Taxonomies!C:D, 2, 0), \"\")","v":""},null,null,null,null,{"$f":"IFERROR(VLOOKUP(Z56, Sheet4!A:D, 4, 0), \"\")","v":""},{"$f":"_xlfn.TEXTJOIN(\", \", TRUE, _xlfn.UNIQUE(IF(Sheet2!$A$2:$A$888 = LOAP!Z56, Sheet2!$B$2:$B$888, \"\")))","v":""},{"$f":"_xlfn.TEXTJOIN(\", \", TRUE, _xlfn.UNIQUE(IF(Sheet2!$A$2:$A$888 = LOAP!Z56, Sheet2!$C$2:$C$888, \"\")))","v":""},null,null,null,null,null," "]
[40,null,null,null,null,null,null,null,null,null,null,null,null,null,null,null,null,null,null,null,null,null,null,null,null,null,null,null,{"$f":"IF(Z57<>\"\", VLOOKUP(Z57, CBH_Taxonomies!C:D, 2, 0), \"\")","v":""},null,null,null,null,{"$f":"IFERROR(VLOOKUP(Z57, Sheet4!A:D, 4, 0), \"\")","v":""},{"$f":"_xlfn.TEXTJOIN(\", \", TRUE, _xlfn.UNIQUE(IF(Sheet2!$A$2:$A$888 = LOAP!Z57, Sheet2!$B$2:$B$888, \"\")))","v":""},{"$f":"_xlfn.TEXTJOIN(\", \", TRUE, _xlfn.UNIQUE(IF(Sheet2!$A$2:$A$888 = LOAP!Z57, Sheet2!$C$2:$C$888, \"\")))","v":""},null,null,null,null,null," "]
[41,null,null,null,null,null,null,null,null,null,null,null,null,null,null,null,null,null,null,null,null,null,null,null,null,null,null,null,{"$f":"IF(Z58<>\"\", VLOOKUP(Z58, CBH_Taxonomies!C:D, 2, 0), \"\")","v":""},null,null,null,null,{"$f":"IFERROR(VLOOKUP(Z58, Sheet4!A:D, 4, 0), \"\")","v":""},{"$f":"_xlfn.TEXTJOIN(\", \", TRUE, _xlfn.UNIQUE(IF(Sheet2!$A$2:$A$888 = LOAP!Z58, Sheet2!$B$2:$B$888, \"\")))","v":""},{"$f":"_xlfn.TEXTJOIN(\", \", TRUE, _xlfn.UNIQUE(IF(Sheet2!$A$2:$A$888 = LOAP!Z58, Sheet2!$C$2:$C$888, \"\")))","v":""},null,null,null,null,null," "]
[42,null,null,null,null,null,null,null,null,null,null,null,null,null,null,null,null,null,null,null,null,null,null,null,null,null,null,null,{"$f":"IF(Z59<>\"\", VLOOKUP(Z59, CBH_Taxonomies!C:D, 2, 0), \"\")","v":""},null,null,null,null,{"$f":"IFERROR(VLOOKUP(Z59, Sheet4!A:D, 4, 0), \"\")","v":""},{"$f":"_xlfn.TEXTJOIN(\", \", TRUE, _xlfn.UNIQUE(IF(Sheet2!$A$2:$A$888 = LOAP!Z59, Sheet2!$B$2:$B$888, \"\")))","v":""},{"$f":"_xlfn.TEXTJOIN(\", \", TRUE, _xlfn.UNIQUE(IF(Sheet2!$A$2:$A$888 = LOAP!Z59, Sheet2!$C$2:$C$888, \"\")))","v":""},null,null,null,null,null," "]
[43,null,null,null,null,null,null,null,null,null,null,null,null,null,null,null,null,null,null,null,null,null,null,null,null,null,null,null,{"$f":"IF(Z60<>\"\", VLOOKUP(Z60, CBH_Taxonomies!C:D, 2, 0), \"\")","v":""},null,null,null,null,{"$f":"IFERROR(VLOOKUP(Z60, Sheet4!A:D, 4, 0), \"\")","v":""},{"$f":"_xlfn.TEXTJOIN(\", \", TRUE, _xlfn.UNIQUE(IF(Sheet2!$A$2:$A$888 = LOAP!Z60, Sheet2!$B$2:$B$888, \"\")))","v":""},{"$f":"_xlfn.TEXTJOIN(\", \", TRUE, _xlfn.UNIQUE(IF(Sheet2!$A$2:$A$888 = LOAP!Z60, Sheet2!$C$2:$C$888, \"\")))","v":""},null,null,null,null,null," "]
[44,null,null,null,null,null,null,null,null,null,null,null,null,null,null,null,null,null,null,null,null,null,null,null,null,null,null,null,{"$f":"IF(Z61<>\"\", VLOOKUP(Z61, CBH_Taxonomies!C:D, 2, 0), \"\")","v":""},null,null,null,null,{"$f":"IFERROR(VLOOKUP(Z61, Sheet4!A:D, 4, 0), \"\")","v":""},{"$f":"_xlfn.TEXTJOIN(\", \", TRUE, _xlfn.UNIQUE(IF(Sheet2!$A$2:$A$888 = LOAP!Z61, Sheet2!$B$2:$B$888, \"\")))","v":""},{"$f":"_xlfn.TEXTJOIN(\", \", TRUE, _xlfn.UNIQUE(IF(Sheet2!$A$2:$A$888 = LOAP!Z61, Sheet2!$C$2:$C$888, \"\")))","v":""},null,null,null,null,null," "]
[45,null,null,null,null,null,null,null,null,null,null,null,null,null,null,null,null,null,null,null,null,null,null,null,null,null,null,null,{"$f":"IF(Z62<>\"\", VLOOKUP(Z62, CBH_Taxonomies!C:D, 2, 0), \"\")","v":""},null,null,null,null,{"$f":"IFERROR(VLOOKUP(Z62, Sheet4!A:D, 4, 0), \"\")","v":""},{"$f":"_xlfn.TEXTJOIN(\", \", TRUE, _xlfn.UNIQUE(IF(Sheet2!$A$2:$A$888 = LOAP!Z62, Sheet2!$B$2:$B$888, \"\")))","v":""},{"$f":"_xlfn.TEXTJOIN(\", \", TRUE, _xlfn.UNIQUE(IF(Sheet2!$A$2:$A$888 = LOAP!Z62, Sheet2!$C$2:$C$888, \"\")))","v":""},null,null,null,null,null," "]
[46,null,null,null,null,null,null,null,null,null,null,null,null,null,null,null,null,null,null,null,null,null,null,null,null,null,null,null,{"$f":"IF(Z63<>\"\", VLOOKUP(Z63, CBH_Taxonomies!C:D, 2, 0), \"\")","v":""},null,null,null,null,{"$f":"IFERROR(VLOOKUP(Z63, Sheet4!A:D, 4, 0), \"\")","v":""},{"$f":"_xlfn.TEXTJOIN(\", \", TRUE, _xlfn.UNIQUE(IF(Sheet2!$A$2:$A$888 = LOAP!Z63, Sheet2!$B$2:$B$888, \"\")))","v":""},{"$f":"_xlfn.TEXTJOIN(\", \", TRUE, _xlfn.UNIQUE(IF(Sheet2!$A$2:$A$888 = LOAP!Z63, Sheet2!$C$2:$C$888, \"\")))","v":""},null,null,null,null,null," "]
[47,null,null,null,null,null,null,null,null,null,null,null,null,null,null,null,null,null,null,null,null,null,null,null,null,null,null,null,{"$f":"IF(Z64<>\"\", VLOOKUP(Z64, CBH_Taxonomies!C:D, 2, 0), \"\")","v":""},null,null,null,null,{"$f":"IFERROR(VLOOKUP(Z64, Sheet4!A:D, 4, 0), \"\")","v":""},{"$f":"_xlfn.TEXTJOIN(\", \", TRUE, _xlfn.UNIQUE(IF(Sheet2!$A$2:$A$888 = LOAP!Z64, Sheet2!$B$2:$B$888, \"\")))","v":""},{"$f":"_xlfn.TEXTJOIN(\", \", TRUE, _xlfn.UNIQUE(IF(Sheet2!$A$2:$A$888 = LOAP!Z64, Sheet2!$C$2:$C$888, \"\")))","v":""},null,null,null,null,null," "]
[48,null,null,null,null,null,null,null,null,null,null,null,null,null,null,null,null,null,null,null,null,null,null,null,null,null,null,null,{"$f":"IF(Z65<>\"\", VLOOKUP(Z65, CBH_Taxonomies!C:D, 2, 0), \"\")","v":""},null,null,null,null,{"$f":"IFERROR(VLOOKUP(Z65, Sheet4!A:D, 4, 0), \"\")","v":""},{"$f":"_xlfn.TEXTJOIN(\", \", TRUE, _xlfn.UNIQUE(IF(Sheet2!$A$2:$A$888 = LOAP!Z65, Sheet2!$B$2:$B$888, \"\")))","v":""},{"$f":"_xlfn.TEXTJOIN(\", \", TRUE, _xlfn.UNIQUE(IF(Sheet2!$A$2:$A$888 = LOAP!Z65, Sheet2!$C$2:$C$888, \"\")))","v":""},null,null,null,null,null," "]
[49,null,null,null,null,null,null,null,null,null,null,null,null,null,null,null,null,null,null,null,null,null,null,null,null,null,null,null,{"$f":"IF(Z66<>\"\", VLOOKUP(Z66, CBH_Taxonomies!C:D, 2, 0), \"\")","v":""},null,null,null,null,{"$f":"IFERROR(VLOOKUP(Z66, Sheet4!A:D, 4, 0), \"\")","v":""},{"$f":"_xlfn.TEXTJOIN(\", \", TRUE, _xlfn.UNIQUE(IF(Sheet2!$A$2:$A$888 = LOAP!Z66, Sheet2!$B$2:$B$888, \"\")))","v":""},{"$f":"_xlfn.TEXTJOIN(\", \", TRUE, _xlfn.UNIQUE(IF(Sheet2!$A$2:$A$888 = LOAP!Z66, Sheet2!$C$2:$C$888, \"\")))","v":""},null,null,null,null,null," "]
[50,null,null,null,null,null,null,null,null,null,null,null,null,null,null,null,null,null,null,null,null,null,null,null,null,null,null,null,{"$f":"IF(Z67<>\"\", VLOOKUP(Z67, CBH_Taxonomies!C:D, 2, 0), \"\")","v":""},null,null,null,null,{"$f":"IFERROR(VLOOKUP(Z67, Sheet4!A:D, 4, 0), \"\")","v":""},{"$f":"_xlfn.TEXTJOIN(\", \", TRUE, _xlfn.UNIQUE(IF(Sheet2!$A$2:$A$888 = LOAP!Z67, Sheet2!$B$2:$B$888, \"\")))","v":""},{"$f":"_xlfn.TEXTJOIN(\", \", TRUE, _xlfn.UNIQUE(IF(Sheet2!$A$2:$A$888 = LOAP!Z67, Sheet2!$C$2:$C$888, \"\")))","v":""},null,null,null,null,null," "]
[51,null,null,null,null,null,null,null,null,null,null,null,null,null,null,null,null,null,null,null,null,null,null,null,null,null,null,null,{"$f":"IF(Z68<>\"\", VLOOKUP(Z68, CBH_Taxonomies!C:D, 2, 0), \"\")","v":""},null,null,null,null,{"$f":"IFERROR(VLOOKUP(Z68, Sheet4!A:D, 4, 0), \"\")","v":""},{"$f":"_xlfn.TEXTJOIN(\", \", TRUE, _xlfn.UNIQUE(IF(Sheet2!$A$2:$A$888 = LOAP!Z68, Sheet2!$B$2:$B$888, \"\")))","v":""},{"$f":"_xlfn.TEXTJOIN(\", \", TRUE, _xlfn.UNIQUE(IF(Sheet2!$A$2:$A$888 = LOAP!Z68, Sheet2!$C$2:$C$888, \"\")))","v":""},null,null,null,null,null," "]
[52,null,null,null,null,null,null,null,null,null,null,null,null,null,null,null,null,null,null,null,null,null,null,null,null,null,null,null,{"$f":"IF(Z69<>\"\", VLOOKUP(Z69, CBH_Taxonomies!C:D, 2, 0), \"\")","v":""},null,null,null,null,{"$f":"IFERROR(VLOOKUP(Z69, Sheet4!A:D, 4, 0), \"\")","v":""},{"$f":"_xlfn.TEXTJOIN(\", \", TRUE, _xlfn.UNIQUE(IF(Sheet2!$A$2:$A$888 = LOAP!Z69, Sheet2!$B$2:$B$888, \"\")))","v":""},{"$f":"_xlfn.TEXTJOIN(\", \", TRUE, _xlfn.UNIQUE(IF(Sheet2!$A$2:$A$888 = LOAP!Z69, Sheet2!$C$2:$C$888, \"\")))","v":""},null,null,null,null,null," "]
[53,null,null,null,null,null,null,null,null,null,null,null,null,null,null,null,null,null,null,null,null,null,null,null,null,null,null,null,{"$f":"IF(Z70<>\"\", VLOOKUP(Z70, CBH_Taxonomies!C:D, 2, 0), \"\")","v":""},null,null,null,null,{"$f":"IFERROR(VLOOKUP(Z70, Sheet4!A:D, 4, 0), \"\")","v":""},{"$f":"_xlfn.TEXTJOIN(\", \", TRUE, _xlfn.UNIQUE(IF(Sheet2!$A$2:$A$888 = LOAP!Z70, Sheet2!$B$2:$B$888, \"\")))","v":""},{"$f":"_xlfn.TEXTJOIN(\", \", TRUE, _xlfn.UNIQUE(IF(Sheet2!$A$2:$A$888 = LOAP!Z70, Sheet2!$C$2:$C$888, \"\")))","v":""},null,null,null,null,null," "]
[54,null,null,null,null,null,null,null,null,null,null,null,null,null,null,null,null,null,null,null,null,null,null,null,null,null,null,null,{"$f":"IF(Z71<>\"\", VLOOKUP(Z71, CBH_Taxonomies!C:D, 2, 0), \"\")","v":""},null,null,null,null,{"$f":"IFERROR(VLOOKUP(Z71, Sheet4!A:D, 4, 0), \"\")","v":""},{"$f":"_xlfn.TEXTJOIN(\", \", TRUE, _xlfn.UNIQUE(IF(Sheet2!$A$2:$A$888 = LOAP!Z71, Sheet2!$B$2:$B$888, \"\")))","v":""},{"$f":"_xlfn.TEXTJOIN(\", \", TRUE, _xlfn.UNIQUE(IF(Sheet2!$A$2:$A$888 = LOAP!Z71, Sheet2!$C$2:$C$888, \"\")))","v":""},null,null,null,null,null," "]
[55,null,null,null,null,null,null,null,null,null,null,null,null,null,null,null,null,null,null,null,null,null,null,null,null,null,null,null,{"$f":"IF(Z72<>\"\", VLOOKUP(Z72, CBH_Taxonomies!C:D, 2, 0), \"\")","v":""},null,null,null,null,{"$f":"IFERROR(VLOOKUP(Z72, Sheet4!A:D, 4, 0), \"\")","v":""},{"$f":"_xlfn.TEXTJOIN(\", \", TRUE, _xlfn.UNIQUE(IF(Sheet2!$A$2:$A$888 = LOAP!Z72, Sheet2!$B$2:$B$888, \"\")))","v":""},{"$f":"_xlfn.TEXTJOIN(\", \", TRUE, _xlfn.UNIQUE(IF(Sheet2!$A$2:$A$888 = LOAP!Z72, Sheet2!$C$2:$C$888, \"\")))","v":""},null,null,null,null,null," "]
[56,null,null,null,null,null,null,null,null,null,null,null,null,null,null,null,null,null,null,null,null,null,null,null,null,null,null,null,{"$f":"IF(Z73<>\"\", VLOOKUP(Z73, CBH_Taxonomies!C:D, 2, 0), \"\")","v":""},null,null,null,null,{"$f":"IFERROR(VLOOKUP(Z73, Sheet4!A:D, 4, 0), \"\")","v":""},{"$f":"_xlfn.TEXTJOIN(\", \", TRUE, _xlfn.UNIQUE(IF(Sheet2!$A$2:$A$888 = LOAP!Z73, Sheet2!$B$2:$B$888, \"\")))","v":""},{"$f":"_xlfn.TEXTJOIN(\", \", TRUE, _xlfn.UNIQUE(IF(Sheet2!$A$2:$A$888 = LOAP!Z73, Sheet2!$C$2:$C$888, \"\")))","v":""},null,null,null,null,null," "]
[57,null,null,null,null,null,null,null,null,null,null,null,null,null,null,null,null,null,null,null,null,null,null,null,null,null,null,null,{"$f":"IF(Z74<>\"\", VLOOKUP(Z74, CBH_Taxonomies!C:D, 2, 0), \"\")","v":""},null,null,null,null,{"$f":"IFERROR(VLOOKUP(Z74, Sheet4!A:D, 4, 0), \"\")","v":""},{"$f":"_xlfn.TEXTJOIN(\", \", TRUE, _xlfn.UNIQUE(IF(Sheet2!$A$2:$A$888 = LOAP!Z74, Sheet2!$B$2:$B$888, \"\")))","v":""},{"$f":"_xlfn.TEXTJOIN(\", \", TRUE, _xlfn.UNIQUE(IF(Sheet2!$A$2:$A$888 = LOAP!Z74, Sheet2!$C$2:$C$888, \"\")))","v":""},null,null,null,null,null," "]
[58,null,null,null,null,null,null,null,null,null,null,null,null,null,null,null,null,null,null,null,null,null,null,null,null,null,null,null,{"$f":"IF(Z75<>\"\", VLOOKUP(Z75, CBH_Taxonomies!C:D, 2, 0), \"\")","v":""},null,null,null,null,{"$f":"IFERROR(VLOOKUP(Z75, Sheet4!A:D, 4, 0), \"\")","v":""},{"$f":"_xlfn.TEXTJOIN(\", \", TRUE, _xlfn.UNIQUE(IF(Sheet2!$A$2:$A$888 = LOAP!Z75, Sheet2!$B$2:$B$888, \"\")))","v":""},{"$f":"_xlfn.TEXTJOIN(\", \", TRUE, _xlfn.UNIQUE(IF(Sheet2!$A$2:$A$888 = LOAP!Z75, Sheet2!$C$2:$C$888, \"\")))","v":""},null,null,null,null,null," "]
[59,null,null,null,null,null,null,null,null,null,null,null,null,null,null,null,null,null,null,null,null,null,null,null,null,null,null,null,{"$f":"IF(Z76<>\"\", VLOOKUP(Z76, CBH_Taxonomies!C:D, 2, 0), \"\")","v":""},null,null,null,null,{"$f":"IFERROR(VLOOKUP(Z76, Sheet4!A:D, 4, 0), \"\")","v":""},{"$f":"_xlfn.TEXTJOIN(\", \", TRUE, _xlfn.UNIQUE(IF(Sheet2!$A$2:$A$888 = LOAP!Z76, Sheet2!$B$2:$B$888, \"\")))","v":""},{"$f":"_xlfn.TEXTJOIN(\", \", TRUE, _xlfn.UNIQUE(IF(Sheet2!$A$2:$A$888 = LOAP!Z76, Sheet2!$C$2:$C$888, \"\")))","v":""},null,null,null,null,null," "]
[60,null,null,null,null,null,null,null,null,null,null,null,null,null,null,null,null,null,null,null,null,null,null,null,null,null,null,null,{"$f":"IF(Z77<>\"\", VLOOKUP(Z77, CBH_Taxonomies!C:D, 2, 0), \"\")","v":""},null,null,null,null,{"$f":"IFERROR(VLOOKUP(Z77, Sheet4!A:D, 4, 0), \"\")","v":""},{"$f":"_xlfn.TEXTJOIN(\", \", TRUE, _xlfn.UNIQUE(IF(Sheet2!$A$2:$A$888 = LOAP!Z77, Sheet2!$B$2:$B$888, \"\")))","v":""},{"$f":"_xlfn.TEXTJOIN(\", \", TRUE, _xlfn.UNIQUE(IF(Sheet2!$A$2:$A$888 = LOAP!Z77, Sheet2!$C$2:$C$888, \"\")))","v":""},null,null,null,null,null," "]
[61,null,null,null,null,null,null,null,null,null,null,null,null,null,null,null,null,null,null,null,null,null,null,null,null,null,null,null,{"$f":"IF(Z78<>\"\", VLOOKUP(Z78, CBH_Taxonomies!C:D, 2, 0), \"\")","v":""},null,null,null,null,{"$f":"IFERROR(VLOOKUP(Z78, Sheet4!A:D, 4, 0), \"\")","v":""},{"$f":"_xlfn.TEXTJOIN(\", \", TRUE, _xlfn.UNIQUE(IF(Sheet2!$A$2:$A$888 = LOAP!Z78, Sheet2!$B$2:$B$888, \"\")))","v":""},{"$f":"_xlfn.TEXTJOIN(\", \", TRUE, _xlfn.UNIQUE(IF(Sheet2!$A$2:$A$888 = LOAP!Z78, Sheet2!$C$2:$C$888, \"\")))","v":""},null,null,null,null,null," "]
[62,null,null,null,null,null,null,null,null,null,null,null,null,null,null,null,null,null,null,null,null,null,null,null,null,null,null,null,{"$f":"IF(Z79<>\"\", VLOOKUP(Z79, CBH_Taxonomies!C:D, 2, 0), \"\")","v":""},null,null,null,null,{"$f":"IFERROR(VLOOKUP(Z79, Sheet4!A:D, 4, 0), \"\")","v":""},{"$f":"_xlfn.TEXTJOIN(\", \", TRUE, _xlfn.UNIQUE(IF(Sheet2!$A$2:$A$888 = LOAP!Z79, Sheet2!$B$2:$B$888, \"\")))","v":""},{"$f":"_xlfn.TEXTJOIN(\", \", TRUE, _xlfn.UNIQUE(IF(Sheet2!$A$2:$A$888 = LOAP!Z79, Sheet2!$C$2:$C$888, \"\")))","v":""},null,null,null,null,null," "]
[63,null,null,null,null,null,null,null,null,null,null,null,null,null,null,null,null,null,null,null,null,null,null,null,null,null,null,null,{"$f":"IF(Z80<>\"\", VLOOKUP(Z80, CBH_Taxonomies!C:D, 2, 0), \"\")","v":""},null,null,null,null,{"$f":"IFERROR(VLOOKUP(Z80, Sheet4!A:D, 4, 0), \"\")","v":""},{"$f":"_xlfn.TEXTJOIN(\", \", TRUE, _xlfn.UNIQUE(IF(Sheet2!$A$2:$A$888 = LOAP!Z80, Sheet2!$B$2:$B$888, \"\")))","v":""},{"$f":"_xlfn.TEXTJOIN(\", \", TRUE, _xlfn.UNIQUE(IF(Sheet2!$A$2:$A$888 = LOAP!Z80, Sheet2!$C$2:$C$888, \"\")))","v":""},null,null,null,null,null," "]
[64,null,null,null,null,null,null,null,null,null,null,null,null,null,null,null,null,null,null,null,null,null,null,null,null,null,null,null,{"$f":"IF(Z81<>\"\", VLOOKUP(Z81, CBH_Taxonomies!C:D, 2, 0), \"\")","v":""},null,null,null,null,{"$f":"IFERROR(VLOOKUP(Z81, Sheet4!A:D, 4, 0), \"\")","v":""},{"$f":"_xlfn.TEXTJOIN(\", \", TRUE, _xlfn.UNIQUE(IF(Sheet2!$A$2:$A$888 = LOAP!Z81, Sheet2!$B$2:$B$888, \"\")))","v":""},{"$f":"_xlfn.TEXTJOIN(\", \", TRUE, _xlfn.UNIQUE(IF(Sheet2!$A$2:$A$888 = LOAP!Z81, Sheet2!$C$2:$C$888, \"\")))","v":""},null,null,null,null,null," "]
[65,null,null,null,null,null,null,null,null,null,null,null,null,null,null,null,null,null,null,null,null,null,null,null,null,null,null,null,{"$f":"IF(Z82<>\"\", VLOOKUP(Z82, CBH_Taxonomies!C:D, 2, 0), \"\")","v":""},null,null,null,null,{"$f":"IFERROR(VLOOKUP(Z82, Sheet4!A:D, 4, 0), \"\")","v":""},{"$f":"_xlfn.TEXTJOIN(\", \", TRUE, _xlfn.UNIQUE(IF(Sheet2!$A$2:$A$888 = LOAP!Z82, Sheet2!$B$2:$B$888, \"\")))","v":""},{"$f":"_xlfn.TEXTJOIN(\", \", TRUE, _xlfn.UNIQUE(IF(Sheet2!$A$2:$A$888 = LOAP!Z82, Sheet2!$C$2:$C$888, \"\")))","v":""},null,null,null,null,null,{"$f":"IF(ISBLANK(B82),\" \",\"Y\")","v":" "}]
[66,null,null,null,null,null,null,null,null,null,null,null,null,null,null,null,null,null,null,null,null,null,null,null,null,null,null,null,{"$f":"IF(Z83<>\"\", VLOOKUP(Z83, CBH_Taxonomies!C:D, 2, 0), \"\")","v":""},null,null,null,null,{"$f":"IFERROR(VLOOKUP(Z83, Sheet4!A:D, 4, 0), \"\")","v":""},{"$f":"_xlfn.TEXTJOIN(\", \", TRUE, _xlfn.UNIQUE(IF(Sheet2!$A$2:$A$888 = LOAP!Z83, Sheet2!$B$2:$B$888, \"\")))","v":""},{"$f":"_xlfn.TEXTJOIN(\", \", TRUE, _xlfn.UNIQUE(IF(Sheet2!$A$2:$A$888 = LOAP!Z83, Sheet2!$C$2:$C$888, \"\")))","v":""},null,null,null,null,null," "]
[67,null,null,null,null,null,null,null,null,null,null,null,null,null,null,null,null,null,null,null,null,null,null,null,null,null,null,null,{"$f":"IF(Z84<>\"\", VLOOKUP(Z84, CBH_Taxonomies!C:D, 2, 0), \"\")","v":""},null,null,null,null,{"$f":"IFERROR(VLOOKUP(Z84, Sheet4!A:D, 4, 0), \"\")","v":""},{"$f":"_xlfn.TEXTJOIN(\", \", TRUE, _xlfn.UNIQUE(IF(Sheet2!$A$2:$A$888 = LOAP!Z84, Sheet2!$B$2:$B$888, \"\")))","v":""},{"$f":"_xlfn.TEXTJOIN(\", \", TRUE, _xlfn.UNIQUE(IF(Sheet2!$A$2:$A$888 = LOAP!Z84, Sheet2!$C$2:$C$888, \"\")))","v":""},null,null,null,null,null," "]
[68,null,null,null,null,null,null,null,null,null,null,null,null,null,null,null,null,null,null,null,null,null,null,null,null,null,null,null,{"$f":"IF(Z85<>\"\", VLOOKUP(Z85, CBH_Taxonomies!C:D, 2, 0), \"\")","v":""},null,null,null,null,{"$f":"IFERROR(VLOOKUP(Z85, Sheet4!A:D, 4, 0), \"\")","v":""},{"$f":"_xlfn.TEXTJOIN(\", \", TRUE, _xlfn.UNIQUE(IF(Sheet2!$A$2:$A$888 = LOAP!Z85, Sheet2!$B$2:$B$888, \"\")))","v":""},{"$f":"_xlfn.TEXTJOIN(\", \", TRUE, _xlfn.UNIQUE(IF(Sheet2!$A$2:$A$888 = LOAP!Z85, Sheet2!$C$2:$C$888, \"\")))","v":""},null,null,null,null,null," "]
[69,null,null,null,null,null,null,null,null,null,null,null,null,null,null,null,null,null,null,null,null,null,null,null,null,null,null,null,{"$f":"IF(Z86<>\"\", VLOOKUP(Z86, CBH_Taxonomies!C:D, 2, 0), \"\")","v":""},null,null,null,null,{"$f":"IFERROR(VLOOKUP(Z86, Sheet4!A:D, 4, 0), \"\")","v":""},{"$f":"_xlfn.TEXTJOIN(\", \", TRUE, _xlfn.UNIQUE(IF(Sheet2!$A$2:$A$888 = LOAP!Z86, Sheet2!$B$2:$B$888, \"\")))","v":""},{"$f":"_xlfn.TEXTJOIN(\", \", TRUE, _xlfn.UNIQUE(IF(Sheet2!$A$2:$A$888 = LOAP!Z86, Sheet2!$C$2:$C$888, \"\")))","v":""},null,null,null,null,null," "]
[70,null,null,null,null,null,null,null,null,null,null,null,null,null,null,null,null,null,null,null,null,null,null,null,null,null,null,null,{"$f":"IF(Z87<>\"\", VLOOKUP(Z87, CBH_Taxonomies!C:D, 2, 0), \"\")","v":""},null,null,null,null,{"$f":"IFERROR(VLOOKUP(Z87, Sheet4!A:D, 4, 0), \"\")","v":""},{"$f":"_xlfn.TEXTJOIN(\", \", TRUE, _xlfn.UNIQUE(IF(Sheet2!$A$2:$A$888 = LOAP!Z87, Sheet2!$B$2:$B$888, \"\")))","v":""},{"$f":"_xlfn.TEXTJOIN(\", \", TRUE, _xlfn.UNIQUE(IF(Sheet2!$A$2:$A$888 = LOAP!Z87, Sheet2!$C$2:$C$888, \"\")))","v":""},null,null,null,null,null," "]
[71,null,null,null,null,null,null,null,null,null,null,null,null,null,null,null,null,null,null,null,null,null,null,null,null,null,null,null,{"$f":"IF(Z88<>\"\", VLOOKUP(Z88, CBH_Taxonomies!C:D, 2, 0), \"\")","v":""},null,null,null,null,{"$f":"IFERROR(VLOOKUP(Z88, Sheet4!A:D, 4, 0), \"\")","v":""},{"$f":"_xlfn.TEXTJOIN(\", \", TRUE, _xlfn.UNIQUE(IF(Sheet2!$A$2:$A$888 = LOAP!Z88, Sheet2!$B$2:$B$888, \"\")))","v":""},{"$f":"_xlfn.TEXTJOIN(\", \", TRUE, _xlfn.UNIQUE(IF(Sheet2!$A$2:$A$888 = LOAP!Z88, Sheet2!$C$2:$C$888, \"\")))","v":""},null,null,null,null,null," "]
[72,null,null,null,null,null,null,null,null,null,null,null,null,null,null,null,null,null,null,null,null,null,null,null,null,null,null,null,{"$f":"IF(Z89<>\"\", VLOOKUP(Z89, CBH_Taxonomies!C:D, 2, 0), \"\")","v":""},null,null,null,null,{"$f":"IFERROR(VLOOKUP(Z89, Sheet4!A:D, 4, 0), \"\")","v":""},{"$f":"_xlfn.TEXTJOIN(\", \", TRUE, _xlfn.UNIQUE(IF(Sheet2!$A$2:$A$888 = LOAP!Z89, Sheet2!$B$2:$B$888, \"\")))","v":""},{"$f":"_xlfn.TEXTJOIN(\", \", TRUE, _xlfn.UNIQUE(IF(Sheet2!$A$2:$A$888 = LOAP!Z89, Sheet2!$C$2:$C$888, \"\")))","v":""},null,null,null,null,null," "]
[73,null,null,null,null,null,null,null,null,null,null,null,null,null,null,null,null,null,null,null,null,null,null,null,null,null,null,null,{"$f":"IF(Z90<>\"\", VLOOKUP(Z90, CBH_Taxonomies!C:D, 2, 0), \"\")","v":""},null,null,null,null,{"$f":"IFERROR(VLOOKUP(Z90, Sheet4!A:D, 4, 0), \"\")","v":""},{"$f":"_xlfn.TEXTJOIN(\", \", TRUE, _xlfn.UNIQUE(IF(Sheet2!$A$2:$A$888 = LOAP!Z90, Sheet2!$B$2:$B$888, \"\")))","v":""},{"$f":"_xlfn.TEXTJOIN(\", \", TRUE, _xlfn.UNIQUE(IF(Sheet2!$A$2:$A$888 = LOAP!Z90, Sheet2!$C$2:$C$888, \"\")))","v":""},null,null,null,null,null," "]
[74,null,null,null,null,null,null,null,null,null,null,null,null,null,null,null,null,null,null,null,null,null,null,null,null,null,null,null,{"$f":"IF(Z91<>\"\", VLOOKUP(Z91, CBH_Taxonomies!C:D, 2, 0), \"\")","v":""},null,null,null,null,{"$f":"IFERROR(VLOOKUP(Z91, Sheet4!A:D, 4, 0), \"\")","v":""},{"$f":"_xlfn.TEXTJOIN(\", \", TRUE, _xlfn.UNIQUE(IF(Sheet2!$A$2:$A$888 = LOAP!Z91, Sheet2!$B$2:$B$888, \"\")))","v":""},{"$f":"_xlfn.TEXTJOIN(\", \", TRUE, _xlfn.UNIQUE(IF(Sheet2!$A$2:$A$888 = LOAP!Z91, Sheet2!$C$2:$C$888, \"\")))","v":""},null,null,null,null,null," "]
[75,null,null,null,null,null,null,null,null,null,null,null,null,null,null,null,null,null,null,null,null,null,null,null,null,null,null,null,{"$f":"IF(Z92<>\"\", VLOOKUP(Z92, CBH_Taxonomies!C:D, 2, 0), \"\")","v":""},null,null,null,null,{"$f":"IFERROR(VLOOKUP(Z92, Sheet4!A:D, 4, 0), \"\")","v":""},{"$f":"_xlfn.TEXTJOIN(\", \", TRUE, _xlfn.UNIQUE(IF(Sheet2!$A$2:$A$888 = LOAP!Z92, Sheet2!$B$2:$B$888, \"\")))","v":""},{"$f":"_xlfn.TEXTJOIN(\", \", TRUE, _xlfn.UNIQUE(IF(Sheet2!$A$2:$A$888 = LOAP!Z92, Sheet2!$C$2:$C$888, \"\")))","v":""},null,null,null,null,null," "]
[76,null,null,null,null,null,null,null,null,null,null,null,null,null,null,null,null,null,null,null,null,null,null,null,null,null,null,null,{"$f":"IF(Z93<>\"\", VLOOKUP(Z93, CBH_Taxonomies!C:D, 2, 0), \"\")","v":""},null,null,null,null,{"$f":"IFERROR(VLOOKUP(Z93, Sheet4!A:D, 4, 0), \"\")","v":""},{"$f":"_xlfn.TEXTJOIN(\", \", TRUE, _xlfn.UNIQUE(IF(Sheet2!$A$2:$A$888 = LOAP!Z93, Sheet2!$B$2:$B$888, \"\")))","v":""},{"$f":"_xlfn.TEXTJOIN(\", \", TRUE, _xlfn.UNIQUE(IF(Sheet2!$A$2:$A$888 = LOAP!Z93, Sheet2!$C$2:$C$888, \"\")))","v":""},null,null,null,null,null," "]
[77,null,null,null,null,null,null,null,null,null,null,null,null,null,null,null,null,null,null,null,null,null,null,null,null,null,null,null,{"$f":"IF(Z94<>\"\", VLOOKUP(Z94, CBH_Taxonomies!C:D, 2, 0), \"\")","v":""},null,null,null,null,{"$f":"IFERROR(VLOOKUP(Z94, Sheet4!A:D, 4, 0), \"\")","v":""},{"$f":"_xlfn.TEXTJOIN(\", \", TRUE, _xlfn.UNIQUE(IF(Sheet2!$A$2:$A$888 = LOAP!Z94, Sheet2!$B$2:$B$888, \"\")))","v":""},{"$f":"_xlfn.TEXTJOIN(\", \", TRUE, _xlfn.UNIQUE(IF(Sheet2!$A$2:$A$888 = LOAP!Z94, Sheet2!$C$2:$C$888, \"\")))","v":""},null,null,null,null,null," "]
[78,null,null,null,null,null,null,null,null,null,null,null,null,null,null,null,null,null,null,null,null,null,null,null,null,null,null,null,{"$f":"IF(Z95<>\"\", VLOOKUP(Z95, CBH_Taxonomies!C:D, 2, 0), \"\")","v":""},null,null,null,null,{"$f":"IFERROR(VLOOKUP(Z95, Sheet4!A:D, 4, 0), \"\")","v":""},{"$f":"_xlfn.TEXTJOIN(\", \", TRUE, _xlfn.UNIQUE(IF(Sheet2!$A$2:$A$888 = LOAP!Z95, Sheet2!$B$2:$B$888, \"\")))","v":""},{"$f":"_xlfn.TEXTJOIN(\", \", TRUE, _xlfn.UNIQUE(IF(Sheet2!$A$2:$A$888 = LOAP!Z95, Sheet2!$C$2:$C$888, \"\")))","v":""},null,null,null,null,null," "]
[79,null,null,null,null,null,null,null,null,null,null,null,null,null,null,null,null,null,null,null,null,null,null,null,null,null,null,null,{"$f":"IF(Z96<>\"\", VLOOKUP(Z96, CBH_Taxonomies!C:D, 2, 0), \"\")","v":""},null,null,null,null,{"$f":"IFERROR(VLOOKUP(Z96, Sheet4!A:D, 4, 0), \"\")","v":""},{"$f":"_xlfn.TEXTJOIN(\", \", TRUE, _xlfn.UNIQUE(IF(Sheet2!$A$2:$A$888 = LOAP!Z96, Sheet2!$B$2:$B$888, \"\")))","v":""},{"$f":"_xlfn.TEXTJOIN(\", \", TRUE, _xlfn.UNIQUE(IF(Sheet2!$A$2:$A$888 = LOAP!Z96, Sheet2!$C$2:$C$888, \"\")))","v":""},null,null,null,null,null," "]
[80,null,null,null,null,null,null,null,null,null,null,null,null,null,null,null,null,null,null,null,null,null,null,null,null,null,null,null,{"$f":"IF(Z97<>\"\", VLOOKUP(Z97, CBH_Taxonomies!C:D, 2, 0), \"\")","v":""},null,null,null,null,{"$f":"IFERROR(VLOOKUP(Z97, Sheet4!A:D, 4, 0), \"\")","v":""},{"$f":"_xlfn.TEXTJOIN(\", \", TRUE, _xlfn.UNIQUE(IF(Sheet2!$A$2:$A$888 = LOAP!Z97, Sheet2!$B$2:$B$888, \"\")))","v":""},{"$f":"_xlfn.TEXTJOIN(\", \", TRUE, _xlfn.UNIQUE(IF(Sheet2!$A$2:$A$888 = LOAP!Z97, Sheet2!$C$2:$C$888, \"\")))","v":""},null,null,null,null,null," "]
[81,null,null,null,null,null,null,null,null,null,null,null,null,null,null,null,null,null,null,null,null,null,null,null,null,null,null,null,{"$f":"IF(Z98<>\"\", VLOOKUP(Z98, CBH_Taxonomies!C:D, 2, 0), \"\")","v":""},null,null,null,null,{"$f":"IFERROR(VLOOKUP(Z98, Sheet4!A:D, 4, 0), \"\")","v":""},{"$f":"_xlfn.TEXTJOIN(\", \", TRUE, _xlfn.UNIQUE(IF(Sheet2!$A$2:$A$888 = LOAP!Z98, Sheet2!$B$2:$B$888, \"\")))","v":""},{"$f":"_xlfn.TEXTJOIN(\", \", TRUE, _xlfn.UNIQUE(IF(Sheet2!$A$2:$A$888 = LOAP!Z98, Sheet2!$C$2:$C$888, \"\")))","v":""},null,null,null,null,null," "]
[82,null,null,null,null,null,null,null,null,null,null,null,null,null,null,null,null,null,null,null,null,null,null,null,null,null,null,null,{"$f":"IF(Z99<>\"\", VLOOKUP(Z99, CBH_Taxonomies!C:D, 2, 0), \"\")","v":""},null,null,null,null,{"$f":"IFERROR(VLOOKUP(Z99, Sheet4!A:D, 4, 0), \"\")","v":""},{"$f":"_xlfn.TEXTJOIN(\", \", TRUE, _xlfn.UNIQUE(IF(Sheet2!$A$2:$A$888 = LOAP!Z99, Sheet2!$B$2:$B$888, \"\")))","v":""},{"$f":"_xlfn.TEXTJOIN(\", \", TRUE, _xlfn.UNIQUE(IF(Sheet2!$A$2:$A$888 = LOAP!Z99, Sheet2!$C$2:$C$888, \"\")))","v":""},null,null,null,null,null," "]
[83,null,null,null,null,null,null,null,null,null,null,null,null,null,null,null,null,null,null,null,null,null,null,null,null,null,null,null,{"$f":"IF(Z100<>\"\", VLOOKUP(Z100, CBH_Taxonomies!C:D, 2, 0), \"\")","v":""},null,null,null,null,{"$f":"IFERROR(VLOOKUP(Z100, Sheet4!A:D, 4, 0), \"\")","v":""},{"$f":"_xlfn.TEXTJOIN(\", \", TRUE, _xlfn.UNIQUE(IF(Sheet2!$A$2:$A$888 = LOAP!Z100, Sheet2!$B$2:$B$888, \"\")))","v":""},{"$f":"_xlfn.TEXTJOIN(\", \", TRUE, _xlfn.UNIQUE(IF(Sheet2!$A$2:$A$888 = LOAP!Z100, Sheet2!$C$2:$C$888, \"\")))","v":""},null,null,null,null,null," "]
[84,null,null,null,null,null,null,null,null,null,null,null,null,null,null,null,null,null,null,null,null,null,null,null,null,null,null,null,{"$f":"IF(Z101<>\"\", VLOOKUP(Z101, CBH_Taxonomies!C:D, 2, 0), \"\")","v":""},null,null,null,null,{"$f":"IFERROR(VLOOKUP(Z101, Sheet4!A:D, 4, 0), \"\")","v":""},{"$f":"_xlfn.TEXTJOIN(\", \", TRUE, _xlfn.UNIQUE(IF(Sheet2!$A$2:$A$888 = LOAP!Z101, Sheet2!$B$2:$B$888, \"\")))","v":""},{"$f":"_xlfn.TEXTJOIN(\", \", TRUE, _xlfn.UNIQUE(IF(Sheet2!$A$2:$A$888 = LOAP!Z101, Sheet2!$C$2:$C$888, \"\")))","v":""},null,null,null,null,null," "]
[85,null,null,null,null,null,null,null,null,null,null,null,null,null,null,null,null,null,null,null,null,null,null,null,null,null,null,null,{"$f":"IF(Z102<>\"\", VLOOKUP(Z102, CBH_Taxonomies!C:D, 2, 0), \"\")","v":""},null,null,null,null,{"$f":"IFERROR(VLOOKUP(Z102, Sheet4!A:D, 4, 0), \"\")","v":""},{"$f":"_xlfn.TEXTJOIN(\", \", TRUE, _xlfn.UNIQUE(IF(Sheet2!$A$2:$A$888 = LOAP!Z102, Sheet2!$B$2:$B$888, \"\")))","v":""},{"$f":"_xlfn.TEXTJOIN(\", \", TRUE, _xlfn.UNIQUE(IF(Sheet2!$A$2:$A$888 = LOAP!Z102, Sheet2!$C$2:$C$888, \"\")))","v":""},null,null,null,null,null," "]
[86,null,null,null,null,null,null,null,null,null,null,null,null,null,null,null,null,null,null,null,null,null,null,null,null,null,null,null,{"$f":"IF(Z103<>\"\", VLOOKUP(Z103, CBH_Taxonomies!C:D, 2, 0), \"\")","v":""},null,null,null,null,{"$f":"IFERROR(VLOOKUP(Z103, Sheet4!A:D, 4, 0), \"\")","v":""},{"$f":"_xlfn.TEXTJOIN(\", \", TRUE, _xlfn.UNIQUE(IF(Sheet2!$A$2:$A$888 = LOAP!Z103, Sheet2!$B$2:$B$888, \"\")))","v":""},{"$f":"_xlfn.TEXTJOIN(\", \", TRUE, _xlfn.UNIQUE(IF(Sheet2!$A$2:$A$888 = LOAP!Z103, Sheet2!$C$2:$C$888, \"\")))","v":""},null,null,null,null,null," "]
[87,null,null,null,null,null,null,null,null,null,null,null,null,null,null,null,null,null,null,null,null,null,null,null,null,null,null,null,{"$f":"IF(Z104<>\"\", VLOOKUP(Z104, CBH_Taxonomies!C:D, 2, 0), \"\")","v":""},null,null,null,null,{"$f":"IFERROR(VLOOKUP(Z104, Sheet4!A:D, 4, 0), \"\")","v":""},{"$f":"_xlfn.TEXTJOIN(\", \", TRUE, _xlfn.UNIQUE(IF(Sheet2!$A$2:$A$888 = LOAP!Z104, Sheet2!$B$2:$B$888, \"\")))","v":""},{"$f":"_xlfn.TEXTJOIN(\", \", TRUE, _xlfn.UNIQUE(IF(Sheet2!$A$2:$A$888 = LOAP!Z104, Sheet2!$C$2:$C$888, \"\")))","v":""},null,null,null,null,null," "]
[88,null,null,null,null,null,null,null,null,null,null,null,null,null,null,null,null,null,null,null,null,null,null,null,null,null,null,null,{"$f":"IF(Z105<>\"\", VLOOKUP(Z105, CBH_Taxonomies!C:D, 2, 0), \"\")","v":""},null,null,null,null,{"$f":"IFERROR(VLOOKUP(Z105, Sheet4!A:D, 4, 0), \"\")","v":""},{"$f":"_xlfn.TEXTJOIN(\", \", TRUE, _xlfn.UNIQUE(IF(Sheet2!$A$2:$A$888 = LOAP!Z105, Sheet2!$B$2:$B$888, \"\")))","v":""},{"$f":"_xlfn.TEXTJOIN(\", \", TRUE, _xlfn.UNIQUE(IF(Sheet2!$A$2:$A$888 = LOAP!Z105, Sheet2!$C$2:$C$888, \"\")))","v":""},null,null,null,null,null," "]
[89,null,null,null,null,null,null,null,null,null,null,null,null,null,null,null,null,null,null,null,null,null,null,null,null,null,null,null,{"$f":"IF(Z106<>\"\", VLOOKUP(Z106, CBH_Taxonomies!C:D, 2, 0), \"\")","v":""},null,null,null,null,{"$f":"IFERROR(VLOOKUP(Z106, Sheet4!A:D, 4, 0), \"\")","v":""},{"$f":"_xlfn.TEXTJOIN(\", \", TRUE, _xlfn.UNIQUE(IF(Sheet2!$A$2:$A$888 = LOAP!Z106, Sheet2!$B$2:$B$888, \"\")))","v":""},{"$f":"_xlfn.TEXTJOIN(\", \", TRUE, _xlfn.UNIQUE(IF(Sheet2!$A$2:$A$888 = LOAP!Z106, Sheet2!$C$2:$C$888, \"\")))","v":""},null,null,null,null,null," "]
[90,null,null,null,null,null,null,null,null,null,null,null,null,null,null,null,null,null,null,null,null,null,null,null,null,null,null,null,{"$f":"IF(Z107<>\"\", VLOOKUP(Z107, CBH_Taxonomies!C:D, 2, 0), \"\")","v":""},null,null,null,null,{"$f":"IFERROR(VLOOKUP(Z107, Sheet4!A:D, 4, 0), \"\")","v":""},{"$f":"_xlfn.TEXTJOIN(\", \", TRUE, _xlfn.UNIQUE(IF(Sheet2!$A$2:$A$888 = LOAP!Z107, Sheet2!$B$2:$B$888, \"\")))","v":""},{"$f":"_xlfn.TEXTJOIN(\", \", TRUE, _xlfn.UNIQUE(IF(Sheet2!$A$2:$A$888 = LOAP!Z107, Sheet2!$C$2:$C$888, \"\")))","v":""},null,null,null,null,null," "]
[91,null,null,null,null,null,null,null,null,null,null,null,null,null,null,null,null,null,null,null,null,null,null,null,null,null,null,null,{"$f":"IF(Z108<>\"\", VLOOKUP(Z108, CBH_Taxonomies!C:D, 2, 0), \"\")","v":""},null,null,null,null,{"$f":"IFERROR(VLOOKUP(Z108, Sheet4!A:D, 4, 0), \"\")","v":""},{"$f":"_xlfn.TEXTJOIN(\", \", TRUE, _xlfn.UNIQUE(IF(Sheet2!$A$2:$A$888 = LOAP!Z108, Sheet2!$B$2:$B$888, \"\")))","v":""},{"$f":"_xlfn.TEXTJOIN(\", \", TRUE, _xlfn.UNIQUE(IF(Sheet2!$A$2:$A$888 = LOAP!Z108, Sheet2!$C$2:$C$888, \"\")))","v":""},null,null,null,null,null," "]
[92,null,null,null,null,null,null,null,null,null,null,null,null,null,null,null,null,null,null,null,null,null,null,null,null,null,null,null,{"$f":"IF(Z109<>\"\", VLOOKUP(Z109, CBH_Taxonomies!C:D, 2, 0), \"\")","v":""},null,null,null,null,{"$f":"IFERROR(VLOOKUP(Z109, Sheet4!A:D, 4, 0), \"\")","v":""},{"$f":"_xlfn.TEXTJOIN(\", \", TRUE, _xlfn.UNIQUE(IF(Sheet2!$A$2:$A$888 = LOAP!Z109, Sheet2!$B$2:$B$888, \"\")))","v":""},{"$f":"_xlfn.TEXTJOIN(\", \", TRUE, _xlfn.UNIQUE(IF(Sheet2!$A$2:$A$888 = LOAP!Z109, Sheet2!$C$2:$C$888, \"\")))","v":""},null,null,null,null,null," "]
[93,null,null,null,null,null,null,null,null,null,null,null,null,null,null,null,null,null,null,null,null,null,null,null,null,null,null,null,{"$f":"IF(Z110<>\"\", VLOOKUP(Z110, CBH_Taxonomies!C:D, 2, 0), \"\")","v":""},null,null,null,null,{"$f":"IFERROR(VLOOKUP(Z110, Sheet4!A:D, 4, 0), \"\")","v":""},{"$f":"_xlfn.TEXTJOIN(\", \", TRUE, _xlfn.UNIQUE(IF(Sheet2!$A$2:$A$888 = LOAP!Z110, Sheet2!$B$2:$B$888, \"\")))","v":""},{"$f":"_xlfn.TEXTJOIN(\", \", TRUE, _xlfn.UNIQUE(IF(Sheet2!$A$2:$A$888 = LOAP!Z110, Sheet2!$C$2:$C$888, \"\")))","v":""},null,null,null,null,null," "]
[94,null,null,null,null,null,null,null,null,null,null,null,null,null,null,null,null,null,null,null,null,null,null,null,null,null,null,null,{"$f":"IF(Z111<>\"\", VLOOKUP(Z111, CBH_Taxonomies!C:D, 2, 0), \"\")","v":""},null,null,null,null,{"$f":"IFERROR(VLOOKUP(Z111, Sheet4!A:D, 4, 0), \"\")","v":""},{"$f":"_xlfn.TEXTJOIN(\", \", TRUE, _xlfn.UNIQUE(IF(Sheet2!$A$2:$A$888 = LOAP!Z111, Sheet2!$B$2:$B$888, \"\")))","v":""},{"$f":"_xlfn.TEXTJOIN(\", \", TRUE, _xlfn.UNIQUE(IF(Sheet2!$A$2:$A$888 = LOAP!Z111, Sheet2!$C$2:$C$888, \"\")))","v":""},null,null,null,null,null," "]
[95,null,null,null,null,null,null,null,null,null,null,null,null,null,null,null,null,null,null,null,null,null,null,null,null,null,null,null,{"$f":"IF(Z112<>\"\", VLOOKUP(Z112, CBH_Taxonomies!C:D, 2, 0), \"\")","v":""},null,null,null,null,{"$f":"IFERROR(VLOOKUP(Z112, Sheet4!A:D, 4, 0), \"\")","v":""},{"$f":"_xlfn.TEXTJOIN(\", \", TRUE, _xlfn.UNIQUE(IF(Sheet2!$A$2:$A$888 = LOAP!Z112, Sheet2!$B$2:$B$888, \"\")))","v":""},{"$f":"_xlfn.TEXTJOIN(\", \", TRUE, _xlfn.UNIQUE(IF(Sheet2!$A$2:$A$888 = LOAP!Z112, Sheet2!$C$2:$C$888, \"\")))","v":""},null,null,null,null,null," "]
[96,null,null,null,null,null,null,null,null,null,null,null,null,null,null,null,null,null,null,null,null,null,null,null,null,null,null,null,{"$f":"IF(Z113<>\"\", VLOOKUP(Z113, CBH_Taxonomies!C:D, 2, 0), \"\")","v":""},null,null,null,null,{"$f":"IFERROR(VLOOKUP(Z113, Sheet4!A:D, 4, 0), \"\")","v":""},{"$f":"_xlfn.TEXTJOIN(\", \", TRUE, _xlfn.UNIQUE(IF(Sheet2!$A$2:$A$888 = LOAP!Z113, Sheet2!$B$2:$B$888, \"\")))","v":""},{"$f":"_xlfn.TEXTJOIN(\", \", TRUE, _xlfn.UNIQUE(IF(Sheet2!$A$2:$A$888 = LOAP!Z113, Sheet2!$C$2:$C$888, \"\")))","v":""},null,null,null,null,null," "]
[97,null,null,null,null,null,null,null,null,null,null,null,null,null,null,null,null,null,null,null,null,null,null,null,null,null,null,null,{"$f":"IF(Z114<>\"\", VLOOKUP(Z114, CBH_Taxonomies!C:D, 2, 0), \"\")","v":""},null,null,null,null,{"$f":"IFERROR(VLOOKUP(Z114, Sheet4!A:D, 4, 0), \"\")","v":""},{"$f":"_xlfn.TEXTJOIN(\", \", TRUE, _xlfn.UNIQUE(IF(Sheet2!$A$2:$A$888 = LOAP!Z114, Sheet2!$B$2:$B$888, \"\")))","v":""},{"$f":"_xlfn.TEXTJOIN(\", \", TRUE, _xlfn.UNIQUE(IF(Sheet2!$A$2:$A$888 = LOAP!Z114, Sheet2!$C$2:$C$888, \"\")))","v":""},null,null,null,null,null," "]
[98,null,null,null,null,null,null,null,null,null,null,null,null,null,null,null,null,null,null,null,null,null,null,null,null,null,null,null,{"$f":"IF(Z115<>\"\", VLOOKUP(Z115, CBH_Taxonomies!C:D, 2, 0), \"\")","v":""},null,null,null,null,{"$f":"IFERROR(VLOOKUP(Z115, Sheet4!A:D, 4, 0), \"\")","v":""},{"$f":"_xlfn.TEXTJOIN(\", \", TRUE, _xlfn.UNIQUE(IF(Sheet2!$A$2:$A$888 = LOAP!Z115, Sheet2!$B$2:$B$888, \"\")))","v":""},{"$f":"_xlfn.TEXTJOIN(\", \", TRUE, _xlfn.UNIQUE(IF(Sheet2!$A$2:$A$888 = LOAP!Z115, Sheet2!$C$2:$C$888, \"\")))","v":""},null,null,null,null,null," "]
[99,null,null,null,null,null,null,null,null,null,null,null,null,null,null,null,null,null,null,null,null,null,null,null,null,null,null,null,{"$f":"IF(Z116<>\"\", VLOOKUP(Z116, CBH_Taxonomies!C:D, 2, 0), \"\")","v":""},null,null,null,null,{"$f":"IFERROR(VLOOKUP(Z116, Sheet4!A:D, 4, 0), \"\")","v":""},{"$f":"_xlfn.TEXTJOIN(\", \", TRUE, _xlfn.UNIQUE(IF(Sheet2!$A$2:$A$888 = LOAP!Z116, Sheet2!$B$2:$B$888, \"\")))","v":""},{"$f":"_xlfn.TEXTJOIN(\", \", TRUE, _xlfn.UNIQUE(IF(Sheet2!$A$2:$A$888 = LOAP!Z116, Sheet2!$C$2:$C$888, \"\")))","v":""},null,null,null,null,null," "]
[100,null,null,null,null,null,null,null,null,null,null,null,null,null,null,null,null,null,null,null,null,null,null,null,null,null,null,null,{"$f":"IF(Z117<>\"\", VLOOKUP(Z117, CBH_Taxonomies!C:D, 2, 0), \"\")","v":""},null,null,null,null,{"$f":"IFERROR(VLOOKUP(Z117, Sheet4!A:D, 4, 0), \"\")","v":""},{"$f":"_xlfn.TEXTJOIN(\", \", TRUE, _xlfn.UNIQUE(IF(Sheet2!$A$2:$A$888 = LOAP!Z117, Sheet2!$B$2:$B$888, \"\")))","v":""},{"$f":"_xlfn.TEXTJOIN(\", \", TRUE, _xlfn.UNIQUE(IF(Sheet2!$A$2:$A$888 = LOAP!Z117, Sheet2!$C$2:$C$888, \"\")))","v":""},null,null,null,null,null," "]
[101,null,null,null,null,null,null,null,null,null,null,null,null,null,null,null,null,null,null,null,null,null,null,null,null,null,null,null,{"$f":"IF(Z118<>\"\", VLOOKUP(Z118, CBH_Taxonomies!C:D, 2, 0), \"\")","v":""},null,null,null,null,{"$f":"IFERROR(VLOOKUP(Z118, Sheet4!A:D, 4, 0), \"\")","v":""},{"$f":"_xlfn.TEXTJOIN(\", \", TRUE, _xlfn.UNIQUE(IF(Sheet2!$A$2:$A$888 = LOAP!Z118, Sheet2!$B$2:$B$888, \"\")))","v":""},{"$f":"_xlfn.TEXTJOIN(\", \", TRUE, _xlfn.UNIQUE(IF(Sheet2!$A$2:$A$888 = LOAP!Z118, Sheet2!$C$2:$C$888, \"\")))","v":""},null,null,null,null,null," "]
[102,null,null,null,null,null,null,null,null,null,null,null,null,null,null,null,null,null,null,null,null,null,null,null,null,null,null,null,{"$f":"IF(Z119<>\"\", VLOOKUP(Z119, CBH_Taxonomies!C:D, 2, 0), \"\")","v":""},null,null,null,null,{"$f":"IFERROR(VLOOKUP(Z119, Sheet4!A:D, 4, 0), \"\")","v":""},{"$f":"_xlfn.TEXTJOIN(\", \", TRUE, _xlfn.UNIQUE(IF(Sheet2!$A$2:$A$888 = LOAP!Z119, Sheet2!$B$2:$B$888, \"\")))","v":""},{"$f":"_xlfn.TEXTJOIN(\", \", TRUE, _xlfn.UNIQUE(IF(Sheet2!$A$2:$A$888 = LOAP!Z119, Sheet2!$C$2:$C$888, \"\")))","v":""},null,null,null,null,null," "]
[103,null,null,null,null,null,null,null,null,null,null,null,null,null,null,null,null,null,null,null,null,null,null,null,null,null,null,null,{"$f":"IF(Z120<>\"\", VLOOKUP(Z120, CBH_Taxonomies!C:D, 2, 0), \"\")","v":""},null,null,null,null,{"$f":"IFERROR(VLOOKUP(Z120, Sheet4!A:D, 4, 0), \"\")","v":""},{"$f":"_xlfn.TEXTJOIN(\", \", TRUE, _xlfn.UNIQUE(IF(Sheet2!$A$2:$A$888 = LOAP!Z120, Sheet2!$B$2:$B$888, \"\")))","v":""},{"$f":"_xlfn.TEXTJOIN(\", \", TRUE, _xlfn.UNIQUE(IF(Sheet2!$A$2:$A$888 = LOAP!Z120, Sheet2!$C$2:$C$888, \"\")))","v":""},null,null,null,null,null," "]
[104,null,null,null,null,null,null,null,null,null,null,null,null,null,null,null,null,null,null,null,null,null,null,null,null,null,null,null,{"$f":"IF(Z121<>\"\", VLOOKUP(Z121, CBH_Taxonomies!C:D, 2, 0), \"\")","v":""},null,null,null,null,{"$f":"IFERROR(VLOOKUP(Z121, Sheet4!A:D, 4, 0), \"\")","v":""},{"$f":"_xlfn.TEXTJOIN(\", \", TRUE, _xlfn.UNIQUE(IF(Sheet2!$A$2:$A$888 = LOAP!Z121, Sheet2!$B$2:$B$888, \"\")))","v":""},{"$f":"_xlfn.TEXTJOIN(\", \", TRUE, _xlfn.UNIQUE(IF(Sheet2!$A$2:$A$888 = LOAP!Z121, Sheet2!$C$2:$C$888, \"\")))","v":""},null,null,null,null,null," "]
[105,null,null,null,null,null,null,null,null,null,null,null,null,null,null,null,null,null,null,null,null,null,null,null,null,null,null,null,{"$f":"IF(Z122<>\"\", VLOOKUP(Z122, CBH_Taxonomies!C:D, 2, 0), \"\")","v":""},null,null,null,null,{"$f":"IFERROR(VLOOKUP(Z122, Sheet4!A:D, 4, 0), \"\")","v":""},{"$f":"_xlfn.TEXTJOIN(\", \", TRUE, _xlfn.UNIQUE(IF(Sheet2!$A$2:$A$888 = LOAP!Z122, Sheet2!$B$2:$B$888, \"\")))","v":""},{"$f":"_xlfn.TEXTJOIN(\", \", TRUE, _xlfn.UNIQUE(IF(Sheet2!$A$2:$A$888 = LOAP!Z122, Sheet2!$C$2:$C$888, \"\")))","v":""},null,null,null,null,null," "]
[106,null,null,null,null,null,null,null,null,null,null,null,null,null,null,null,null,null,null,null,null,null,null,null,null,null,null,null,{"$f":"IF(Z123<>\"\", VLOOKUP(Z123, CBH_Taxonomies!C:D, 2, 0), \"\")","v":""},null,null,null,null,{"$f":"IFERROR(VLOOKUP(Z123, Sheet4!A:D, 4, 0), \"\")","v":""},{"$f":"_xlfn.TEXTJOIN(\", \", TRUE, _xlfn.UNIQUE(IF(Sheet2!$A$2:$A$888 = LOAP!Z123, Sheet2!$B$2:$B$888, \"\")))","v":""},{"$f":"_xlfn.TEXTJOIN(\", \", TRUE, _xlfn.UNIQUE(IF(Sheet2!$A$2:$A$888 = LOAP!Z123, Sheet2!$C$2:$C$888, \"\")))","v":""},null,null,null,null,null," "]
[107,null,null,null,null,null,null,null,null,null,null,null,null,null,null,null,null,null,null,null,null,null,null,null,null,null,null,null,{"$f":"IF(Z124<>\"\", VLOOKUP(Z124, CBH_Taxonomies!C:D, 2, 0), \"\")","v":""},null,null,null,null,{"$f":"IFERROR(VLOOKUP(Z124, Sheet4!A:D, 4, 0), \"\")","v":""},{"$f":"_xlfn.TEXTJOIN(\", \", TRUE, _xlfn.UNIQUE(IF(Sheet2!$A$2:$A$888 = LOAP!Z124, Sheet2!$B$2:$B$888, \"\")))","v":""},{"$f":"_xlfn.TEXTJOIN(\", \", TRUE, _xlfn.UNIQUE(IF(Sheet2!$A$2:$A$888 = LOAP!Z124, Sheet2!$C$2:$C$888, \"\")))","v":""},null,null,null,null,null," "]
[108,null,null,null,null,null,null,null,null,null,null,null,null,null,null,null,null,null,null,null,null,null,null,null,null,null,null,null,{"$f":"IF(Z125<>\"\", VLOOKUP(Z125, CBH_Taxonomies!C:D, 2, 0), \"\")","v":""},null,null,null,null,{"$f":"IFERROR(VLOOKUP(Z125, Sheet4!A:D, 4, 0), \"\")","v":""},{"$f":"_xlfn.TEXTJOIN(\", \", TRUE, _xlfn.UNIQUE(IF(Sheet2!$A$2:$A$888 = LOAP!Z125, Sheet2!$B$2:$B$888, \"\")))","v":""},{"$f":"_xlfn.TEXTJOIN(\", \", TRUE, _xlfn.UNIQUE(IF(Sheet2!$A$2:$A$888 = LOAP!Z125, Sheet2!$C$2:$C$888, \"\")))","v":""},null,null,null,null,null," "]
[109,null,null,null,null,null,null,null,null,null,null,null,null,null,null,null,null,null,null,null,null,null,null,null,null,null,null,null,{"$f":"IF(Z126<>\"\", VLOOKUP(Z126, CBH_Taxonomies!C:D, 2, 0), \"\")","v":""},null,null,null,null,{"$f":"IFERROR(VLOOKUP(Z126, Sheet4!A:D, 4, 0), \"\")","v":""},{"$f":"_xlfn.TEXTJOIN(\", \", TRUE, _xlfn.UNIQUE(IF(Sheet2!$A$2:$A$888 = LOAP!Z126, Sheet2!$B$2:$B$888, \"\")))","v":""},{"$f":"_xlfn.TEXTJOIN(\", \", TRUE, _xlfn.UNIQUE(IF(Sheet2!$A$2:$A$888 = LOAP!Z126, Sheet2!$C$2:$C$888, \"\")))","v":""},null,null,null,null,null," "]
[110,null,null,null,null,null,null,null,null,null,null,null,null,null,null,null,null,null,null,null,null,null,null,null,null,null,null,null,{"$f":"IF(Z127<>\"\", VLOOKUP(Z127, CBH_Taxonomies!C:D, 2, 0), \"\")","v":""},null,null,null,null,{"$f":"IFERROR(VLOOKUP(Z127, Sheet4!A:D, 4, 0), \"\")","v":""},{"$f":"_xlfn.TEXTJOIN(\", \", TRUE, _xlfn.UNIQUE(IF(Sheet2!$A$2:$A$888 = LOAP!Z127, Sheet2!$B$2:$B$888, \"\")))","v":""},{"$f":"_xlfn.TEXTJOIN(\", \", TRUE, _xlfn.UNIQUE(IF(Sheet2!$A$2:$A$888 = LOAP!Z127, Sheet2!$C$2:$C$888, \"\")))","v":""},null,null,null,null,null," "]
[111,null,null,null,null,null,null,null,null,null,null,null,null,null,null,null,null,null,null,null,null,null,null,null,null,null,null,null,{"$f":"IF(Z128<>\"\", VLOOKUP(Z128, CBH_Taxonomies!C:D, 2, 0), \"\")","v":""},null,null,null,null,{"$f":"IFERROR(VLOOKUP(Z128, Sheet4!A:D, 4, 0), \"\")","v":""},{"$f":"_xlfn.TEXTJOIN(\", \", TRUE, _xlfn.UNIQUE(IF(Sheet2!$A$2:$A$888 = LOAP!Z128, Sheet2!$B$2:$B$888, \"\")))","v":""},{"$f":"_xlfn.TEXTJOIN(\", \", TRUE, _xlfn.UNIQUE(IF(Sheet2!$A$2:$A$888 = LOAP!Z128, Sheet2!$C$2:$C$888, \"\")))","v":""},null,null,null,null,null," "]
[112,null,null,null,null,null,null,null,null,null,null,null,null,null,null,null,null,null,null,null,null,null,null,null,null,null,null,null,{"$f":"IF(Z129<>\"\", VLOOKUP(Z129, CBH_Taxonomies!C:D, 2, 0), \"\")","v":""},null,null,null,null,{"$f":"IFERROR(VLOOKUP(Z129, Sheet4!A:D, 4, 0), \"\")","v":""},{"$f":"_xlfn.TEXTJOIN(\", \", TRUE, _xlfn.UNIQUE(IF(Sheet2!$A$2:$A$888 = LOAP!Z129, Sheet2!$B$2:$B$888, \"\")))","v":""},{"$f":"_xlfn.TEXTJOIN(\", \", TRUE, _xlfn.UNIQUE(IF(Sheet2!$A$2:$A$888 = LOAP!Z129, Sheet2!$C$2:$C$888, \"\")))","v":""},null,null,null,null,null," "]
[113,null,null,null,null,null,null,null,null,null,null,null,null,null,null,null,null,null,null,null,null,null,null,null,null,null,null,null,{"$f":"IF(Z130<>\"\", VLOOKUP(Z130, CBH_Taxonomies!C:D, 2, 0), \"\")","v":""},null,null,null,null,{"$f":"IFERROR(VLOOKUP(Z130, Sheet4!A:D, 4, 0), \"\")","v":""},{"$f":"_xlfn.TEXTJOIN(\", \", TRUE, _xlfn.UNIQUE(IF(Sheet2!$A$2:$A$888 = LOAP!Z130, Sheet2!$B$2:$B$888, \"\")))","v":""},{"$f":"_xlfn.TEXTJOIN(\", \", TRUE, _xlfn.UNIQUE(IF(Sheet2!$A$2:$A$888 = LOAP!Z130, Sheet2!$C$2:$C$888, \"\")))","v":""},null,null,null,null,null," "]
[114,null,null,null,null,null,null,null,null,null,null,null,null,null,null,null,null,null,null,null,null,null,null,null,null,null,null,null,{"$f":"IF(Z131<>\"\", VLOOKUP(Z131, CBH_Taxonomies!C:D, 2, 0), \"\")","v":""},null,null,null,null,{"$f":"IFERROR(VLOOKUP(Z131, Sheet4!A:D, 4, 0), \"\")","v":""},{"$f":"_xlfn.TEXTJOIN(\", \", TRUE, _xlfn.UNIQUE(IF(Sheet2!$A$2:$A$888 = LOAP!Z131, Sheet2!$B$2:$B$888, \"\")))","v":""},{"$f":"_xlfn.TEXTJOIN(\", \", TRUE, _xlfn.UNIQUE(IF(Sheet2!$A$2:$A$888 = LOAP!Z131, Sheet2!$C$2:$C$888, \"\")))","v":""},null,null,null,null,null," "]
[115,null,null,null,null,null,null,null,null,null,null,null,null,null,null,null,null,null,null,null,null,null,null,null,null,null,null,null,{"$f":"IF(Z132<>\"\", VLOOKUP(Z132, CBH_Taxonomies!C:D, 2, 0), \"\")","v":""},null,null,null,null,{"$f":"IFERROR(VLOOKUP(Z132, Sheet4!A:D, 4, 0), \"\")","v":""},{"$f":"_xlfn.TEXTJOIN(\", \", TRUE, _xlfn.UNIQUE(IF(Sheet2!$A$2:$A$888 = LOAP!Z132, Sheet2!$B$2:$B$888, \"\")))","v":""},{"$f":"_xlfn.TEXTJOIN(\", \", TRUE, _xlfn.UNIQUE(IF(Sheet2!$A$2:$A$888 = LOAP!Z132, Sheet2!$C$2:$C$888, \"\")))","v":""},null,null,null,null,null," "]
[116,null,null,null,null,null,null,null,null,null,null,null,null,null,null,null,null,null,null,null,null,null,null,null,null,null,null,null,{"$f":"IF(Z133<>\"\", VLOOKUP(Z133, CBH_Taxonomies!C:D, 2, 0), \"\")","v":""},null,null,null,null,{"$f":"IFERROR(VLOOKUP(Z133, Sheet4!A:D, 4, 0), \"\")","v":""},{"$f":"_xlfn.TEXTJOIN(\", \", TRUE, _xlfn.UNIQUE(IF(Sheet2!$A$2:$A$888 = LOAP!Z133, Sheet2!$B$2:$B$888, \"\")))","v":""},{"$f":"_xlfn.TEXTJOIN(\", \", TRUE, _xlfn.UNIQUE(IF(Sheet2!$A$2:$A$888 = LOAP!Z133, Sheet2!$C$2:$C$888, \"\")))","v":""},null,null,null,null,null," "]
[117,null,null,null,null,null,null,null,null,null,null,null,null,null,null,null,null,null,null,null,null,null,null,null,null,null,null,null,{"$f":"IF(Z134<>\"\", VLOOKUP(Z134, CBH_Taxonomies!C:D, 2, 0), \"\")","v":""},null,null,null,null,{"$f":"IFERROR(VLOOKUP(Z134, Sheet4!A:D, 4, 0), \"\")","v":""},{"$f":"_xlfn.TEXTJOIN(\", \", TRUE, _xlfn.UNIQUE(IF(Sheet2!$A$2:$A$888 = LOAP!Z134, Sheet2!$B$2:$B$888, \"\")))","v":""},{"$f":"_xlfn.TEXTJOIN(\", \", TRUE, _xlfn.UNIQUE(IF(Sheet2!$A$2:$A$888 = LOAP!Z134, Sheet2!$C$2:$C$888, \"\")))","v":""},null,null,null,null,null," "]
[118,null,null,null,null,null,null,null,null,null,null,null,null,null,null,null,null,null,null,null,null,null,null,null,null,null,null,null,{"$f":"IF(Z135<>\"\", VLOOKUP(Z135, CBH_Taxonomies!C:D, 2, 0), \"\")","v":""},null,null,null,null,{"$f":"IFERROR(VLOOKUP(Z135, Sheet4!A:D, 4, 0), \"\")","v":""},{"$f":"_xlfn.TEXTJOIN(\", \", TRUE, _xlfn.UNIQUE(IF(Sheet2!$A$2:$A$888 = LOAP!Z135, Sheet2!$B$2:$B$888, \"\")))","v":""},{"$f":"_xlfn.TEXTJOIN(\", \", TRUE, _xlfn.UNIQUE(IF(Sheet2!$A$2:$A$888 = LOAP!Z135, Sheet2!$C$2:$C$888, \"\")))","v":""},null,null,null,null,null," "]
[119,null,null,null,null,null,null,null,null,null,null,null,null,null,null,null,null,null,null,null,null,null,null,null,null,null,null,null,{"$f":"IF(Z136<>\"\", VLOOKUP(Z136, CBH_Taxonomies!C:D, 2, 0), \"\")","v":""},null,null,null,null,{"$f":"IFERROR(VLOOKUP(Z136, Sheet4!A:D, 4, 0), \"\")","v":""},{"$f":"_xlfn.TEXTJOIN(\", \", TRUE, _xlfn.UNIQUE(IF(Sheet2!$A$2:$A$888 = LOAP!Z136, Sheet2!$B$2:$B$888, \"\")))","v":""},{"$f":"_xlfn.TEXTJOIN(\", \", TRUE, _xlfn.UNIQUE(IF(Sheet2!$A$2:$A$888 = LOAP!Z136, Sheet2!$C$2:$C$888, \"\")))","v":""},null,null,null,null,null," "]
[120,null,null,null,null,null,null,null,null,null,null,null,null,null,null,null,null,null,null,null,null,null,null,null,null,null,null,null,{"$f":"IF(Z137<>\"\", VLOOKUP(Z137, CBH_Taxonomies!C:D, 2, 0), \"\")","v":""},null,null,null,null,{"$f":"IFERROR(VLOOKUP(Z137, Sheet4!A:D, 4, 0), \"\")","v":""},{"$f":"_xlfn.TEXTJOIN(\", \", TRUE, _xlfn.UNIQUE(IF(Sheet2!$A$2:$A$888 = LOAP!Z137, Sheet2!$B$2:$B$888, \"\")))","v":""},{"$f":"_xlfn.TEXTJOIN(\", \", TRUE, _xlfn.UNIQUE(IF(Sheet2!$A$2:$A$888 = LOAP!Z137, Sheet2!$C$2:$C$888, \"\")))","v":""},null,null,null,null,null," "]
[121,null,null,null,null,null,null,null,null,null,null,null,null,null,null,null,null,null,null,null,null,null,null,null,null,null,null,null,{"$f":"IF(Z138<>\"\", VLOOKUP(Z138, CBH_Taxonomies!C:D, 2, 0), \"\")","v":""},null,null,null,null,{"$f":"IFERROR(VLOOKUP(Z138, Sheet4!A:D, 4, 0), \"\")","v":""},{"$f":"_xlfn.TEXTJOIN(\", \", TRUE, _xlfn.UNIQUE(IF(Sheet2!$A$2:$A$888 = LOAP!Z138, Sheet2!$B$2:$B$888, \"\")))","v":""},{"$f":"_xlfn.TEXTJOIN(\", \", TRUE, _xlfn.UNIQUE(IF(Sheet2!$A$2:$A$888 = LOAP!Z138, Sheet2!$C$2:$C$888, \"\")))","v":""},null,null,null,null,null," "]
[122,null,null,null,null,null,null,null,null,null,null,null,null,null,null,null,null,null,null,null,null,null,null,null,null,null,null,null,{"$f":"IF(Z139<>\"\", VLOOKUP(Z139, CBH_Taxonomies!C:D, 2, 0), \"\")","v":""},null,null,null,null,{"$f":"IFERROR(VLOOKUP(Z139, Sheet4!A:D, 4, 0), \"\")","v":""},{"$f":"_xlfn.TEXTJOIN(\", \", TRUE, _xlfn.UNIQUE(IF(Sheet2!$A$2:$A$888 = LOAP!Z139, Sheet2!$B$2:$B$888, \"\")))","v":""},{"$f":"_xlfn.TEXTJOIN(\", \", TRUE, _xlfn.UNIQUE(IF(Sheet2!$A$2:$A$888 = LOAP!Z139, Sheet2!$C$2:$C$888, \"\")))","v":""},null,null,null,null,null," "]
[123,null,null,null,null,null,null,null,null,null,null,null,null,null,null,null,null,null,null,null,null,null,null,null,null,null,null,null,{"$f":"IF(Z140<>\"\", VLOOKUP(Z140, CBH_Taxonomies!C:D, 2, 0), \"\")","v":""},null,null,null,null,{"$f":"IFERROR(VLOOKUP(Z140, Sheet4!A:D, 4, 0), \"\")","v":""},{"$f":"_xlfn.TEXTJOIN(\", \", TRUE, _xlfn.UNIQUE(IF(Sheet2!$A$2:$A$888 = LOAP!Z140, Sheet2!$B$2:$B$888, \"\")))","v":""},{"$f":"_xlfn.TEXTJOIN(\", \", TRUE, _xlfn.UNIQUE(IF(Sheet2!$A$2:$A$888 = LOAP!Z140, Sheet2!$C$2:$C$888, \"\")))","v":""},null,null,null,null,null," "]
[124,null,null,null,null,null,null,null,null,null,null,null,null,null,null,null,null,null,null,null,null,null,null,null,null,null,null,null,{"$f":"IF(Z141<>\"\", VLOOKUP(Z141, CBH_Taxonomies!C:D, 2, 0), \"\")","v":""},null,null,null,null,{"$f":"IFERROR(VLOOKUP(Z141, Sheet4!A:D, 4, 0), \"\")","v":""},{"$f":"_xlfn.TEXTJOIN(\", \", TRUE, _xlfn.UNIQUE(IF(Sheet2!$A$2:$A$888 = LOAP!Z141, Sheet2!$B$2:$B$888, \"\")))","v":""},{"$f":"_xlfn.TEXTJOIN(\", \", TRUE, _xlfn.UNIQUE(IF(Sheet2!$A$2:$A$888 = LOAP!Z141, Sheet2!$C$2:$C$888, \"\")))","v":""},null,null,null,null,null," "]
[125,null,null,null,null,null,null,null,null,null,null,null,null,null,null,null,null,null,null,null,null,null,null,null,null,null,null,null,{"$f":"IF(Z142<>\"\", VLOOKUP(Z142, CBH_Taxonomies!C:D, 2, 0), \"\")","v":""},null,null,null,null,{"$f":"IFERROR(VLOOKUP(Z142, Sheet4!A:D, 4, 0), \"\")","v":""},{"$f":"_xlfn.TEXTJOIN(\", \", TRUE, _xlfn.UNIQUE(IF(Sheet2!$A$2:$A$888 = LOAP!Z142, Sheet2!$B$2:$B$888, \"\")))","v":""},{"$f":"_xlfn.TEXTJOIN(\", \", TRUE, _xlfn.UNIQUE(IF(Sheet2!$A$2:$A$888 = LOAP!Z142, Sheet2!$C$2:$C$888, \"\")))","v":""},null,null,null,null,null," "]
[126,null,null,null,null,null,null,null,null,null,null,null,null,null,null,null,null,null,null,null,null,null,null,null,null,null,null,null,{"$f":"IF(Z143<>\"\", VLOOKUP(Z143, CBH_Taxonomies!C:D, 2, 0), \"\")","v":""},null,null,null,null,{"$f":"IFERROR(VLOOKUP(Z143, Sheet4!A:D, 4, 0), \"\")","v":""},{"$f":"_xlfn.TEXTJOIN(\", \", TRUE, _xlfn.UNIQUE(IF(Sheet2!$A$2:$A$888 = LOAP!Z143, Sheet2!$B$2:$B$888, \"\")))","v":""},{"$f":"_xlfn.TEXTJOIN(\", \", TRUE, _xlfn.UNIQUE(IF(Sheet2!$A$2:$A$888 = LOAP!Z143, Sheet2!$C$2:$C$888, \"\")))","v":""},null,null,null,null,null," "]
[127,null,null,null,null,null,null,null,null,null,null,null,null,null,null,null,null,null,null,null,null,null,null,null,null,null,null,null,{"$f":"IF(Z144<>\"\", VLOOKUP(Z144, CBH_Taxonomies!C:D, 2, 0), \"\")","v":""},null,null,null,null,{"$f":"IFERROR(VLOOKUP(Z144, Sheet4!A:D, 4, 0), \"\")","v":""},{"$f":"_xlfn.TEXTJOIN(\", \", TRUE, _xlfn.UNIQUE(IF(Sheet2!$A$2:$A$888 = LOAP!Z144, Sheet2!$B$2:$B$888, \"\")))","v":""},{"$f":"_xlfn.TEXTJOIN(\", \", TRUE, _xlfn.UNIQUE(IF(Sheet2!$A$2:$A$888 = LOAP!Z144, Sheet2!$C$2:$C$888, \"\")))","v":""},null,null,null,null,null," "]
[128,null,null,null,null,null,null,null,null,null,null,null,null,null,null,null,null,null,null,null,null,null,null,null,null,null,null,null,{"$f":"IF(Z145<>\"\", VLOOKUP(Z145, CBH_Taxonomies!C:D, 2, 0), \"\")","v":""},null,null,null,null,{"$f":"IFERROR(VLOOKUP(Z145, Sheet4!A:D, 4, 0), \"\")","v":""},{"$f":"_xlfn.TEXTJOIN(\", \", TRUE, _xlfn.UNIQUE(IF(Sheet2!$A$2:$A$888 = LOAP!Z145, Sheet2!$B$2:$B$888, \"\")))","v":""},{"$f":"_xlfn.TEXTJOIN(\", \", TRUE, _xlfn.UNIQUE(IF(Sheet2!$A$2:$A$888 = LOAP!Z145, Sheet2!$C$2:$C$888, \"\")))","v":""},null,null,null,null,null," "]
[129,null,null,null,null,null,null,null,null,null,null,null,null,null,null,null,null,null,null,null,null,null,null,null,null,null,null,null,{"$f":"IF(Z146<>\"\", VLOOKUP(Z146, CBH_Taxonomies!C:D, 2, 0), \"\")","v":""},null,null,null,null,{"$f":"IFERROR(VLOOKUP(Z146, Sheet4!A:D, 4, 0), \"\")","v":""},{"$f":"_xlfn.TEXTJOIN(\", \", TRUE, _xlfn.UNIQUE(IF(Sheet2!$A$2:$A$888 = LOAP!Z146, Sheet2!$B$2:$B$888, \"\")))","v":""},{"$f":"_xlfn.TEXTJOIN(\", \", TRUE, _xlfn.UNIQUE(IF(Sheet2!$A$2:$A$888 = LOAP!Z146, Sheet2!$C$2:$C$888, \"\")))","v":""},null,null,null,null,null,{"$f":"IF(ISBLANK(B146),\" \",\"Y\")","v":" "}]
[130,null,null,null,null,null,null,null,null,null,null,null,null,null,null,null,null,null,null,null,null,null,null,null,null,null,null,null,{"$f":"IF(Z147<>\"\", VLOOKUP(Z147, CBH_Taxonomies!C:D, 2, 0), \"\")","v":""},null,null,null,null,{"$f":"IFERROR(VLOOKUP(Z147, Sheet4!A:D, 4, 0), \"\")","v":""},{"$f":"_xlfn.TEXTJOIN(\", \", TRUE, _xlfn.UNIQUE(IF(Sheet2!$A$2:$A$888 = LOAP!Z147, Sheet2!$B$2:$B$888, \"\")))","v":""},{"$f":"_xlfn.TEXTJOIN(\", \", TRUE, _xlfn.UNIQUE(IF(Sheet2!$A$2:$A$888 = LOAP!Z147, Sheet2!$C$2:$C$888, \"\")))","v":""},null,null,null,null,null," "]
[131,null,null,null,null,null,null,null,null,null,null,null,null,null,null,null,null,null,null,null,null,null,null,null,null,null,null,null,{"$f":"IF(Z148<>\"\", VLOOKUP(Z148, CBH_Taxonomies!C:D, 2, 0), \"\")","v":""},null,null,null,null,{"$f":"IFERROR(VLOOKUP(Z148, Sheet4!A:D, 4, 0), \"\")","v":""},{"$f":"_xlfn.TEXTJOIN(\", \", TRUE, _xlfn.UNIQUE(IF(Sheet2!$A$2:$A$888 = LOAP!Z148, Sheet2!$B$2:$B$888, \"\")))","v":""},{"$f":"_xlfn.TEXTJOIN(\", \", TRUE, _xlfn.UNIQUE(IF(Sheet2!$A$2:$A$888 = LOAP!Z148, Sheet2!$C$2:$C$888, \"\")))","v":""},null,null,null,null,null," "]
[132,null,null,null,null,null,null,null,null,null,null,null,null,null,null,null,null,null,null,null,null,null,null,null,null,null,null,null,{"$f":"IF(Z149<>\"\", VLOOKUP(Z149, CBH_Taxonomies!C:D, 2, 0), \"\")","v":""},null,null,null,null,{"$f":"IFERROR(VLOOKUP(Z149, Sheet4!A:D, 4, 0), \"\")","v":""},{"$f":"_xlfn.TEXTJOIN(\", \", TRUE, _xlfn.UNIQUE(IF(Sheet2!$A$2:$A$888 = LOAP!Z149, Sheet2!$B$2:$B$888, \"\")))","v":""},{"$f":"_xlfn.TEXTJOIN(\", \", TRUE, _xlfn.UNIQUE(IF(Sheet2!$A$2:$A$888 = LOAP!Z149, Sheet2!$C$2:$C$888, \"\")))","v":""},null,null,null,null,null," "]
[133,null,null,null,null,null,null,null,null,null,null,null,null,null,null,null,null,null,null,null,null,null,null,null,null,null,null,null,{"$f":"IF(Z150<>\"\", VLOOKUP(Z150, CBH_Taxonomies!C:D, 2, 0), \"\")","v":""},null,null,null,null,{"$f":"IFERROR(VLOOKUP(Z150, Sheet4!A:D, 4, 0), \"\")","v":""},{"$f":"_xlfn.TEXTJOIN(\", \", TRUE, _xlfn.UNIQUE(IF(Sheet2!$A$2:$A$888 = LOAP!Z150, Sheet2!$B$2:$B$888, \"\")))","v":""},{"$f":"_xlfn.TEXTJOIN(\", \", TRUE, _xlfn.UNIQUE(IF(Sheet2!$A$2:$A$888 = LOAP!Z150, Sheet2!$C$2:$C$888, \"\")))","v":""},null,null,null,null,null," "]
[134,null,null,null,null,null,null,null,null,null,null,null,null,null,null,null,null,null,null,null,null,null,null,null,null,null,null,null,{"$f":"IF(Z151<>\"\", VLOOKUP(Z151, CBH_Taxonomies!C:D, 2, 0), \"\")","v":""},null,null,null,null,{"$f":"IFERROR(VLOOKUP(Z151, Sheet4!A:D, 4, 0), \"\")","v":""},{"$f":"_xlfn.TEXTJOIN(\", \", TRUE, _xlfn.UNIQUE(IF(Sheet2!$A$2:$A$888 = LOAP!Z151, Sheet2!$B$2:$B$888, \"\")))","v":""},{"$f":"_xlfn.TEXTJOIN(\", \", TRUE, _xlfn.UNIQUE(IF(Sheet2!$A$2:$A$888 = LOAP!Z151, Sheet2!$C$2:$C$888, \"\")))","v":""},null,null,null,null,null," "]
[135,null,null,null,null,null,null,null,null,null,null,null,null,null,null,null,null,null,null,null,null,null,null,null,null,null,null,null,{"$f":"IF(Z152<>\"\", VLOOKUP(Z152, CBH_Taxonomies!C:D, 2, 0), \"\")","v":""},null,null,null,null,{"$f":"IFERROR(VLOOKUP(Z152, Sheet4!A:D, 4, 0), \"\")","v":""},{"$f":"_xlfn.TEXTJOIN(\", \", TRUE, _xlfn.UNIQUE(IF(Sheet2!$A$2:$A$888 = LOAP!Z152, Sheet2!$B$2:$B$888, \"\")))","v":""},{"$f":"_xlfn.TEXTJOIN(\", \", TRUE, _xlfn.UNIQUE(IF(Sheet2!$A$2:$A$888 = LOAP!Z152, Sheet2!$C$2:$C$888, \"\")))","v":""},null,null,null,null,null," "]
[136,null,null,null,null,null,null,null,null,null,null,null,null,null,null,null,null,null,null,null,null,null,null,null,null,null,null,null,{"$f":"IF(Z153<>\"\", VLOOKUP(Z153, CBH_Taxonomies!C:D, 2, 0), \"\")","v":""},null,null,null,null,{"$f":"IFERROR(VLOOKUP(Z153, Sheet4!A:D, 4, 0), \"\")","v":""},{"$f":"_xlfn.TEXTJOIN(\", \", TRUE, _xlfn.UNIQUE(IF(Sheet2!$A$2:$A$888 = LOAP!Z153, Sheet2!$B$2:$B$888, \"\")))","v":""},{"$f":"_xlfn.TEXTJOIN(\", \", TRUE, _xlfn.UNIQUE(IF(Sheet2!$A$2:$A$888 = LOAP!Z153, Sheet2!$C$2:$C$888, \"\")))","v":""},null,null,null,null,null," "]
[137,null,null,null,null,null,null,null,null,null,null,null,null,null,null,null,null,null,null,null,null,null,null,null,null,null,null,null,{"$f":"IF(Z154<>\"\", VLOOKUP(Z154, CBH_Taxonomies!C:D, 2, 0), \"\")","v":""},null,null,null,null,{"$f":"IFERROR(VLOOKUP(Z154, Sheet4!A:D, 4, 0), \"\")","v":""},{"$f":"_xlfn.TEXTJOIN(\", \", TRUE, _xlfn.UNIQUE(IF(Sheet2!$A$2:$A$888 = LOAP!Z154, Sheet2!$B$2:$B$888, \"\")))","v":""},{"$f":"_xlfn.TEXTJOIN(\", \", TRUE, _xlfn.UNIQUE(IF(Sheet2!$A$2:$A$888 = LOAP!Z154, Sheet2!$C$2:$C$888, \"\")))","v":""},null,null,null,null,null," "]
[138,null,null,null,null,null,null,null,null,null,null,null,null,null,null,null,null,null,null,null,null,null,null,null,null,null,null,null,{"$f":"IF(Z155<>\"\", VLOOKUP(Z155, CBH_Taxonomies!C:D, 2, 0), \"\")","v":""},null,null,null,null,{"$f":"IFERROR(VLOOKUP(Z155, Sheet4!A:D, 4, 0), \"\")","v":""},{"$f":"_xlfn.TEXTJOIN(\", \", TRUE, _xlfn.UNIQUE(IF(Sheet2!$A$2:$A$888 = LOAP!Z155, Sheet2!$B$2:$B$888, \"\")))","v":""},{"$f":"_xlfn.TEXTJOIN(\", \", TRUE, _xlfn.UNIQUE(IF(Sheet2!$A$2:$A$888 = LOAP!Z155, Sheet2!$C$2:$C$888, \"\")))","v":""},null,null,null,null,null," "]
[139,null,null,null,null,null,null,null,null,null,null,null,null,null,null,null,null,null,null,null,null,null,null,null,null,null,null,null,{"$f":"IF(Z156<>\"\", VLOOKUP(Z156, CBH_Taxonomies!C:D, 2, 0), \"\")","v":""},null,null,null,null,{"$f":"IFERROR(VLOOKUP(Z156, Sheet4!A:D, 4, 0), \"\")","v":""},{"$f":"_xlfn.TEXTJOIN(\", \", TRUE, _xlfn.UNIQUE(IF(Sheet2!$A$2:$A$888 = LOAP!Z156, Sheet2!$B$2:$B$888, \"\")))","v":""},{"$f":"_xlfn.TEXTJOIN(\", \", TRUE, _xlfn.UNIQUE(IF(Sheet2!$A$2:$A$888 = LOAP!Z156, Sheet2!$C$2:$C$888, \"\")))","v":""},null,null,null,null,null," "]
[140,null,null,null,null,null,null,null,null,null,null,null,null,null,null,null,null,null,null,null,null,null,null,null,null,null,null,null,{"$f":"IF(Z157<>\"\", VLOOKUP(Z157, CBH_Taxonomies!C:D, 2, 0), \"\")","v":""},null,null,null,null,{"$f":"IFERROR(VLOOKUP(Z157, Sheet4!A:D, 4, 0), \"\")","v":""},{"$f":"_xlfn.TEXTJOIN(\", \", TRUE, _xlfn.UNIQUE(IF(Sheet2!$A$2:$A$888 = LOAP!Z157, Sheet2!$B$2:$B$888, \"\")))","v":""},{"$f":"_xlfn.TEXTJOIN(\", \", TRUE, _xlfn.UNIQUE(IF(Sheet2!$A$2:$A$888 = LOAP!Z157, Sheet2!$C$2:$C$888, \"\")))","v":""},null,null,null,null,null," "]
[141,null,null,null,null,null,null,null,null,null,null,null,null,null,null,null,null,null,null,null,null,null,null,null,null,null,null,null,{"$f":"IF(Z158<>\"\", VLOOKUP(Z158, CBH_Taxonomies!C:D, 2, 0), \"\")","v":""},null,null,null,null,{"$f":"IFERROR(VLOOKUP(Z158, Sheet4!A:D, 4, 0), \"\")","v":""},{"$f":"_xlfn.TEXTJOIN(\", \", TRUE, _xlfn.UNIQUE(IF(Sheet2!$A$2:$A$888 = LOAP!Z158, Sheet2!$B$2:$B$888, \"\")))","v":""},{"$f":"_xlfn.TEXTJOIN(\", \", TRUE, _xlfn.UNIQUE(IF(Sheet2!$A$2:$A$888 = LOAP!Z158, Sheet2!$C$2:$C$888, \"\")))","v":""},null,null,null,null,null," "]
[142,null,null,null,null,null,null,null,null,null,null,null,null,null,null,null,null,null,null,null,null,null,null,null,null,null,null,null,{"$f":"IF(Z159<>\"\", VLOOKUP(Z159, CBH_Taxonomies!C:D, 2, 0), \"\")","v":""},null,null,null,null,{"$f":"IFERROR(VLOOKUP(Z159, Sheet4!A:D, 4, 0), \"\")","v":""},{"$f":"_xlfn.TEXTJOIN(\", \", TRUE, _xlfn.UNIQUE(IF(Sheet2!$A$2:$A$888 = LOAP!Z159, Sheet2!$B$2:$B$888, \"\")))","v":""},{"$f":"_xlfn.TEXTJOIN(\", \", TRUE, _xlfn.UNIQUE(IF(Sheet2!$A$2:$A$888 = LOAP!Z159, Sheet2!$C$2:$C$888, \"\")))","v":""},null,null,null,null,null," "]
[143,null,null,null,null,null,null,null,null,null,null,null,null,null,null,null,null,null,null,null,null,null,null,null,null,null,null,null,{"$f":"IF(Z160<>\"\", VLOOKUP(Z160, CBH_Taxonomies!C:D, 2, 0), \"\")","v":""},null,null,null,null,{"$f":"IFERROR(VLOOKUP(Z160, Sheet4!A:D, 4, 0), \"\")","v":""},{"$f":"_xlfn.TEXTJOIN(\", \", TRUE, _xlfn.UNIQUE(IF(Sheet2!$A$2:$A$888 = LOAP!Z160, Sheet2!$B$2:$B$888, \"\")))","v":""},{"$f":"_xlfn.TEXTJOIN(\", \", TRUE, _xlfn.UNIQUE(IF(Sheet2!$A$2:$A$888 = LOAP!Z160, Sheet2!$C$2:$C$888, \"\")))","v":""},null,null,null,null,null," "]
[144,null,null,null,null,null,null,null,null,null,null,null,null,null,null,null,null,null,null,null,null,null,null,null,null,null,null,null,{"$f":"IF(Z161<>\"\", VLOOKUP(Z161, CBH_Taxonomies!C:D, 2, 0), \"\")","v":""},null,null,null,null,{"$f":"IFERROR(VLOOKUP(Z161, Sheet4!A:D, 4, 0), \"\")","v":""},{"$f":"_xlfn.TEXTJOIN(\", \", TRUE, _xlfn.UNIQUE(IF(Sheet2!$A$2:$A$888 = LOAP!Z161, Sheet2!$B$2:$B$888, \"\")))","v":""},{"$f":"_xlfn.TEXTJOIN(\", \", TRUE, _xlfn.UNIQUE(IF(Sheet2!$A$2:$A$888 = LOAP!Z161, Sheet2!$C$2:$C$888, \"\")))","v":""},null,null,null,null,null," "]
[145,null,null,null,null,null,null,null,null,null,null,null,null,null,null,null,null,null,null,null,null,null,null,null,null,null,null,null,{"$f":"IF(Z162<>\"\", VLOOKUP(Z162, CBH_Taxonomies!C:D, 2, 0), \"\")","v":""},null,null,null,null,{"$f":"IFERROR(VLOOKUP(Z162, Sheet4!A:D, 4, 0), \"\")","v":""},{"$f":"_xlfn.TEXTJOIN(\", \", TRUE, _xlfn.UNIQUE(IF(Sheet2!$A$2:$A$888 = LOAP!Z162, Sheet2!$B$2:$B$888, \"\")))","v":""},{"$f":"_xlfn.TEXTJOIN(\", \", TRUE, _xlfn.UNIQUE(IF(Sheet2!$A$2:$A$888 = LOAP!Z162, Sheet2!$C$2:$C$888, \"\")))","v":""},null,null,null,null,null," "]
[146,null,null,null,null,null,null,null,null,null,null,null,null,null,null,null,null,null,null,null,null,null,null,null,null,null,null,null,{"$f":"IF(Z163<>\"\", VLOOKUP(Z163, CBH_Taxonomies!C:D, 2, 0), \"\")","v":""},null,null,null,null,{"$f":"IFERROR(VLOOKUP(Z163, Sheet4!A:D, 4, 0), \"\")","v":""},{"$f":"_xlfn.TEXTJOIN(\", \", TRUE, _xlfn.UNIQUE(IF(Sheet2!$A$2:$A$888 = LOAP!Z163, Sheet2!$B$2:$B$888, \"\")))","v":""},{"$f":"_xlfn.TEXTJOIN(\", \", TRUE, _xlfn.UNIQUE(IF(Sheet2!$A$2:$A$888 = LOAP!Z163, Sheet2!$C$2:$C$888, \"\")))","v":""},null,null,null,null,null," "]
[147,null,null,null,null,null,null,null,null,null,null,null,null,null,null,null,null,null,null,null,null,null,null,null,null,null,null,null,{"$f":"IF(Z164<>\"\", VLOOKUP(Z164, CBH_Taxonomies!C:D, 2, 0), \"\")","v":""},null,null,null,null,{"$f":"IFERROR(VLOOKUP(Z164, Sheet4!A:D, 4, 0), \"\")","v":""},{"$f":"_xlfn.TEXTJOIN(\", \", TRUE, _xlfn.UNIQUE(IF(Sheet2!$A$2:$A$888 = LOAP!Z164, Sheet2!$B$2:$B$888, \"\")))","v":""},{"$f":"_xlfn.TEXTJOIN(\", \", TRUE, _xlfn.UNIQUE(IF(Sheet2!$A$2:$A$888 = LOAP!Z164, Sheet2!$C$2:$C$888, \"\")))","v":""},null,null,null,null,null," "]
[148,null,null,null,null,null,null,null,null,null,null,null,null,null,null,null,null,null,null,null,null,null,null,null,null,null,null,null,{"$f":"IF(Z165<>\"\", VLOOKUP(Z165, CBH_Taxonomies!C:D, 2, 0), \"\")","v":""},null,null,null,null,{"$f":"IFERROR(VLOOKUP(Z165, Sheet4!A:D, 4, 0), \"\")","v":""},{"$f":"_xlfn.TEXTJOIN(\", \", TRUE, _xlfn.UNIQUE(IF(Sheet2!$A$2:$A$888 = LOAP!Z165, Sheet2!$B$2:$B$888, \"\")))","v":""},{"$f":"_xlfn.TEXTJOIN(\", \", TRUE, _xlfn.UNIQUE(IF(Sheet2!$A$2:$A$888 = LOAP!Z165, Sheet2!$C$2:$C$888, \"\")))","v":""},null,null,null,null,null," "]
[149,null,null,null,null,null,null,null,null,null,null,null,null,null,null,null,null,null,null,null,null,null,null,null,null,null,null,null,{"$f":"IF(Z166<>\"\", VLOOKUP(Z166, CBH_Taxonomies!C:D, 2, 0), \"\")","v":""},null,null,null,null,{"$f":"IFERROR(VLOOKUP(Z166, Sheet4!A:D, 4, 0), \"\")","v":""},{"$f":"_xlfn.TEXTJOIN(\", \", TRUE, _xlfn.UNIQUE(IF(Sheet2!$A$2:$A$888 = LOAP!Z166, Sheet2!$B$2:$B$888, \"\")))","v":""},{"$f":"_xlfn.TEXTJOIN(\", \", TRUE, _xlfn.UNIQUE(IF(Sheet2!$A$2:$A$888 = LOAP!Z166, Sheet2!$C$2:$C$888, \"\")))","v":""},null,null,null,null,null," "]

{"sheet":"Cred Doc Crosswalk","index":2,"n_rows":61,"n_cols":3,"rows_kept":61,"cut":false,"hidden":true,"merged":[]}
["Taxonomy Code","Specialty","Required Credentialing Documents"]
["171100000X","Acupuncturist","CAQH, FL Medical License, Malpractice Insurance, Specialty Profile, Work History"]
["207RA0401X","Addiction Medicine","Art Therapy Credentials Board (ATCB) Certification, CAQH, Malpractice Insurance, Medical License, Specialty Profile, Work History"]
["367A00000X","Advanced Practice Midwife","CAQH, Malpractice Insurance, Work History"]
["363L00000X","Advanced Practice Registered Nurse Practitioner","CAQH, FL Medical License, Malpractice Insurance, Specialty Profile, Work History"]
["363LF0000X","Advanced Practice Registered Nurse Practitioner: Family","FL Medical License, FL DEA or Designated Alternate Prescribing Practitioner Form,  APRN Protocol or Collaborative Agreement, CAQH, Malpractice Insurance, and Work History, if practicing as a PCP -  Hospital privileges & Current Year  TPAL "]
["207K00000X","Allergy & Immunology","APRN Protocol, CAQH, FL DEA, FL Medical License, Hospital Privileges, Malpractice Insurance, Supplemental Information - Midwife form, Work History"]
["207L00000X","Anesthesiology","FL Medical License"]
["221700000X","Art Therapist","Art Therapy Credentials Board (ATCB) Certification, CAQH, Malpractice Insurance, Medical License, Specialty Profile, Work History"]
["106E00000X","Assistant Behavioral Analyst(BCaBA)","Medical License, DEA Designated Alternate Prescribing Practitioner Form, APRN Protocol or Collaborative Agreement,CAQH, Malpractice Insurance, and Work History,  if practicing as a PCP-  hospital privileges & Current Year TPAL "]
["103K00000X","Behavior Analyst (BCBA)","BACB Certification, CAQH, Malpractice Insurance, Specialty Profile, Supervising Clinician Statement, Work History"]
["106S00000X","Behavior Technican (RBT)","BACB Certification Required"]
["207RC0000X","Cardiology","FL Medical License, No Cred Required"]
["207RC0000X","Cardiovascular Disease","CAQH, FL DEA, FL Medical License, hospital privileges, Malpractice Insurance, Work History"]
["171M00000X","Case Manager/Care Coordinator","CAQH, FL Medical License, Malpractice Insurance, Specialty Profile, Work History"]
["111N00000X","Chiropractor","FL Medical License, hospital privileges, FL DEA, CAQH, Malpractice Insurance, and Work History, TPAL "]
["1041C0700X","Clinical Social Worker","CAQH, Malpractice Insurance, Work History, and Specialty Profile, if TCM Appendices (E and/or F)"]
["101Y00000X","Counselor","CAQH, FL Medical License, Malpractice Insurance, Specialty Profile, Work History"]
["207N00000X","Dermatology","CAQH, FL Medical License, Malpractice Insurance, Work History"]
["222Q00000X","Developmental Therapist","CAQH, FL DEA, FL Medical License, Malpractice Insurance, Work History"]
["133VN1005X","Dietician","CAQH, Malpractice Insurance, Work History"]
["374J00000X","Doula","CAQH, Malpractice Insurance, Work History"]
["207RE0101X","Endocrinology","CAQH, Malpractice Insurance, Work History"]
["207Q00000X","Family Medicine","CAQH, FL DEA, FL Medical License, Malpractice Insurance, Work History"]
["208D00000X","General Practice","FL Medical License, hospital privileges, FL DEA, CAQH, Malpractice Insurance, and Work History, if practicing as PCP Current Year TPAL"]
["207R00000X","Internal Medicine","CAQH, Current year TPAL (PCP only), FL DEA, FL Medical License, Hospital Privileges, Malpractice Insurance, Work History"]
["207RH0000X","Internal Medicine: Hematology","FL Medical License, hospital privileges, FL DEA, CAQH, Malpractice Insurance, and Work History, if practicing as PCP Current year TPAL  "]
["207RH0003X","Internal Medicine: Hematology & Oncology","FL Medical License, hospital privileges, FL DEA, CAQH, Malpractice Insurance, and Work History, Proof of Training"]
["207RX0202X","Internal Medicine: Medical Oncology","FL Medical License, hospital privileges, FL DEA, CAQH, Malpractice Insurance, and Work History, Proof of Training"]
["208VP0014X","Interventional Pain Medicine","FL Medical License, hospital privileges, FL DEA, CAQH, Malpractice Insurance, and Work History, Proof of Training"]
["101YM0800X","Licensed Mental Health Couselor","CAQH, Malpractice Insurance, Work History, and Specialty Profile,  if TCM Appendices (E and/or F)"]
["106H00000X","Marriage & Family Therapist","BACB Certification, CAQH, Malpractice Insurance, Specialty Profile, Supervising Clinician Statement, Work History"]
["176B00000X","Midwife","CAQH, FL DEA, FL Medical License, hospital privileges, Malpractice Insurance, Work History"]
["363LP0808X","Nurse Practitioner: Psychiatry Mental Health","CAQH, FL Medical License, Malpractice Insurance, Specialty Profile, Work History"]
["207V00000X","Obstetrics & Gynecology","CAQH, FL Medical License, hospital privileges, Malpractice Insurance, Supplemental Information - Midwife form, Work History"]
["207VG0400X","Obstetrics & Gynecology: Gynecology","FL Medical License, hospital privileges, FL DEA, CAQH, Malpractice Insurance, and Work History, if practicing as PCP TPAL  "]
["207VX0000X","Obstetrics & Gynecology: Obstetrics","FL Medical License, FL DEA, CAQH, hospital privileges, Malpractice Insurance, and Work History"]
["225X00000X","Occupational Therapist","CAQH, FL DEA, FL Medical License, hospital privileges, Malpractice Insurance, Work History"]
["207W00000X","Ophthalmology","CAQH, FL Medical License, Malpractice Insurance, Work History"]
["204E00000X","Oral and Maxillofacial Surgeon","CAQH, FL DEA, FL Medical License, Malpractice Insurance, Work History"]
["207X00000X","Orthopaedic Surgery","CAQH, FL DEA, FL Medical License, Malpractice Insurance, Work History"]
["208VP000X","Pain Medicine","CAQH, FL DEA, FL Medical License, hospital privileges, Malpractice Insurance, Work History"]
["208000000X","Pediatrics","CAQH, FL DEA, FL Medical License, Malpractice Insurance, Training, Work History"]
["225100000X","Physical Therapist","FL Medical License, hospital privileges, FL DEA, CAQH, Malpractice Insurance, and Work History, if practicing as PCP TPAL  "]
["363A00000X","Physician Assistant","CAQH, FL Medical License, Malpractice Insurance, Work History"]
["208200000X","Plastic Surgery","FL Medical License, PA Protocol/Collaborative Agreement, FL DEA, CAQH, Malpractice Insurance, and Work History,   if practicing as a PCP hospital privileges & TPAL"]
["213E00000X","Podiatrist","CAQH, FL DEA, FL Medical License, hospital privileges, Malpractice Insurance, Work History"]
["2084N0400X","Psychiatry & Neurology: Neurology","FL Medical License, hospital privileges, FL DEA, CAQH, Malpractice Insurance, and Work History, Proof of Training"]
["2084P0802X","Psychiatry & Neurology: Psychiatry","CAQH, FL Medical License, Malpractice Insurance, Specialty Profile, Work History"]
["103T00000X","Psychologist","APRN Protocol or Collaborative Agreement, CAQH, FL DEA, FL Medical License, Malpractice Insurance, Specialty Profile, Work History"]
["103TC0700X","Psychologist: Clinical","FLMedical License, CAQH, Malpractice Insurance, Work History, and Specialty Profile"]
["2085R0001X","Radiation Oncology","CAQH, FL Medical License, Malpractice Insurance, Work History"]
["207RR0500X","Rheumatology ","CAQH, FL DEA, FL Medical License, Hospital Privileges, Malpractice Insurance, Work History"]
["104100000X","Social Worker","CBHCM Certification, CAQH, Malpractice Insurance, Work History, and Specialty Profile.  if TCM Appendices (E and/or F)"]
["235Z00000X","Speech-Language Pathologist","CAQH, FL DEA, FL Medical License, Malpractice Insurance, Work History"]
["207QS0010X","Sports Medicine","CAQH, FL Medical License, Malpractice Insurance, Work History"]
["208600000X","Surgery","CAQH, FL DEA, FL Medical License, hospital privileges, Malpractice Insurance, Work History."]
["208G00000X","Thoracic Surgeon ","CAQH, FL DEA, FL Medical License, hospital privileges, Malpractice Insurance, Work History"]
["204F00000X","Transplant Surgery","CAQH, FL DEA, FL Medical License, Malpractice Insurance, Work History"]
["208800000X","Urology","CAQH, FL DEA, FL License, Hospital Privileges, Malpractice Insurance, Work History"]
["2086S0129X","Vascular Surgery","CAQH, FL DEA, FL License, Hospital Privileges, Malpractice Insurance, Work History"]

{"sheet":"Credentialing Doc Checklist","index":3,"n_rows":16,"n_cols":6,"rows_kept":16,"cut":false,"hidden":false,"merged":[[0,0,0,1],[2,3,2,5]]}
["The following documents may be needed if credentialing is required for the practitioner's specialty. Be sure to review all applicable requirements with your Contract Negotiator throughout the on-boarding process. Requirements subject to change."]
["Application","Sunshine Health accepts CAQH, Sunshine Health, and WellCare Medicare applications. Sunshine Health must be granted access to the practitioner's CAQH profile. The application must be attested within 180 days.\n\nIMPORTANT NOTES\n\n● Any gaps in employment greater than six (6) months require a written explanation\n● The provider's specialty indicated on Page 5 of CAQH should match the specialy indicated on this LOAP document.\n● Training/education must be up-to-date in CAQH to avoid delays in the credentialing process. The training must be able to be verified by our CVO.\n● Any disclosure question with a \"yes\" response requires a written explanation\n\n**All supporting documentation such as certificate of insurance and licensure must be attached under the documents section**",null,"To check if credentialing is required for a specific taxonomy code, enter the taxonomy code here.",null,{"$f":"IFERROR(VLOOKUP(E2, Sheet4!A:C, 3, 0), \"\")","v":""}]
["APRN Protocol","This is only required for APRNs, unless the APRN is autonomous. The supervising physician must be participating within our network.",null,{"$f":"IFERROR(VLOOKUP(E2, Sheet4!A:C, 2, 0), \"\")","v":""}]
["BH Practitioner Enrollment","Targeted Case Managers (TCM) require Appendix “E” and/or “F” .  BH APRNs & PAs require a Supervising Physician form."]
["Current Background and Fingerprints","Healthcare background checks are vital to ensure the safety of patients and existing employees, uphold the facility's reputation, avoid potential liabilities and civil penalties, and confirm that licensed medical professionals possess the required qualifications to perform their jobs.  Background screening and fingerprint verification is a required credentialing component. To avoid delays, or termination, please ensure your AHCA Background Screening and fingerprints are current. This requirement is for all lines of business."]
["Collaborative Agreement","This is only required for Physician Assistants and/or APRNs, as applicable. This document can be submitted in lieu of the APRN protocol for all specialties, excluding Physician Assistants."]
["CLIA Certificate","If page 10 of CAQH indicates that laboratory services are provided at any location, a Clinical Laboratory Improvement Amendments (CLIA) certificate is required for each of those locations."]
["DEA Certificate","Required for all MDs and DOs, including mid-level practitioners that are practing as PCPs. May submit the Designated Alternate Prescribing Practitioner form in lieu of an active DEA certificate."]
["Disclosure of Ownership (DOO)","Only required at the group/practice level only. One DOO per tax ID number is required and must be submitted annually. If the current DOO on file is expired during practitioner enrollment, a new DOO will be required."]
["Hospital Privileges","All practitioners, including midlevel practitioners who will be practicing as PCPs,  require proof of active hospital privileges or the process in place for admitting our members. Privileges must be included within the CAQH application or submit a Hospitalist Agreement form. A covering Physician letter should be provided if you are designating a specific Provider for admissions. Some exclusions will apply. Be sure to speak with your Contract Negotiator when submitting all required forms."]
["List of Affiliated Practitioners (LOAP)\n[Provider Roster]","Sunshine Health's roster document is required to enroll all practitioners, regardless of specialty."]
["Malpractice Insurance","Each practitioner needs to provide proof of Malpractice Insurance coverage with a minimum coverage amount of $250,000 - $750,000 OR a current FL DOH Financial Responsibility form.\n\n**If there is any malpractice history, a Malpractice History Form must be completed.**"]
["Site Visit","Required for PCPs & OB/GYN only. Only required if a previous site visit has not been performed within 3 years."]
["Total Patient Attestation Load (TPAL)","This is only required for PCPs, including APRNs and PAs rendering services as PCPs."]
["Training","Proof of training in the primary practicing specialty must be available in CAQH or through attached certificates for primary source verification of credentials"]
["W-9","Should be submitted with a signed date within the last 12 months"]

{"sheet":"Hospitals","index":4,"n_rows":284,"n_cols":1,"rows_kept":284,"cut":false,"hidden":true,"merged":[]}
[]
["AdventHealth Altamonte Springs"]
["AdventHealth Apopka"]
["AdventHealth Brandon Emergency Room"]
["AdventHealth Carrollwood"]
["AdventHealth Celebration"]
["AdventHealth Central Pasco Emergency Room"]
["AdventHealth Connerton"]
["AdventHealth Dade City"]
["AdventHealth Daytona Beach"]
["AdventHealth DeLand"]
["AdventHealth Deltona Emergency Room"]
["AdventHealth East Orlando"]
["AdventHealth Fish Memorial"]
["AdventHealth for Children"]
["AdventHealth for Women"]
["AdventHealth Four Corners Emergency Room"]
["AdventHealth Heart of Florida"]
["AdventHealth Kissimmee"]
["AdventHealth Lake Mary Emergency Room"]
["AdventHealth Lake Placid"]
["AdventHealth Lake Wales"]
["AdventHealth New Smyrna Beach"]
["AdventHealth North Pinellas"]
["AdventHealth Ocala"]
["AdventHealth Orlando"]
["AdventHealth Oviedo Emergency Room"]
["AdventHealth Palm Coast"]
["AdventHealth Palm Coast Parkway"]
["AdventHealth Palm Harbor Emergency Room"]
["AdventHealth Sebring"]
["AdventHealth Tampa"]
["AdventHealth TimberRidge Emergency Room"]
["AdventHealth Waterford Lakes Emergency Room"]
["AdventHealth Waterman"]
["AdventHealth Wauchula"]
["AdventHealth Wesley Chapel"]
["AdventHealth Westchase Emergency Room"]
["AdventHealth Winter Garden"]
["AdventHealth Winter Park"]
["AdventHealth Zephyrhills"]
["Ascension Sacred Heart Bay"]
["Ascension Sacred Heart Hospital Emerald Coast"]
["Baptist Children's Hospital"]
["Baptist Health Baptist Hospital of Miami"]
["Baptist Health Bethesda Hospital East"]
["Baptist Health Bethesda Hospital West"]
["Baptist Health Boca Raton Regional Hospital"]
["Baptist Health Doctors Hospital"]
["Baptist Health Fishermen’s Community Hospital"]
["Baptist Health Homestead Hospital"]
["Baptist Health Hospital Doral"]
["Baptist Health Mariners Hospital"]
["Baptist Health Wolfson Children's Hospital"]
["Baptist Hospital"]
["Baptist Medical Center"]
["Baptist Medical Center Beaches"]
["Baptist Medical Center Nassau"]
["Baptist Medical Center South"]
["Bartow Regional Medical Center"]
["Bay Pines VA Healthcare System"]
["BayCare Alliant Hospital"]
["Bayfront Health St. Petersburg"]
["Bayfront Health St. Petersburg Emergency Room – Pinellas Park"]
["Beraja Medical Institute"]
["Brooks Rehabilitation Hospital"]
["Broward Health Coral Springs"]
["Broward Health Imperial Point"]
["Broward Health Medical Center"]
["Broward Health North"]
["Campbellton-Graceville Hospital"]
["Cape Canaveral Hospital"]
["Cape Coral Hospital"]
["Cedars Medical Center"]
["Cleveland Clinic Martin North Hospital"]
["Cleveland Clinic Martin South Hospital"]
["Cleveland Clinic Tradition Hospital"]
["Cleveland Clinic Weston Hospital"]
["Cleveland Clinic Indian River Hospital"]
["Columbia Miami Heart Institute"]
["Community Hospital"]
["Coral Gables Hospital"]
["Delray Medical Center"]
["DeSoto Memorial Hospital"]
["Ed Fraser Memorial Hospital"]
["Encompass Health Rehabilitation Hospital of Altamonte Springs"]
["Encompass Health Rehabilitation Hospital of Largo"]
["Encompass Health Rehabilitation Hospital of Miami"]
["Encompass Health Rehabilitation Hospital of Ocala"]
["Encompass Health Rehabilitation Hospital of Panama City"]
["Encompass Health Rehabilitation Hospital of Sarasota"]
["Encompass Health Rehabilitation Hospital of Spring Hill"]
["Encompass Health Rehabilitation Hospital of Sunrise"]
["Encompass Health Rehabilitation Hospital of Tallahassee"]
["Encompass Health Rehabilitation Hospital of Treasure Coast"]
["Encompass Health Rehabilitation Hospital, an affiliate of Martin Health"]
["Florida Medical Center"]
["Florida State Hospital"]
["Gadsden Community Hospital"]
["Gainesville VA Medical Center"]
["Golisano Children's Hospital of Southwest Florida"]
["Good Samaritan Medical Center"]
["Gulf Breeze Hospital"]
["Gulf Coast Medical Center"]
["H. Lee Moffitt Cancer Center & Research Institute"]
["Halifax Health | UF Health Medical Center of Deltona"]
["Halifax Health Medical Center of Daytona Beach"]
["Halifax Health Medical Center of Port Orange"]
["HCA Florida Aventura Hospital"]
["HCA Florida Bayonet Point Hospital"]
["HCA Florida Blake Hospital"]
["HCA Florida Brandon Hospital"]
["HCA Florida Capital Hospital"]
["HCA Florida Central Tampa Emergency"]
["HCA Florida Citrus Hospital"]
["HCA Florida Clearwater Emergency"]
["HCA Florida Englewood Hospital"]
["HCA Florida Fawcett Hospital"]
["HCA Florida Fort Walton-Destin Hospital"]
["HCA Florida Gulf Coast Hospital"]
["HCA Florida Highlands Hospital"]
["HCA Florida JFK Hospital"]
["HCA Florida JFK North Hospital"]
["HCA Florida Kendall Hospital"]
["HCA Florida Lake City Hospital"]
["HCA Florida Lake Monroe Hospital"]
["HCA Florida Largo Hospital"]
["HCA Florida Largo West Hospital"]
["HCA Florida Lawnwood Hospital"]
["HCA Florida Memorial Hospital"]
["HCA Florida Mercy Hospital"]
["HCA Florida North Florida Hospital"]
["HCA Florida Northside Hospital"]
["HCA Florida Northwest Hospital"]
["HCA Florida Oak Hill Hospital"]
["HCA Florida Ocala Hospital"]
["HCA Florida Orange Park Hospital"]
["HCA Florida Osceola Hospital"]
["HCA Florida Oviedo Medical Center"]
["HCA Florida Palms West Hospital"]
["HCA Florida Pasadena Hospital"]
["HCA Florida Plantation Emergency"]
["HCA Florida Poinciana Hospital"]
["HCA Florida Putnam Hospital"]
["HCA Florida Raulerson Hospital"]
["HCA Florida Sarasota Doctors Hospital"]
["HCA Florida South Shore Hospital"]
["HCA Florida South Tampa Hospital"]
["HCA Florida St. Lucie Hospital"]
["HCA Florida St. Petersburg Hospital"]
["HCA Florida Starke Emergency"]
["HCA Florida Suwannee Emergency"]
["HCA Florida Trinity Hospital"]
["HCA Florida Twin Cities Hospital"]
["HCA Florida UCF Lake Nona Hospital"]
["HCA Florida University Hospital"]
["HCA Florida West Hospital"]
["HCA Florida West Marion Hospital"]
["HCA Florida West Tampa Hospital Emergency Room"]
["HCA Florida Westside Hospital"]
["HCA Florida Woodmont Hospital"]
["Healthmark Regional Medical Center"]
["HealthPark Medical Center"]
["Hendry Regional Medical Center"]
["Heritage Hospital"]
["Hialeah Hospital"]
["Hollywood Medical Center"]
["Holmes Regional Medical Center"]
["Holy Cross Hospital"]
["Jackson Hospital"]
["Jackson Memorial Hospital"]
["Jackson North Medical Center"]
["Jackson South Medical Center"]
["Jackson West Medical Center"]
["Jay Hospital"]
["Joe DiMaggio Children's Hospital"]
["Johns Hopkins All Children's Hospital"]
["Jupiter Medical Center"]
["Keralty Hospital Miami"]
["Kindred Hospital Bay Area-St. Petersburg"]
["Kindred Hospital North Florida"]
["Lake City VA Medical Center"]
["Lakeland Regional Health Medical Center"]
["Lakewood Ranch Medical Center"]
["Larkin Community Hospital"]
["Larkin Community Hospital Behavioral Health Services"]
["Larkin Community Hospital Palm Springs Campus"]
["Lee Health Coconut Point"]
["Lee Memorial Hospital"]
["Lower Keys Medical Center"]
["Manatee Memorial Hospital"]
["Martin Memorial Health Systems"]
["Mayo Clinic Florida"]
["Mease Countryside Hospital"]
["Mease Dunedin Hospital"]
["Medical Center Clinic"]
["Melbourne Regional Medical Center"]
["Memorial Hospital Miramar"]
["Memorial Hospital Pembroke"]
["Memorial Hospital West"]
["Memorial Regional Hospital"]
["Memorial Regional Hospital South"]
["Miami Children's Hospital"]
["Morton Plant Hospital"]
["Morton Plant North Bay Hospital"]
["Mount Sinai Medical Center & Miami Heart Institute"]
["Naval Hospital Jacksonville"]
["Naval Hospital Pensacola"]
["NCH Healthcare System - Downtown Naples"]
["NCH Healthcare System - North Naples"]
["Nemours Children's Clinic Hospital"]
["Nemours Children's Hospital"]
["Nemours Children's Hospital"]
["Nicklaus Children's Hospital at St. Mary's Medical Center"]
["North Okaloosa Medical Center"]
["North Ridge Medical Center"]
["North Shore Medical Center"]
["Northeast Florida State Hospital"]
["Northwest Florida Community Hospital"]
["Orlando Health - Health Central Hospital"]
["Orlando Health Arnold Palmer Hospital for Children"]
["Orlando Health Dr. P. Phillips Hospital"]
["Orlando Health Emergency Room - Lake Mary"]
["Orlando Health Horizon West Hospital"]
["Orlando Health Orlando Regional Medical Center"]
["Orlando Health South Lake Hospital"]
["Orlando Health South Seminole Hospital"]
["Orlando Health St. Cloud Hospital"]
["Orlando Health Winnie Palmer Hospital for Women & Babies"]
["Orlando VA Medical Center"]
["Palm Bay Community Hospital"]
["Palm Beach Gardens Medical Center"]
["Palm Springs General Hospital"]
["Palmetto General Hospital"]
["PAM Health Specialty Hospital of Jacksonville"]
["PAM Specialty Hospital of Sarasota"]
["Parrish Medical Center"]
["Physicians Regional Medical Center - Collier Boulevard"]
["Physicians Regional Medical Center - Pine Ridge"]
["Pinecrest Rehabilitation Hospital"]
["Rehabilitation Hospital"]
["River Point Behavioral Health"]
["Rockledge Regional Medical Center"]
["Sacred Heart Hospital"]
["Salah Foundation Children's Hospital"]
["Santa Rosa Medical Center"]
["Sarasota Memorial Hospital"]
["Sarasota Memorial Hospital - Venice"]
["Sea Pines Rehabilitation Hospital, an affiliate of Encompass Health"]
["Sebastian River Medical Center"]
["ShorePoint Health Port Charlotte"]
["ShorePoint Health Punta Gorda"]
["South Florida Baptist Hospital"]
["South Miami Hospital"]
["St. Anthony's Hospital"]
["St. Joseph's Children's Hospital"]
["St. Joseph's Hospital"]
["St. Joseph's Women's Hospital"]
["St. Mary's Medical Center"]
["St. Vincent's Medical Center Clay County"]
["St. Vincent's Medical Center Riverside"]
["St. Vincent's Medical Center Southside"]
["Tallahassee Memorial HealthCare"]
["Tampa General Hospital"]
["Tampa Shriners Hospital"]
["TGH Brooksville"]
["TGH Crystal River"]
["TGH Spring Hill"]
["Tri-County Hospital - Williston"]
["Trinity Community Hospital"]
["UF Health Flagler Hospital"]
["UF Health Jacksonville"]
["UF Health Leesburg Hospital"]
["UF Health North"]
["UF Health Shands Children's Hospital"]
["UF Health Shands Hospital"]
["UF Health Shands Psychiatric Hospital"]
["UF Health Shands Rehab Hospital"]
["UF Health The Villages Hospital"]
["University of Miami Hospital"]
["Viera Hospital"]
["Wellington Regional Medical Center"]
["West Boca Medical Center"]
["Winter Haven Hospital"]

{"sheet":"Sheet4","index":5,"n_rows":861,"n_cols":4,"rows_kept":861,"cut":false,"hidden":true,"merged":[]}
["*TAXONOMY","*SPECIALTY","*CRED REQ","*CRED REQ"]
["101200000X","Drama Therapist","Credentialing Required  ","Y"]
["101Y00000X","Counselor","Credentialing Required  ","Y"]
["101YA0400X","Counselor: Addiction (Substance Use Disorder)","Credentialing Required  ","Y"]
["101YM0800X","Counselor: Mental Health","Credentialing Required  ","Y"]
["101YP1600X","Counselor: Pastoral","Credentialing Required  ","Y"]
["101YP2500X","Counselor: Professional","Credentialing Required  ","Y"]
["101YS0200X","Counselor: School","Credentialing Required  ","Y"]
["102L00000X","Psychoanalyst","Credentialing Required  ","Y"]
["102X00000X","Poetry Therapist","Credentialing Not Required","N"]
["103G00000X","Clinical Neuropsychologist","Credentialing Required  ","Y"]
["103GC0700X","Clinical Neuropsychologist: Clinical","Credentialing Required  ","Y"]
["103K00000X","Behavioral Analyst","Credentialing Required  ","Y"]
["103T00000X","Psychologist","Credentialing Required  ","Y"]
["103TA0400X","Psychologist: Addiction (Substance Use Disorder)","Credentialing Required  ","Y"]
["103TA0700X","Psychologist: Adult Development & Aging","Credentialing Required  ","Y"]
["103TB0200X","Psychologist: Cognitive & Behavioral","Credentialing Required  ","Y"]
["103TC0700X","Psychologist: Clinical","Credentialing Required  ","Y"]
["103TC1900X","Psychologist: Counseling","Credentialing Required  ","Y"]
["103TC2200X","Psychologist: Clinical Child & Adolescent","Credentialing Required  ","Y"]
["103TE1000X","Psychologist: Educational","Credentialing Required  ","Y"]
["103TE1100X","Psychologist: Exercise & Sports","Credentialing Required  ","Y"]
["103TF0000X","Psychologist: Family","Credentialing Required  ","Y"]
["103TF0200X","Psychologist: Forensic","Credentialing Required  ","Y"]
["103TH0004X","Psychologist: Health","Credentialing Required  ","Y"]
["103TH0100X","Psychologist: Health Service","Credentialing Required  ","Y"]
["103TM1700X","Psychologist: Men & Masculinity","Credentialing Required  ","Y"]
["103TM1800X","Psychologist: Mental Retardation & Developmental Disabilities","Credentialing Required  ","Y"]
["103TP0016X","Psychologist: Prescribing (Medical)","Credentialing Required  ","Y"]
["103TP0814X","Psychologist: Psychoanalysis","Credentialing Required  ","Y"]
["103TP2700X","Psychologist: Psychotherapy","Credentialing Required  ","Y"]
["103TP2701X","Psychologist: Group Psychotherapy","Credentialing Required  ","Y"]
["103TR0400X","Psychologist: Rehabilitation","Credentialing Required  ","Y"]
["103TS0200X","Psychologist: School","Credentialing Required  ","Y"]
["103TW0100X","Psychologist: Women","Credentialing Required  ","Y"]
["104100000X","Social Worker","Credentialing Required  ","Y"]
["1041C0700X","Social Worker: Clinical","Credentialing Required  ","Y"]
["1041S0200X","Social Worker: School","Credentialing Required  ","Y"]
["106E00000X","Assistant Behavior Analyst","Credentialing Required  ","Y"]
["106H00000X","Marriage & Family Therapist","Credentialing Required  ","Y"]
["106S00000X","Behavior Technician","Credentialing Not Required","N"]
["111N00000X","Chiropractor","Credentialing Required  ","Y"]
["111NI0013X","Chiropractor: Independent Medical Examiner","Credentialing Required  ","Y"]
["111NI0900X","Chiropractor: Internist","Credentialing Required  ","Y"]
["111NN0400X","Chiropractor: Neurology","Credentialing Required  ","Y"]
["111NN1001X","Chiropractor: Nutrition","Credentialing Required  ","Y"]
["111NP0017X","Chiropractor: Pediatric Chiropractor","Credentialing Required  ","Y"]
["111NR0200X","Chiropractor: Radiology","Credentialing Required  ","Y"]
["111NR0400X","Chiropractor: Rehabilitation","Credentialing Required  ","Y"]
["111NS0005X","Chiropractor: Sports Physician","Credentialing Required  ","Y"]
["111NT0100X","Chiropractor: Thermography","Credentialing Required  ","Y"]
["111NX0100X","Chiropractor: Occupational Medicine","Credentialing Required  ","Y"]
["111NX0800X","Chiropractor: Orthopedic","Credentialing Required  ","Y"]
["122300000X","Dentist","Credentialing Required  ","Y"]
["1223D0001X","Dentist: Dental Public Health","Credentialing Required  ","Y"]
["1223D0004X","Dentist: Dentist Anesthesiologist","Specialty Ineligible for Enrollment","N"]
["1223E0200X","Dentist: Endodontics","Credentialing Required  ","Y"]
["1223G0001X","Dentist: General Practice","Credentialing Required  ","Y"]
["1223P0106X","Dentist: Oral and Maxillofacial Pathology","Credentialing Required  ","Y"]
["1223P0221X","Dentist: Pediatric Dentistry","Credentialing Required  ","Y"]
["1223P0300X","Dentist: Periodontics","Credentialing Required  ","Y"]
["1223P0700X","Dentist: Prosthodontics","Credentialing Required  ","Y"]
["1223S0112X","Dentist: Oral and Maxillofacial Surgery","Credentialing Required  ","Y"]
["1223X0008X","Dentist: Oral and Maxillofacial Radiology","Credentialing Required  ","Y"]
["1223X0400X","Dentist: Orthodontics and Dentofacial Orthopedics","Credentialing Required  ","Y"]
["1223X2210X","Dentist: Orofacial Pain","Credentialing Required  ","Y"]
["122400000X","Denturist","Specialty Ineligible for Enrollment","N"]
["124Q00000X","Dental Hygienist","Specialty Ineligible for Enrollment","N"]
["125J00000X","Dental Therapist","Specialty Ineligible for Enrollment","N"]
["125K00000X","Advanced Practice Dental Therapist","Specialty Ineligible for Enrollment","N"]
["125Q00000X","Oral Medicinist: Dental Providers","Credentialing Not Required","N"]
["126800000X","Dental Assistant","Specialty Ineligible for Enrollment","N"]
["126900000X","Dental Laboratory Technician","Specialty Ineligible for Enrollment","N"]
["132700000X","Dietary Manager","Credentialing Not Required","N"]
["133N00000X","Nutritionist","Credentialing Required  ","Y"]
["133NN1002X","Nutritionist: Nutrition, Education","Credentialing Not Required","N"]
["133V00000X","Dietitian, Registered","Credentialing Required  ","Y"]
["133VN1004X","Dietitian, Registered: Nutrition, Pediatric","Credentialing Required  ","Y"]
["133VN1005X","Dietitian, Registered: Nutrition, Renal","Credentialing Required  ","Y"]
["133VN1006X","Dietitian, Registered: Nutrition, Metabolic","Credentialing Required  ","Y"]
["133VN1101X","Dietitian, Registered: Nutrition, Gerontological","Credentialing Required  ","Y"]
["133VN1201X","Dietitian, Registered: Nutrition, Obesity and Weight Management","Credentialing Required  ","Y"]
["133VN1301X","Dietitian, Registered: Nutrition, Oncology","Credentialing Required  ","Y"]
["133VN1401X","Dietitian, Registered: Nutrition, Pediatric Critical Care","Credentialing Required  ","Y"]
["133VN1501X","Dietitian, Registered: Nutrition, Sports Dietetics","Credentialing Required  ","Y"]
["136A00000X","Dietetic Technician, Registered","Credentialing Required  ","Y"]
["146D00000X","Personal Emergency Response Attendant","Credentialing Not Required","N"]
["146L00000X","Emergency Medical Technician, Paramedic","Credentialing Not Required","N"]
["146M00000X","Emergency Medical Technician, Intermediate","Credentialing Not Required","N"]
["146N00000X","Emergency Medical Technician, Basic","Credentialing Not Required","N"]
["152WS0006X","Optometrist: Sports Vision","Credentialing Not Required","N"]
["156F00000X","Technician/Technologist","Credentialing Not Required","N"]
["156FC0800X","Technician/Technologist: Contact Lens","Credentialing Not Required","N"]
["156FC0801X","Technician/Technologist: Contact Lens Fitter","Credentialing Not Required","N"]
["156FX1100X","Technician/Technologist: Ophthalmic","Credentialing Not Required","N"]
["156FX1101X","Technician/Technologist: Ophthalmic Assistant","Credentialing Not Required","N"]
["156FX1201X","Technician/Technologist: Optometric Assistant","Credentialing Not Required","N"]
["156FX1202X","Technician/Technologist: Optometric Technician","Credentialing Not Required","N"]
["156FX1700X","Technician/Technologist: Ocularist","Credentialing Not Required","N"]
["156FX1800X","Technician/Technologist: Optician","Credentialing Not Required","N"]
["156FX1900X","Technician/Technologist: Orthoptist","Credentialing Not Required","N"]
["163W00000X","Registered Nurse","Credentialing Not Required","N"]
["163WA0400X","Registered Nurse: Addiction (Substance Use Disorder)","Credentialing Not Required","N"]
["163WA2000X","Registered Nurse: Administrator","Credentialing Not Required","N"]
["163WC0200X","Registered Nurse: Critical Care Medicine","Credentialing Not Required","N"]
["163WC0400X","Registered Nurse: Case Management","Credentialing Not Required","N"]
["163WC1400X","Registered Nurse: College Health","Credentialing Not Required","N"]
["163WC1500X","Registered Nurse: Community Health","Credentialing Not Required","N"]
["163WC1600X","Registered Nurse: Continuing Education/Staff Development","Credentialing Not Required","N"]
["163WC2100X","Registered Nurse: Continence Care","Credentialing Not Required","N"]
["163WC3500X","Registered Nurse: Cardiac Rehabilitation","Credentialing Not Required","N"]
["163WD0400X","Registered Nurse: Diabetes Educator","Credentialing Not Required","N"]
["163WD1100X","Registered Nurse: Dialysis, Peritoneal","Credentialing Not Required","N"]
["163WE0003X","Registered Nurse: Emergency","Credentialing Not Required","N"]
["163WE0900X","Registered Nurse: Enterostomal Therapy","Credentialing Not Required","N"]
["163WF0300X","Registered Nurse: Flight","Credentialing Not Required","N"]
["163WG0000X","Registered Nurse: General Practice","Credentialing Not Required","N"]
["163WG0100X","Registered Nurse: Gastroenterology","Credentialing Not Required","N"]
["163WG0600X","Registered Nurse: Gerontology","Credentialing Not Required","N"]
["163WH0200X","Registered Nurse: Home Health","Credentialing Not Required","N"]
["163WH0500X","Registered Nurse: Hemodialysis","Credentialing Not Required","N"]
["163WH1000X","Registered Nurse: Hospice","Credentialing Not Required","N"]
["163WI0500X","Registered Nurse: Infusion Therapy","Credentialing Not Required","N"]
["163WI0600X","Registered Nurse: Infection Control","Credentialing Not Required","N"]
["163WL0100X","Registered Nurse: Lactation Consultant","Credentialing Not Required","N"]
["163WM0102X","Registered Nurse: Maternal Newborn","Credentialing Not Required","N"]
["163WM0705X","Registered Nurse: Medical-Surgical","Credentialing Not Required","N"]
["163WM1400X","Registered Nurse: Nurse Massage Therapist (NMT)","Credentialing Not Required","N"]
["163WN0002X","Registered Nurse: Neonatal Intensive Care","Credentialing Not Required","N"]
["163WN0003X","Registered Nurse: Neonatal, Low-Risk","Credentialing Not Required","N"]
["163WN0300X","Registered Nurse: Nephrology","Credentialing Not Required","N"]
["163WN0800X","Registered Nurse: Neuroscience","Credentialing Not Required","N"]
["163WN1003X","Registered Nurse: Nutrition Support","Credentialing Not Required","N"]
["163WP0000X","Registered Nurse: Pain Management","Credentialing Not Required","N"]
["163WP0200X","Registered Nurse: Pediatrics","Credentialing Not Required","N"]
["163WP0218X","Registered Nurse: Pediatric Oncology","Credentialing Not Required","N"]
["163WP0807X","Registered Nurse: Psych/Mental Health, Child & Adolescent","Credentialing Not Required","N"]
["163WP0808X","Registered Nurse: Psych/Mental Health","Credentialing Not Required","N"]
["163WP0809X","Registered Nurse: Psych/Mental Health, Adult","Credentialing Not Required","N"]
["163WP1700X","Registered Nurse: Perinatal","Credentialing Not Required","N"]
["163WP2201X","Registered Nurse: Ambulatory Care","Credentialing Not Required","N"]
["163WR0006X","Registered Nurse: Registered Nurse First Assistant","Credentialing Not Required","N"]
["163WR0400X","Registered Nurse: Rehabilitation","Credentialing Not Required","N"]
["163WR1000X","Registered Nurse: Reproductive Endocrinology/Infertility","Credentialing Not Required","N"]
["163WS0121X","Registered Nurse: Plastic Surgery","Credentialing Not Required","N"]
["163WS0200X","Registered Nurse: School","Credentialing Not Required","N"]
["163WU0100X","Registered Nurse: Urology","Credentialing Not Required","N"]
["163WW0000X","Registered Nurse: Wound Care","Credentialing Not Required","N"]
["163WW0101X","Registered Nurse: Womens Health Care, Ambulatory","Credentialing Not Required","N"]
["163WX0002X","Registered Nurse: Obstetric, High-Risk","Credentialing Not Required","N"]
["163WX0003X","Registered Nurse: Obstetric, Inpatient","Credentialing Not Required","N"]
["163WX0106X","Registered Nurse: Occupational Health","Credentialing Not Required","N"]
["163WX0200X","Registered Nurse: Oncology","Credentialing Not Required","N"]
["163WX0601X","Registered Nurse: Otorhinolaryngology & Head-Neck","Credentialing Not Required","N"]
["163WX0800X","Registered Nurse: Orthopedic","Credentialing Not Required","N"]
["163WX1100X","Registered Nurse: Ophthalmic","Credentialing Not Required","N"]
["163WX1500X","Registered Nurse: Ostomy Care","Credentialing Not Required","N"]
["164W00000X","Licensed Practical Nurse","Credentialing Not Required","N"]
["164X00000X","Licensed Vocational Nurse","Credentialing Not Required","N"]
["167G00000X","Licensed Psychiatric Technician","Credentialing Not Required","N"]
["170100000X","Medical Genetics, Ph.D. Medical Genetics","Credentialing Required  ","Y"]
["170300000X","Genetic Counselor, MS","Credentialing Not Required","N"]
["171000000X","Military Health Care Provider","Credentialing Not Required","N"]
["1710I1002X","Military Health Care Provider: Independent Duty Corpsman","Credentialing Not Required","N"]
["1710I1003X","Military Health Care Provider: Independent Duty Medical Technicians","Credentialing Not Required","N"]
["171100000X","Acupuncturist","Credentialing Required  ","Y"]
["171400000X","Health & Wellness Coach","Credentialing Not Required","N"]
["171M00000X","Case Manager/Care Coordinator","Credentialing Required  ","Y"]
["171R00000X","Interpreter","Credentialing Not Required","N"]
["171W00000X","Contractor: Financial Services","Credentialing Not Required","N"]
["171WH0202X","Contractor: Home Modifications","Credentialing Not Required","N"]
["171WV0202X","Contractor: Vehicle Modifications","Credentialing Not Required","N"]
["172A00000X","Driver","Credentialing Not Required","N"]
["172M00000X","Mechanotherapist","Credentialing Not Required","N"]
["172P00000X","Naprapath","Credentialing Not Required","N"]
["172V00000X","Community Health Worker","Credentialing Required  ","Y"]
["173000000X","Legal Medicine (Other Service Providers)","Credentialing Not Required","N"]
["173C00000X","Reflexologist","Credentialing Not Required","N"]
["173F00000X","Sleep Specialist, PhD","Credentialing Required  ","Y"]
["174200000X","Meals","Credentialing Required  ","Y"]
["174400000X","Specialist","Credentialing Required  ","Y"]
["1744G0900X","Specialist: Graphics Designer","Credentialing Not Required","N"]
["1744P3200X","Specialist: Prosthetics Case Management","Credentialing Not Required","N"]
["1744R1102X","Specialist: Research Study","Credentialing Not Required","N"]
["1744R1103X","Specialist: Research Data Abstracter/Coder","Credentialing Not Required","N"]
["174H00000X","Health Educator","Credentialing Not Required","N"]
["174M00000X","Veterinarian","Credentialing Not Required","N"]
["174MM1900X","Veterinarian: Medical Research","Credentialing Not Required","N"]
["174N00000X","Lactation Consultant, Non-RN","Credentialing Not Required","N"]
["174V00000X","Clinical Ethicist","Credentialing Required  ","Y"]
["175F00000X","Naturopath","Credentialing Required  ","Y"]
["175L00000X","Homeopath","Credentialing Required  ","Y"]
["175M00000X","Midwife, Lay","Credentialing Required  ","Y"]
["175T00000X","Peer Specialist (Other Service Providers)","Credentialing Not Required","N"]
["176B00000X","Midwife","Credentialing Required  ","Y"]
["176P00000X","Funeral Director","Credentialing Not Required","N"]
["177F00000X","Lodging","Credentialing Not Required","N"]
["183500000X","Pharmacist","Credentialing Not Required","N"]
["1835C0205X","Pharmacist: Critical Care","Specialty Ineligible for Enrollment","N"]
["1835G0000X","Pharmacist: General Practice","Specialty Ineligible for Enrollment","N"]
["1835G0303X","Pharmacist: Geriatric","Specialty Ineligible for Enrollment","N"]
["1835N0905X","Pharmacist: Nuclear","Specialty Ineligible for Enrollment","N"]
["1835N1003X","Pharmacist: Nutrition Support","Credentialing Not Required","N"]
["1835P0018X","Pharmacist: Pharmacist Clinician (PhC)/ Clinical Pharmacy Specialist","Specialty Ineligible for Enrollment","N"]
["1835P0200X","Pharmacist: Pediatrics","Specialty Ineligible for Enrollment","N"]
["1835P1200X","Pharmacist: Pharmacotherapy","Specialty Ineligible for Enrollment","N"]
["1835P1300X","Pharmacist: Psychiatric","Specialty Ineligible for Enrollment","N"]
["1835P2201X","Pharmacist: Ambulatory Care","Specialty Ineligible for Enrollment","N"]
["1835X0200X","Pharmacist: Oncology","Specialty Ineligible for Enrollment","N"]
["183700000X","Pharmacy Technician","Specialty Ineligible for Enrollment","N"]
["193200000X","Multi-Specialty","Credentialing Not Required","N"]
["193400000X","Single Specialty","Credentialing Not Required","N"]
["202C00000X","Independent Medical Examiner","Credentialing Not Required","N"]
["202K00000X","Phlebology","Credentialing Required  ","Y"]
["204C00000X","Neuromusculoskeletal Medicine, Sports Medicine","Credentialing Required  ","Y"]
["204D00000X","Neuromusculoskeletal Medicine & OMM","Credentialing Required  ","Y"]
["204E00000X","Oral & Maxillofacial Surgery","Credentialing Required  ","Y"]
["204F00000X","Transplant Surgery","Credentialing Required  ","Y"]
["204R00000X","Electrodiagnostic Medicine","Credentialing Not Required","N"]
["207K00000X","Allergy & Immunology","Credentialing Required  ","Y"]
["207KA0200X","Allergy & Immunology: Allergy","Credentialing Required  ","Y"]
["207KI0005X","Allergy & Immunology: Clinical & Laboratory Immunology","Credentialing Required  ","Y"]
["207L00000X","Anesthesiology","Credentialing Not Required","N"]
["207LA0401X","Anesthesiology: Addiction Medicine","Credentialing Required  ","Y"]
["207LC0200X","Anesthesiology: Critical Care Medicine","Credentialing Not Required","N"]
["207LH0002X","Anesthesiology: Hospice and Palliative Medicine","Credentialing Not Required","N"]
["207LP2900X","Anesthesiology: Pain Medicine","Credentialing Required  ","Y"]
["207LP3000X","Anesthesiology: Pediatric Anesthesiology","Credentialing Not Required","N"]
["207N00000X","Dermatology","Credentialing Required  ","Y"]
["207ND0101X","Dermatology: MOHS-Micrographic Surgery","Credentialing Required  ","Y"]
["207ND0900X","Dermatology: Dermatopathology","Credentialing Required  ","Y"]
["207NI0002X","Dermatology: Clinical & Laboratory Dermatological Immunology","Credentialing Required  ","Y"]
["207NP0225X","Dermatology: Pediatric Dermatology","Credentialing Required  ","Y"]
["207NS0135X","Dermatology: Procedural Dermatology","Credentialing Required  ","Y"]
["207P00000X","Emergency Medicine","Credentialing Not Required","N"]
["207PE0004X","Emergency Medicine: Emergency Medical Services","Credentialing Not Required","N"]
["207PE0005X","Emergency Medicine: Undersea and Hyperbaric Medicine","Credentialing Not Required","N"]
["207PH0002X","Emergency Medicine: Hospice and Palliative Medicine","Credentialing Not Required","N"]
["207PP0204X","Emergency Medicine: Pediatric Emergency Medicine","Credentialing Not Required","N"]
["207PS0010X","Emergency Medicine: Sports Medicine","Credentialing Not Required","N"]
["207PT0002X","Emergency Medicine: Medical Toxicology","Credentialing Not Required","N"]
["207Q00000X","Family Medicine","Credentialing Required  ","Y"]
["207QA0000X","Family Medicine: Adolescent Medicine","Credentialing Required  ","Y"]
["207QA0401X","Family Medicine: Addiction Medicine","Credentialing Required  ","Y"]
["207QA0505X","Family Medicine: Adult Medicine","Credentialing Required  ","Y"]
["207QB0002X","Family Medicine: Obesity Medicine","Credentialing Required  ","Y"]
["207QG0300X","Family Medicine: Geriatric Medicine","Credentialing Required  ","Y"]
["207QH0002X","Family Medicine: Hospice and Palliative Medicine","Credentialing Required  ","Y"]
["207QS0010X","Family Medicine: Sports Medicine","Credentialing Required  ","Y"]
["207QS1201X","Family Medicine: Sleep Medicine","Credentialing Required  ","Y"]
["207R00000X","Internal Medicine","Credentialing Required  ","Y"]
["207RA0000X","Internal Medicine: Adolescent Medicine","Credentialing Required  ","Y"]
["207RA0001X","Internal Medicine: Advanced Heart Failure and Transplant Cardiology","Credentialing Required  ","Y"]
["207RA0002X","Adult Congenital Heart Disease","Credentialing Required  ","Y"]
["207RA0201X","Internal Medicine: Allergy & Immunology","Credentialing Required  ","Y"]
["207RA0401X","Internal Medicine: Addiction Medicine","Credentialing Required  ","Y"]
["207RB0002X","Internal Medicine: Obesity Medicine","Credentialing Required  ","Y"]
["207RC0000X","Internal Medicine: Cardiovascular Disease","Credentialing Required  ","Y"]
["207RC0001X","Internal Medicine: Clinical Cardiac Electrophysiology","Credentialing Required  ","Y"]
["207RC0200X","Internal Medicine: Critical Care Medicine","Credentialing Required  ","Y"]
["207RE0101X","Internal Medicine: Endocrinology, Diabetes & Metabolism","Credentialing Required  ","Y"]
["207RG0100X","Internal Medicine: Gastroenterology","Credentialing Required  ","Y"]
["207RG0300X","Internal Medicine: Geriatric Medicine","Credentialing Required  ","Y"]
["207RH0000X","Internal Medicine: Hematology","Credentialing Required  ","Y"]
["207RH0002X","Hospice and Palliative Medicine","Credentialing Required  ","Y"]
["207RH0003X","Internal Medicine: Hematology & Oncology","Credentialing Required  ","Y"]
["207RH0005X","Hypertension Specialist","Credentialing Not Required","N"]
["207RI0001X","Internal Medicine: Clinical & Laboratory Immunology","Credentialing Required  ","Y"]
["207RI0008X","Internal Medicine: Hepatology","Credentialing Required  ","Y"]
["207RI0011X","Internal Medicine: Interventional Cardiology","Credentialing Required  ","Y"]
["207RI0200X","Internal Medicine: Infectious Disease","Credentialing Required  ","Y"]
["207RM1200X","Internal Medicine: Magnetic Resonance Imaging (MRI)","Credentialing Not Required","N"]
["207RN0300X","Internal Medicine: Nephrology","Credentialing Required  ","Y"]
["207RP1001X","Internal Medicine: Pulmonary Disease","Credentialing Required  ","Y"]
["207RR0500X","Internal Medicine: Rheumatology","Credentialing Required  ","Y"]
["207RS0010X","Internal Medicine: Sports Medicine","Credentialing Required  ","Y"]
["207RS0012X","Internal Medicine: Sleep Medicine","Credentialing Required  ","Y"]
["207RT0003X","Internal Medicine: Transplant Hepatology","Credentialing Required  ","Y"]
["207RX0202X","Internal Medicine: Medical Oncology","Credentialing Required  ","Y"]
["207SC0300X","Medical Genetics: Clinical Cytogenetic","Credentialing Not Required","N"]
["207SG0201X","Medical Genetics: Clinical Genetics (M.D.)","Credentialing Required  ","Y"]
["207SG0202X","Medical Genetics: Clinical Biochemical Genetics","Credentialing Not Required","N"]
["207SG0203X","Medical Genetics: Clinical Molecular Genetics","Credentialing Not Required","N"]
["207SG0205X","Medical Genetics: Ph.D. Medical Genetics","Credentialing Not Required","N"]
["207SM0001X","Medical Genetics: Molecular Genetic Pathology","Credentialing Not Required","N"]
["207T00000X","Neurological Surgery","Credentialing Required  ","Y"]
["207U00000X","Nuclear Medicine","Credentialing Not Required","N"]
["207UN0901X","Nuclear Medicine: Nuclear Cardiology","Credentialing Not Required","N"]
["207UN0902X","Nuclear Medicine: Nuclear Imaging & Therapy","Credentialing Not Required","N"]
["207UN0903X","Nuclear Medicine: In Vivo & In Vitro Nuclear Medicine","Credentialing Not Required","N"]
["207V00000X","Obstetrics & Gynecology","Credentialing Required  ","Y"]
["207VB0002X","Obstetrics & Gynecology: Obesity Medicine","Credentialing Required  ","Y"]
["207VC0200X","Obstetrics & Gynecology: Critical Care Medicine","Credentialing Required  ","Y"]
["207VE0102X","Obstetrics & Gynecology: Reproductive Endocrinology","Credentialing Required  ","Y"]
["207VF0040X","Female Pelvic Medicine and Reconstructive Surgery, OB/GYN","Credentialing Required  ","Y"]
["207VG0400X","Obstetrics & Gynecology: Gynecology","Credentialing Required  ","Y"]
["207VH0002X","Obstetrics & Gynecology: Hospice and Palliative Medicine","Credentialing Required  ","Y"]
["207VM0101X","Obstetrics & Gynecology: Maternal & Fetal Medicine","Credentialing Not Required","N"]
["207VX0000X","Obstetrics & Gynecology: Obstetrics","Credentialing Required  ","Y"]
["207VX0201X","Obstetrics & Gynecology: Gynecologic Oncology","Credentialing Required  ","Y"]
["207W00000X","Ophthalmology","Credentialing Required  ","Y"]
["207WX0009X","Ophthalmology: Glaucoma Specialist","Credentialing Required  ","Y"]
["207WX0107X","Ophthalmology: Retina Specialist","Credentialing Required  ","Y"]
["207WX0108X","Ophthalmology: Uveitis and Ocular Inflammatory Disease","Credentialing Required  ","Y"]
["207WX0109X","Ophthalmology: Neuro-ophthalmology","Credentialing Required  ","Y"]
["207WX0110X","Ophthalmology: Pediatric Ophthalmology and Strabismus Specialist","Credentialing Required  ","Y"]
["207WX0120X","Ophthalmology: Cornea and External Diseases Specialist","Credentialing Required  ","Y"]
["207WX0200X","Ophthalmology: Ophthalmic Plastic and Reconstructive Surgery","Credentialing Required  ","Y"]
["207X00000X","Orthopaedic Surgery","Credentialing Required  ","Y"]
["207XP3100X","Orthopaedic Surgery: Pediatric Orthopaedic Surgery","Credentialing Required  ","Y"]
["207XS0106X","Orthopaedic Surgery: Hand Surgery","Credentialing Required  ","Y"]
["207XS0114X","Orthopaedic Surgery: Adult Reconstructive Orthopaedic Surgery","Credentialing Required  ","Y"]
["207XS0117X","Orthopaedic Surgery: Orthopaedic Surgery of the Spine","Credentialing Required  ","Y"]
["207XX0004X","Orthopaedic Surgery: Foot and Ankle Surgery","Credentialing Required  ","Y"]
["207XX0005X","Orthopaedic Surgery: Sports Medicine","Credentialing Required  ","Y"]
["207XX0801X","Orthopaedic Surgery: Orthopaedic Trauma","Credentialing Required  ","Y"]
["207Y00000X","Otolaryngology","Credentialing Required  ","Y"]
["207YP0228X","Otolaryngology: Pediatric Otolaryngology","Credentialing Required  ","Y"]
["207YS0012X","Otolaryngology: Sleep Medicine","Credentialing Required  ","Y"]
["207YS0123X","Otolaryngology: Facial Plastic Surgery","Credentialing Required  ","Y"]
["207YX0007X","Otolaryngology: Plastic Surgery within the Head & Neck","Credentialing Required  ","Y"]
["207YX0602X","Otolaryngology: Otolaryngic Allergy","Credentialing Required  ","Y"]
["207YX0901X","Otolaryngology: Otology & Neurotology","Credentialing Required  ","Y"]
["207YX0905X","Otolaryngology: Otolaryngology/Facial Plastic Surgery","Credentialing Required  ","Y"]
["207ZB0001X","Pathology: Blood Banking & Transfusion Medicine","Credentialing Not Required","N"]
["207ZC0006X","Pathology: Clinical Pathology","Credentialing Not Required","N"]
["207ZC0008X","Pathology: Clinical Informatics","Credentialing Not Required","N"]
["207ZC0500X","Pathology: Cytopathology","Credentialing Not Required","N"]
["207ZD0900X","Pathology: Dermatopathology","Credentialing Not Required","N"]
["207ZF0201X","Pathology: Forensic Pathology","Credentialing Not Required","N"]
["207ZH0000X","Pathology: Hematology","Credentialing Not Required","N"]
["207ZI0100X","Pathology: Immunopathology","Credentialing Not Required","N"]
["207ZM0300X","Pathology: Medical Microbiology","Credentialing Not Required","N"]
["207ZN0500X","Pathology: Neuropathology","Credentialing Not Required","N"]
["207ZP0007X","Pathology: Molecular Genetic Pathology","Credentialing Not Required","N"]
["207ZP0101X","Pathology: Anatomic Pathology","Credentialing Not Required","N"]
["207ZP0102X","Pathology: Anatomic Pathology & Clinical Pathology","Credentialing Not Required","N"]
["207ZP0104X","Pathology: Chemical Pathology","Credentialing Not Required","N"]
["207ZP0105X","Pathology: Clinical Pathology/Laboratory Medicine","Credentialing Not Required","N"]
["207ZP0213X","Pathology: Pediatric Pathology","Credentialing Not Required","N"]
["208000000X","Pediatrics","Credentialing Required  ","Y"]
["2080A0000X","Pediatrics: Adolescent Medicine","Credentialing Required  ","Y"]
["2080B0002X","Pediatrics: Obesity Medicine","Credentialing Required  ","Y"]
["2080C0008X","Pediatrics: Child Abuse Pediatrics","Credentialing Required  ","Y"]
["2080H0002X","Pediatrics: Hospice and Palliative Medicine","Credentialing Required  ","Y"]
["2080I0007X","Pediatrics: Clinical & Laboratory Immunology","Credentialing Required  ","Y"]
["2080N0001X","Pediatrics: Neonatal-Perinatal Medicine","Credentialing Not Required","N"]
["2080P0006X","Pediatrics: Developmental - Behavioral Pediatrics","Credentialing Required  ","Y"]
["2080P0008X","Pediatrics: Neurodevelopmental Disabilities","Credentialing Required  ","Y"]
["2080P0201X","Pediatrics: Pediatric Allergy & Immunology","Credentialing Required  ","Y"]
["2080P0202X","Pediatrics: Pediatric Cardiology","Credentialing Required  ","Y"]
["2080P0203X","Pediatrics: Pediatric Critical Care Medicine","Credentialing Required  ","Y"]
["2080P0204X","Pediatrics: Pediatric Emergency Medicine","Credentialing Not Required","N"]
["2080P0205X","Pediatrics: Pediatric Endocrinology","Credentialing Required  ","Y"]
["2080P0206X","Pediatrics: Pediatric Gastroenterology","Credentialing Required  ","Y"]
["2080P0207X","Pediatrics: Pediatric Hematology-Oncology","Credentialing Required  ","Y"]
["2080P0208X","Pediatrics: Pediatric Infectious Diseases","Credentialing Required  ","Y"]
["2080P0210X","Pediatrics: Pediatric Nephrology","Credentialing Required  ","Y"]
["2080P0214X","Pediatrics: Pediatric Pulmonology","Credentialing Required  ","Y"]
["2080P0216X","Pediatrics: Pediatric Rheumatology","Credentialing Required  ","Y"]
["2080S0010X","Pediatrics: Sports Medicine","Credentialing Required  ","Y"]
["2080S0012X","Pediatrics: Sleep Medicine","Credentialing Required  ","Y"]
["2080T0002X","Pediatrics: Medical Toxicology","Credentialing Required  ","Y"]
["2080T0004X","Pediatrics: Pediatric Transplant Hepatology","Credentialing Required  ","Y"]
["208100000X","Physical Medicine & Rehabilitation","Credentialing Required  ","Y"]
["2081H0002X","Physical Medicine & Rehabilitation: Hospice and Palliative Medicine","Credentialing Required  ","Y"]
["2081N0008X","Physical Medicine & Rehabilitation: Neuromuscular Medicine","Credentialing Required  ","Y"]
["2081P0004X","Physical Medicine & Rehabilitation: Spinal Cord Injury Medicine","Credentialing Required  ","Y"]
["2081P0010X","Physical Medicine & Rehabilitation: Pediatric Rehabilitation Medicine","Credentialing Required  ","Y"]
["2081P0301X","Physical Medicine & Rehabilitation: Brain Injury Medicine","Credentialing Required  ","Y"]
["2081P2900X","Physical Medicine & Rehabilitation: Pain Medicine","Credentialing Required  ","Y"]
["2081S0010X","Physical Medicine & Rehabilitation: Sports Medicine","Credentialing Required  ","Y"]
["208200000X","Plastic Surgery","Credentialing Required  ","Y"]
["2082S0099X","Plastic Surgery: Plastic Surgery Within the Head and Neck","Credentialing Required  ","Y"]
["2082S0105X","Plastic Surgery: Surgery of the Hand","Credentialing Required  ","Y"]
["2083A0100X","Preventive Medicine: Aerospace Medicine","Credentialing Required  ","Y"]
["2083A0300X","Preventive Medicine: Addiction Medicine","Credentialing Required  ","Y"]
["2083B0002X","Preventive Medicine: Obesity Medicine","Credentialing Required  ","Y"]
["2083C0008X","Preventive Medicine: Clinical Informatics","Credentialing Required  ","Y"]
["2083P0011X","Preventive Medicine: Undersea and Hyperbaric Medicine","Credentialing Required  ","Y"]
["2083P0500X","Preventive Medicine: Preventive Medicine/Occupational Environmental Medicine","Credentialing Required  ","Y"]
["2083P0901X","Preventive Medicine: Public Health & General Preventive Medicine","Credentialing Required  ","Y"]
["2083S0010X","Preventive Medicine: Sports Medicine","Credentialing Required  ","Y"]
["2083T0002X","Preventive Medicine: Medical Toxicology","Credentialing Required  ","Y"]
["2083X0100X","Preventive Medicine: Occupational Medicine","Credentialing Required  ","Y"]
["2084A0401X","Psychiatry & Neurology: Addiction Medicine","Credentialing Required  ","Y"]
["2084A2900X","Psychiatry & Neurology: Neurocritical Care","Credentialing Required  ","Y"]
["2084B0002X","Psychiatry & Neurology: Obesity Medicine","Credentialing Required  ","Y"]
["2084B0040X","Behavioral Neurology & Neuropsychiatry","Credentialing Required  ","Y"]
["2084D0003X","Psychiatry & Neurology: Diagnostic Neuroimaging","Credentialing Required  ","Y"]
["2084F0202X","Psychiatry & Neurology: Forensic Psychiatry","Credentialing Required  ","Y"]
["2084H0002X","Psychiatry & Neurology: Hospice and Palliative Medicine","Credentialing Required  ","Y"]
["2084N0008X","Psychiatry & Neurology: Neuromuscular Medicine","Credentialing Required  ","Y"]
["2084N0400X","Psychiatry & Neurology: Neurology","Credentialing Required  ","Y"]
["2084N0402X","Psychiatry & Neurology: Neurology with Special Qualifications in Child Neurology","Credentialing Required  ","Y"]
["2084N0600X","Psychiatry & Neurology: Clinical Neurophysiology","Credentialing Required  ","Y"]
["2084P0005X","Psychiatry & Neurology: Neurodevelopmental Disabilities","Credentialing Required  ","Y"]
["2084P0015X","Psychiatry & Neurology: Psychosomatic Medicine","Credentialing Required  ","Y"]
["2084P0301X","Psychiatry & Neurology: Brain Injury Medicine","Credentialing Required  ","Y"]
["2084P0800X","Psychiatry & Neurology: Psychiatry","Credentialing Required  ","Y"]
["2084P0802X","Psychiatry & Neurology: Addiction Psychiatry","Credentialing Required  ","Y"]
["2084P0804X","Psychiatry & Neurology: Child & Adolescent Psychiatry","Credentialing Required  ","Y"]
["2084P0805X","Psychiatry & Neurology: Geriatric Psychiatry","Credentialing Required  ","Y"]
["2084P2900X","Psychiatry & Neurology: Pain Medicine","Credentialing Required  ","Y"]
["2084S0010X","Psychiatry & Neurology: Sports Medicine","Credentialing Required  ","Y"]
["2084S0012X","Psychiatry & Neurology: Sleep Medicine","Credentialing Required  ","Y"]
["2084V0102X","Psychiatry & Neurology: Vascular Neurology","Credentialing Required  ","Y"]
["2085B0100X","Radiology: Body Imaging","Credentialing Not Required","N"]
["2085D0003X","Radiology: Diagnostic Neuroimaging","Credentialing Not Required","N"]
["2085H0002X","Radiology: Hospice and Palliative Medicine","Credentialing Not Required","N"]
["2085N0700X","Radiology: Neuroradiology","Credentialing Not Required","N"]
["2085N0904X","Radiology: Nuclear Radiology","Credentialing Not Required","N"]
["2085P0229X","Radiology: Pediatric Radiology","Credentialing Not Required","N"]
["2085R0001X","Radiology: Radiation Oncology","Credentialing Required  ","Y"]
["2085R0202X","Radiology: Diagnostic Radiology","Credentialing Not Required","N"]
["2085R0203X","Radiology: Therapeutic Radiology","Credentialing Required  ","Y"]
["2085R0204X","Radiology: Vascular & Interventional Radiology","Credentialing Not Required","N"]
["2085R0205X","Radiology: Radiological Physics","Credentialing Not Required","N"]
["2085U0001X","Radiology: Diagnostic Ultrasound","Credentialing Not Required","N"]
["208600000X","Surgery","Credentialing Required  ","Y"]
["2086H0002X","Surgery: Hospice and Palliative Medicine","Credentialing Required  ","Y"]
["2086S0102X","Surgery: Surgical Critical Care","Credentialing Required  ","Y"]
["2086S0105X","Surgery: Surgery of the Hand","Credentialing Required  ","Y"]
["2086S0120X","Surgery: Pediatric Surgery","Credentialing Required  ","Y"]
["2086S0122X","Surgery: Plastic and Reconstructive Surgery","Credentialing Required  ","Y"]
["2086S0127X","Surgery: Trauma Surgery","Credentialing Required  ","Y"]
["2086S0129X","Surgery: Vascular Surgery","Credentialing Required  ","Y"]
["2086X0206X","Surgery: Surgical Oncology","Credentialing Required  ","Y"]
["208800000X","Urology","Credentialing Required  ","Y"]
["2088F0040X","Female Pelvic Medicine and Reconstructive Surgery, Urology Physician","Credentialing Required  ","Y"]
["2088P0231X","Urology: Pediatric Urology","Credentialing Required  ","Y"]
["208C00000X","Colon & Rectal Surgery","Credentialing Required  ","Y"]
["208D00000X","General Practice","Credentialing Required  ","Y"]
["208G00000X","Thoracic Surgery (Cardiothoracic Vascular Surgery)","Credentialing Required  ","Y"]
["208M00000X","Hospitalist","Credentialing Not Required","N"]
["208U00000X","Clinical Pharmacology","Credentialing Not Required","N"]
["208VP0000X","Pain Medicine: Pain Medicine","Credentialing Required  ","Y"]
["208VP0014X","Pain Medicine: Interventional Pain Medicine","Credentialing Required  ","Y"]
["209800000X","Legal Medicine (Allopathic & Osteopathic)","Credentialing Not Required","N"]
["211D00000X","Assistant, Podiatric","Credentialing Not Required","N"]
["213E00000X","Podiatrist","Credentialing Required  ","Y"]
["213EG0000X","Podiatrist: General Practice","Credentialing Required  ","Y"]
["213EP0504X","Podiatrist: Public Medicine","Credentialing Required  ","Y"]
["213EP1101X","Podiatrist: Primary Podiatric Medicine","Credentialing Required  ","Y"]
["213ER0200X","Podiatrist: Radiology","Credentialing Not Required","N"]
["213ES0000X","Podiatrist: Sports Medicine","Credentialing Required  ","Y"]
["213ES0103X","Podiatrist: Foot & Ankle Surgery","Credentialing Required  ","Y"]
["213ES0131X","Podiatrist: Foot Surgery","Credentialing Required  ","Y"]
["221700000X","Art Therapist","Credentialing Not Required","N"]
["222Q00000X","Developmental Therapist","Credentialing Required  ","Y"]
["222Z00000X","Orthotist","Credentialing Not Required","N"]
["224900000X","Mastectomy Fitter","Credentialing Not Required","N"]
["224L00000X","Pedorthist","Credentialing Not Required","N"]
["224P00000X","Prosthetist","Credentialing Not Required","N"]
["224Y00000X","Clinical Exercise Physiologist","Credentialing Not Required","N"]
["224Z00000X","Occupational Therapy Assistant","Credentialing Not Required","N"]
["224ZE0001X","Occupational Therapy Assistant: Environmental Modification","Credentialing Not Required","N"]
["224ZF0002X","Occupational Therapy Assistant: Feeding, Eating & Swallowing","Credentialing Not Required","N"]
["224ZL0004X","Occupational Therapy Assistant: Low Vision","Credentialing Not Required","N"]
["224ZR0403X","Occupational Therapy Assistant: Driving and Community Mobility","Credentialing Not Required","N"]
["225000000X","Orthotics/Prosthetics Fitter","Credentialing Not Required","N"]
["225100000X","Physical Therapist","Credentialing Required  ","Y"]
["2251C2600X","Physical Therapist: Cardiopulmonary","Credentialing Required  ","Y"]
["2251E1200X","Physical Therapist: Ergonomics","Credentialing Required  ","Y"]
["2251E1300X","Physical Therapist: Electrophysiology, Clinical","Credentialing Required  ","Y"]
["2251G0304X","Physical Therapist: Geriatrics","Credentialing Required  ","Y"]
["2251H1200X","Physical Therapist: Hand","Credentialing Required  ","Y"]
["2251H1300X","Physical Therapist: Human Factors","Credentialing Required  ","Y"]
["2251N0400X","Physical Therapist: Neurology","Credentialing Required  ","Y"]
["2251P0200X","Physical Therapist: Pediatrics","Credentialing Required  ","Y"]
["2251S0007X","Physical Therapist: Sports","Credentialing Required  ","Y"]
["2251X0800X","Physical Therapist: Orthopedic","Credentialing Required  ","Y"]
["225200000X","Physical Therapy Assistant","Credentialing Not Required","N"]
["225400000X","Rehabilitation Practitioner","Credentialing Required  ","Y"]
["225500000X","Specialist/Technologist (Respiratory & Rehab)","Credentialing Not Required","N"]
["2255A2300X","Specialist/Technologist: Athletic Trainer","Credentialing Not Required","N"]
["2255R0406X","Specialist/Technologist: Rehabilitation, Blind","Credentialing Not Required","N"]
["225600000X","Dance Therapist","Credentialing Not Required","N"]
["225700000X","Massage Therapist","Credentialing Required  ","Y"]
["225800000X","Recreation Therapist","Credentialing Not Required","N"]
["225A00000X","Music Therapist","Credentialing Required  ","Y"]
["225B00000X","Pulmonary Function Technologist","Credentialing Not Required","N"]
["225C00000X","Rehabilitation Counselor","Credentialing Required  ","Y"]
["225CA2400X","Rehabilitation Counselor: Assistive Technology Practitioner","Credentialing Required  ","Y"]
["225CA2500X","Rehabilitation Counselor: Assistive Technology Supplier","Credentialing Required  ","Y"]
["225CX0006X","Rehabilitation Counselor: Orientation and Mobility Training Provider","Credentialing Required  ","Y"]
["225X00000X","Occupational Therapist","Credentialing Required  ","Y"]
["225XE0001X","Occupational Therapist: Environmental Modification","Credentialing Required  ","Y"]
["225XE1200X","Occupational Therapist: Ergonomics","Credentialing Required  ","Y"]
["225XF0002X","Occupational Therapist: Feeding, Eating & Swallowing","Credentialing Required  ","Y"]
["225XG0600X","Occupational Therapist: Gerontology","Credentialing Required  ","Y"]
["225XH1200X","Occupational Therapist: Hand","Credentialing Required  ","Y"]
["225XH1300X","Occupational Therapist: Human Factors","Credentialing Required  ","Y"]
["225XL0004X","Occupational Therapist: Low Vision","Credentialing Required  ","Y"]
["225XM0800X","Occupational Therapist: Mental Health","Credentialing Required  ","Y"]
["225XN1300X","Occupational Therapist: Neurorehabilitation","Credentialing Required  ","Y"]
["225XP0019X","Occupational Therapist: Physical Rehabilitation","Credentialing Required  ","Y"]
["225XP0200X","Occupational Therapist: Pediatrics","Credentialing Required  ","Y"]
["225XR0403X","Occupational Therapist: Driving and Community Mobility","Credentialing Required  ","Y"]
["226000000X","Recreational Therapist Assistant","Credentialing Not Required","N"]
["226300000X","Kinesiotherapist","Credentialing Not Required","N"]
["227800000X","Respiratory Therapist, Certified","Credentialing Not Required","N"]
["2278C0205X","Respiratory Therapist, Certified: Critical Care","Credentialing Not Required","N"]
["2278E0002X","Respiratory Therapist, Certified: Emergency Care","Credentialing Not Required","N"]
["2278E1000X","Respiratory Therapist, Certified: Educational","Credentialing Not Required","N"]
["2278G0305X","Respiratory Therapist, Certified: Geriatric Care","Credentialing Not Required","N"]
["2278G1100X","Respiratory Therapist, Certified: General Care","Credentialing Not Required","N"]
["2278H0200X","Respiratory Therapist, Certified: Home Health","Credentialing Not Required","N"]
["2278P1004X","Respiratory Therapist, Certified: Pulmonary Diagnostics","Credentialing Not Required","N"]
["2278P1005X","Respiratory Therapist, Certified: Pulmonary Rehabilitation","Credentialing Not Required","N"]
["2278P1006X","Respiratory Therapist, Certified: Pulmonary Function Technologist","Credentialing Not Required","N"]
["2278P3800X","Respiratory Therapist, Certified: Palliative/Hospice","Credentialing Not Required","N"]
["2278P3900X","Respiratory Therapist, Certified: Neonatal/Pediatrics","Credentialing Not Required","N"]
["2278P4000X","Respiratory Therapist, Certified: Patient Transport","Credentialing Not Required","N"]
["2278S1500X","Respiratory Therapist, Certified: SNF/Subacute Care","Credentialing Not Required","N"]
["227900000X","Respiratory Therapist, Registered","Credentialing Not Required","N"]
["2279C0205X","Respiratory Therapist, Registered: Critical Care","Credentialing Not Required","N"]
["2279E0002X","Respiratory Therapist, Registered: Emergency Care","Credentialing Not Required","N"]
["2279E1000X","Respiratory Therapist, Registered: Educational","Credentialing Not Required","N"]
["2279G0305X","Respiratory Therapist, Registered: Geriatric Care","Credentialing Not Required","N"]
["2279G1100X","Respiratory Therapist, Registered: General Care","Credentialing Not Required","N"]
["2279H0200X","Respiratory Therapist, Registered: Home Health","Credentialing Not Required","N"]
["2279P1004X","Respiratory Therapist, Registered: Pulmonary Diagnostics","Credentialing Not Required","N"]
["2279P1005X","Respiratory Therapist, Registered: Pulmonary Rehabilitation","Credentialing Not Required","N"]
["2279P1006X","Respiratory Therapist, Registered: Pulmonary Function Technologist","Credentialing Not Required","N"]
["2279P3800X","Respiratory Therapist, Registered: Palliative/Hospice","Credentialing Not Required","N"]
["2279P3900X","Respiratory Therapist, Registered: Neonatal/Pediatrics","Credentialing Not Required","N"]
["2279P4000X","Respiratory Therapist, Registered: Patient Transport","Credentialing Not Required","N"]
["2279S1500X","Respiratory Therapist, Registered: SNF/Subacute Care","Credentialing Not Required","N"]
["229N00000X","Anaplastologist","Credentialing Not Required","N"]
["231H00000X","Audiologist","Credentialing Required  ","Y"]
["231HA2400X","Audiologist: Assistive Technology Practitioner","Credentialing Not Required","N"]
["231HA2500X","Audiologist: Assistive Technology Supplier","Credentialing Not Required","N"]
["235500000X","Specialist/Technologist (Speech & Hearing)","Credentialing Not Required","N"]
["2355A2700X","Specialist/Technologist: Audiology Assistant","Credentialing Not Required","N"]
["2355S0801X","Specialist/Technologist: Speech-Language Assistant","Credentialing Not Required","N"]
["235Z00000X","Speech-Language Pathologist","Credentialing Required  ","Y"]
["237600000X","Audiologist-Hearing Aid Fitter","Credentialing Not Required","N"]
["237700000X","Hearing Instrument Specialist","Credentialing Not Required","N"]
["242T00000X","Perfusionist","Credentialing Not Required","N"]
["243U00000X","Radiology Practitioner Assistant","Credentialing Not Required","N"]
["246Q00000X","Spec/Tech, Pathology","Credentialing Not Required","N"]
["246QB0000X","Spec/Tech, Pathology: Blood Banking","Credentialing Not Required","N"]
["246QC1000X","Spec/Tech, Pathology: Chemistry","Credentialing Not Required","N"]
["246QC2700X","Spec/Tech, Pathology: Cytotechnology","Credentialing Not Required","N"]
["246QH0000X","Spec/Tech, Pathology: Hematology","Credentialing Not Required","N"]
["246QH0401X","Spec/Tech, Pathology: Hemapheresis Practitioner","Credentialing Not Required","N"]
["246QH0600X","Spec/Tech, Pathology: Histology","Credentialing Not Required","N"]
["246QI0000X","Spec/Tech, Pathology: Immunology","Credentialing Not Required","N"]
["246QL0900X","Spec/Tech, Pathology: Laboratory Management","Credentialing Not Required","N"]
["246QL0901X","Spec/Tech, Pathology: Laboratory Management, Diplomate","Credentialing Not Required","N"]
["246QM0706X","Spec/Tech, Pathology: Medical Technologist","Credentialing Not Required","N"]
["246QM0900X","Spec/Tech, Pathology: Microbiology","Credentialing Not Required","N"]
["246R00000X","Technician, Pathology","Credentialing Not Required","N"]
["246RH0600X","Technician, Pathology: Histology","Credentialing Not Required","N"]
["246RM2200X","Technician, Pathology: Medical Laboratory","Credentialing Not Required","N"]
["246RP1900X","Technician, Pathology: Phlebotomy","Credentialing Not Required","N"]
["246W00000X","Technician, Cardiology","Credentialing Not Required","N"]
["246X00000X","Spec/Tech, Cardiovascular","Credentialing Not Required","N"]
["246XC2901X","Spec/Tech, Cardiovascular: Cardiovascular Invasive Specialist","Credentialing Not Required","N"]
["246XC2903X","Spec/Tech, Cardiovascular: Vascular Specialist","Credentialing Not Required","N"]
["246XS1301X","Spec/Tech, Cardiovascular: Sonography","Credentialing Not Required","N"]
["246Y00000X","Spec/Tech, Health Info","Credentialing Not Required","N"]
["246YC3301X","Spec/Tech, Health Info: Coding Specialist, Hospital Based","Credentialing Not Required","N"]
["246YC3302X","Spec/Tech, Health Info: Coding Specialist, Physician Office Based","Credentialing Not Required","N"]
["246YR1600X","Spec/Tech, Health Info: Registered Record Administrator","Credentialing Not Required","N"]
["246Z00000X","Specialist/Technologist, Other","Credentialing Not Required","N"]
["246ZA2600X","Specialist/Technologist, Other: Art, Medical","Credentialing Not Required","N"]
["246ZB0301X","Specialist/Technologist, Other: Biomedical Engineering","Credentialing Not Required","N"]
["246ZB0302X","Specialist/Technologist, Other: Biomedical Photographer","Credentialing Not Required","N"]
["246ZB0500X","Specialist/Technologist, Other: Biochemist","Credentialing Not Required","N"]
["246ZB0600X","Specialist/Technologist, Other: Biostatistician","Credentialing Not Required","N"]
["246ZC0007X","Specialist/Technologist, Other: Certified First Assistant","Credentialing Not Required","N"]
["246ZE0500X","Specialist/Technologist, Other: EEG","Credentialing Not Required","N"]
["246ZE0600X","Specialist/Technologist, Other: Electroneurodiagnostic","Credentialing Not Required","N"]
["246ZG0701X","Specialist/Technologist, Other: Graphics Methods","Credentialing Not Required","N"]
["246ZG1000X","Specialist/Technologist, Other: Geneticist, Medical (PhD)","Credentialing Not Required","N"]
["246ZI1000X","Specialist/Technologist, Other: Illustration, Medical","Credentialing Not Required","N"]
["246ZN0300X","Specialist/Technologist, Other: Nephrology","Credentialing Not Required","N"]
["246ZS0400X","Specialist/Technologist, Other: Surgical","Credentialing Not Required","N"]
["246ZS0410X","Specialist/Technologist, Other: Surgical Technologist","Credentialing Not Required","N"]
["246ZX2200X","Specialist/Technologist, Other: Orthopedic Assistant","Credentialing Not Required","N"]
["247000000X","Technician, Health Information","Credentialing Not Required","N"]
["2470A2800X","Technician, Health Information: Assistant Record Technician","Credentialing Not Required","N"]
["247100000X","Radiologic Technologist","Credentialing Not Required","N"]
["2471B0102X","Radiologic Technologist: Bone Densitometry","Credentialing Not Required","N"]
["2471C1101X","Radiologic Technologist: Cardiovascular-Interventional Technology","Credentialing Not Required","N"]
["2471C1106X","Radiologic Technologist: Cardiac-Interventional Technology","Credentialing Not Required","N"]
["2471C3401X","Radiologic Technologist: Computed Tomography","Credentialing Not Required","N"]
["2471C3402X","Radiologic Technologist: Radiography","Credentialing Not Required","N"]
["2471M1202X","Radiologic Technologist: Magnetic Resonance Imaging","Credentialing Not Required","N"]
["2471M2300X","Radiologic Technologist: Mammography","Credentialing Not Required","N"]
["2471N0900X","Radiologic Technologist: Nuclear Medicine Technology","Credentialing Not Required","N"]
["2471Q0001X","Radiologic Technologist: Quality Management","Credentialing Not Required","N"]
["2471R0002X","Radiologic Technologist: Radiation Therapy","Credentialing Not Required","N"]
["2471S1302X","Radiologic Technologist: Sonography","Credentialing Not Required","N"]
["2471V0105X","Radiologic Technologist: Vascular Sonography","Credentialing Not Required","N"]
["2471V0106X","Radiologic Technologist: Vascular-Interventional Technology","Credentialing Not Required","N"]
["247200000X","Technician, Other","Credentialing Not Required","N"]
["2472B0301X","Technician, Other: Biomedical Engineering","Credentialing Not Required","N"]
["2472D0500X","Technician, Other: Darkroom","Credentialing Not Required","N"]
["2472E0500X","Technician, Other: EEG","Credentialing Not Required","N"]
["2472R0900X","Technician, Other: Renal Dialysis","Credentialing Not Required","N"]
["2472V0600X","Technician, Other: Veterinary","Credentialing Not Required","N"]
["247ZC0005X","Pathology: Clinical Laboratory Director, Non-physician","Credentialing Not Required","N"]
["251300000X","Local Education Agency (LEA)","Credentialing Not Required","N"]
["251B00000X","Case Management","Credentialing Required  ","Y"]
["251C00000X","Day Training, Developmentally Disabled Services","Credentialing Required  ","Y"]
["251E00000X","Home Health","Credentialing Required  ","Y"]
["251F00000X","Home Infusion","Credentialing Required  ","Y"]
["251G00000X","Hospice Care, Community Based","Credentialing Required  ","Y"]
["251J00000X","Nursing Care","Credentialing Not Required","N"]
["251K00000X","Public Health or Welfare","Credentialing Required  ","Y"]
["251S00000X","Community/Behavioral Health","Credentialing Required  ","Y"]
["251T00000X","PACE Provider Organization","Credentialing Not Required","N"]
["251V00000X","Voluntary or Charitable","Credentialing Not Required","N"]
["251X00000X","Supports Brokerage","Credentialing Not Required","N"]
["252Y00000X","Early Intervention Provider Agency","Credentialing Not Required","N"]
["253J00000X","Foster Care Agency","Credentialing Required  ","Y"]
["253Z00000X","In Home Supportive Care","Credentialing Required  ","Y"]
["261Q00000X","Clinic/Center","Credentialing Required  ","Y"]
["261QA0005X","Clinic/Center: Ambulatory Family Planning Facility","Credentialing Required  ","Y"]
["261QA0006X","Clinic/Center: Ambulatory Fertility Facility","Credentialing Required  ","Y"]
["261QA0600X","Clinic/Center: Adult Day Care","Credentialing Required  ","Y"]
["261QA0900X","Clinic/Center: Amputee","Credentialing Not Required","N"]
["261QA1903X","Clinic/Center: Ambulatory Surgical","Credentialing Required  ","Y"]
["261QA3000X","Clinic/Center: Augmentative Communication","Credentialing Not Required","N"]
["261QB0400X","Clinic/Center: Birthing","Credentialing Required  ","Y"]
["261QC0050X","Clinic/Center: Critical Access Hospital","Credentialing Required  ","Y"]
["261QC1500X","Clinic/Center: Community Health","Credentialing Required  ","Y"]
["261QC1800X","Clinic/Center: Corporate Health","Credentialing Not Required","N"]
["261QD0000X","Clinic/Center: Dental","Credentialing Not Required","N"]
["261QD1600X","Clinic/Center: Developmental Disabilities","Credentialing Not Required","N"]
["261QE0002X","Clinic/Center: Emergency Care","Credentialing Required  ","Y"]
["261QE0700X","Clinic/Center: End-Stage Renal Disease (ESRD) Treatment","Credentialing Required  ","Y"]
["261QE0800X","Clinic/Center: Endoscopy","Credentialing Required  ","Y"]
["261QF0050X","Clinic/Center: Family Planning, Non-Surgical","Credentialing Not Required","N"]
["261QF0400X","Clinic/Center: Federally Qualified Health Center (FQHC)","Credentialing Required  ","Y"]
["261QG0250X","Clinic/Center: Genetics","Credentialing Not Required","N"]
["261QH0100X","Clinic/Center: Health Service","Credentialing Not Required","N"]
["261QH0700X","Clinic/Center: Hearing and Speech","Credentialing Required  ","Y"]
["261QI0500X","Clinic/Center: Infusion Therapy","Credentialing Required  ","Y"]
["261QL0400X","Clinic/Center: Lithotripsy","Credentialing Required  ","Y"]
["261QM0801X","Clinic/Center: Mental Health (Including Community Mental Health Center)","Credentialing Required  ","Y"]
["261QM0850X","Clinic/Center: Adult Mental Health","Credentialing Required  ","Y"]
["261QM0855X","Clinic/Center: Adolescent and Children Mental Health","Credentialing Required  ","Y"]
["261QM1000X","Clinic/Center: Migrant Health","Credentialing Required  ","Y"]
["261QM1100X","Clinic/Center: Military/U.S. Coast Guard Outpatient","Credentialing Required  ","Y"]
["261QM1101X","Clinic/Center: Military and U.S. Coast Guard Ambulatory Procedure","Credentialing Required  ","Y"]
["261QM1102X","Clinic/Center: Military Outpatient Operational (Transportable) Component","Credentialing Required  ","Y"]
["261QM1103X","Clinic/Center: Military Ambulatory Procedure Visits Operational (Transportable)","Credentialing Required  ","Y"]
["261QM1200X","Clinic/Center: Magnetic Resonance Imaging (MRI)","Credentialing Required  ","Y"]
["261QM1300X","Clinic/Center: Multi-Specialty","Credentialing Not Required","N"]
["261QM2500X","Clinic/Center: Medical Specialty","Credentialing Required  ","Y"]
["261QM2800X","Clinic/Center: Methadone Clinic","Credentialing Required  ","Y"]
["261QM3000X","Clinic/Center: Medically Fragile Infants and Children Day Care","Credentialing Required  ","Y"]
["261QP0904X","Clinic/Center: Public Health, Federal","Credentialing Not Required","N"]
["261QP0905X","Clinic/Center: Public Health, State or Local","Credentialing Not Required","N"]
["261QP1100X","Clinic/Center: Podiatric","Credentialing Not Required","N"]
["261QP2000X","Clinic/Center: Physical Therapy","Credentialing Required  ","Y"]
["261QP2300X","Clinic/Center: Primary Care","Credentialing Not Required","N"]
["261QP2400X","Clinic/Center: Prison Health","Credentialing Required  ","Y"]
["261QP3300X","Clinic/Center: Pain","Credentialing Required  ","Y"]
["261QR0200X","Clinic/Center: Radiology","Credentialing Required  ","Y"]
["261QR0206X","Clinic/Center: Radiology, Mammography","Credentialing Required  ","Y"]
["261QR0207X","Clinic/Center: Radiology, Mobile Mammography","Credentialing Required  ","Y"]
["261QR0208X","Clinic/Center: Radiology, Mobile","Credentialing Required  ","Y"]
["261QR0400X","Clinic/Center: Rehabilitation","Credentialing Required  ","Y"]
["261QR0401X","Clinic/Center: Rehabilitation, Comprehensive Outpatient Rehabilitation Facility (CORF)","Credentialing Required  ","Y"]
["261QR0404X","Clinic/Center: Rehabilitation, Cardiac Facilities","Credentialing Required  ","Y"]
["261QR0405X","Clinic/Center: Rehabilitation, Substance Use Disorder","Credentialing Required  ","Y"]
["261QR0800X","Clinic/Center: Recovery Care","Credentialing Not Required","N"]
["261QR1100X","Clinic/Center: Research","Credentialing Not Required","N"]
["261QR1300X","Clinic/Center: Rural Health","Credentialing Required  ","Y"]
["261QS0112X","Clinic/Center: Oral and Maxillofacial Surgery","Credentialing Not Required","N"]
["261QS0132X","Clinic/Center: Ophthalmologic Surgery","Credentialing Required  ","Y"]
["261QS1000X","Clinic/Center: Student Health","Credentialing Not Required","N"]
["261QS1200X","Clinic/Center: Sleep Disorder Diagnostic","Credentialing Required  ","Y"]
["261QU0200X","Clinic/Center: Urgent Care","Credentialing Required  ","Y"]
["261QV0200X","Clinic/Center: VA","Credentialing Not Required","N"]
["261QX0100X","Clinic/Center: Occupational Medicine","Credentialing Not Required","N"]
["261QX0200X","Clinic/Center: Oncology","Credentialing Not Required","N"]
["261QX0203X","Clinic/Center: Oncology, Radiation","Credentialing Not Required","N"]
["273100000X","Epilepsy Unit","Credentialing Required  ","Y"]
["273R00000X","Psychiatric Unit","Credentialing Required  ","Y"]
["273Y00000X","Rehabilitation Unit","Credentialing Required  ","Y"]
["275N00000X","Medicare Defined Swing Bed Unit","Credentialing Required  ","Y"]
["276400000X","Rehabilitation, Substance Use Disorder Unit","Credentialing Required  ","Y"]
["281P00000X","Chronic Disease Hospital","Credentialing Required  ","Y"]
["281PC2000X","Chronic Disease Hospital: Children","Credentialing Required  ","Y"]
["282E00000X","Long Term Care Hospital","Credentialing Required  ","Y"]
["282J00000X","Religious Nonmedical Health Care Institution","Credentialing Required  ","Y"]
["282N00000X","General Acute Care Hospital","Credentialing Required  ","Y"]
["282NC0060X","General Acute Care Hospital: Critical Access","Credentialing Required  ","Y"]
["282NC2000X","General Acute Care Hospital: Children","Credentialing Required  ","Y"]
["282NR1301X","General Acute Care Hospital: Rural","Credentialing Required  ","Y"]
["282NW0100X","General Acute Care Hospital: Women","Credentialing Required  ","Y"]
["283Q00000X","Psychiatric Hospital","Credentialing Required  ","Y"]
["283X00000X","Rehabilitation Hospital","Credentialing Required  ","Y"]
["283XC2000X","Rehabilitation Hospital: Children","Credentialing Required  ","Y"]
["284300000X","Special Hospital","Credentialing Required  ","Y"]
["286500000X","Military Hospital","Credentialing Not Required","N"]
["2865C1500X","Military Hospital: Community Health","Credentialing Not Required","N"]
["2865M2000X","Military Hospital: Military General Acute Care Hospital","Credentialing Not Required","N"]
["2865X1600X","Military Hospital: Military General Acute Care Hospital. Operational (Transportable)","Credentialing Not Required","N"]
["287300000X","Christian Science Sanitorium","Credentialing Not Required","N"]
["291900000X","Military Clinical Medical Laboratory","Credentialing Not Required","N"]
["291U00000X","Clinical Medical Laboratory","Credentialing Required  ","Y"]
["292200000X","Dental Laboratory","Credentialing Not Required","N"]
["293D00000X","Physiological Laboratory","Credentialing Required  ","Y"]
["302F00000X","Exclusive Provider Organization","Credentialing Not Required","N"]
["302R00000X","Health Maintenance Organization","Credentialing Not Required","N"]
["305R00000X","Preferred Provider Organization","Credentialing Not Required","N"]
["305S00000X","Point of Service","Credentialing Not Required","N"]
["310400000X","Assisted Living Facility","Credentialing Required  ","Y"]
["3104A0625X","Assisted Living Facility: Assisted Living, Mental Illness","Credentialing Required  ","Y"]
["3104A0630X","Assisted Living Facility: Assisted Living, Behavioral Disturbances","Credentialing Required  ","Y"]
["310500000X","Intermediate Care Facility, Mental Illness","Credentialing Required  ","Y"]
["311500000X","Alzheimer Center (Dementia Center)","Credentialing Required  ","Y"]
["311Z00000X","Custodial Care Facility","Credentialing Required  ","Y"]
["311ZA0620X","Custodial Care Facility: Adult Care Home","Credentialing Required  ","Y"]
["313M00000X","Nursing Facility/Intermediate Care Facility","Credentialing Required  ","Y"]
["314000000X","Skilled Nursing Facility","Credentialing Required  ","Y"]
["3140N1450X","Skilled Nursing Facility: Nursing Care, Pediatric","Credentialing Required  ","Y"]
["315D00000X","Hospice, Inpatient","Credentialing Not Required","N"]
["315P00000X","Intermediate Care Facility, Mentally Retarded","Credentialing Required  ","Y"]
["317400000X","Christian Science Facility","Credentialing Not Required","N"]
["320600000X","Residential Treatment Facility, Mental Retardation and/or Developmental Disabilities","Credentialing Required  ","Y"]
["320700000X","Residential Treatment Facility, Physical Disabilities","Credentialing Required  ","Y"]
["320800000X","Community Based Residential Treatment Facility, Mental Illness","Credentialing Required  ","Y"]
["320900000X","Community Based Residential Treatment, Mental Retardation and/or Developmental Disabilities","Credentialing Required  ","Y"]
["322D00000X","Residential Treatment Facility, Emotionally Disturbed Children","Credentialing Required  ","Y"]
["323P00000X","Psychiatric Residential Treatment Facility","Credentialing Required  ","Y"]
["324500000X","Substance Abuse Rehabilitation Facility","Credentialing Required  ","Y"]
["3245S0500X","Substance Abuse Rehabilitation Facility: Substance Abuse Treatment, Children","Credentialing Required  ","Y"]
["331L00000X","Blood Bank","Credentialing Not Required","N"]
["332000000X","Military/U.S. Coast Guard Pharmacy","Credentialing Not Required","N"]
["332100000X","Department of Veterans Affairs (VA) Pharmacy","Credentialing Not Required","N"]
["332800000X","Indian Health Service/Tribal/Urban Indian Health (I/T/U) Pharmacy","Credentialing Not Required","N"]
["332900000X","Non-Pharmacy Dispensing Site","Credentialing Not Required","N"]
["332B00000X","Durable Medical Equipment & Medical Supplies","Credentialing Required  ","Y"]
["332BC3200X","Durable Medical Equipment & Medical Supplies: Customized Equipment","Credentialing Required  ","Y"]
["332BD1200X","Durable Medical Equipment & Medical Supplies: Dialysis Equipment & Supplies","Credentialing Required  ","Y"]
["332BN1400X","Durable Medical Equipment & Medical Supplies: Nursing Facility Supplies","Credentialing Required  ","Y"]
["332BP3500X","Durable Medical Equipment & Medical Supplies: Parenteral & Enteral Nutrition","Credentialing Required  ","Y"]
["332BX2000X","Durable Medical Equipment & Medical Supplies: Oxygen Equipment & Supplies","Credentialing Required  ","Y"]
["332G00000X","Eye Bank","Credentialing Not Required","N"]
["332H00000X","Eyewear Supplier (Equipment, not the service)","Credentialing Not Required","N"]
["332S00000X","Hearing Aid Equipment","Credentialing Not Required","N"]
["332U00000X","Home Delivered Meals","Credentialing Required  ","Y"]
["333300000X","Emergency Response System Companies","Credentialing Required  ","Y"]
["333600000X","Pharmacy","Credentialing Not Required","N"]
["3336C0002X","Pharmacy: Clinic Pharmacy","Credentialing Not Required","N"]
["3336C0003X","Pharmacy: Community/Retail Pharmacy","Credentialing Not Required","N"]
["3336C0004X","Pharmacy: Compounding Pharmacy","Credentialing Not Required","N"]
["3336H0001X","Pharmacy: Home Infusion Therapy Pharmacy","Credentialing Not Required","N"]
["3336I0012X","Pharmacy: Institutional Pharmacy","Credentialing Not Required","N"]
["3336L0003X","Pharmacy: Long Term Care Pharmacy","Credentialing Not Required","N"]
["3336M0002X","Pharmacy: Mail Order Pharmacy","Credentialing Not Required","N"]
["3336M0003X","Pharmacy: Managed Care Organization Pharmacy","Credentialing Not Required","N"]
["3336N0007X","Pharmacy: Nuclear Pharmacy","Credentialing Not Required","N"]
["3336S0011X","Pharmacy: Specialty Pharmacy","Credentialing Not Required","N"]
["335E00000X","Prosthetic/Orthotic Supplier","Credentialing Required  ","Y"]
["335G00000X","Medical Foods Supplier","Credentialing Required  ","Y"]
["335U00000X","Organ Procurement Organization","Credentialing Not Required","N"]
["335V00000X","Portable X-ray and/or Other Portable Diagnostic Imaging Supplier","Credentialing Required  ","Y"]
["341600000X","Ambulance","Credentialing Required  ","Y"]
["3416A0800X","Ambulance: Air Transport","Credentialing Required  ","Y"]
["3416L0300X","Ambulance: Land Transport","Credentialing Required  ","Y"]
["3416S0300X","Ambulance: Water Transport","Credentialing Not Required","N"]
["341800000X","Military/U.S. Coast Guard Transport","Credentialing Not Required","N"]
["3418M1110X","Military/U.S. Coast Guard Transport: Military or U.S. Coast Guard Ambulance, Ground Transport","Credentialing Not Required","N"]
["3418M1120X","Military/U.S. Coast Guard Transport: Military or U.S. Coast Guard Ambulance, Air Transport","Credentialing Not Required","N"]
["3418M1130X","Military/U.S. Coast Guard Transport: Military or U.S. Coast Guard Ambulance, Water Transport","Credentialing Not Required","N"]
["342000000X","Transportation Network Company","Credentialing Not Required","N"]
["343800000X","Secured Medical Transport (VAN)","Credentialing Required  ","Y"]
["343900000X","Non-emergency Medical Transport (VAN)","Credentialing Required  ","Y"]
["344600000X","Taxi","Credentialing Not Required","N"]
["344800000X","Air Carrier","Credentialing Not Required","N"]
["347B00000X","Bus","Credentialing Not Required","N"]
["347C00000X","Private Vehicle","Credentialing Required  ","Y"]
["347D00000X","Train","Credentialing Not Required","N"]
["347E00000X","Transportation Broker","Credentialing Not Required","N"]
["363A00000X","Physician Assistant","Credentialing Required  ","Y"]
["363AM0700X","Physician Assistant: Medical","Credentialing Required  ","Y"]
["363AS0400X","Physician Assistant: Surgical","Credentialing Required  ","Y"]
["363L00000X","Nurse Practitioner","Credentialing Required  ","Y"]
["363LA2100X","Nurse Practitioner: Acute Care","Credentialing Required  ","Y"]
["363LA2200X","Nurse Practitioner: Adult Health","Credentialing Required  ","Y"]
["363LC0200X","Nurse Practitioner: Critical Care Medicine","Credentialing Required  ","Y"]
["363LC1500X","Nurse Practitioner: Community Health","Credentialing Required  ","Y"]
["363LF0000X","Nurse Practitioner: Family","Credentialing Required  ","Y"]
["363LG0600X","Nurse Practitioner: Gerontology","Credentialing Required  ","Y"]
["363LN0000X","Nurse Practitioner: Neonatal","Credentialing Not Required","N"]
["363LN0005X","Nurse Practitioner: Neonatal, Critical Care","Credentialing Not Required","N"]
["363LP0200X","Nurse Practitioner: Pediatrics","Credentialing Required  ","Y"]
["363LP0222X","Nurse Practitioner: Pediatrics, Critical Care","Credentialing Required  ","Y"]
["363LP0808X","Nurse Practitioner: Psych/Mental Health","Credentialing Required  ","Y"]
["363LP1700X","Nurse Practitioner: Perinatal","Credentialing Not Required","N"]
["363LP2300X","Nurse Practitioner: Primary Care","Credentialing Required  ","Y"]
["363LS0200X","Nurse Practitioner: School","Credentialing Required  ","Y"]
["363LW0102X","Nurse Practitioner: Womens Health","Credentialing Required  ","Y"]
["363LX0001X","Nurse Practitioner: Obstetrics & Gynecology","Credentialing Required  ","Y"]
["363LX0106X","Nurse Practitioner: Occupational Health","Credentialing Required  ","Y"]
["364S00000X","Clinical Nurse Specialist","Credentialing Not Required","N"]
["364SA2100X","Clinical Nurse Specialist: Acute Care","Credentialing Not Required","N"]
["364SA2200X","Clinical Nurse Specialist: Adult Health","Credentialing Not Required","N"]
["364SC0200X","Clinical Nurse Specialist: Critical Care Medicine","Credentialing Not Required","N"]
["364SC1501X","Clinical Nurse Specialist: Community Health/Public Health","Credentialing Not Required","N"]
["364SC2300X","Clinical Nurse Specialist: Chronic Care","Credentialing Not Required","N"]
["364SE0003X","Clinical Nurse Specialist: Emergency","Credentialing Not Required","N"]
["364SE1400X","Clinical Nurse Specialist: Ethics","Credentialing Not Required","N"]
["364SF0001X","Clinical Nurse Specialist: Family Health","Credentialing Not Required","N"]
["364SG0600X","Clinical Nurse Specialist: Gerontology","Credentialing Not Required","N"]
["364SH0200X","Clinical Nurse Specialist: Home Health","Credentialing Not Required","N"]
["364SH1100X","Clinical Nurse Specialist: Holistic","Credentialing Not Required","N"]
["364SI0800X","Clinical Nurse Specialist: Informatics","Credentialing Not Required","N"]
["364SL0600X","Clinical Nurse Specialist: Long-Term Care","Credentialing Not Required","N"]
["364SM0705X","Clinical Nurse Specialist: Medical-Surgical","Credentialing Not Required","N"]
["364SN0000X","Clinical Nurse Specialist: Neonatal","Credentialing Not Required","N"]
["364SN0800X","Clinical Nurse Specialist: Neuroscience","Credentialing Not Required","N"]
["364SP0200X","Clinical Nurse Specialist: Pediatrics","Credentialing Not Required","N"]
["364SP0807X","Clinical Nurse Specialist: Psych/Mental Health, Child & Adolescent","Credentialing Not Required","N"]
["364SP0808X","Clinical Nurse Specialist: Psych/Mental Health","Credentialing Not Required","N"]
["364SP0809X","Clinical Nurse Specialist: Psych/Mental Health, Adult","Credentialing Not Required","N"]
["364SP0810X","Clinical Nurse Specialist: Psych/Mental Health, Child & Family","Credentialing Not Required","N"]
["364SP0811X","Clinical Nurse Specialist: Psych/Mental Health, Chronically Ill","Credentialing Not Required","N"]
["364SP0812X","Clinical Nurse Specialist: Psych/Mental Health, Community","Credentialing Not Required","N"]
["364SP0813X","Clinical Nurse Specialist: Psych/Mental Health, Geropsychiatric","Credentialing Not Required","N"]
["364SP1700X","Clinical Nurse Specialist: Perinatal","Credentialing Not Required","N"]
["364SP2800X","Clinical Nurse Specialist: Perioperative","Credentialing Not Required","N"]
["364SR0400X","Clinical Nurse Specialist: Rehabilitation","Credentialing Not Required","N"]
["364SS0200X","Clinical Nurse Specialist: School","Credentialing Not Required","N"]
["364ST0500X","Clinical Nurse Specialist: Transplantation","Credentialing Not Required","N"]
["364SW0102X","Clinical Nurse Specialist: Womens Health","Credentialing Not Required","N"]
["364SX0106X","Clinical Nurse Specialist: Occupational Health","Credentialing Not Required","N"]
["364SX0200X","Clinical Nurse Specialist: Oncology","Credentialing Not Required","N"]
["364SX0204X","Clinical Nurse Specialist: Oncology, Pediatrics","Credentialing Not Required","N"]
["367500000X","Nurse Anesthetist, Certified Registered","Credentialing Not Required","N"]
["367A00000X","Advanced Practice Midwife","Credentialing Required  ","Y"]
["367H00000X","Anesthesiologist Assistant","Credentialing Not Required","N"]
["372500000X","Chore Provider","Credentialing Not Required","N"]
["372600000X","Adult Companion","Credentialing Required  ","Y"]
["373H00000X","Day Training/Habilitation Specialist","Credentialing Required  ","Y"]
["374700000X","Technician","Specialty Ineligible for Enrollment","N"]
["3747A0650X","Technician: Attendant Care Provider","Credentialing Not Required","N"]
["3747P1801X","Technician: Personal Care Attendant","Credentialing Not Required","N"]
["374J00000X","Doula","Credentialing Required  ","Y"]
["374K00000X","Religious Nonmedical Practitioner","Credentialing Required  ","Y"]
["374T00000X","Christian Science Practitioner/Nurse","Credentialing Not Required","N"]
["374U00000X","Home Health Aide","Credentialing Required  ","Y"]
["376G00000X","Nursing Home Administrator","Credentialing Not Required","N"]
["376J00000X","Homemaker","Credentialing Required  ","Y"]
["376K00000X","Nurses  Aide","Credentialing Not Required","N"]
["385H00000X","Respite Care","Credentialing Required  ","Y"]
["385HR2050X","Respite Care: Respite Care Camp","Credentialing Required  ","Y"]
["385HR2055X","Respite Care: Respite Care, Mental Illness, Child","Credentialing Required  ","Y"]
["385HR2060X","Respite Care: Respite Care, Mental Retardation and/or Developmental Disabilities, Child","Credentialing Required  ","Y"]
["385HR2065X","Respite Care: Respite Care, Physical Disabilities, Child","Credentialing Required  ","Y"]
["390200000X","Student in an Organized Health Care Education/Training Program","Credentialing Not Required","N"]
["405300000X","Prevention Professional","Credentialing Required  ","Y"]

{"sheet":"Sheet2","index":6,"n_rows":888,"n_cols":8,"rows_kept":888,"cut":false,"hidden":true,"merged":[]}
[null,"Provider Type Code","Provider Specialty Code","Provider Type Description","Provider Specialty Description","Taxonomy Code","Taxonomy Description"]
[{"$f":"CLEAN(F2)","v":"282N00000X"},{"$f":"\"01\"","v":"01"},{"$f":"\"200\"","v":"200"},"GENERAL HOSPITAL","HOSPITAL WITH BIRTH/DELIVERY SERVICES","282N00000X","GENERAL ACUTE CARE HOSPITAL",{"$f":"_xlfn.TEXTJOIN(\", \", TRUE, IF($A$2:$A$4=D1, $B$2:$B$4, \"\"))","v":""}]
[{"$f":"CLEAN(F3)","v":"282NW0100X"},"01",{"$f":"\"200\"","v":"200"},"GENERAL HOSPITAL","HOSPITAL WITH BIRTH/DELIVERY SERVICES","282NW0100X","GENERAL ACUTE CARE HOSPITAL - WOMEN"]
["284300000X","01",{"$f":"\"200\"","v":"200"},"GENERAL HOSPITAL","HOSPITAL WITH BIRTH/DELIVERY SERVICES","284300000X","SPECIAL HOSPITAL"]
["282N00000X","01",{"$f":"\"201\"","v":"201"},"GENERAL HOSPITAL","EMERGENCY SERVICES","282N00000X","GENERAL ACUTE CARE HOSPITAL"]
["284300000X","01",{"$f":"\"201\"","v":"201"},"GENERAL HOSPITAL","EMERGENCY SERVICES","284300000X","SPECIAL HOSPITAL"]
["284300000X","01",{"$f":"\"210\"","v":"210"},"GENERAL HOSPITAL","PSYCHIATRIC COMMUNITY HOSPITAL/CSU CAP ONLY ADULT","284300000X","SPECIAL HOSPITAL"]
["284300000X","01",{"$f":"\"211\"","v":"211"},"GENERAL HOSPITAL","PSYCHIATRIC COMMUNITY HOSPITAL/CSU CAP ONLY CHILD","284300000X","SPECIAL HOSPITAL"]
["261QC0050X","01",{"$f":"\"901\"","v":"901"},"GENERAL HOSPITAL","GENERAL HOSPITAL","261QC0050X","CLINIC/CENTER - CRITICAL ACCESS HOSPITAL"]
["273100000X","01","901","GENERAL HOSPITAL","GENERAL HOSPITAL","273100000X","EPILEPSY UNIT"]
["273R00000X","01","901","GENERAL HOSPITAL","GENERAL HOSPITAL","273R00000X","PSYCHIATRIC UNIT"]
["273Y00000X","01","901","GENERAL HOSPITAL","GENERAL HOSPITAL","273Y00000X","REHABILITATION UNIT"]
["276400000X","01","901","GENERAL HOSPITAL","GENERAL HOSPITAL","276400000X","REHABILITATION, SUBSTANCE USE DISORDER UNIT"]
["282N00000X","01","901","GENERAL HOSPITAL","GENERAL HOSPITAL","282N00000X","GENERAL ACUTE CARE HOSPITAL"]
["282NC0060X","01","901","GENERAL HOSPITAL","GENERAL HOSPITAL","282NC0060X","GENERAL ACUTE CARE HOSPITAL - CRITICAL ACCESS"]
["282NC2000X","01","901","GENERAL HOSPITAL","GENERAL HOSPITAL","282NC2000X","GENERAL ACUTE CARE HOSPITAL - CHILDREN"]
["282NR1301X","01","901","GENERAL HOSPITAL","GENERAL HOSPITAL","282NR1301X","GENERAL ACUTE CARE HOSPITAL - RURAL"]
["282NW0100X","01","901","GENERAL HOSPITAL","GENERAL HOSPITAL","282NW0100X","GENERAL ACUTE CARE HOSPITAL - WOMEN"]
["284300000X","01","901","GENERAL HOSPITAL","GENERAL HOSPITAL","284300000X","SPECIAL HOSPITAL"]
["283Q00000X",{"$f":"\"04\"","v":"04"},{"$f":"\"904\"","v":"904"},"STATE MENTAL HOSPITAL","STATE MENTAL HOSPITAL","283Q00000X","PSYCHIATRIC HOSPITAL"]
["251S00000X",{"$f":"\"05\"","v":"05"},{"$f":"\"905\"","v":"905"},"COMMUNITY BEHAVIORAL HEALTH SERVICES","COMMUNITY MENTAL HEALTH SERVICES","251S00000X","COMMUNITY/BEHAVIORAL HEALTH"]
["261QC1500X",{"$f":"\"05\"","v":"05"},{"$f":"\"905\"","v":"905"},"COMMUNITY BEHAVIORAL HEALTH SERVICES","COMMUNITY MENTAL HEALTH SERVICES","261QC1500X","CLINIC/CENTER - COMMUNITY HEALTH"]
["261QM0801X",{"$f":"\"05\"","v":"05"},{"$f":"\"905\"","v":"905"},"COMMUNITY BEHAVIORAL HEALTH SERVICES","COMMUNITY MENTAL HEALTH SERVICES","261QM0801X","CLINIC/CENTER - MENTAL HEALTH (INCLUDING COMMUNITY MENTAL HEALTH CENTER)"]
["261QM0850X",{"$f":"\"05\"","v":"05"},{"$f":"\"905\"","v":"905"},"COMMUNITY BEHAVIORAL HEALTH SERVICES","COMMUNITY MENTAL HEALTH SERVICES","261QM0850X","CLINIC/CENTER - ADULT MENTAL HEALTH"]
["261QM0855X",{"$f":"\"05\"","v":"05"},{"$f":"\"905\"","v":"905"},"COMMUNITY BEHAVIORAL HEALTH SERVICES","COMMUNITY MENTAL HEALTH SERVICES","261QM0855X","CLINIC/CENTER - ADOLESCENT AND CHILDREN MENTAL HEALTH"]
["261Q00000X",{"$f":"\"06\"","v":"06"},{"$f":"\"906\"","v":"906"},"AMBULATORY HEALTH CARE FACILITY","AMBULATORY SURGERY CENTER","261Q00000X","CLINIC/CENTER"]
["261QA0005X","06","906","AMBULATORY HEALTH CARE FACILITY","AMBULATORY SURGERY CENTER","261QA0005X","CLINIC/CENTER - AMBULATORY FAMILY PLANNING FACILITY"]
["261QA0006X","06","906","AMBULATORY HEALTH CARE FACILITY","AMBULATORY SURGERY CENTER","261QA0006X","CLINIC/CENTER - AMBULATORY FERTILITY FACILITY"]
["261QA1903X","06","906","AMBULATORY HEALTH CARE FACILITY","AMBULATORY SURGERY CENTER","261QA1903X","CLINIC/CENTER - AMBULATORY SURGICAL"]
["261QD0000X","06","906","AMBULATORY HEALTH CARE FACILITY","AMBULATORY SURGERY CENTER","261QD0000X","CLINIC/CENTER - DENTAL"]
["261QE0800X","06","906","AMBULATORY HEALTH CARE FACILITY","AMBULATORY SURGERY CENTER","261QE0800X","CLINIC/CENTER - ENDOSCOPY"]
["261QF0050X","06","906","AMBULATORY HEALTH CARE FACILITY","AMBULATORY SURGERY CENTER","261QF0050X","CLINIC/CENTER - FAMILY PLANNING, NON-SURGICAL"]
["261QG0250X","06","906","AMBULATORY HEALTH CARE FACILITY","AMBULATORY SURGERY CENTER","261QG0250X","CLINIC/CENTER - GENETICS"]
["261QL0400X","06","906","AMBULATORY HEALTH CARE FACILITY","AMBULATORY SURGERY CENTER","261QL0400X","CLINIC/CENTER - LITHOTRIPSY"]
["101YM0800X",{"$f":"\"07\"","v":"07"},{"$f":"\"066\"","v":"066"},"SPECIALIZED THERAPEUTIC SERVICES","COMPREHENSIVE BEHAVIORAL HEALTH ASSESSMENT","101YM0800X","COUNSELOR - MENTAL HEALTH"]
["103T00000X",{"$f":"\"07\"","v":"07"},{"$f":"\"066\"","v":"066"},"SPECIALIZED THERAPEUTIC SERVICES","COMPREHENSIVE BEHAVIORAL HEALTH ASSESSMENT","103T00000X","PSYCHOLOGIST"]
["253J00000X",{"$f":"\"07\"","v":"07"},{"$f":"\"067\"","v":"067"},"SPECIALIZED THERAPEUTIC SERVICES","SPECIALIZED THERAPEUTIC FOSTER CARE","253J00000X","FOSTER CARE AGENCY"]
["101YM0800X",{"$f":"\"07\"","v":"07"},{"$f":"\"907\"","v":"907"},"SPECIALIZED THERAPEUTIC SERVICES","SPECIALIZED THERAPEUTIC SERVICES","101YM0800X","COUNSELOR - MENTAL HEALTH"]
["103T00000X",{"$f":"\"07\"","v":"07"},{"$f":"\"907\"","v":"907"},"SPECIALIZED THERAPEUTIC SERVICES","SPECIALIZED THERAPEUTIC SERVICES","103T00000X","PSYCHOLOGIST"]
["251300000X",{"$f":"\"08\"","v":"08"},{"$f":"\"908\"","v":"908"},"SCHOOL DISTRICT","SCHOOL DISTRICT","251300000X","LOCAL EDUCATION AGENCY (LEA)"]
["313M00000X",{"$f":"\"09\"","v":"09"},{"$f":"\"909\"","v":"909"},"HOSPITAL-BASED SKILLED NURSING FACILITY","HOSPITAL-BASED SKILLED NURSING FACILITY","313M00000X","NURSING FACILITY/INTERMEDIATE CARE FACILITY"]
["311500000X",{"$f":"\"10\"","v":"10"},{"$f":"\"910\"","v":"910"},"SKILLED NURSING FACILITY","SKILLED NURSING FACILITY","311500000X","ALZHEIMER CENTER (DEMENTIA CENTER)"]
["313M00000X",{"$f":"\"10\"","v":"10"},{"$f":"\"910\"","v":"910"},"SKILLED NURSING FACILITY","SKILLED NURSING FACILITY","313M00000X","NURSING FACILITY/INTERMEDIATE CARE FACILITY"]
["314000000X",{"$f":"\"10\"","v":"10"},{"$f":"\"910\"","v":"910"},"SKILLED NURSING FACILITY","SKILLED NURSING FACILITY","314000000X","SKILLED NURSING FACILITY"]
["3140N1450X",{"$f":"\"10\"","v":"10"},{"$f":"\"910\"","v":"910"},"SKILLED NURSING FACILITY","SKILLED NURSING FACILITY","3140N1450X","SKILLED NURSING FACILITY - NURSING CARE, PEDIATRIC"]
["310500000X",{"$f":"\"11\"","v":"11"},{"$f":"\"911\"","v":"911"},"STATE ICF/DD FACILITY","STATE ICF/DD FACILITY","310500000X","INTERMEDIATE CARE FACILITY, MENTAL ILLNESS"]
["315P00000X",{"$f":"\"11\"","v":"11"},{"$f":"\"911\"","v":"911"},"STATE ICF/DD FACILITY","STATE ICF/DD FACILITY","315P00000X","INTERMEDIATE CARE FACILITY, MENTALLY RETARDED"]
["320600000X",{"$f":"\"11\"","v":"11"},{"$f":"\"911\"","v":"911"},"STATE ICF/DD FACILITY","STATE ICF/DD FACILITY","320600000X","RESIDENTIAL TREATMENT FACILITY, MENTAL RETARDATION AND/OR DEVELOPMENTAL DISABILITIES"]
["320700000X",{"$f":"\"11\"","v":"11"},{"$f":"\"911\"","v":"911"},"STATE ICF/DD FACILITY","STATE ICF/DD FACILITY","320700000X","RESIDENTIAL TREATMENT FACILITY, PHYSICAL DISABILITIES"]
["310500000X",{"$f":"\"12\"","v":"12"},{"$f":"\"912\"","v":"912"},"PRIVATE ICF/DD FACILITY","PRIVATE ICF/DD FACILITY","310500000X","INTERMEDIATE CARE FACILITY, MENTAL ILLNESS"]
["315P00000X",{"$f":"\"12\"","v":"12"},{"$f":"\"912\"","v":"912"},"PRIVATE ICF/DD FACILITY","PRIVATE ICF/DD FACILITY","315P00000X","INTERMEDIATE CARE FACILITY, MENTALLY RETARDED"]
["320600000X",{"$f":"\"12\"","v":"12"},{"$f":"\"912\"","v":"912"},"PRIVATE ICF/DD FACILITY","PRIVATE ICF/DD FACILITY","320600000X","RESIDENTIAL TREATMENT FACILITY, MENTAL RETARDATION AND/OR DEVELOPMENTAL DISABILITIES"]
["320700000X",{"$f":"\"12\"","v":"12"},{"$f":"\"912\"","v":"912"},"PRIVATE ICF/DD FACILITY","PRIVATE ICF/DD FACILITY","320700000X","RESIDENTIAL TREATMENT FACILITY, PHYSICAL DISABILITIES"]
["275N00000X",{"$f":"\"13\"","v":"13"},{"$f":"\"913\"","v":"913"},"RURAL HOSPITAL SWING BED FACILITY","RURAL HOSPITAL SWING BED FACILITY","275N00000X","MEDICARE DEFINED SWING BED UNIT"]
["310400000X",{"$f":"\"14\"","v":"14"},{"$f":"\"121\"","v":"121"},"ASSISTIVE CARE SERVICES","ASSISTED LIVING","310400000X","ASSISTED LIVING FACILITY"]
["3104A0630X","14",{"$f":"\"121\"","v":"121"},"ASSISTIVE CARE SERVICES","ASSISTED LIVING","3104A0630X","ASSISTED LIVING FACILITY - ASSISTED LIVING, BEHAVIORAL DISTURBANCES"]
["311Z00000X","14",{"$f":"\"121\"","v":"121"},"ASSISTIVE CARE SERVICES","ASSISTED LIVING","311Z00000X","CUSTODIAL CARE FACILITY"]
["310400000X","14",{"$f":"\"122\"","v":"122"},"ASSISTIVE CARE SERVICES","EXTENDED CONGREGATE CARE","310400000X","ASSISTED LIVING FACILITY"]
["311Z00000X","14",{"$f":"\"122\"","v":"122"},"ASSISTIVE CARE SERVICES","EXTENDED CONGREGATE CARE","311Z00000X","CUSTODIAL CARE FACILITY"]
["310400000X","14",{"$f":"\"123\"","v":"123"},"ASSISTIVE CARE SERVICES","LIMITED NURSING SPECIALTY LICENSE","310400000X","ASSISTED LIVING FACILITY"]
["311Z00000X","14",{"$f":"\"123\"","v":"123"},"ASSISTIVE CARE SERVICES","LIMITED NURSING SPECIALTY LICENSE","311Z00000X","CUSTODIAL CARE FACILITY"]
["3104A0625X","14",{"$f":"\"124\"","v":"124"},"ASSISTIVE CARE SERVICES","LIMITED MENTAL HEALTH SPECIALTY LICENSE","3104A0625X","ASSISTED LIVING FACILITY - ASSISTED LIVING, MENTAL ILLNESS"]
["311Z00000X","14",{"$f":"\"124\"","v":"124"},"ASSISTIVE CARE SERVICES","LIMITED MENTAL HEALTH SPECIALTY LICENSE","311Z00000X","CUSTODIAL CARE FACILITY"]
["311ZA0620X","14",{"$f":"\"125\"","v":"125"},"ASSISTIVE CARE SERVICES","ADULT FAMILY CARE HOME","311ZA0620X","CUSTODIAL CARE FACILITY - ADULT CARE HOME"]
["310400000X","14",{"$f":"\"126\"","v":"126"},"ASSISTIVE CARE SERVICES","RESIDENTIAL TREATMENT FACILITY","310400000X","ASSISTED LIVING FACILITY"]
["251X00000X","14",{"$f":"\"914\"","v":"914"},"ASSISTIVE CARE SERVICES","ASSISTIVE CARE SERVICES","251X00000X","SUPPORTS BROKERAGE"]
[{"$f":"CLEAN(F67)","v":"310400000X"},"14",{"$f":"\"914\"","v":"914"},"ASSISTIVE CARE SERVICES","ASSISTIVE CARE SERVICES","310400000X","ASSISTED LIVING FACILITY"]
["3747A0650X","14",{"$f":"\"914\"","v":"914"},"ASSISTIVE CARE SERVICES","ASSISTIVE CARE SERVICES","3747A0650X","TECHNICIAN - ATTENDANT CARE PROVIDER"]
["251G00000X",{"$f":"\"15\"","v":"15"},{"$f":"\"915\"","v":"915"},"HOSPICE","HOSPICE","251G00000X","HOSPICE CARE, COMMUNITY BASED"]
["315D00000X",{"$f":"\"15\"","v":"15"},{"$f":"\"915\"","v":"915"},"HOSPICE","HOSPICE","315D00000X","HOSPICE, INPATIENT"]
["283Q00000X",{"$f":"\"16\"","v":"16"},{"$f":"\"300\"","v":"300"},"RESIDENTIAL AND FREESTANDING PSYCHIATRIC FACILITY","FREESTANDING PSYCHIATRIC HOSPITAL FOR CHILDREN","283Q00000X","PSYCHIATRIC HOSPITAL"]
["284300000X","16",{"$f":"\"300\"","v":"300"},"RESIDENTIAL AND FREESTANDING PSYCHIATRIC FACILITY","FREESTANDING PSYCHIATRIC HOSPITAL FOR CHILDREN","284300000X","SPECIAL HOSPITAL"]
["322D00000X","16",{"$f":"\"300\"","v":"300"},"RESIDENTIAL AND FREESTANDING PSYCHIATRIC FACILITY","FREESTANDING PSYCHIATRIC HOSPITAL FOR CHILDREN","322D00000X","RESIDENTIAL TREATMENT FACILITY, EMOTIONALLY DISTURBED CHILDREN"]
["283Q00000X","16",{"$f":"\"301\"","v":"301"},"RESIDENTIAL AND FREESTANDING PSYCHIATRIC FACILITY","FREESTANDING PSYCHIATRIC HOSPITAL FOR ADULTS","283Q00000X","PSYCHIATRIC HOSPITAL"]
["284300000X","16",{"$f":"\"301\"","v":"301"},"RESIDENTIAL AND FREESTANDING PSYCHIATRIC FACILITY","FREESTANDING PSYCHIATRIC HOSPITAL FOR ADULTS","284300000X","SPECIAL HOSPITAL"]
["283Q00000X","16",{"$f":"\"302\"","v":"302"},"RESIDENTIAL AND FREESTANDING PSYCHIATRIC FACILITY","ADDICTIONS RECEIVING FACILITIES","283Q00000X","PSYCHIATRIC HOSPITAL"]
["284300000X","16",{"$f":"\"302\"","v":"302"},"RESIDENTIAL AND FREESTANDING PSYCHIATRIC FACILITY","ADDICTIONS RECEIVING FACILITIES","284300000X","SPECIAL HOSPITAL"]
["324500000X","16",{"$f":"\"302\"","v":"302"},"RESIDENTIAL AND FREESTANDING PSYCHIATRIC FACILITY","ADDICTIONS RECEIVING FACILITIES","324500000X","SUBSTANCE ABUSE REHABILITATION FACILITY"]
["283Q00000X","16",{"$f":"\"303\"","v":"303"},"RESIDENTIAL AND FREESTANDING PSYCHIATRIC FACILITY","RESIDENTIAL TREATMENT CENTERS FOR CHILD/ADOLESCENT","283Q00000X","PSYCHIATRIC HOSPITAL"]
["284300000X","16",{"$f":"\"303\"","v":"303"},"RESIDENTIAL AND FREESTANDING PSYCHIATRIC FACILITY","RESIDENTIAL TREATMENT CENTERS FOR CHILD/ADOLESCENT","284300000X","SPECIAL HOSPITAL"]
["323P00000X","16",{"$f":"\"303\"","v":"303"},"RESIDENTIAL AND FREESTANDING PSYCHIATRIC FACILITY","RESIDENTIAL TREATMENT CENTERS FOR CHILD/ADOLESCENT","323P00000X","PSYCHIATRIC RESIDENTIAL TREATMENT FACILITY"]
["3245S0500X","16",{"$f":"\"303\"","v":"303"},"RESIDENTIAL AND FREESTANDING PSYCHIATRIC FACILITY","RESIDENTIAL TREATMENT CENTERS FOR CHILD/ADOLESCENT","3245S0500X","SUBSTANCE ABUSE REHABILITATION FACILITY - SUBSTANCE ABUSE TREATMENT, CHILDREN"]
["283Q00000X","16",{"$f":"\"304\"","v":"304"},"RESIDENTIAL AND FREESTANDING PSYCHIATRIC FACILITY","CRISIS STABILIZATION UNIT","283Q00000X","PSYCHIATRIC HOSPITAL"]
["284300000X","16",{"$f":"\"304\"","v":"304"},"RESIDENTIAL AND FREESTANDING PSYCHIATRIC FACILITY","CRISIS STABILIZATION UNIT","284300000X","SPECIAL HOSPITAL"]
["283Q00000X","16",{"$f":"\"305\"","v":"305"},"RESIDENTIAL AND FREESTANDING PSYCHIATRIC FACILITY","SHORT-TERM RESIDENTIAL TREATMENT","283Q00000X","PSYCHIATRIC HOSPITAL"]
["284300000X","16",{"$f":"\"305\"","v":"305"},"RESIDENTIAL AND FREESTANDING PSYCHIATRIC FACILITY","SHORT-TERM RESIDENTIAL TREATMENT","284300000X","SPECIAL HOSPITAL"]
["283Q00000X","16",{"$f":"\"306\"","v":"306"},"RESIDENTIAL AND FREESTANDING PSYCHIATRIC FACILITY","PSYCHIATRIC RESIDENTIAL TREATEMENT FACILITY","283Q00000X","PSYCHIATRIC HOSPITAL"]
["284300000X","16",{"$f":"\"306\"","v":"306"},"RESIDENTIAL AND FREESTANDING PSYCHIATRIC FACILITY","PSYCHIATRIC RESIDENTIAL TREATEMENT FACILITY","284300000X","SPECIAL HOSPITAL"]
["284300000X","16",{"$f":"\"916\"","v":"916"},"RESIDENTIAL AND FREESTANDING PSYCHIATRIC FACILITY","SIPP","284300000X","SPECIAL HOSPITAL"]
["323P00000X","16",{"$f":"\"916\"","v":"916"},"RESIDENTIAL AND FREESTANDING PSYCHIATRIC FACILITY","SIPP","323P00000X","PSYCHIATRIC RESIDENTIAL TREATMENT FACILITY"]
["333600000X",{"$f":"\"20\"","v":"20"},{"$f":"\"150\"","v":"150"},"PRESCRIBED DRUG SERVICES","COMMUNITY PHARMACY","333600000X","PHARMACY"]
["3336C0003X","20",{"$f":"\"150\"","v":"150"},"PRESCRIBED DRUG SERVICES","COMMUNITY PHARMACY","3336C0003X","PHARMACY - COMMUNITY/RETAIL PHARMACY"]
["3336C0004X","20",{"$f":"\"150\"","v":"150"},"PRESCRIBED DRUG SERVICES","COMMUNITY PHARMACY","3336C0004X","PHARMACY - COMPOUNDING PHARMACY"]
["261QI0500X","20",{"$f":"\"151\"","v":"151"},"PRESCRIBED DRUG SERVICES","INFUSION PHARMACY","261QI0500X","CLINIC/CENTER - INFUSION THERAPY"]
["3336H0001X","20",{"$f":"\"151\"","v":"151"},"PRESCRIBED DRUG SERVICES","INFUSION PHARMACY","3336H0001X","PHARMACY - HOME INFUSION THERAPY PHARMACY"]
["3336L0003X","20",{"$f":"\"152\"","v":"152"},"PRESCRIBED DRUG SERVICES","LTC - NON COMMUNITY","3336L0003X","PHARMACY - LONG TERM CARE PHARMACY"]
["3336C0002X","20",{"$f":"\"153\"","v":"153"},"PRESCRIBED DRUG SERVICES","INSTITUTIONAL CLASS I PHARMACY (HOSPITAL/NH)","3336C0002X","PHARMACY - CLINIC PHARMACY"]
["3336I0012X","20",{"$f":"\"153\"","v":"153"},"PRESCRIBED DRUG SERVICES","INSTITUTIONAL CLASS I PHARMACY (HOSPITAL/NH)","3336I0012X","PHARMACY - INSTITUTIONAL PHARMACY"]
["3336C0003X","20",{"$f":"\"154\"","v":"154"},"PRESCRIBED DRUG SERVICES","TAX SUPPORTED","3336C0003X","PHARMACY - COMMUNITY/RETAIL PHARMACY"]
["3336C0003X","20",{"$f":"\"155\"","v":"155"},"PRESCRIBED DRUG SERVICES","340B PHARMACY","3336C0003X","PHARMACY - COMMUNITY/RETAIL PHARMACY"]
["332900000X","20",{"$f":"\"156\"","v":"156"},"PRESCRIBED DRUG SERVICES","DISPENSING PRACTITIONER","332900000X","NON-PHARMACY DISPENSING SITE"]
["3336N0007X","20",{"$f":"\"157\"","v":"157"},"PRESCRIBED DRUG SERVICES","NUCLEAR PHARMACY","3336N0007X","PHARMACY - NUCLEAR PHARMACY"]
["3336S0011X","20",{"$f":"\"158\"","v":"158"},"PRESCRIBED DRUG SERVICES","SPECIAL PHARMACY (PARENTERAL, ALF, CLSD SYS, ESRD)","3336S0011X","PHARMACY - SPECIALTY PHARMACY"]
["3747P1801X",{"$f":"\"23\"","v":"23"},{"$f":"\"923\"","v":"923"},"MEDICAL FOSTER CARE/ PERSONAL CARE PROVIDER","MEDICAL FOSTER CARE/ PERSONAL CARE PROVIDER","3747P1801X","TECHNICIAN - PERSONAL CARE ATTENDANT"]
["261QM3000X",{"$f":"\"24\"","v":"24"},{"$f":"\"924\"","v":"924"},"PRESCRIBED PEDIATRIC EXTENDED CARE (PPECC)","PRESCRIBED PEDIATRIC EXTENDED CARE (PPECC)","261QM3000X","CLINIC/CENTER - MEDICALLY FRAGILE INTANTS AND CHILDREN DAY CARE"]
["207QA0000X",{"$f":"\"25\"","v":"25"},{"$f":"\"001\"","v":"001"},"PHYSICIAN (M.D.)","ADOLESCENT MEDICINE","207QA0000X","FAMILY MEDICINE - ADOLESCENT MEDICINE"]
["207RA0000X","25",{"$f":"\"001\"","v":"001"},"PHYSICIAN (M.D.)","ADOLESCENT MEDICINE","207RA0000X","INTERNAL MEDICINE - ADOLESCENT MEDICINE"]
["2080A0000X","25",{"$f":"\"001\"","v":"001"},"PHYSICIAN (M.D.)","ADOLESCENT MEDICINE","2080A0000X","PEDIATRICS - ADOLESCENT MEDICINE"]
["2084E0001X","25",{"$f":"\"001\"","v":"001"},"PHYSICIAN (M.D.)","ADOLESCENT MEDICINE","2084E0001X","EPILEPSY PHYSICIAN"]
["207K00000X","25",{"$f":"\"002\"","v":"002"},"PHYSICIAN (M.D.)","ALLERGY","207K00000X","ALLERGY & IMMUNOLOGY"]
["207KA0200X","25",{"$f":"\"002\"","v":"002"},"PHYSICIAN (M.D.)","ALLERGY","207KA0200X","ALLERGY & IMMUNOLOGY - ALLERGY"]
["207L00000X","25",{"$f":"\"003\"","v":"003"},"PHYSICIAN (M.D.)","ANESTHESIOLOGY","207L00000X","ANESTHESIOLOGY"]
["207LA0401X","25","003","PHYSICIAN (M.D.)","ANESTHESIOLOGY","207LA0401X","ANESTHESIOLOGY - ADDICTION MEDICINE"]
["207LC0200X","25","003","PHYSICIAN (M.D.)","ANESTHESIOLOGY","207LC0200X","ANESTHESIOLOGY - CRITICAL CARE MEDICINE"]
["207LH0002X","25","003","PHYSICIAN (M.D.)","ANESTHESIOLOGY","207LH0002X","ANESTHESIOLOGY - HOSPICE AND PALLIATIVE MEDICINE"]
["207LP2900X","25","003","PHYSICIAN (M.D.)","ANESTHESIOLOGY","207LP2900X","ANESTHESIOLOGY - PAIN MEDICINE"]
["207LP3000X","25","003","PHYSICIAN (M.D.)","ANESTHESIOLOGY","207LP3000X","ANESTHESIOLOGY - PEDIATRIC ANESTHESIOLOGY"]
["207RC0000X","25",{"$f":"\"004\"","v":"004"},"PHYSICIAN (M.D.)","CARDIOVASCULAR MEDICINE","207RC0000X","INTERNAL MEDICINE - CARDIOVASCULAR DISEASE"]
["207RC0001X","25",{"$f":"\"004\"","v":"004"},"PHYSICIAN (M.D.)","CARDIOVASCULAR MEDICINE","207RC0001X","INTERNAL MEDICINE - CLINICAL CARDIAC ELECTROPHYSIOLOGY"]
["207RI0011X","25",{"$f":"\"004\"","v":"004"},"PHYSICIAN (M.D.)","CARDIOVASCULAR MEDICINE","207RI0011X","INTERNAL MEDICINE - INTERVENTIONAL CARDIOLOGY"]
["207N00000X","25",{"$f":"\"005\"","v":"005"},"PHYSICIAN (M.D.)","DERMATOLOGY","207N00000X","DERMATOLOGY"]
["207ND0101X","25","005","PHYSICIAN (M.D.)","DERMATOLOGY","207ND0101X","DERMATOLOGY - MOHS-MICROGRAPHIC SURGERY"]
["207ND0900X","25","005","PHYSICIAN (M.D.)","DERMATOLOGY","207ND0900X","DERMATOLOGY - DERMATOPATHOLOGY"]
["207NI0002X","25","005","PHYSICIAN (M.D.)","DERMATOLOGY","207NI0002X","DERMATOLOGY - CLINICAL & LABORATORY DERMATOLOGICAL IMMUNOLOGY"]
["207NP0225X","25","005","PHYSICIAN (M.D.)","DERMATOLOGY","207NP0225X","DERMATOLOGY - PEDIATRIC DERMATOLOGY"]
["207NS0135X","25","005","PHYSICIAN (M.D.)","DERMATOLOGY","207NS0135X","DERMATOLOGY - PROCEDURAL DERMATOLOGY"]
["207RE0101X","25",{"$f":"\"006\"","v":"006"},"PHYSICIAN (M.D.)","DIABETES","207RE0101X","INTERNAL MEDICINE - ENDOCRINOLOGY, DIABETES & METABOLISM"]
["207P00000X","25",{"$f":"\"007\"","v":"007"},"PHYSICIAN (M.D.)","EMERGENCY MEDICINE","207P00000X","EMERGENCY MEDICINE"]
["207PE0004X","25","007","PHYSICIAN (M.D.)","EMERGENCY MEDICINE","207PE0004X","EMERGENCY MEDICINE - EMERGENCY MEDICAL SERVICES"]
["207PE0005X","25","007","PHYSICIAN (M.D.)","EMERGENCY MEDICINE","207PE0005X","EMERGENCY MEDICINE - UNDERSEA AND HYPERBARIC MEDICINE"]
[{"$f":"CLEAN(F131)","v":"207PH0002X"},"25","007","PHYSICIAN (M.D.)","EMERGENCY MEDICINE","207PH0002X","EMERGENCY MEDICINE - HOSPICE AND PALLIATIVE MEDICINE"]
["207PP0204X","25","007","PHYSICIAN (M.D.)","EMERGENCY MEDICINE","207PP0204X","EMERGENCY MEDICINE - PEDIATRIC EMERGENCY MEDICINE"]
["207PS0010X","25","007","PHYSICIAN (M.D.)","EMERGENCY MEDICINE","207PS0010X","EMERGENCY MEDICINE - SPORTS MEDICINE"]
["207PT0002X","25","007","PHYSICIAN (M.D.)","EMERGENCY MEDICINE","207PT0002X","EMERGENCY MEDICINE - MEDICAL TOXICOLOGY"]
["207RE0101X","25",{"$f":"\"008\"","v":"008"},"PHYSICIAN (M.D.)","ENDOCRINOLOGY","207RE0101X","INTERNAL MEDICINE - ENDOCRINOLOGY, DIABETES & METABOLISM"]
["202D00000X","25",{"$f":"\"009\"","v":"009"},"PHYSICIAN (M.D.)","FAMILY PRACTICE","202D00000X","INTEGRATIVE MEDICINE"]
["207Q00000X","25","009","PHYSICIAN (M.D.)","FAMILY PRACTICE","207Q00000X","FAMILY MEDICINE"]
["207QA0401X","25","009","PHYSICIAN (M.D.)","FAMILY PRACTICE","207QA0401X","FAMILY MEDICINE - ADDICTION MEDICINE"]
["207QA0505X","25","009","PHYSICIAN (M.D.)","FAMILY PRACTICE","207QA0505X","FAMILY MEDICINE - ADULT MEDICINE"]
["207QB0002X","25","009","PHYSICIAN (M.D.)","FAMILY PRACTICE","207QB0002X","FAMILY MEDICINE - OBESITY MEDICINE"]
["207QH0002X","25","009","PHYSICIAN (M.D.)","FAMILY PRACTICE","207QH0002X","FAMILY MEDICINE - HOSPICE AND PALLIATIVE MEDICINE"]
["207QS0010X","25","009","PHYSICIAN (M.D.)","FAMILY PRACTICE","207QS0010X","FAMILY MEDICINE - SPORTS MEDICINE"]
["207QS1201X","25","009","PHYSICIAN (M.D.)","FAMILY PRACTICE","207QS1201X","FAMILY MEDICINE - SLEEP MEDICINE"]
["207RG0100X","25",{"$f":"\"010\"","v":"010"},"PHYSICIAN (M.D.)","GASTROENTEROLOGY","207RG0100X","INTERNAL MEDICINE - GASTROENTEROLOGY"]
["207RT0003X","25",{"$f":"\"010\"","v":"010"},"PHYSICIAN (M.D.)","GASTROENTEROLOGY","207RT0003X","INTERNAL MEDICINE - TRANSPLANT HEPATOLOGY"]
["202D00000X","25",{"$f":"\"011\"","v":"011"},"PHYSICIAN (M.D.)","GENERAL PRACTICE (DEFAULT SPEC FOR PHYS)","202D00000X","INTEGRATIVE MEDICINE"]
["2084E0001X","25",{"$f":"\"011\"","v":"011"},"PHYSICIAN (M.D.)","GENERAL PRACTICE (DEFAULT SPEC FOR PHYS)","2084E0001X","EPILEPSY PHYSICIAN"]
["208D00000X","25",{"$f":"\"011\"","v":"011"},"PHYSICIAN (M.D.)","GENERAL PRACTICE (DEFAULT SPEC FOR PHYS)","208D00000X","GENERAL PRACTICE"]
["202D00000X","25",{"$f":"\"012\"","v":"012"},"PHYSICIAN (M.D.)","PREVENTIVE MEDICINE","202D00000X","INTEGRATIVE MEDICINE"]
["207RA0401X","25","012","PHYSICIAN (M.D.)","PREVENTIVE MEDICINE","207RA0401X","INTERNAL MEDICINE - ADDICTION MEDICINE"]
["2083A0100X","25","012","PHYSICIAN (M.D.)","PREVENTIVE MEDICINE","2083A0100X","PREVENTIVE MEDICINE - AEROSPACE MEDICINE"]
["2083B0002X","25","012","PHYSICIAN (M.D.)","PREVENTIVE MEDICINE","2083B0002X","PREVENTIVE MEDICINE - OBESITY MEDICINE"]
["2083C0008X","25","012","PHYSICIAN (M.D.)","PREVENTIVE MEDICINE","2083C0008X","PREVENTIVE MEDICINE - CLINICAL INFORMATICS"]
["2083P0011X","25","012","PHYSICIAN (M.D.)","PREVENTIVE MEDICINE","2083P0011X","PREVENTIVE MEDICINE - UNDERSEA AND HYPERBARIC MEDICINE"]
["2083P0500X","25","012","PHYSICIAN (M.D.)","PREVENTIVE MEDICINE","2083P0500X","PREVENTIVE MEDICINE - PREVENTIVE MEDICINE/OCCUPATIONAL ENVIRONMENTAL MEDICINE"]
["2083P0901X","25","012","PHYSICIAN (M.D.)","PREVENTIVE MEDICINE","2083P0901X","PREVENTIVE MEDICINE - PUBLIC HEALTH & GENERAL PREVENTIVE MEDICINE"]
["2083S0010X","25","012","PHYSICIAN (M.D.)","PREVENTIVE MEDICINE","2083S0010X","PREVENTIVE MEDICINE - SPORTS MEDICINE"]
["2083T0002X","25","012","PHYSICIAN (M.D.)","PREVENTIVE MEDICINE","2083T0002X","PREVENTIVE MEDICINE - MEDICAL TOXICOLOGY"]
["207QG0300X","25",{"$f":"\"013\"","v":"013"},"PHYSICIAN (M.D.)","GERIATRICS","207QG0300X","FAMILY MEDICINE - GERIATRIC MEDICINE"]
["207RG0300X","25",{"$f":"\"013\"","v":"013"},"PHYSICIAN (M.D.)","GERIATRICS","207RG0300X","INTERNAL MEDICINE - GERIATRIC MEDICINE"]
["207VG0400X","25",{"$f":"\"014\"","v":"014"},"PHYSICIAN (M.D.)","GYNECOLOGY","207VG0400X","OBSTETRICS & GYNECOLOGY - GYNECOLOGY"]
["207VX0201X","25",{"$f":"\"014\"","v":"014"},"PHYSICIAN (M.D.)","GYNECOLOGY","207VX0201X","OBSTETRICS & GYNECOLOGY - GYNECOLOGIC ONCOLOGY"]
["207RH0000X","25",{"$f":"\"015\"","v":"015"},"PHYSICIAN (M.D.)","HEMATOLOGY","207RH0000X","INTERNAL MEDICINE - HEMATOLOGY"]
["207ZH0000X","25",{"$f":"\"015\"","v":"015"},"PHYSICIAN (M.D.)","HEMATOLOGY","207ZH0000X","PATHOLOGY - HEMATOLOGY"]
["207KI0005X","25",{"$f":"\"016\"","v":"016"},"PHYSICIAN (M.D.)","IMMUNOLOGY","207KI0005X","ALLERGY & IMMUNOLOGY - CLINICAL & LABORATORY IMMUNOLOGY"]
["207RI0001X","25",{"$f":"\"016\"","v":"016"},"PHYSICIAN (M.D.)","IMMUNOLOGY","207RI0001X","INTERNAL MEDICINE - CLINICAL & LABORATORY IMMUNOLOGY"]
["207RI0200X","25",{"$f":"\"017\"","v":"017"},"PHYSICIAN (M.D.)","INFECTIOUS DISEASES","207RI0200X","INTERNAL MEDICINE - INFECTIOUS DISEASE"]
["202D00000X","25",{"$f":"\"018\"","v":"018"},"PHYSICIAN (M.D.)","INTERNAL MEDICINE","202D00000X","INTEGRATIVE MEDICINE"]
["207R00000X","25","018","PHYSICIAN (M.D.)","INTERNAL MEDICINE","207R00000X","INTERNAL MEDICINE"]
["207RA0401X",{"$f":"\"25\"","v":"25"},"018","PHYSICIAN (M.D.)","INTERNAL MEDICINE","207RA0401X","INTERNAL MEDICINE - ADDICTION MEDICINE"]
["207RB0002X","25","018","PHYSICIAN (M.D.)","INTERNAL MEDICINE","207RB0002X","INTERNAL MEDICINE - OBESITY MEDICINE"]
["207RC0200X","25","018","PHYSICIAN (M.D.)","INTERNAL MEDICINE","207RC0200X","INTERNAL MEDICINE - CRITICAL CARE MEDICINE"]
["207RH0002X","25","018","PHYSICIAN (M.D.)","INTERNAL MEDICINE","207RH0002X","INTERNAL MEDICINE - HOSPICE AND PALLIATIVE MEDICINE"]
["207RH0005X","25","018","PHYSICIAN (M.D.)","INTERNAL MEDICINE","207RH0005X","INTERNAL MEDICINE - HYPERTENSION SPECIALIST"]
["207RI0008X","25","018","PHYSICIAN (M.D.)","INTERNAL MEDICINE","207RI0008X","INTERNAL MEDICINE - HEPATOLOGY"]
["207RM1200X","25","018","PHYSICIAN (M.D.)","INTERNAL MEDICINE","207RM1200X","INTERNAL MEDICINE - MAGNETIC RESONANCE IMAGING (MRI)"]
["207RS0010X","25","018","PHYSICIAN (M.D.)","INTERNAL MEDICINE","207RS0010X","INTERNAL MEDICINE - SPORTS MEDICINE"]
["207RS0012X","25","018","PHYSICIAN (M.D.)","INTERNAL MEDICINE","207RS0012X","INTERNAL MEDICINE - SLEEP MEDICINE"]
["2084E0001X","25","018","PHYSICIAN (M.D.)","INTERNAL MEDICINE","2084E0001X","EPILEPSY PHYSICIAN"]
["261QI0500X","25","018","PHYSICIAN (M.D.)","INTERNAL MEDICINE","261QI0500X","CLINIC/CENTER - INFUSION THERAPY"]
["2080N0001X","25",{"$f":"\"019\"","v":"019"},"PHYSICIAN (M.D.)","NEONATAL/PERINATAL","2080N0001X","PEDIATRICS - NEONATAL-PERINATAL MEDICINE"]
["207RN0300X","25",{"$f":"\"021\"","v":"021"},"PHYSICIAN (M.D.)","NEPHROLOGY","207RN0300X","INTERNAL MEDICINE - NEPHROLOGY"]
["2084B0002X","25",{"$f":"\"022\"","v":"022"},"PHYSICIAN (M.D.)","NEUROLOGY","2084B0002X","PSYCHIATRY AND NEUROLOGY - OBESITY MEDICINE"]
["2084B0040X","25","022","PHYSICIAN (M.D.)","NEUROLOGY","2084B0040X","PSYCHIATRY AND NEUROLOGY - BEHAVIORAL NEUROLOGY AND NEUROPSYCHIATRY"]
["2084D0003X","25","022","PHYSICIAN (M.D.)","NEUROLOGY","2084D0003X","PSYCHIATRY & NEUROLOGY - DIAGNOSTIC NEUROIMAGING"]
["2084E0001X","25","022","PHYSICIAN (M.D.)","NEUROLOGY","2084E0001X","EPILEPSY PHYSICIAN"]
["2084H0002X","25","022","PHYSICIAN (M.D.)","NEUROLOGY","2084H0002X","PSYCHIATRY & NEUROLOGY - HOSPICE AND PALLIATIVE MEDICINE"]
["2084N0008X","25","022","PHYSICIAN (M.D.)","NEUROLOGY","2084N0008X","PSYCHIATRY & NEUROLOGY - NEUROMUSCULAR MEDICINE"]
["2084N0400X","25","022","PHYSICIAN (M.D.)","NEUROLOGY","2084N0400X","PSYCHIATRY & NEUROLOGY - NEUROLOGY"]
["2084N0600X","25","022","PHYSICIAN (M.D.)","NEUROLOGY","2084N0600X","PSYCHIATRY & NEUROLOGY - CLINICAL NEUROPHYSIOLOGY"]
["2084P0005X","25","022","PHYSICIAN (M.D.)","NEUROLOGY","2084P0005X","PSYCHIATRY & NEUROLOGY - NEURODEVELOPMENTAL DISABILITIES"]
["2084P0015X","25","022","PHYSICIAN (M.D.)","NEUROLOGY","2084P0015X","PSYCHIATRY & NEUROLOGY - PSYCHOSOMATIC MEDICINE"]
["2084P0301X","25","022","PHYSICIAN (M.D.)","NEUROLOGY","2084P0301X","PSYCHIATRY AND NEUROLOGY - BRAIN INJURY MEDICINE"]
["2084P0805X","25","022","PHYSICIAN (M.D.)","NEUROLOGY","2084P0805X","PSYCHIATRY & NEUROLOGY - GERIATRIC PSYCHIATRY"]
[{"$f":"CLEAN(F195)","v":"2084P2900X"},"25","022","PHYSICIAN (M.D.)","NEUROLOGY","2084P2900X","PSYCHIATRY & NEUROLOGY - PAIN MEDICINE"]
["2084S0010X","25","022","PHYSICIAN (M.D.)","NEUROLOGY","2084S0010X","PSYCHIATRY & NEUROLOGY - SPORTS MEDICINE"]
["2084S0012X","25","022","PHYSICIAN (M.D.)","NEUROLOGY","2084S0012X","PSYCHIATRY & NEUROLOGY - SLEEP MEDICINE"]
["2084V0102X","25","022","PHYSICIAN (M.D.)","NEUROLOGY","2084V0102X","PSYCHIATRY & NEUROLOGY - VASCULAR NEUROLOGY"]
["2084E0001X","25",{"$f":"\"023\"","v":"023"},"PHYSICIAN (M.D.)","NEUROLOGY/CHILDREN","2084E0001X","EPILEPSY PHYSICIAN"]
["2084N0402X","25",{"$f":"\"023\"","v":"023"},"PHYSICIAN (M.D.)","NEUROLOGY/CHILDREN","2084N0402X","PSYCHIATRY & NEUROLOGY - NEUROLOGY WITH SPECIAL QUALIFICATIONS IN CHILD NEUROLOGY"]
["2084P0005X","25",{"$f":"\"023\"","v":"023"},"PHYSICIAN (M.D.)","NEUROLOGY/CHILDREN","2084P0005X","PSYCHIATRY & NEUROLOGY - NEURODEVELOPMENTAL DISABILITIES"]
["2084P0301X","25",{"$f":"\"023\"","v":"023"},"PHYSICIAN (M.D.)","NEUROLOGY/CHILDREN","2084P0301X","PSYCHIATRY AND NEUROLOGY - BRAIN INJURY MEDICINE"]
["207ZN0500X","25",{"$f":"\"024\"","v":"024"},"PHYSICIAN (M.D.)","NEUROPATHOLOGY","207ZN0500X","PATHOLOGY - NEUROPATHOLOGY"]
["2084E0001X","25",{"$f":"\"024\"","v":"024"},"PHYSICIAN (M.D.)","NEUROPATHOLOGY","2084E0001X","EPILEPSY PHYSICIAN"]
["207VX0000X","25",{"$f":"\"026\"","v":"026"},"PHYSICIAN (M.D.)","OBSTETRICS","207VX0000X","OBSTETRICS & GYNECOLOGY - OBSTETRICS"]
["207V00000X","25",{"$f":"\"027\"","v":"027"},"PHYSICIAN (M.D.)","OB-GYN","207V00000X","OBSTETRICS & GYNECOLOGY"]
["207VB0002X","25","027","PHYSICIAN (M.D.)","OB-GYN","207VB0002X","OBSTETRICS AND GYNECOLOGY - OBESITY MEDICINE"]
["207VC0200X","25","027","PHYSICIAN (M.D.)","OB-GYN","207VC0200X","OBSTETRICS & GYNECOLOGY - CRITICAL CARE MEDICINE"]
["207VC0300X","25","027","PHYSICIAN (M.D.)","OB-GYN","207VC0300X","OBSTETRICS & GYNECOLOGY - COMPLEX FAMILY PLANNING"]
["207VE0102X","25","027","PHYSICIAN (M.D.)","OB-GYN","207VE0102X","OBSTETRICS & GYNECOLOGY - REPRODUCTIVE ENDOCRINOLOGY"]
["207VF0040X","25","027","PHYSICIAN (M.D.)","OB-GYN","207VF0040X","OBSTETRICS AND GYNECOLOGY - FEMALE PELVIC MEDICINE AND RECONSTRUCTIVE SURGERY"]
["207VH0002X","25","027","PHYSICIAN (M.D.)","OB-GYN","207VH0002X","OBSTETRICS & GYNECOLOGY - HOSPICE AND PALLIATIVE MEDICINE"]
["2083X0100X","25",{"$f":"\"028\"","v":"028"},"PHYSICIAN (M.D.)","OCCUPATIONAL MEDICINE","2083X0100X","PREVENTIVE MEDICINE - OCCUPATIONAL MEDICINE"]
["207RX0202X","25",{"$f":"\"029\"","v":"029"},"PHYSICIAN (M.D.)","ONCOLOGY","207RX0202X","INTERNAL MEDICINE - MEDICAL ONCOLOGY"]
["207W00000X","25",{"$f":"\"030\"","v":"030"},"PHYSICIAN (M.D.)","OPHTHALMOLOGY","207W00000X","OPHTHALMOLOGY"]
["207WX0200X","25",{"$f":"\"030\"","v":"030"},"PHYSICIAN (M.D.)","OPHTHALMOLOGY","207WX0200X","OPHTHALMOLOGY - OPHTHALMIC PLASTIC AND RECONSTRUCTIVE SURGERY"]
["207Y00000X","25",{"$f":"\"031\"","v":"031"},"PHYSICIAN (M.D.)","OTOLARYNGOLOGY","207Y00000X","OTOLARYNGOLOGY"]
["207YP0228X","25","031","PHYSICIAN (M.D.)","OTOLARYNGOLOGY","207YP0228X","OTOLARYNGOLOGY - PEDIATRIC OTOLARYNGOLOGY"]
["207YS0012X","25","031","PHYSICIAN (M.D.)","OTOLARYNGOLOGY","207YS0012X","OTOLARYNGOLOGY - SLEEP MEDICINE"]
["207YS0123X","25","031","PHYSICIAN (M.D.)","OTOLARYNGOLOGY","207YS0123X","OTOLARYNGOLOGY - FACIAL PLASTIC SURGERY"]
["207YX0007X","25","031","PHYSICIAN (M.D.)","OTOLARYNGOLOGY","207YX0007X","OTOLARYNGOLOGY - PLASTIC SURGERY WITHIN THE HEAD & NECK"]
["207YX0602X","25","031","PHYSICIAN (M.D.)","OTOLARYNGOLOGY","207YX0602X","OTOLARYNGOLOGY - OTOLARYNGIC ALLERGY"]
["207YX0901X","25","031","PHYSICIAN (M.D.)","OTOLARYNGOLOGY","207YX0901X","OTOLARYNGOLOGY - OTOLOGY & NEUROTOLOGY"]
["207YX0905X","25","031","PHYSICIAN (M.D.)","OTOLARYNGOLOGY","207YX0905X","OTOLARYNGOLOGY - OTOLARYNGOLOGY/FACIAL PLASTIC SURGERY"]
["207SM0001X","25",{"$f":"\"032\"","v":"032"},"PHYSICIAN (M.D.)","PATHOLOGY","207SM0001X","MEDICAL GENETICS - MOLECULAR GENETIC PATHOLOGY"]
["207ZB0001X","25","032","PHYSICIAN (M.D.)","PATHOLOGY","207ZB0001X","PATHOLOGY - BLOOD BANKING & TRANSFUSION MEDICINE"]
["207ZC0006X","25","032","PHYSICIAN (M.D.)","PATHOLOGY","207ZC0006X","PATHOLOGY - CLINICAL PATHOLOGY"]
["207ZC0008X","25","032","PHYSICIAN (M.D.)","PATHOLOGY","207ZC0008X","PATHOLOGY - CLINICAL INFORMATICS"]
["207ZC0500X","25","032","PHYSICIAN (M.D.)","PATHOLOGY","207ZC0500X","PATHOLOGY - CYTOPATHOLOGY"]
["207ZD0900X","25","032","PHYSICIAN (M.D.)","PATHOLOGY","207ZD0900X","PATHOLOGY - DERMATOPATHOLOGY"]
["207ZI0100X","25","032","PHYSICIAN (M.D.)","PATHOLOGY","207ZI0100X","PATHOLOGY - IMMUNOPATHOLOGY"]
["207ZM0300X","25","032","PHYSICIAN (M.D.)","PATHOLOGY","207ZM0300X","PATHOLOGY - MEDICAL MICROBIOLOGY"]
["207ZP0007X","25","032","PHYSICIAN (M.D.)","PATHOLOGY","207ZP0007X","PATHOLOGY - MOLECULAR GENETIC PATHOLOGY"]
["207ZP0101X",{"$f":"\"25\"","v":"25"},"032","PHYSICIAN (M.D.)","PATHOLOGY","207ZP0101X","PATHOLOGY - ANATOMIC PATHOLOGY"]
["207ZP0102X","25","032","PHYSICIAN (M.D.)","PATHOLOGY","207ZP0102X","PATHOLOGY - ANATOMIC PATHOLOGY & CLINICAL PATHOLOGY"]
["207ZP0104X","25","032","PHYSICIAN (M.D.)","PATHOLOGY","207ZP0104X","PATHOLOGY - CHEMICAL PATHOLOGY"]
["207ZP0105X","25","032","PHYSICIAN (M.D.)","PATHOLOGY","207ZP0105X","PATHOLOGY - CLINICAL PATHOLOGY/LABORATORY MEDICINE"]
["207ZP0213X","25","032","PHYSICIAN (M.D.)","PATHOLOGY","207ZP0213X","PATHOLOGY - PEDIATRIC PATHOLOGY"]
["207SM0001X","25",{"$f":"\"033\"","v":"033"},"PHYSICIAN (M.D.)","PATHOLOGY, CLINICAL","207SM0001X","MEDICAL GENETICS - MOLECULAR GENETIC PATHOLOGY"]
["207ZC0006X","25","033","PHYSICIAN (M.D.)","PATHOLOGY, CLINICAL","207ZC0006X","PATHOLOGY - CLINICAL PATHOLOGY"]
["207ZC0500X","25","033","PHYSICIAN (M.D.)","PATHOLOGY, CLINICAL","207ZC0500X","PATHOLOGY - CYTOPATHOLOGY"]
["207ZD0900X","25","033","PHYSICIAN (M.D.)","PATHOLOGY, CLINICAL","207ZD0900X","PATHOLOGY - DERMATOPATHOLOGY"]
["207ZP0104X","25","033","PHYSICIAN (M.D.)","PATHOLOGY, CLINICAL","207ZP0104X","PATHOLOGY - CHEMICAL PATHOLOGY"]
["207ZP0213X","25","033","PHYSICIAN (M.D.)","PATHOLOGY, CLINICAL","207ZP0213X","PATHOLOGY - PEDIATRIC PATHOLOGY"]
["207ZF0201X","25",{"$f":"\"034\"","v":"034"},"PHYSICIAN (M.D.)","PATHOLOGY, FORENSIC","207ZF0201X","PATHOLOGY - FORENSIC PATHOLOGY"]
["208000000X","25",{"$f":"\"035\"","v":"035"},"PHYSICIAN (M.D.)","PEDIATRICS","208000000X","PEDIATRICS"]
["2080B0002X","25","035","PHYSICIAN (M.D.)","PEDIATRICS","2080B0002X","PEDIATRICS - OBESITY MEDICINE"]
["2080C0008X","25","035","PHYSICIAN (M.D.)","PEDIATRICS","2080C0008X","PEDIATRICS - CHILD ABUSE PEDIATRICS"]
["2080I0007X","25","035","PHYSICIAN (M.D.)","PEDIATRICS","2080I0007X","PEDIATRICS - CLINICAL & LABORATORY IMMUNOLOGY"]
["2080P0006X","25","035","PHYSICIAN (M.D.)","PEDIATRICS","2080P0006X","PEDIATRICS - DEVELOPMENTAL - BEHAVIORAL PEDIATRICS"]
["2080P0008X","25","035","PHYSICIAN (M.D.)","PEDIATRICS","2080P0008X","PEDIATRICS - NEURODEVELOPMENTAL DISABILITIES"]
["2080P0206X","25","035","PHYSICIAN (M.D.)","PEDIATRICS","2080P0206X","PEDIATRICS - PEDIATRIC GASTROENTEROLOGY"]
["2080P0208X","25","035","PHYSICIAN (M.D.)","PEDIATRICS","2080P0208X","PEDIATRICS - PEDIATRIC INFECTIOUS DISEASES"]
["2080P0214X","25","035","PHYSICIAN (M.D.)","PEDIATRICS","2080P0214X","PEDIATRICS - PEDIATRIC PULMONOLOGY"]
["2080P0216X","25","035","PHYSICIAN (M.D.)","PEDIATRICS","2080P0216X","PEDIATRICS - PEDIATRIC RHEUMATOLOGY"]
["2080S0010X","25","035","PHYSICIAN (M.D.)","PEDIATRICS","2080S0010X","PEDIATRICS - SPORTS MEDICINE"]
["2080S0012X","25","035","PHYSICIAN (M.D.)","PEDIATRICS","2080S0012X","PEDIATRICS - SLEEP MEDICINE"]
["2080T0002X","25","035","PHYSICIAN (M.D.)","PEDIATRICS","2080T0002X","PEDIATRICS - MEDICAL TOXICOLOGY"]
[{"$f":"CLEAN(F259)","v":"2080T0004X"},"25","035","PHYSICIAN (M.D.)","PEDIATRICS","2080T0004X","PEDIATRICS - PEDIATRIC TRANSPLANT HEPATOLOGY"]
["2084E0001X","25","035","PHYSICIAN (M.D.)","PEDIATRICS","2084E0001X","EPILEPSY PHYSICIAN"]
["2084P0005X","25","035","PHYSICIAN (M.D.)","PEDIATRICS","2084P0005X","PSYCHIATRY & NEUROLOGY - NEURODEVELOPMENTAL DISABILITIES"]
["2080P0201X","25",{"$f":"\"036\"","v":"036"},"PHYSICIAN (M.D.)","PEDIATRICS, ALLERGY","2080P0201X","PEDIATRICS - PEDIATRIC ALLERGY/IMMUNOLOGY"]
["2080P0202X","25",{"$f":"\"037\"","v":"037"},"PHYSICIAN (M.D.)","PEDIATRICS, CARDIOLOGY","2080P0202X","PEDIATRICS - PEDIATRIC CARDIOLOGY"]
["2080P0207X","25",{"$f":"\"038\"","v":"038"},"PHYSICIAN (M.D.)","PEDIATRICS, ONCOLOGY/HEMATOLOGY","2080P0207X","PEDIATRICS - PEDIATRIC HEMATOLOGY-ONCOLOGY"]
["2080P0210X","25",{"$f":"\"039\"","v":"039"},"PHYSICIAN (M.D.)","PEDIATRICS, NEPHROLOGY","2080P0210X","PEDIATRICS - PEDIATRIC NEPHROLOGY"]
["208100000X","25",{"$f":"\"041\"","v":"041"},"PHYSICIAN (M.D.)","PHYSICAL MEDICINE AND REHAB","208100000X","PHYSICAL MEDICINE & REHABILITATION"]
["2081H0002X","25","041","PHYSICIAN (M.D.)","PHYSICAL MEDICINE AND REHAB","2081H0002X","PHYSICAL MEDICINE & REHABILITATION - HOSPICE AND PALLIATIVE MEDICINE"]
["2081N0008X","25","041","PHYSICIAN (M.D.)","PHYSICAL MEDICINE AND REHAB","2081N0008X","PHYSICAL MEDICINE & REHABILITATION - NEUROMUSCULAR MEDICINE"]
["2081P0004X","25","041","PHYSICIAN (M.D.)","PHYSICAL MEDICINE AND REHAB","2081P0004X","PHYSICAL MEDICINE & REHABILITATION - SPINAL CORD INJURY MEDICINE"]
["2081P0010X","25","041","PHYSICIAN (M.D.)","PHYSICAL MEDICINE AND REHAB","2081P0010X","PHYSICAL MEDICINE & REHABILITATION - PEDIATRIC REHABILITATION MEDICINE"]
["2081P0301X","25","041","PHYSICIAN (M.D.)","PHYSICAL MEDICINE AND REHAB","2081P0301X","PHYSICAL MEDICINE AND REHABILITATION - BRAIN INJURY MEDICINE"]
["2081P2900X","25","041","PHYSICIAN (M.D.)","PHYSICAL MEDICINE AND REHAB","2081P2900X","PHYSICAL MEDICINE & REHABILITATION - PAIN MEDICINE"]
["2081S0010X","25","041","PHYSICIAN (M.D.)","PHYSICAL MEDICINE AND REHAB","2081S0010X","PHYSICAL MEDICINE & REHABILITATION - SPORTS MEDICINE"]
["207RA0401X","25",{"$f":"\"042\"","v":"042"},"PHYSICIAN (M.D.)","PSYCHIATRY","207RA0401X","INTERNAL MEDICINE - ADDICTION MEDICINE"]
["2084B0002X","25","042","PHYSICIAN (M.D.)","PSYCHIATRY","2084B0002X","PSYCHIATRY AND NEUROLOGY - OBESITY MEDICINE"]
["2084F0202X","25","042","PHYSICIAN (M.D.)","PSYCHIATRY","2084F0202X","PSYCHIATRY & NEUROLOGY - FORENSIC PSYCHIATRY"]
["2084H0002X","25","042","PHYSICIAN (M.D.)","PSYCHIATRY","2084H0002X","PSYCHIATRY & NEUROLOGY - HOSPICE AND PALLIATIVE MEDICINE"]
["2084N0600X","25","042","PHYSICIAN (M.D.)","PSYCHIATRY","2084N0600X","PSYCHIATRY & NEUROLOGY - CLINICAL NEUROPHYSIOLOGY"]
["2084P0015X","25","042","PHYSICIAN (M.D.)","PSYCHIATRY","2084P0015X","PSYCHIATRY & NEUROLOGY - PSYCHOSOMATIC MEDICINE"]
["2084P0301X","25","042","PHYSICIAN (M.D.)","PSYCHIATRY","2084P0301X","PSYCHIATRY AND NEUROLOGY - BRAIN INJURY MEDICINE"]
["2084P0800X","25","042","PHYSICIAN (M.D.)","PSYCHIATRY","2084P0800X","PSYCHIATRY & NEUROLOGY - PSYCHIATRY"]
["2084P0802X","25","042","PHYSICIAN (M.D.)","PSYCHIATRY","2084P0802X","PSYCHIATRY & NEUROLOGY - ADDICTION PSYCHIATRY"]
["2084P2900X","25","042","PHYSICIAN (M.D.)","PSYCHIATRY","2084P2900X","PSYCHIATRY & NEUROLOGY - PAIN MEDICINE"]
["2084S0012X","25","042","PHYSICIAN (M.D.)","PSYCHIATRY","2084S0012X","PSYCHIATRY & NEUROLOGY - SLEEP MEDICINE"]
["2084P0301X","25",{"$f":"\"043\"","v":"043"},"PHYSICIAN (M.D.)","PSYCHIATRY, CHILD","2084P0301X","PSYCHIATRY AND NEUROLOGY - BRAIN INJURY MEDICINE"]
["2084P0804X","25",{"$f":"\"043\"","v":"043"},"PHYSICIAN (M.D.)","PSYCHIATRY, CHILD","2084P0804X","PSYCHIATRY & NEUROLOGY - CHILD & ADOLESCENT PSYCHIATRY"]
["2083P0901X","25",{"$f":"\"045\"","v":"045"},"PHYSICIAN (M.D.)","PUBLIC HEALTH","2083P0901X","PREVENTIVE MEDICINE - PUBLIC HEALTH & GENERAL PREVENTIVE MEDICINE"]
["207RP1001X","25",{"$f":"\"046\"","v":"046"},"PHYSICIAN (M.D.)","PULMONARY DISEASES","207RP1001X","INTERNAL MEDICINE - PULMONARY DISEASE"]
["2080P0214X","25",{"$f":"\"046\"","v":"046"},"PHYSICIAN (M.D.)","PULMONARY DISEASES","2080P0214X","PEDIATRICS - PEDIATRIC PULMONOLOGY"]
["2085B0100X","25",{"$f":"\"047\"","v":"047"},"PHYSICIAN (M.D.)","RADIOLOGY","2085B0100X","RADIOLOGY - BODY IMAGING"]
["2085D0003X","25",{"$f":"\"047\"","v":"047"},"PHYSICIAN (M.D.)","RADIOLOGY","2085D0003X","RADIOLOGY - DIAGNOSTIC NEUROIMAGING"]
["207U00000X","25",{"$f":"\"048\"","v":"048"},"PHYSICIAN (M.D.)","RADIOLOGY, DIAGNOSTIC","207U00000X","NUCLEAR MEDICINE"]
["207UN0901X","25","048","PHYSICIAN (M.D.)","RADIOLOGY, DIAGNOSTIC","207UN0901X","NUCLEAR MEDICINE - NUCLEAR CARDIOLOGY"]
["207UN0903X","25","048","PHYSICIAN (M.D.)","RADIOLOGY, DIAGNOSTIC","207UN0903X","NUCLEAR MEDICINE - IN VIVO & IN VITRO NUCLEAR MEDICINE"]
["2085N0700X","25","048","PHYSICIAN (M.D.)","RADIOLOGY, DIAGNOSTIC","2085N0700X","RADIOLOGY - NEURORADIOLOGY"]
["2085N0904X","25","048","PHYSICIAN (M.D.)","RADIOLOGY, DIAGNOSTIC","2085N0904X","RADIOLOGY - NUCLEAR RADIOLOGY"]
["2085R0202X","25","048","PHYSICIAN (M.D.)","RADIOLOGY, DIAGNOSTIC","2085R0202X","RADIOLOGY - DIAGNOSTIC RADIOLOGY"]
["2085R0204X",{"$f":"\"25\"","v":"25"},"048","PHYSICIAN (M.D.)","RADIOLOGY, DIAGNOSTIC","2085R0204X","RADIOLOGY - VASCULAR & INTERVENTIONAL RADIOLOGY"]
["2085R0205X","25","048","PHYSICIAN (M.D.)","RADIOLOGY, DIAGNOSTIC","2085R0205X","RADIOLOGY - RADIOLOGICAL PHYSICS"]
["2085P0229X","25",{"$f":"\"049\"","v":"049"},"PHYSICIAN (M.D.)","RADIOLOGY, PEDIATRIC","2085P0229X","RADIOLOGY - PEDIATRIC RADIOLOGY"]
["207UN0902X","25",{"$f":"\"050\"","v":"050"},"PHYSICIAN (M.D.)","RADIOLOGY, THERAPEUTIC","207UN0902X","NUCLEAR MEDICINE - NUCLEAR IMAGING & THERAPY"]
["2085H0002X","25","050","PHYSICIAN (M.D.)","RADIOLOGY, THERAPEUTIC","2085H0002X","RADIOLOGY - HOSPICE AND PALLIATIVE MEDICINE"]
["2085N0700X","25","050","PHYSICIAN (M.D.)","RADIOLOGY, THERAPEUTIC","2085N0700X","RADIOLOGY - NEURORADIOLOGY"]
["2085N0904X","25","050","PHYSICIAN (M.D.)","RADIOLOGY, THERAPEUTIC","2085N0904X","RADIOLOGY - NUCLEAR RADIOLOGY"]
["2085R0001X","25","050","PHYSICIAN (M.D.)","RADIOLOGY, THERAPEUTIC","2085R0001X","RADIOLOGY - RADIATION ONCOLOGY"]
["2085R0203X","25","050","PHYSICIAN (M.D.)","RADIOLOGY, THERAPEUTIC","2085R0203X","RADIOLOGY - THERAPEUTIC RADIOLOGY"]
["2085R0204X","25","050","PHYSICIAN (M.D.)","RADIOLOGY, THERAPEUTIC","2085R0204X","RADIOLOGY - VASCULAR & INTERVENTIONAL RADIOLOGY"]
["2085R0205X","25","050","PHYSICIAN (M.D.)","RADIOLOGY, THERAPEUTIC","2085R0205X","RADIOLOGY - RADIOLOGICAL PHYSICS"]
["207RR0500X","25",{"$f":"\"051\"","v":"051"},"PHYSICIAN (M.D.)","RHEUMATOLOGY","207RR0500X","INTERNAL MEDICINE - RHEUMATOLOGY"]
["208600000X","25",{"$f":"\"052\"","v":"052"},"PHYSICIAN (M.D.)","SURGERY, ABDOMINAL","208600000X","SURGERY"]
["2086S0129X","25",{"$f":"\"053\"","v":"053"},"PHYSICIAN (M.D.)","SURGERY, CARDIOVASCULAR","2086S0129X","SURGERY - VASCULAR SURGERY"]
["208C00000X","25",{"$f":"\"054\"","v":"054"},"PHYSICIAN (M.D.)","SURGERY, COLON/RECTAL","208C00000X","COLON & RECTAL SURGERY"]
["204E00000X","25",{"$f":"\"055\"","v":"055"},"PHYSICIAN (M.D.)","SURGERY, GENERAL","204E00000X","ORAL & MAXILLOFACIAL SURGERY"]
["208600000X","25","055","PHYSICIAN (M.D.)","SURGERY, GENERAL","208600000X","SURGERY"]
["2086H0002X","25","055","PHYSICIAN (M.D.)","SURGERY, GENERAL","2086H0002X","SURGERY - HOSPICE AND PALLIATIVE MEDICINE"]
["2086S0102X","25","055","PHYSICIAN (M.D.)","SURGERY, GENERAL","2086S0102X","SURGERY - SURGICAL CRITICAL CARE"]
["2086S0129X","25","055","PHYSICIAN (M.D.)","SURGERY, GENERAL","2086S0129X","SURGERY - VASCULAR SURGERY"]
["2086X0206X","25","055","PHYSICIAN (M.D.)","SURGERY, GENERAL","2086X0206X","SURGERY - SURGICAL ONCOLOGY"]
["207XS0106X","25",{"$f":"\"056\"","v":"056"},"PHYSICIAN (M.D.)","SURGERY, HAND","207XS0106X","ORTHOPAEDIC SURGERY - HAND SURGERY"]
["2082S0105X","25",{"$f":"\"056\"","v":"056"},"PHYSICIAN (M.D.)","SURGERY, HAND","2082S0105X","PLASTIC SURGERY - SURGERY OF THE HAND"]
["2086S0105X","25",{"$f":"\"056\"","v":"056"},"PHYSICIAN (M.D.)","SURGERY, HAND","2086S0105X","SURGERY - SURGERY OF THE HAND"]
["207T00000X","25",{"$f":"\"057\"","v":"057"},"PHYSICIAN (M.D.)","SURGERY, NEUROLOGICAL","207T00000X","NEUROLOGICAL SURGERY"]
[{"$f":"CLEAN(F323)","v":"2084E0001X"},"25",{"$f":"\"057\"","v":"057"},"PHYSICIAN (M.D.)","SURGERY, NEUROLOGICAL","2084E0001X","EPILEPSY PHYSICIAN"]
["207X00000X","25",{"$f":"\"058\"","v":"058"},"PHYSICIAN (M.D.)","SURGERY, ORTHOPEDIC","207X00000X","ORTHOPAEDIC SURGERY"]
["207XP3100X","25","058","PHYSICIAN (M.D.)","SURGERY, ORTHOPEDIC","207XP3100X","ORTHOPAEDIC SURGERY - PEDIATRIC ORTHOPAEDIC SURGERY"]
["207XS0114X","25","058","PHYSICIAN (M.D.)","SURGERY, ORTHOPEDIC","207XS0114X","ORTHOPAEDIC SURGERY - ADULT RECONSTRUCTIVE ORTHOPAEDIC SURGERY"]
["207XS0117X","25","058","PHYSICIAN (M.D.)","SURGERY, ORTHOPEDIC","207XS0117X","ORTHOPAEDIC SURGERY - ORTHOPAEDIC SURGERY OF THE SPINE"]
["207XX0004X","25","058","PHYSICIAN (M.D.)","SURGERY, ORTHOPEDIC","207XX0004X","ORTHOPAEDIC SURGERY - FOOT AND ANKLE SURGERY"]
["207XX0005X","25","058","PHYSICIAN (M.D.)","SURGERY, ORTHOPEDIC","207XX0005X","ORTHOPAEDIC SURGERY - SPORTS MEDICINE"]
["207XX0801X","25","058","PHYSICIAN (M.D.)","SURGERY, ORTHOPEDIC","207XX0801X","ORTHOPAEDIC SURGERY - ORTHOPAEDIC TRAUMA"]
["207XP3100X","25",{"$f":"\"059\"","v":"059"},"PHYSICIAN (M.D.)","SURGERY, PEDIATRIC","207XP3100X","ORTHOPAEDIC SURGERY - PEDIATRIC ORTHOPAEDIC SURGERY"]
["2086S0120X","25",{"$f":"\"059\"","v":"059"},"PHYSICIAN (M.D.)","SURGERY, PEDIATRIC","2086S0120X","SURGERY - PEDIATRIC SURGERY"]
["207ND0101X","25",{"$f":"\"060\"","v":"060"},"PHYSICIAN (M.D.)","SURGERY, PLASTIC","207ND0101X","DERMATOLOGY - MOHS-MICROGRAPHIC SURGERY"]
["208200000X","25",{"$f":"\"060\"","v":"060"},"PHYSICIAN (M.D.)","SURGERY, PLASTIC","208200000X","PLASTIC SURGERY"]
["2082S0099X","25",{"$f":"\"060\"","v":"060"},"PHYSICIAN (M.D.)","SURGERY, PLASTIC","2082S0099X","PLASTIC SURGERY - PLASTIC SURGERY WITHIN THE HEAD AND NECK"]
["2086S0122X","25",{"$f":"\"060\"","v":"060"},"PHYSICIAN (M.D.)","SURGERY, PLASTIC","2086S0122X","SURGERY - PLASTIC AND RECONSTRUCTIVE SURGERY"]
["208G00000X","25",{"$f":"\"061\"","v":"061"},"PHYSICIAN (M.D.)","SURGERY, THORACIC","208G00000X","THORACIC SURGERY (CARDIOTHORACIC VASCULAR SURGERY)"]
["207XX0801X","25",{"$f":"\"062\"","v":"062"},"PHYSICIAN (M.D.)","SURGERY, TRAUMATIC","207XX0801X","ORTHOPAEDIC SURGERY - ORTHOPAEDIC TRAUMA"]
["2086S0127X","25",{"$f":"\"062\"","v":"062"},"PHYSICIAN (M.D.)","SURGERY, TRAUMATIC","2086S0127X","SURGERY - TRAUMA SURGERY"]
["208800000X","25",{"$f":"\"063\"","v":"063"},"PHYSICIAN (M.D.)","SURGERY, UROLOGICAL","208800000X","UROLOGY"]
["2088P0231X","25",{"$f":"\"063\"","v":"063"},"PHYSICIAN (M.D.)","SURGERY, UROLOGICAL","2088P0231X","UROLOGY - PEDIATRIC UROLOGY"]
["207VM0101X","25",{"$f":"\"065\"","v":"065"},"PHYSICIAN (M.D.)","MATERNAL/FETAL","207VM0101X","OBSTETRICS & GYNECOLOGY - MATERNAL & FETAL MEDICINE"]
["2084P0800X","25",{"$f":"\"066\"","v":"066"},"PHYSICIAN (M.D.)","COMPREHENSIVE BEHAVIORAL HEALTH ASSESSMENT","2084P0800X","PSYCHIATRY & NEUROLOGY - PSYCHIATRY"]
["207SC0300X","25",{"$f":"\"100\"","v":"100"},"PHYSICIAN (M.D.)","GENETICS","207SC0300X","MEDICAL GENETICS - CLINICAL CYTOGENETIC"]
["207SG0201X","25",{"$f":"\"100\"","v":"100"},"PHYSICIAN (M.D.)","GENETICS","207SG0201X","MEDICAL GENETICS - CLINICAL GENETICS (M.D.)"]
["207SG0202X","25",{"$f":"\"100\"","v":"100"},"PHYSICIAN (M.D.)","GENETICS","207SG0202X","MEDICAL GENETICS - CLINICAL BIOCHEMICAL GENETICS"]
["207SG0203X","25",{"$f":"\"100\"","v":"100"},"PHYSICIAN (M.D.)","GENETICS","207SG0203X","MEDICAL GENETICS - CLINICAL MOLECULAR GENETICS"]
["207SG0207X","25",{"$f":"\"100\"","v":"100"},"PHYSICIAN (M.D.)","GENETICS","207SG0207X","MEDICAL GENETICS - MEDICAL BIOCHEMICAL GENETICS"]
["2080N0001X","25",{"$f":"\"101\"","v":"101"},"PHYSICIAN (M.D.)","PEDIATRICS, CRITICAL CARE","2080N0001X","PEDIATRICS - NEONATAL-PERINATAL MEDICINE"]
["2080P0203X","25",{"$f":"\"101\"","v":"101"},"PHYSICIAN (M.D.)","PEDIATRICS, CRITICAL CARE","2080P0203X","PEDIATRICS - PEDIATRIC CRITICAL CARE MEDICINE"]
["2080P0204X","25",{"$f":"\"102\"","v":"102"},"PHYSICIAN (M.D.)","PEDIATRICS, EMERGENCY CARE","2080P0204X","PEDIATRICS - PEDIATRIC EMERGENCY MEDICINE"]
["2086S0120X","25",{"$f":"\"103\"","v":"103"},"PHYSICIAN (M.D.)","SURGERY, PEDIATRIC - NON-BOARD CERTIFIED","2086S0120X","SURGERY - PEDIATRIC SURGERY"]
["208800000X","25",{"$f":"\"104\"","v":"104"},"PHYSICIAN (M.D.)","SURGERY, UROLOGIC - NON-BOARD CERTIFIED","208800000X","UROLOGY"]
["2080H0002X","25",{"$f":"\"105\"","v":"105"},"PHYSICIAN (M.D.)","PEDIATRIC PALLIATIVE CARE","2080H0002X","PEDIATRICS - HOSPICE AND PALLIATIVE MEDICINE"]
["202D00000X","25",{"$f":"\"140\"","v":"140"},"PHYSICIAN (M.D.)","HOSPITALIST","202D00000X","INTEGRATIVE MEDICINE"]
["207RA0401X","25",{"$f":"\"140\"","v":"140"},"PHYSICIAN (M.D.)","HOSPITALIST","207RA0401X","INTERNAL MEDICINE - ADDICTION MEDICINE"]
["208M00000X","25",{"$f":"\"140\"","v":"140"},"PHYSICIAN (M.D.)","HOSPITALIST","208M00000X","HOSPITALIST"]
["2080P0205X","25",{"$f":"\"205\"","v":"205"},"PHYSICIAN (M.D.)","ENDOCRINOLOGY (PEDS)","2080P0205X","PEDIATRICS - PEDIATRIC ENDOCRINOLOGY"]
["208800000X","25",{"$f":"\"209\"","v":"209"},"PHYSICIAN (M.D.)","UROLOGY","208800000X","UROLOGY"]
["2088F0040X","25",{"$f":"\"209\"","v":"209"},"PHYSICIAN (M.D.)","UROLOGY","2088F0040X","UROLOGY - FEMALE PELVIC MEDICINE AND RECONSTRUCTIVE SURGERY"]
["207QA0000X",{"$f":"\"26\"","v":"26"},{"$f":"\"001\"","v":"001"},"PHYSICIAN (D.O.)","ADOLESCENT MEDICINE","207QA0000X","FAMILY MEDICINE - ADOLESCENT MEDICINE"]
["207RA0000X","26",{"$f":"\"001\"","v":"001"},"PHYSICIAN (D.O.)","ADOLESCENT MEDICINE","207RA0000X","INTERNAL MEDICINE - ADOLESCENT MEDICINE"]
["2080A0000X","26",{"$f":"\"001\"","v":"001"},"PHYSICIAN (D.O.)","ADOLESCENT MEDICINE","2080A0000X","PEDIATRICS - ADOLESCENT MEDICINE"]
["2084E0001X","26",{"$f":"\"001\"","v":"001"},"PHYSICIAN (D.O.)","ADOLESCENT MEDICINE","2084E0001X","EPILEPSY PHYSICIAN"]
["207K00000X","26",{"$f":"\"002\"","v":"002"},"PHYSICIAN (D.O.)","ALLERGY","207K00000X","ALLERGY & IMMUNOLOGY"]
["207KA0200X","26",{"$f":"\"002\"","v":"002"},"PHYSICIAN (D.O.)","ALLERGY","207KA0200X","ALLERGY & IMMUNOLOGY - ALLERGY"]
["207L00000X","26",{"$f":"\"003\"","v":"003"},"PHYSICIAN (D.O.)","ANESTHESIOLOGY","207L00000X","ANESTHESIOLOGY"]
["207LA0401X","26","003","PHYSICIAN (D.O.)","ANESTHESIOLOGY","207LA0401X","ANESTHESIOLOGY - ADDICTION MEDICINE"]
["207LC0200X","26","003","PHYSICIAN (D.O.)","ANESTHESIOLOGY","207LC0200X","ANESTHESIOLOGY - CRITICAL CARE MEDICINE"]
["207LH0002X","26","003","PHYSICIAN (D.O.)","ANESTHESIOLOGY","207LH0002X","ANESTHESIOLOGY - HOSPICE AND PALLIATIVE MEDICINE"]
["207LP2900X","26","003","PHYSICIAN (D.O.)","ANESTHESIOLOGY","207LP2900X","ANESTHESIOLOGY - PAIN MEDICINE"]
["207LP3000X","26","003","PHYSICIAN (D.O.)","ANESTHESIOLOGY","207LP3000X","ANESTHESIOLOGY - PEDIATRIC ANESTHESIOLOGY"]
["207RC0000X","26",{"$f":"\"004\"","v":"004"},"PHYSICIAN (D.O.)","CARDIOVASCULAR MEDICINE","207RC0000X","INTERNAL MEDICINE - CARDIOVASCULAR DISEASE"]
["207RC0001X","26",{"$f":"\"004\"","v":"004"},"PHYSICIAN (D.O.)","CARDIOVASCULAR MEDICINE","207RC0001X","INTERNAL MEDICINE - CLINICAL CARDIAC ELECTROPHYSIOLOGY"]
["207RI0011X","26",{"$f":"\"004\"","v":"004"},"PHYSICIAN (D.O.)","CARDIOVASCULAR MEDICINE","207RI0011X","INTERNAL MEDICINE - INTERVENTIONAL CARDIOLOGY"]
["207N00000X","26",{"$f":"\"005\"","v":"005"},"PHYSICIAN (D.O.)","DERMATOLOGY","207N00000X","DERMATOLOGY"]
["207ND0101X","26","005","PHYSICIAN (D.O.)","DERMATOLOGY","207ND0101X","DERMATOLOGY - MOHS-MICROGRAPHIC SURGERY"]
["207ND0900X","26","005","PHYSICIAN (D.O.)","DERMATOLOGY","207ND0900X","DERMATOLOGY - DERMATOPATHOLOGY"]
["207NI0002X","26","005","PHYSICIAN (D.O.)","DERMATOLOGY","207NI0002X","DERMATOLOGY - CLINICAL & LABORATORY DERMATOLOGICAL IMMUNOLOGY"]
["207NP0225X","26","005","PHYSICIAN (D.O.)","DERMATOLOGY","207NP0225X","DERMATOLOGY - PEDIATRIC DERMATOLOGY"]
["207NS0135X","26","005","PHYSICIAN (D.O.)","DERMATOLOGY","207NS0135X","DERMATOLOGY - PROCEDURAL DERMATOLOGY"]
["207RE0101X","26",{"$f":"\"006\"","v":"006"},"PHYSICIAN (D.O.)","DIABETES","207RE0101X","INTERNAL MEDICINE - ENDOCRINOLOGY, DIABETES & METABOLISM"]
["207P00000X","26",{"$f":"\"007\"","v":"007"},"PHYSICIAN (D.O.)","EMERGENCY MEDICINE","207P00000X","EMERGENCY MEDICINE"]
["207PE0004X","26","007","PHYSICIAN (D.O.)","EMERGENCY MEDICINE","207PE0004X","EMERGENCY MEDICINE - EMERGENCY MEDICAL SERVICES"]
["207PE0005X","26","007","PHYSICIAN (D.O.)","EMERGENCY MEDICINE","207PE0005X","EMERGENCY MEDICINE - UNDERSEA AND HYPERBARIC MEDICINE"]
["207PH0002X","26","007","PHYSICIAN (D.O.)","EMERGENCY MEDICINE","207PH0002X","EMERGENCY MEDICINE - HOSPICE AND PALLIATIVE MEDICINE"]
[{"$f":"CLEAN(F387)","v":"207PP0204X"},"26","007","PHYSICIAN (D.O.)","EMERGENCY MEDICINE","207PP0204X","EMERGENCY MEDICINE - PEDIATRIC EMERGENCY MEDICINE"]
["207PS0010X","26","007","PHYSICIAN (D.O.)","EMERGENCY MEDICINE","207PS0010X","EMERGENCY MEDICINE - SPORTS MEDICINE"]
["207PT0002X","26","007","PHYSICIAN (D.O.)","EMERGENCY MEDICINE","207PT0002X","EMERGENCY MEDICINE - MEDICAL TOXICOLOGY"]
["207RE0101X","26",{"$f":"\"008\"","v":"008"},"PHYSICIAN (D.O.)","ENDOCRINOLOGY","207RE0101X","INTERNAL MEDICINE - ENDOCRINOLOGY, DIABETES & METABOLISM"]
["202D00000X","26",{"$f":"\"009\"","v":"009"},"PHYSICIAN (D.O.)","FAMILY PRACTICE","202D00000X","INTEGRATIVE MEDICINE"]
["207Q00000X","26","009","PHYSICIAN (D.O.)","FAMILY PRACTICE","207Q00000X","FAMILY MEDICINE"]
["207QA0401X","26","009","PHYSICIAN (D.O.)","FAMILY PRACTICE","207QA0401X","FAMILY MEDICINE - ADDICTION MEDICINE"]
["207QA0505X","26","009","PHYSICIAN (D.O.)","FAMILY PRACTICE","207QA0505X","FAMILY MEDICINE - ADULT MEDICINE"]
["207QB0002X","26","009","PHYSICIAN (D.O.)","FAMILY PRACTICE","207QB0002X","FAMILY MEDICINE - OBESITY MEDICINE"]
["207QH0002X","26","009","PHYSICIAN (D.O.)","FAMILY PRACTICE","207QH0002X","FAMILY MEDICINE - HOSPICE AND PALLIATIVE MEDICINE"]
["207QS0010X","26","009","PHYSICIAN (D.O.)","FAMILY PRACTICE","207QS0010X","FAMILY MEDICINE - SPORTS MEDICINE"]
["207QS1201X","26","009","PHYSICIAN (D.O.)","FAMILY PRACTICE","207QS1201X","FAMILY MEDICINE - SLEEP MEDICINE"]
["207RG0100X","26",{"$f":"\"010\"","v":"010"},"PHYSICIAN (D.O.)","GASTROENTEROLOGY","207RG0100X","INTERNAL MEDICINE - GASTROENTEROLOGY"]
["207RT0003X","26",{"$f":"\"010\"","v":"010"},"PHYSICIAN (D.O.)","GASTROENTEROLOGY","207RT0003X","INTERNAL MEDICINE - TRANSPLANT HEPATOLOGY"]
["202D00000X","26",{"$f":"\"011\"","v":"011"},"PHYSICIAN (D.O.)","GENERAL PRACTICE (DEFAULT SPEC FOR PHYS)","202D00000X","INTEGRATIVE MEDICINE"]
["2084E0001X","26",{"$f":"\"011\"","v":"011"},"PHYSICIAN (D.O.)","GENERAL PRACTICE (DEFAULT SPEC FOR PHYS)","2084E0001X","EPILEPSY PHYSICIAN"]
["208D00000X","26",{"$f":"\"011\"","v":"011"},"PHYSICIAN (D.O.)","GENERAL PRACTICE (DEFAULT SPEC FOR PHYS)","208D00000X","GENERAL PRACTICE"]
["202D00000X","26",{"$f":"\"012\"","v":"012"},"PHYSICIAN (D.O.)","PREVENTIVE MEDICINE","202D00000X","INTEGRATIVE MEDICINE"]
["207RA0401X","26","012","PHYSICIAN (D.O.)","PREVENTIVE MEDICINE","207RA0401X","INTERNAL MEDICINE - ADDICTION MEDICINE"]
["2083A0100X","26","012","PHYSICIAN (D.O.)","PREVENTIVE MEDICINE","2083A0100X","PREVENTIVE MEDICINE - AEROSPACE MEDICINE"]
["2083B0002X","26","012","PHYSICIAN (D.O.)","PREVENTIVE MEDICINE","2083B0002X","PREVENTIVE MEDICINE - OBESITY MEDICINE"]
["2083C0008X","26","012","PHYSICIAN (D.O.)","PREVENTIVE MEDICINE","2083C0008X","PREVENTIVE MEDICINE - CLINICAL INFORMATICS"]
["2083P0011X","26","012","PHYSICIAN (D.O.)","PREVENTIVE MEDICINE","2083P0011X","PREVENTIVE MEDICINE - UNDERSEA AND HYPERBARIC MEDICINE"]
["2083P0500X","26","012","PHYSICIAN (D.O.)","PREVENTIVE MEDICINE","2083P0500X","PREVENTIVE MEDICINE - PREVENTIVE MEDICINE/OCCUPATIONAL ENVIRONMENTAL MEDICINE"]
["2083P0901X","26","012","PHYSICIAN (D.O.)","PREVENTIVE MEDICINE","2083P0901X","PREVENTIVE MEDICINE - PUBLIC HEALTH & GENERAL PREVENTIVE MEDICINE"]
["2083S0010X","26","012","PHYSICIAN (D.O.)","PREVENTIVE MEDICINE","2083S0010X","PREVENTIVE MEDICINE - SPORTS MEDICINE"]
["2083T0002X","26","012","PHYSICIAN (D.O.)","PREVENTIVE MEDICINE","2083T0002X","PREVENTIVE MEDICINE - MEDICAL TOXICOLOGY"]
["207QG0300X","26",{"$f":"\"013\"","v":"013"},"PHYSICIAN (D.O.)","GERIATRICS","207QG0300X","FAMILY MEDICINE - GERIATRIC MEDICINE"]
["207RG0300X","26",{"$f":"\"013\"","v":"013"},"PHYSICIAN (D.O.)","GERIATRICS","207RG0300X","INTERNAL MEDICINE - GERIATRIC MEDICINE"]
["207VG0400X","26",{"$f":"\"014\"","v":"014"},"PHYSICIAN (D.O.)","GYNECOLOGY","207VG0400X","OBSTETRICS & GYNECOLOGY - GYNECOLOGY"]
["207VX0201X","26",{"$f":"\"014\"","v":"014"},"PHYSICIAN (D.O.)","GYNECOLOGY","207VX0201X","OBSTETRICS & GYNECOLOGY - GYNECOLOGIC ONCOLOGY"]
["207RH0000X","26",{"$f":"\"015\"","v":"015"},"PHYSICIAN (D.O.)","HEMATOLOGY","207RH0000X","INTERNAL MEDICINE - HEMATOLOGY"]
["207ZH0000X","26",{"$f":"\"015\"","v":"015"},"PHYSICIAN (D.O.)","HEMATOLOGY","207ZH0000X","PATHOLOGY - HEMATOLOGY"]
["207KI0005X","26",{"$f":"\"016\"","v":"016"},"PHYSICIAN (D.O.)","IMMUNOLOGY","207KI0005X","ALLERGY & IMMUNOLOGY - CLINICAL & LABORATORY IMMUNOLOGY"]
["207RA0201X","26",{"$f":"\"016\"","v":"016"},"PHYSICIAN (D.O.)","IMMUNOLOGY","207RA0201X","INTERNAL MEDICINE - ALLERGY & IMMUNOLOGY"]
["207RI0001X","26",{"$f":"\"016\"","v":"016"},"PHYSICIAN (D.O.)","IMMUNOLOGY","207RI0001X","INTERNAL MEDICINE - CLINICAL & LABORATORY IMMUNOLOGY"]
["207RI0200X","26",{"$f":"\"017\"","v":"017"},"PHYSICIAN (D.O.)","INFECTIOUS DISEASES","207RI0200X","INTERNAL MEDICINE - INFECTIOUS DISEASE"]
["202D00000X","26",{"$f":"\"018\"","v":"018"},"PHYSICIAN (D.O.)","INTERNAL MEDICINE","202D00000X","INTEGRATIVE MEDICINE"]
["207R00000X",{"$f":"\"26\"","v":"26"},"018","PHYSICIAN (D.O.)","INTERNAL MEDICINE","207R00000X","INTERNAL MEDICINE"]
["207RA0401X","26","018","PHYSICIAN (D.O.)","INTERNAL MEDICINE","207RA0401X","INTERNAL MEDICINE - ADDICTION MEDICINE"]
["207RB0002X","26","018","PHYSICIAN (D.O.)","INTERNAL MEDICINE","207RB0002X","INTERNAL MEDICINE - OBESITY MEDICINE"]
["207RC0200X","26","018","PHYSICIAN (D.O.)","INTERNAL MEDICINE","207RC0200X","INTERNAL MEDICINE - CRITICAL CARE MEDICINE"]
["207RH0002X","26","018","PHYSICIAN (D.O.)","INTERNAL MEDICINE","207RH0002X","INTERNAL MEDICINE - HOSPICE AND PALLIATIVE MEDICINE"]
["207RH0005X","26","018","PHYSICIAN (D.O.)","INTERNAL MEDICINE","207RH0005X","INTERNAL MEDICINE - HYPERTENSION SPECIALIST"]
["207RI0008X","26","018","PHYSICIAN (D.O.)","INTERNAL MEDICINE","207RI0008X","INTERNAL MEDICINE - HEPATOLOGY"]
["207RM1200X","26","018","PHYSICIAN (D.O.)","INTERNAL MEDICINE","207RM1200X","INTERNAL MEDICINE - MAGNETIC RESONANCE IMAGING (MRI)"]
["207RS0010X","26","018","PHYSICIAN (D.O.)","INTERNAL MEDICINE","207RS0010X","INTERNAL MEDICINE - SPORTS MEDICINE"]
["207RS0012X","26","018","PHYSICIAN (D.O.)","INTERNAL MEDICINE","207RS0012X","INTERNAL MEDICINE - SLEEP MEDICINE"]
["2084E0001X","26","018","PHYSICIAN (D.O.)","INTERNAL MEDICINE","2084E0001X","EPILEPSY PHYSICIAN"]
["261QI0500X","26","018","PHYSICIAN (D.O.)","INTERNAL MEDICINE","261QI0500X","CLINIC/CENTER - INFUSION THERAPY"]
["2080N0001X","26",{"$f":"\"019\"","v":"019"},"PHYSICIAN (D.O.)","NEONATAL/PERINATAL","2080N0001X","PEDIATRICS - NEONATAL-PERINATAL MEDICINE"]
["207RN0300X","26",{"$f":"\"021\"","v":"021"},"PHYSICIAN (D.O.)","NEPHROLOGY","207RN0300X","INTERNAL MEDICINE - NEPHROLOGY"]
["2084B0002X","26",{"$f":"\"022\"","v":"022"},"PHYSICIAN (D.O.)","NEUROLOGY","2084B0002X","PSYCHIATRY AND NEUROLOGY - OBESITY MEDICINE"]
["2084B0040X","26","022","PHYSICIAN (D.O.)","NEUROLOGY","2084B0040X","PSYCHIATRY AND NEUROLOGY - BEHAVIORAL NEUROLOGY AND NEUROPSYCHIATRY"]
["2084E0001X","26","022","PHYSICIAN (D.O.)","NEUROLOGY","2084E0001X","EPILEPSY PHYSICIAN"]
["2084H0002X","26","022","PHYSICIAN (D.O.)","NEUROLOGY","2084H0002X","PSYCHIATRY & NEUROLOGY - HOSPICE AND PALLIATIVE MEDICINE"]
["2084N0008X","26","022","PHYSICIAN (D.O.)","NEUROLOGY","2084N0008X","PSYCHIATRY & NEUROLOGY - NEUROMUSCULAR MEDICINE"]
["2084N0400X","26","022","PHYSICIAN (D.O.)","NEUROLOGY","2084N0400X","PSYCHIATRY & NEUROLOGY - NEUROLOGY"]
["2084N0600X","26","022","PHYSICIAN (D.O.)","NEUROLOGY","2084N0600X","PSYCHIATRY & NEUROLOGY - CLINICAL NEUROPHYSIOLOGY"]
["2084P0005X","26","022","PHYSICIAN (D.O.)","NEUROLOGY","2084P0005X","PSYCHIATRY & NEUROLOGY - NEURODEVELOPMENTAL DISABILITIES"]
["2084P0015X","26","022","PHYSICIAN (D.O.)","NEUROLOGY","2084P0015X","PSYCHIATRY & NEUROLOGY - PSYCHOSOMATIC MEDICINE"]
["2084P0301X","26","022","PHYSICIAN (D.O.)","NEUROLOGY","2084P0301X","PSYCHIATRY AND NEUROLOGY - BRAIN INJURY MEDICINE"]
["2084P0805X","26","022","PHYSICIAN (D.O.)","NEUROLOGY","2084P0805X","PSYCHIATRY & NEUROLOGY - GERIATRIC PSYCHIATRY"]
["2084P2900X","26","022","PHYSICIAN (D.O.)","NEUROLOGY","2084P2900X","PSYCHIATRY & NEUROLOGY - PAIN MEDICINE"]
[{"$f":"CLEAN(F451)","v":"2084S0012X"},"26","022","PHYSICIAN (D.O.)","NEUROLOGY","2084S0012X","PSYCHIATRY & NEUROLOGY - SLEEP MEDICINE"]
["2084V0102X","26","022","PHYSICIAN (D.O.)","NEUROLOGY","2084V0102X","PSYCHIATRY & NEUROLOGY - VASCULAR NEUROLOGY"]
["2084E0001X","26",{"$f":"\"023\"","v":"023"},"PHYSICIAN (D.O.)","NEUROLOGY/CHILDREN","2084E0001X","EPILEPSY PHYSICIAN"]
["2084N0402X","26",{"$f":"\"023\"","v":"023"},"PHYSICIAN (D.O.)","NEUROLOGY/CHILDREN","2084N0402X","PSYCHIATRY & NEUROLOGY - NEUROLOGY WITH SPECIAL QUALIFICATIONS IN CHILD NEUROLOGY"]
["2084P0005X","26",{"$f":"\"023\"","v":"023"},"PHYSICIAN (D.O.)","NEUROLOGY/CHILDREN","2084P0005X","PSYCHIATRY & NEUROLOGY - NEURODEVELOPMENTAL DISABILITIES"]
["2084P0301X","26",{"$f":"\"023\"","v":"023"},"PHYSICIAN (D.O.)","NEUROLOGY/CHILDREN","2084P0301X","PSYCHIATRY AND NEUROLOGY - BRAIN INJURY MEDICINE"]
["207ZN0500X","26",{"$f":"\"024\"","v":"024"},"PHYSICIAN (D.O.)","NEUROPATHOLOGY","207ZN0500X","PATHOLOGY - NEUROPATHOLOGY"]
["2084E0001X","26",{"$f":"\"024\"","v":"024"},"PHYSICIAN (D.O.)","NEUROPATHOLOGY","2084E0001X","EPILEPSY PHYSICIAN"]
["207VX0000X","26",{"$f":"\"026\"","v":"026"},"PHYSICIAN (D.O.)","OBSTETRICS","207VX0000X","OBSTETRICS & GYNECOLOGY - OBSTETRICS"]
["207V00000X","26",{"$f":"\"027\"","v":"027"},"PHYSICIAN (D.O.)","OB-GYN","207V00000X","OBSTETRICS & GYNECOLOGY"]
["207VB0002X","26","027","PHYSICIAN (D.O.)","OB-GYN","207VB0002X","OBSTETRICS AND GYNECOLOGY - OBESITY MEDICINE"]
["207VC0200X","26","027","PHYSICIAN (D.O.)","OB-GYN","207VC0200X","OBSTETRICS & GYNECOLOGY - CRITICAL CARE MEDICINE"]
["207VC0300X","26","027","PHYSICIAN (D.O.)","OB-GYN","207VC0300X","OBSTETRICS & GYNECOLOGY - COMPLEX FAMILY PLANNING"]
["207VE0102X","26","027","PHYSICIAN (D.O.)","OB-GYN","207VE0102X","OBSTETRICS & GYNECOLOGY - REPRODUCTIVE ENDOCRINOLOGY"]
["207VF0040X","26","027","PHYSICIAN (D.O.)","OB-GYN","207VF0040X","OBSTETRICS AND GYNECOLOGY - FEMALE PELVIC MEDICINE AND RECONSTRUCTIVE SURGERY"]
["207VH0002X","26","027","PHYSICIAN (D.O.)","OB-GYN","207VH0002X","OBSTETRICS & GYNECOLOGY - HOSPICE AND PALLIATIVE MEDICINE"]
["2083X0100X","26",{"$f":"\"028\"","v":"028"},"PHYSICIAN (D.O.)","OCCUPATIONAL MEDICINE","2083X0100X","PREVENTIVE MEDICINE - OCCUPATIONAL MEDICINE"]
["207RH0003X","26",{"$f":"\"029\"","v":"029"},"PHYSICIAN (D.O.)","ONCOLOGY","207RH0003X","INTERNAL MEDICINE - HEMATOLOGY & ONCOLOGY"]
["207RX0202X","26",{"$f":"\"029\"","v":"029"},"PHYSICIAN (D.O.)","ONCOLOGY","207RX0202X","INTERNAL MEDICINE - MEDICAL ONCOLOGY"]
["207W00000X","26",{"$f":"\"030\"","v":"030"},"PHYSICIAN (D.O.)","OPHTHALMOLOGY","207W00000X","OPHTHALMOLOGY"]
["207WX0009X","26",{"$f":"\"030\"","v":"030"},"PHYSICIAN (D.O.)","OPHTHALMOLOGY","207WX0009X","OPHTHALMOLOGY - GLAUCOMA SPECIALIST"]
["207WX0107X","26",{"$f":"\"030\"","v":"030"},"PHYSICIAN (D.O.)","OPHTHALMOLOGY","207WX0107X","OPHTHALMOLOGY - RETINA SPECIALIST"]
["207WX0108X","26",{"$f":"\"030\"","v":"030"},"PHYSICIAN (D.O.)","OPHTHALMOLOGY","207WX0108X","OPHTHALMOLOGY - UVEITIS AND OCULAR INFLAMMATORY DISEASE"]
["207WX0200X","26",{"$f":"\"030\"","v":"030"},"PHYSICIAN (D.O.)","OPHTHALMOLOGY","207WX0200X","OPHTHALMOLOGY - OPHTHALMIC PLASTIC AND RECONSTRUCTIVE SURGERY"]
["207Y00000X","26",{"$f":"\"031\"","v":"031"},"PHYSICIAN (D.O.)","OTOLARYNGOLOGY","207Y00000X","OTOLARYNGOLOGY"]
["207YP0228X","26","031","PHYSICIAN (D.O.)","OTOLARYNGOLOGY","207YP0228X","OTOLARYNGOLOGY - PEDIATRIC OTOLARYNGOLOGY"]
["207YS0012X","26","031","PHYSICIAN (D.O.)","OTOLARYNGOLOGY","207YS0012X","OTOLARYNGOLOGY - SLEEP MEDICINE"]
["207YS0123X","26","031","PHYSICIAN (D.O.)","OTOLARYNGOLOGY","207YS0123X","OTOLARYNGOLOGY - FACIAL PLASTIC SURGERY"]
["207YX0007X","26","031","PHYSICIAN (D.O.)","OTOLARYNGOLOGY","207YX0007X","OTOLARYNGOLOGY - PLASTIC SURGERY WITHIN THE HEAD & NECK"]
["207YX0602X","26","031","PHYSICIAN (D.O.)","OTOLARYNGOLOGY","207YX0602X","OTOLARYNGOLOGY - OTOLARYNGIC ALLERGY"]
["207YX0901X","26","031","PHYSICIAN (D.O.)","OTOLARYNGOLOGY","207YX0901X","OTOLARYNGOLOGY - OTOLOGY & NEUROTOLOGY"]
["207YX0905X","26","031","PHYSICIAN (D.O.)","OTOLARYNGOLOGY","207YX0905X","OTOLARYNGOLOGY - OTOLARYNGOLOGY/FACIAL PLASTIC SURGERY"]
["207SM0001X","26",{"$f":"\"032\"","v":"032"},"PHYSICIAN (D.O.)","PATHOLOGY","207SM0001X","MEDICAL GENETICS - MOLECULAR GENETIC PATHOLOGY"]
["207ZB0001X","26","032","PHYSICIAN (D.O.)","PATHOLOGY","207ZB0001X","PATHOLOGY - BLOOD BANKING & TRANSFUSION MEDICINE"]
["207ZC0006X","26","032","PHYSICIAN (D.O.)","PATHOLOGY","207ZC0006X","PATHOLOGY - CLINICAL PATHOLOGY"]
["207ZC0500X","26","032","PHYSICIAN (D.O.)","PATHOLOGY","207ZC0500X","PATHOLOGY - CYTOPATHOLOGY"]
["207ZD0900X","26","032","PHYSICIAN (D.O.)","PATHOLOGY","207ZD0900X","PATHOLOGY - DERMATOPATHOLOGY"]
["207ZI0100X","26","032","PHYSICIAN (D.O.)","PATHOLOGY","207ZI0100X","PATHOLOGY - IMMUNOPATHOLOGY"]
["207ZM0300X",{"$f":"\"26\"","v":"26"},"032","PHYSICIAN (D.O.)","PATHOLOGY","207ZM0300X","PATHOLOGY - MEDICAL MICROBIOLOGY"]
["207ZP0007X","26","032","PHYSICIAN (D.O.)","PATHOLOGY","207ZP0007X","PATHOLOGY - MOLECULAR GENETIC PATHOLOGY"]
["207ZP0101X","26","032","PHYSICIAN (D.O.)","PATHOLOGY","207ZP0101X","PATHOLOGY - ANATOMIC PATHOLOGY"]
["207ZP0102X","26","032","PHYSICIAN (D.O.)","PATHOLOGY","207ZP0102X","PATHOLOGY - ANATOMIC PATHOLOGY & CLINICAL PATHOLOGY"]
["207ZP0104X","26","032","PHYSICIAN (D.O.)","PATHOLOGY","207ZP0104X","PATHOLOGY - CHEMICAL PATHOLOGY"]
["207ZP0105X","26","032","PHYSICIAN (D.O.)","PATHOLOGY","207ZP0105X","PATHOLOGY - CLINICAL PATHOLOGY/LABORATORY MEDICINE"]
["207ZP0213X","26","032","PHYSICIAN (D.O.)","PATHOLOGY","207ZP0213X","PATHOLOGY - PEDIATRIC PATHOLOGY"]
["207SM0001X","26",{"$f":"\"033\"","v":"033"},"PHYSICIAN (D.O.)","PATHOLOGY, CLINICAL","207SM0001X","MEDICAL GENETICS - MOLECULAR GENETIC PATHOLOGY"]
["207ZC0006X","26","033","PHYSICIAN (D.O.)","PATHOLOGY, CLINICAL","207ZC0006X","PATHOLOGY - CLINICAL PATHOLOGY"]
["207ZC0500X","26","033","PHYSICIAN (D.O.)","PATHOLOGY, CLINICAL","207ZC0500X","PATHOLOGY - CYTOPATHOLOGY"]
["207ZD0900X","26","033","PHYSICIAN (D.O.)","PATHOLOGY, CLINICAL","207ZD0900X","PATHOLOGY - DERMATOPATHOLOGY"]
["207ZP0104X","26","033","PHYSICIAN (D.O.)","PATHOLOGY, CLINICAL","207ZP0104X","PATHOLOGY - CHEMICAL PATHOLOGY"]
["207ZP0213X","26","033","PHYSICIAN (D.O.)","PATHOLOGY, CLINICAL","207ZP0213X","PATHOLOGY - PEDIATRIC PATHOLOGY"]
["207ZF0201X","26",{"$f":"\"034\"","v":"034"},"PHYSICIAN (D.O.)","PATHOLOGY, FORENSIC","207ZF0201X","PATHOLOGY - FORENSIC PATHOLOGY"]
["208000000X","26",{"$f":"\"035\"","v":"035"},"PHYSICIAN (D.O.)","PEDIATRICS","208000000X","PEDIATRICS"]
["2080B0002X","26","035","PHYSICIAN (D.O.)","PEDIATRICS","2080B0002X","PEDIATRICS - OBESITY MEDICINE"]
["2080C0008X","26","035","PHYSICIAN (D.O.)","PEDIATRICS","2080C0008X","PEDIATRICS - CHILD ABUSE PEDIATRICS"]
["2080I0007X","26","035","PHYSICIAN (D.O.)","PEDIATRICS","2080I0007X","PEDIATRICS - CLINICAL & LABORATORY IMMUNOLOGY"]
["2080P0006X","26","035","PHYSICIAN (D.O.)","PEDIATRICS","2080P0006X","PEDIATRICS - DEVELOPMENTAL - BEHAVIORAL PEDIATRICS"]
["2080P0008X","26","035","PHYSICIAN (D.O.)","PEDIATRICS","2080P0008X","PEDIATRICS - NEURODEVELOPMENTAL DISABILITIES"]
["2080P0206X","26","035","PHYSICIAN (D.O.)","PEDIATRICS","2080P0206X","PEDIATRICS - PEDIATRIC GASTROENTEROLOGY"]
["2080P0208X","26","035","PHYSICIAN (D.O.)","PEDIATRICS","2080P0208X","PEDIATRICS - PEDIATRIC INFECTIOUS DISEASES"]
["2080P0214X","26","035","PHYSICIAN (D.O.)","PEDIATRICS","2080P0214X","PEDIATRICS - PEDIATRIC PULMONOLOGY"]
["2080P0216X","26","035","PHYSICIAN (D.O.)","PEDIATRICS","2080P0216X","PEDIATRICS - PEDIATRIC RHEUMATOLOGY"]
["2080S0010X","26","035","PHYSICIAN (D.O.)","PEDIATRICS","2080S0010X","PEDIATRICS - SPORTS MEDICINE"]
["2080S0012X","26","035","PHYSICIAN (D.O.)","PEDIATRICS","2080S0012X","PEDIATRICS - SLEEP MEDICINE"]
[{"$f":"CLEAN(F515)","v":"2080T0002X"},"26","035","PHYSICIAN (D.O.)","PEDIATRICS","2080T0002X","PEDIATRICS - MEDICAL TOXICOLOGY"]
["2080T0004X","26","035","PHYSICIAN (D.O.)","PEDIATRICS","2080T0004X","PEDIATRICS - PEDIATRIC TRANSPLANT HEPATOLOGY"]
["2084E0001X","26","035","PHYSICIAN (D.O.)","PEDIATRICS","2084E0001X","EPILEPSY PHYSICIAN"]
["2084P0005X","26","035","PHYSICIAN (D.O.)","PEDIATRICS","2084P0005X","PSYCHIATRY & NEUROLOGY - NEURODEVELOPMENTAL DISABILITIES"]
["2080P0201X","26",{"$f":"\"036\"","v":"036"},"PHYSICIAN (D.O.)","PEDIATRICS, ALLERGY","2080P0201X","PEDIATRICS - PEDIATRIC ALLERGY/IMMUNOLOGY"]
["2080P0202X","26",{"$f":"\"037\"","v":"037"},"PHYSICIAN (D.O.)","PEDIATRICS, CARDIOLOGY","2080P0202X","PEDIATRICS - PEDIATRIC CARDIOLOGY"]
["2080P0207X","26",{"$f":"\"038\"","v":"038"},"PHYSICIAN (D.O.)","PEDIATRICS, ONCOLOGY/HEMATOLOGY","2080P0207X","PEDIATRICS - PEDIATRIC HEMATOLOGY-ONCOLOGY"]
["2080P0210X","26",{"$f":"\"039\"","v":"039"},"PHYSICIAN (D.O.)","PEDIATRICS, NEPHROLOGY","2080P0210X","PEDIATRICS - PEDIATRIC NEPHROLOGY"]
["208100000X","26",{"$f":"\"041\"","v":"041"},"PHYSICIAN (D.O.)","PHYSICAL MEDICINE AND REHAB","208100000X","PHYSICAL MEDICINE & REHABILITATION"]
["2081H0002X","26","041","PHYSICIAN (D.O.)","PHYSICAL MEDICINE AND REHAB","2081H0002X","PHYSICAL MEDICINE & REHABILITATION - HOSPICE AND PALLIATIVE MEDICINE"]
["2081N0008X","26","041","PHYSICIAN (D.O.)","PHYSICAL MEDICINE AND REHAB","2081N0008X","PHYSICAL MEDICINE & REHABILITATION - NEUROMUSCULAR MEDICINE"]
["2081P0004X","26","041","PHYSICIAN (D.O.)","PHYSICAL MEDICINE AND REHAB","2081P0004X","PHYSICAL MEDICINE & REHABILITATION - SPINAL CORD INJURY MEDICINE"]
["2081P0010X","26","041","PHYSICIAN (D.O.)","PHYSICAL MEDICINE AND REHAB","2081P0010X","PHYSICAL MEDICINE & REHABILITATION - PEDIATRIC REHABILITATION MEDICINE"]
["2081P0301X","26","041","PHYSICIAN (D.O.)","PHYSICAL MEDICINE AND REHAB","2081P0301X","PHYSICAL MEDICINE AND REHABILITATION - BRAIN INJURY MEDICINE"]
["2081P2900X","26","041","PHYSICIAN (D.O.)","PHYSICAL MEDICINE AND REHAB","2081P2900X","PHYSICAL MEDICINE & REHABILITATION - PAIN MEDICINE"]
["2081S0010X","26","041","PHYSICIAN (D.O.)","PHYSICAL MEDICINE AND REHAB","2081S0010X","PHYSICAL MEDICINE & REHABILITATION - SPORTS MEDICINE"]
["207RA0401X","26",{"$f":"\"042\"","v":"042"},"PHYSICIAN (D.O.)","PSYCHIATRY","207RA0401X","INTERNAL MEDICINE - ADDICTION MEDICINE"]
["2084A0401X","26","042","PHYSICIAN (D.O.)","PSYCHIATRY","2084A0401X","PSYCHIATRY & NEUROLOGY - ADDICTION MEDICINE"]
["2084B0002X","26","042","PHYSICIAN (D.O.)","PSYCHIATRY","2084B0002X","PSYCHIATRY AND NEUROLOGY - OBESITY MEDICINE"]
["2084F0202X","26","042","PHYSICIAN (D.O.)","PSYCHIATRY","2084F0202X","PSYCHIATRY & NEUROLOGY - FORENSIC PSYCHIATRY"]
["2084H0002X","26","042","PHYSICIAN (D.O.)","PSYCHIATRY","2084H0002X","PSYCHIATRY & NEUROLOGY - HOSPICE AND PALLIATIVE MEDICINE"]
["2084N0600X","26","042","PHYSICIAN (D.O.)","PSYCHIATRY","2084N0600X","PSYCHIATRY & NEUROLOGY - CLINICAL NEUROPHYSIOLOGY"]
["2084P0015X","26","042","PHYSICIAN (D.O.)","PSYCHIATRY","2084P0015X","PSYCHIATRY & NEUROLOGY - PSYCHOSOMATIC MEDICINE"]
["2084P0301X","26","042","PHYSICIAN (D.O.)","PSYCHIATRY","2084P0301X","PSYCHIATRY AND NEUROLOGY - BRAIN INJURY MEDICINE"]
["2084P0800X","26","042","PHYSICIAN (D.O.)","PSYCHIATRY","2084P0800X","PSYCHIATRY & NEUROLOGY - PSYCHIATRY"]
["2084P0802X","26","042","PHYSICIAN (D.O.)","PSYCHIATRY","2084P0802X","PSYCHIATRY & NEUROLOGY - ADDICTION PSYCHIATRY"]
["2084P2900X","26","042","PHYSICIAN (D.O.)","PSYCHIATRY","2084P2900X","PSYCHIATRY & NEUROLOGY - PAIN MEDICINE"]
["2084S0010X","26","042","PHYSICIAN (D.O.)","PSYCHIATRY","2084S0010X","PSYCHIATRY & NEUROLOGY - SPORTS MEDICINE"]
["2084S0012X","26","042","PHYSICIAN (D.O.)","PSYCHIATRY","2084S0012X","PSYCHIATRY & NEUROLOGY - SLEEP MEDICINE"]
["2084P0301X","26",{"$f":"\"043\"","v":"043"},"PHYSICIAN (D.O.)","PSYCHIATRY, CHILD","2084P0301X","PSYCHIATRY AND NEUROLOGY - BRAIN INJURY MEDICINE"]
["2084P0804X","26",{"$f":"\"043\"","v":"043"},"PHYSICIAN (D.O.)","PSYCHIATRY, CHILD","2084P0804X","PSYCHIATRY & NEUROLOGY - CHILD & ADOLESCENT PSYCHIATRY"]
["2083P0901X","26",{"$f":"\"045\"","v":"045"},"PHYSICIAN (D.O.)","PUBLIC HEALTH","2083P0901X","PREVENTIVE MEDICINE - PUBLIC HEALTH & GENERAL PREVENTIVE MEDICINE"]
["207RP1001X","26",{"$f":"\"046\"","v":"046"},"PHYSICIAN (D.O.)","PULMONARY DISEASES","207RP1001X","INTERNAL MEDICINE - PULMONARY DISEASE"]
["2080P0214X","26",{"$f":"\"046\"","v":"046"},"PHYSICIAN (D.O.)","PULMONARY DISEASES","2080P0214X","PEDIATRICS - PEDIATRIC PULMONOLOGY"]
["2085B0100X","26",{"$f":"\"047\"","v":"047"},"PHYSICIAN (D.O.)","RADIOLOGY","2085B0100X","RADIOLOGY - BODY IMAGING"]
["2085D0003X","26",{"$f":"\"047\"","v":"047"},"PHYSICIAN (D.O.)","RADIOLOGY","2085D0003X","RADIOLOGY - DIAGNOSTIC NEUROIMAGING"]
["207U00000X","26",{"$f":"\"048\"","v":"048"},"PHYSICIAN (D.O.)","RADIOLOGY, DIAGNOSTIC","207U00000X","NUCLEAR MEDICINE"]
["207UN0901X","26","048","PHYSICIAN (D.O.)","RADIOLOGY, DIAGNOSTIC","207UN0901X","NUCLEAR MEDICINE - NUCLEAR CARDIOLOGY"]
["207UN0903X",{"$f":"\"26\"","v":"26"},"048","PHYSICIAN (D.O.)","RADIOLOGY, DIAGNOSTIC","207UN0903X","NUCLEAR MEDICINE - IN VIVO & IN VITRO NUCLEAR MEDICINE"]
["2085N0700X","26","048","PHYSICIAN (D.O.)","RADIOLOGY, DIAGNOSTIC","2085N0700X","RADIOLOGY - NEURORADIOLOGY"]
["2085N0904X","26","048","PHYSICIAN (D.O.)","RADIOLOGY, DIAGNOSTIC","2085N0904X","RADIOLOGY - NUCLEAR RADIOLOGY"]
["2085R0202X","26","048","PHYSICIAN (D.O.)","RADIOLOGY, DIAGNOSTIC","2085R0202X","RADIOLOGY - DIAGNOSTIC RADIOLOGY"]
["2085R0204X","26","048","PHYSICIAN (D.O.)","RADIOLOGY, DIAGNOSTIC","2085R0204X","RADIOLOGY - VASCULAR & INTERVENTIONAL RADIOLOGY"]
["2085U0001X","26","048","PHYSICIAN (D.O.)","RADIOLOGY, DIAGNOSTIC","2085U0001X","RADIOLOGY - DIAGNOSTIC ULTRASOUND"]
["2085P0229X","26",{"$f":"\"049\"","v":"049"},"PHYSICIAN (D.O.)","RADIOLOGY, PEDIATRIC","2085P0229X","RADIOLOGY - PEDIATRIC RADIOLOGY"]
["207UN0902X","26",{"$f":"\"050\"","v":"050"},"PHYSICIAN (D.O.)","RADIOLOGY, THERAPEUTIC","207UN0902X","NUCLEAR MEDICINE - NUCLEAR IMAGING & THERAPY"]
["2085H0002X","26","050","PHYSICIAN (D.O.)","RADIOLOGY, THERAPEUTIC","2085H0002X","RADIOLOGY - HOSPICE AND PALLIATIVE MEDICINE"]
["2085N0700X","26","050","PHYSICIAN (D.O.)","RADIOLOGY, THERAPEUTIC","2085N0700X","RADIOLOGY - NEURORADIOLOGY"]
["2085N0904X","26","050","PHYSICIAN (D.O.)","RADIOLOGY, THERAPEUTIC","2085N0904X","RADIOLOGY - NUCLEAR RADIOLOGY"]
["2085R0001X","26","050","PHYSICIAN (D.O.)","RADIOLOGY, THERAPEUTIC","2085R0001X","RADIOLOGY - RADIATION ONCOLOGY"]
["2085R0203X","26","050","PHYSICIAN (D.O.)","RADIOLOGY, THERAPEUTIC","2085R0203X","RADIOLOGY - THERAPEUTIC RADIOLOGY"]
["2085R0204X","26","050","PHYSICIAN (D.O.)","RADIOLOGY, THERAPEUTIC","2085R0204X","RADIOLOGY - VASCULAR & INTERVENTIONAL RADIOLOGY"]
["207RR0500X","26",{"$f":"\"051\"","v":"051"},"PHYSICIAN (D.O.)","RHEUMATOLOGY","207RR0500X","INTERNAL MEDICINE - RHEUMATOLOGY"]
["208600000X","26",{"$f":"\"052\"","v":"052"},"PHYSICIAN (D.O.)","SURGERY, ABDOMINAL","208600000X","SURGERY"]
["2086S0129X","26",{"$f":"\"053\"","v":"053"},"PHYSICIAN (D.O.)","SURGERY, CARDIOVASCULAR","2086S0129X","SURGERY - VASCULAR SURGERY"]
["208C00000X","26",{"$f":"\"054\"","v":"054"},"PHYSICIAN (D.O.)","SURGERY, COLON/RECTAL","208C00000X","COLON & RECTAL SURGERY"]
["204E00000X","26",{"$f":"\"055\"","v":"055"},"PHYSICIAN (D.O.)","SURGERY, GENERAL","204E00000X","ORAL & MAXILLOFACIAL SURGERY"]
["208600000X","26","055","PHYSICIAN (D.O.)","SURGERY, GENERAL","208600000X","SURGERY"]
["2086H0002X","26","055","PHYSICIAN (D.O.)","SURGERY, GENERAL","2086H0002X","SURGERY - HOSPICE AND PALLIATIVE MEDICINE"]
["2086S0102X","26","055","PHYSICIAN (D.O.)","SURGERY, GENERAL","2086S0102X","SURGERY - SURGICAL CRITICAL CARE"]
["2086S0129X","26","055","PHYSICIAN (D.O.)","SURGERY, GENERAL","2086S0129X","SURGERY - VASCULAR SURGERY"]
["2086X0206X","26","055","PHYSICIAN (D.O.)","SURGERY, GENERAL","2086X0206X","SURGERY - SURGICAL ONCOLOGY"]
["207XS0106X","26",{"$f":"\"056\"","v":"056"},"PHYSICIAN (D.O.)","SURGERY, HAND","207XS0106X","ORTHOPAEDIC SURGERY - HAND SURGERY"]
["2082S0105X","26",{"$f":"\"056\"","v":"056"},"PHYSICIAN (D.O.)","SURGERY, HAND","2082S0105X","PLASTIC SURGERY - SURGERY OF THE HAND"]
[{"$f":"CLEAN(F579)","v":"2086S0105X"},"26",{"$f":"\"056\"","v":"056"},"PHYSICIAN (D.O.)","SURGERY, HAND","2086S0105X","SURGERY - SURGERY OF THE HAND"]
["207T00000X","26",{"$f":"\"057\"","v":"057"},"PHYSICIAN (D.O.)","SURGERY, NEUROLOGICAL","207T00000X","NEUROLOGICAL SURGERY"]
["2084E0001X","26",{"$f":"\"057\"","v":"057"},"PHYSICIAN (D.O.)","SURGERY, NEUROLOGICAL","2084E0001X","EPILEPSY PHYSICIAN"]
["207X00000X","26",{"$f":"\"058\"","v":"058"},"PHYSICIAN (D.O.)","SURGERY, ORTHOPEDIC","207X00000X","ORTHOPAEDIC SURGERY"]
["207XP3100X","26","058","PHYSICIAN (D.O.)","SURGERY, ORTHOPEDIC","207XP3100X","ORTHOPAEDIC SURGERY - PEDIATRIC ORTHOPAEDIC SURGERY"]
["207XS0114X","26","058","PHYSICIAN (D.O.)","SURGERY, ORTHOPEDIC","207XS0114X","ORTHOPAEDIC SURGERY - ADULT RECONSTRUCTIVE ORTHOPAEDIC SURGERY"]
["207XS0117X","26","058","PHYSICIAN (D.O.)","SURGERY, ORTHOPEDIC","207XS0117X","ORTHOPAEDIC SURGERY - ORTHOPAEDIC SURGERY OF THE SPINE"]
["207XX0004X","26","058","PHYSICIAN (D.O.)","SURGERY, ORTHOPEDIC","207XX0004X","ORTHOPAEDIC SURGERY - FOOT AND ANKLE SURGERY"]
["207XX0005X","26","058","PHYSICIAN (D.O.)","SURGERY, ORTHOPEDIC","207XX0005X","ORTHOPAEDIC SURGERY - SPORTS MEDICINE"]
["207XX0801X","26","058","PHYSICIAN (D.O.)","SURGERY, ORTHOPEDIC","207XX0801X","ORTHOPAEDIC SURGERY - ORTHOPAEDIC TRAUMA"]
["207XP3100X","26",{"$f":"\"059\"","v":"059"},"PHYSICIAN (D.O.)","SURGERY, PEDIATRIC","207XP3100X","ORTHOPAEDIC SURGERY - PEDIATRIC ORTHOPAEDIC SURGERY"]
["2086S0120X","26",{"$f":"\"059\"","v":"059"},"PHYSICIAN (D.O.)","SURGERY, PEDIATRIC","2086S0120X","SURGERY - PEDIATRIC SURGERY"]
["207ND0101X","26",{"$f":"\"060\"","v":"060"},"PHYSICIAN (D.O.)","SURGERY, PLASTIC","207ND0101X","DERMATOLOGY - MOHS-MICROGRAPHIC SURGERY"]
["208200000X","26",{"$f":"\"060\"","v":"060"},"PHYSICIAN (D.O.)","SURGERY, PLASTIC","208200000X","PLASTIC SURGERY"]
["2082S0099X","26",{"$f":"\"060\"","v":"060"},"PHYSICIAN (D.O.)","SURGERY, PLASTIC","2082S0099X","PLASTIC SURGERY - PLASTIC SURGERY WITHIN THE HEAD AND NECK"]
["2086S0122X","26",{"$f":"\"060\"","v":"060"},"PHYSICIAN (D.O.)","SURGERY, PLASTIC","2086S0122X","SURGERY - PLASTIC AND RECONSTRUCTIVE SURGERY"]
["208G00000X","26",{"$f":"\"061\"","v":"061"},"PHYSICIAN (D.O.)","SURGERY, THORACIC","208G00000X","THORACIC SURGERY (CARDIOTHORACIC VASCULAR SURGERY)"]
["207XX0801X","26",{"$f":"\"062\"","v":"062"},"PHYSICIAN (D.O.)","SURGERY, TRAUMATIC","207XX0801X","ORTHOPAEDIC SURGERY - ORTHOPAEDIC TRAUMA"]
["2086S0127X","26",{"$f":"\"062\"","v":"062"},"PHYSICIAN (D.O.)","SURGERY, TRAUMATIC","2086S0127X","SURGERY - TRAUMA SURGERY"]
["208800000X","26",{"$f":"\"063\"","v":"063"},"PHYSICIAN (D.O.)","SURGERY, UROLOGICAL","208800000X","UROLOGY"]
["2088P0231X","26",{"$f":"\"063\"","v":"063"},"PHYSICIAN (D.O.)","SURGERY, UROLOGICAL","2088P0231X","UROLOGY - PEDIATRIC UROLOGY"]
["207VM0101X","26",{"$f":"\"065\"","v":"065"},"PHYSICIAN (D.O.)","MATERNAL/FETAL","207VM0101X","OBSTETRICS & GYNECOLOGY - MATERNAL & FETAL MEDICINE"]
["2084P0800X","26",{"$f":"\"066\"","v":"066"},"PHYSICIAN (D.O.)","COMPREHENSIVE BEHAVIORAL HEALTH ASSESSMENT","2084P0800X","PSYCHIATRY & NEUROLOGY - PSYCHIATRY"]
["2080N0001X","26",{"$f":"\"101\"","v":"101"},"PHYSICIAN (D.O.)","PEDIATRICS, CRITICAL CARE","2080N0001X","PEDIATRICS - NEONATAL-PERINATAL MEDICINE"]
["2080P0203X","26",{"$f":"\"101\"","v":"101"},"PHYSICIAN (D.O.)","PEDIATRICS, CRITICAL CARE","2080P0203X","PEDIATRICS - PEDIATRIC CRITICAL CARE MEDICINE"]
["2080P0204X","26",{"$f":"\"102\"","v":"102"},"PHYSICIAN (D.O.)","PEDIATRICS, EMERGENCY CARE","2080P0204X","PEDIATRICS - PEDIATRIC EMERGENCY MEDICINE"]
["2086S0120X","26",{"$f":"\"103\"","v":"103"},"PHYSICIAN (D.O.)","SURGERY, PEDIATRIC - NON-BOARD CERTIFIED","2086S0120X","SURGERY - PEDIATRIC SURGERY"]
["208800000X","26",{"$f":"\"104\"","v":"104"},"PHYSICIAN (D.O.)","SURGERY, UROLOGIC - NON-BOARD CERTIFIED","208800000X","UROLOGY"]
["202D00000X","26",{"$f":"\"140\"","v":"140"},"PHYSICIAN (D.O.)","HOSPITALIST","202D00000X","INTEGRATIVE MEDICINE"]
["207RA0401X","26",{"$f":"\"140\"","v":"140"},"PHYSICIAN (D.O.)","HOSPITALIST","207RA0401X","INTERNAL MEDICINE - ADDICTION MEDICINE"]
["208M00000X","26",{"$f":"\"140\"","v":"140"},"PHYSICIAN (D.O.)","HOSPITALIST","208M00000X","HOSPITALIST"]
["2080P0205X","26",{"$f":"\"205\"","v":"205"},"PHYSICIAN (D.O.)","ENDOCRINOLOGY (PEDS)","2080P0205X","PEDIATRICS - PEDIATRIC ENDOCRINOLOGY"]
["208800000X","26",{"$f":"\"209\"","v":"209"},"PHYSICIAN (D.O.)","UROLOGY","208800000X","UROLOGY"]
["2088F0040X","26",{"$f":"\"209\"","v":"209"},"PHYSICIAN (D.O.)","UROLOGY","2088F0040X","UROLOGY - FEMALE PELVIC MEDICINE AND RECONSTRUCTIVE SURGERY"]
["213E00000X",{"$f":"\"27\"","v":"27"},{"$f":"\"927\"","v":"927"},"PODIATRIST","PODIATRIST","213E00000X","PODIATRIST"]
["213EP0504X","27","927","PODIATRIST","PODIATRIST","213EP0504X","PODIATRIST - PUBLIC MEDICINE"]
["213EP1101X","27","927","PODIATRIST","PODIATRIST","213EP1101X","PODIATRIST - PRIMARY PODIATRIC MEDICINE"]
["213ER0200X","27","927","PODIATRIST","PODIATRIST","213ER0200X","PODIATRIST - RADIOLOGY"]
["213ES0000X","27","927","PODIATRIST","PODIATRIST","213ES0000X","PODIATRIST - SPORTS MEDICINE"]
["213ES0103X","27","927","PODIATRIST","PODIATRIST","213ES0103X","PODIATRIST - FOOT & ANKLE SURGERY"]
["213ES0131X","27","927","PODIATRIST","PODIATRIST","213ES0131X","PODIATRIST - FOOT SURGERY"]
["261QP1100X","27","927","PODIATRIST","PODIATRIST","261QP1100X","CLINIC/CENTER - PODIATRIC"]
["111N00000X",{"$f":"\"28\"","v":"28"},{"$f":"\"928\"","v":"928"},"CHIROPRACTOR","CHIROPRACTOR","111N00000X","CHIROPRACTOR"]
["111NI0013X","28","928","CHIROPRACTOR","CHIROPRACTOR","111NI0013X","CHIROPRACTOR - INDEPENDENT MEDICAL EXAMINER"]
["111NI0900X","28","928","CHIROPRACTOR","CHIROPRACTOR","111NI0900X","CHIROPRACTOR - INTERNIST"]
["111NN0400X","28","928","CHIROPRACTOR","CHIROPRACTOR","111NN0400X","CHIROPRACTOR - NEUROLOGY"]
["111NN1001X","28","928","CHIROPRACTOR","CHIROPRACTOR","111NN1001X","CHIROPRACTOR - NUTRITION"]
["111NP0017X","28","928","CHIROPRACTOR","CHIROPRACTOR","111NP0017X","CHIROPRACTOR - PEDIATRIC CHIROPRACTOR"]
["111NR0200X","28","928","CHIROPRACTOR","CHIROPRACTOR","111NR0200X","CHIROPRACTOR - RADIOLOGY"]
["111NR0400X","28","928","CHIROPRACTOR","CHIROPRACTOR","111NR0400X","CHIROPRACTOR - REHABILITATION"]
["111NS0005X","28","928","CHIROPRACTOR","CHIROPRACTOR","111NS0005X","CHIROPRACTOR - SPORTS PHYSICIAN"]
["111NT0100X","28","928","CHIROPRACTOR","CHIROPRACTOR","111NT0100X","CHIROPRACTOR - THERMOGRAPHY"]
["111NX0100X","28","928","CHIROPRACTOR","CHIROPRACTOR","111NX0100X","CHIROPRACTOR - OCCUPATIONAL HEALTH"]
["111NX0800X","28","928","CHIROPRACTOR","CHIROPRACTOR","111NX0800X","CHIROPRACTOR - ORTHOPEDIC"]
["246ZX2200X",{"$f":"\"29\"","v":"29"},{"$f":"\"929\"","v":"929"},"PHYSICIAN ASSISTANT","PHYSICIAN ASSISTANT","246ZX2200X","SPECIALIST/TECHNOLOGIST, OTHER - ORTHOPEDIC ASSISTANT"]
["363A00000X",{"$f":"\"29\"","v":"29"},{"$f":"\"929\"","v":"929"},"PHYSICIAN ASSISTANT","PHYSICIAN ASSISTANT","363A00000X","PHYSICIAN ASSISTANT"]
["363AM0700X",{"$f":"\"29\"","v":"29"},{"$f":"\"929\"","v":"929"},"PHYSICIAN ASSISTANT","PHYSICIAN ASSISTANT","363AM0700X","PHYSICIAN ASSISTANT - MEDICAL"]
["363AS0400X",{"$f":"\"29\"","v":"29"},{"$f":"\"929\"","v":"929"},"PHYSICIAN ASSISTANT","PHYSICIAN ASSISTANT","363AS0400X","PHYSICIAN ASSISTANT - SURGICAL TECHNOLOGIST"]
["363LA2200X",{"$f":"\"30\"","v":"30"},{"$f":"\"075\"","v":"075"},"ADVANCED PRACTICE REGISTERED NURSE","ADULT PRIMARY CARE","363LA2200X","NURSE PRACTITIONER - ADULT HEALTH"]
["363LP2300X","30",{"$f":"\"075\"","v":"075"},"ADVANCED PRACTICE REGISTERED NURSE","ADULT PRIMARY CARE","363LP2300X","NURSE PRACTITIONER - PRIMARY CARE"]
["363LP0808X","30",{"$f":"\"076\"","v":"076"},"ADVANCED PRACTICE REGISTERED NURSE","CLINICAL NURSE SPECIALIST PSYCH. MENTAL HEALTH","363LP0808X","NURSE PRACTITIONER - PSYCH/MENTAL HEALTH"]
["364SP0807X","30","076","ADVANCED PRACTICE REGISTERED NURSE","CLINICAL NURSE SPECIALIST PSYCH. MENTAL HEALTH","364SP0807X","CLINICAL NURSE SPECIALIST - PSYCH/MENTAL HEALTH, CHILD & ADOLESCENT"]
["364SP0808X","30","076","ADVANCED PRACTICE REGISTERED NURSE","CLINICAL NURSE SPECIALIST PSYCH. MENTAL HEALTH","364SP0808X","CLINICAL NURSE SPECIALIST - PSYCH/MENTAL HEALTH"]
["364SP0809X","30","076","ADVANCED PRACTICE REGISTERED NURSE","CLINICAL NURSE SPECIALIST PSYCH. MENTAL HEALTH","364SP0809X","CLINICAL NURSE SPECIALIST - PSYCH/MENTAL HEALTH, ADULT"]
[{"$f":"CLEAN(F643)","v":"364SP0810X"},"30","076","ADVANCED PRACTICE REGISTERED NURSE","CLINICAL NURSE SPECIALIST PSYCH. MENTAL HEALTH","364SP0810X","CLINICAL NURSE SPECIALIST - PSYCH/MENTAL HEALTH, CHILD & FAMILY"]
["364SP0811X","30","076","ADVANCED PRACTICE REGISTERED NURSE","CLINICAL NURSE SPECIALIST PSYCH. MENTAL HEALTH","364SP0811X","CLINICAL NURSE SPECIALIST - PSYCH/MENTAL HEALTH, CHRONICALLY ILL"]
["364SP0812X","30","076","ADVANCED PRACTICE REGISTERED NURSE","CLINICAL NURSE SPECIALIST PSYCH. MENTAL HEALTH","364SP0812X","CLINICAL NURSE SPECIALIST - PSYCH/MENTAL HEALTH, COMMUNITY"]
["364SP0813X","30","076","ADVANCED PRACTICE REGISTERED NURSE","CLINICAL NURSE SPECIALIST PSYCH. MENTAL HEALTH","364SP0813X","CLINICAL NURSE SPECIALIST - PSYCH/MENTAL HEALTH, GEROPSYCHIATRIC"]
["363LS0200X","30",{"$f":"\"077\"","v":"077"},"ADVANCED PRACTICE REGISTERED NURSE","COLLEGE HEALTH NURSE","363LS0200X","NURSE PRACTITIONER - SCHOOL"]
["363LP2300X","30",{"$f":"\"078\"","v":"078"},"ADVANCED PRACTICE REGISTERED NURSE","DIABETIC NURSE PRACTITIONER","363LP2300X","NURSE PRACTITIONER - PRIMARY CARE"]
["363LF0000X","30",{"$f":"\"080\"","v":"080"},"ADVANCED PRACTICE REGISTERED NURSE","FAMILY NURSE","363LF0000X","NURSE PRACTITIONER - FAMILY"]
["363LF0000X","30",{"$f":"\"081\"","v":"081"},"ADVANCED PRACTICE REGISTERED NURSE","FAMILY PLANNING","363LF0000X","NURSE PRACTITIONER - FAMILY"]
["363LG0600X","30",{"$f":"\"082\"","v":"082"},"ADVANCED PRACTICE REGISTERED NURSE","GERIATRIC","363LG0600X","NURSE PRACTITIONER - GERONTOLOGY"]
["363LX0001X","30",{"$f":"\"083\"","v":"083"},"ADVANCED PRACTICE REGISTERED NURSE","MATERNAL/CHILD HEALTH FAMILY PLANNING","363LX0001X","NURSE PRACTITIONER - OBSTETRICS & GYNECOLOGY"]
["367500000X","30",{"$f":"\"084\"","v":"084"},"ADVANCED PRACTICE REGISTERED NURSE","CERTIFIED REGISTERED NURSE ANESTHETIST","367500000X","NURSE ANESTHETIST, CERTIFIED REGISTERED"]
["367A00000X","30",{"$f":"\"085\"","v":"085"},"ADVANCED PRACTICE REGISTERED NURSE","CERTIFIED REGISTERED NURSE MIDWIFE","367A00000X","ADVANCED PRACTICE MIDWIFE"]
["363LP1700X","30",{"$f":"\"086\"","v":"086"},"ADVANCED PRACTICE REGISTERED NURSE","OB/GYN NURSE","363LP1700X","NURSE PRACTITIONER - PERINATAL"]
["363LW0102X","30",{"$f":"\"086\"","v":"086"},"ADVANCED PRACTICE REGISTERED NURSE","OB/GYN NURSE","363LW0102X","NURSE PRACTITIONER - WOMEN'S HEALTH"]
["363LX0001X","30",{"$f":"\"086\"","v":"086"},"ADVANCED PRACTICE REGISTERED NURSE","OB/GYN NURSE","363LX0001X","NURSE PRACTITIONER - OBSTETRICS & GYNECOLOGY"]
["363LN0000X","30",{"$f":"\"087\"","v":"087"},"ADVANCED PRACTICE REGISTERED NURSE","PEDIATRIC NURSE","363LN0000X","NURSE PRACTITIONER - NEONATAL"]
["363LN0005X","30",{"$f":"\"087\"","v":"087"},"ADVANCED PRACTICE REGISTERED NURSE","PEDIATRIC NURSE","363LN0005X","NURSE PRACTITIONER - NEONATAL, CRITICAL CARE"]
["363LP0200X","30",{"$f":"\"087\"","v":"087"},"ADVANCED PRACTICE REGISTERED NURSE","PEDIATRIC NURSE","363LP0200X","NURSE PRACTITIONER - PEDIATRICS"]
["363LP0222X","30",{"$f":"\"087\"","v":"087"},"ADVANCED PRACTICE REGISTERED NURSE","PEDIATRIC NURSE","363LP0222X","NURSE PRACTITIONER - PEDIATRICS, CRITICAL CARE"]
["363L00000X","30",{"$f":"\"160\"","v":"160"},"ADVANCED PRACTICE REGISTERED NURSE","RETAIL HEALTH CLINIC","363L00000X","NURSE PRACTITIONER"]
["363L00000X","30",{"$f":"\"177\"","v":"177"},"ADVANCED PRACTICE REGISTERED NURSE","CMS/MFC TCM","363L00000X","NURSE PRACTITIONER"]
["363L00000X","30",{"$f":"\"930\"","v":"930"},"ADVANCED PRACTICE REGISTERED NURSE","NURSE PRACTITIONER (ARNP) - GROUP","363L00000X","NURSE PRACTITIONER"]
["363LA2100X","30",{"$f":"\"930\"","v":"930"},"ADVANCED PRACTICE REGISTERED NURSE","NURSE PRACTITIONER (ARNP) - GROUP","363LA2100X","NURSE PRACTITIONER - ACUTE CARE"]
["363LC0200X","30",{"$f":"\"930\"","v":"930"},"ADVANCED PRACTICE REGISTERED NURSE","NURSE PRACTITIONER (ARNP) - GROUP","363LC0200X","NURSE PRACTITIONER - CRITICAL CARE MEDICINE"]
["363LC1500X","30",{"$f":"\"930\"","v":"930"},"ADVANCED PRACTICE REGISTERED NURSE","NURSE PRACTITIONER (ARNP) - GROUP","363LC1500X","NURSE PRACTITIONER - COMMUNITY HEALTH"]
["363LX0106X","30",{"$f":"\"930\"","v":"930"},"ADVANCED PRACTICE REGISTERED NURSE","NURSE PRACTITIONER (ARNP) - GROUP","363LX0106X","NURSE PRACTITIONER - OCCUPATIONAL HEALTH"]
["163WR0006X",{"$f":"\"31\"","v":"31"},{"$f":"\"172\"","v":"172"},"REGISTERED NURSE/REGISTERED NURSE FIRST ASSISTANT","RNFA","163WR0006X","REGISTERED NURSE - REGISTERED NURSE FIRST ASSISTANT"]
["163WC1500X",{"$f":"\"31\"","v":"31"},{"$f":"\"173\"","v":"173"},"REGISTERED NURSE/REGISTERED NURSE FIRST ASSISTANT","COUNTY HEALTH DEPARTMENT CERTIFIED MATCH RN/LPN","163WC1500X","REGISTERED NURSE - COMMUNITY HEALTH"]
["163WC1500X",{"$f":"\"31\"","v":"31"},{"$f":"\"177\"","v":"177"},"REGISTERED NURSE/REGISTERED NURSE FIRST ASSISTANT","CMS/MFC TCM","163WC1500X","REGISTERED NURSE - COMMUNITY HEALTH"]
["163W00000X",{"$f":"\"31\"","v":"31"},{"$f":"\"931\"","v":"931"},"REGISTERED NURSE/REGISTERED NURSE FIRST ASSISTANT","REGISTERED NURSE FIRST ASSISTANT","163W00000X","REGISTERED NURSE"]
["104100000X",{"$f":"\"32\"","v":"32"},{"$f":"\"174\"","v":"174"},"SOCIAL WORKER/CASE MANAGER","MENTAL HEALTH TCM","104100000X","SOCIAL WORKER"]
["1041C0700X","32",{"$f":"\"174\"","v":"174"},"SOCIAL WORKER/CASE MANAGER","MENTAL HEALTH TCM","1041C0700X","SOCIAL WORKER - CLINICAL"]
["171M00000X","32",{"$f":"\"174\"","v":"174"},"SOCIAL WORKER/CASE MANAGER","MENTAL HEALTH TCM","171M00000X","CASE MANAGER/CARE COORDINATOR"]
["104100000X","32",{"$f":"\"175\"","v":"175"},"SOCIAL WORKER/CASE MANAGER","TCM FOR CHILDREN AT RISK OF ABUSE AND NEGLECT","104100000X","SOCIAL WORKER"]
["104100000X","32",{"$f":"\"176\"","v":"176"},"SOCIAL WORKER/CASE MANAGER","DOH/CMS TCM","104100000X","SOCIAL WORKER"]
["1041C0700X","32",{"$f":"\"177\"","v":"177"},"SOCIAL WORKER/CASE MANAGER","CMS/MFC TCM","1041C0700X","SOCIAL WORKER - CLINICAL"]
["104100000X","32",{"$f":"\"932\"","v":"932"},"SOCIAL WORKER/CASE MANAGER","SOCIAL WORKER/CASE MANAGER","104100000X","SOCIAL WORKER"]
["1041C0700X","32",{"$f":"\"932\"","v":"932"},"SOCIAL WORKER/CASE MANAGER","SOCIAL WORKER/CASE MANAGER","1041C0700X","SOCIAL WORKER - CLINICAL"]
["405300000X","32",{"$f":"\"932\"","v":"932"},"SOCIAL WORKER/CASE MANAGER","SOCIAL WORKER/CASE MANAGER","405300000X","PREVENTION PROFESSIONAL"]
["175M00000X",{"$f":"\"34\"","v":"34"},{"$f":"\"934\"","v":"934"},"LICENSED MIDWIFE","LICENSED MIDWIFE","175M00000X","MIDWIFE, LAY"]
["176B00000X",{"$f":"\"34\"","v":"34"},{"$f":"\"934\"","v":"934"},"LICENSED MIDWIFE","LICENSED MIDWIFE","176B00000X","MIDWIFE"]
["122400000X",{"$f":"\"35\"","v":"35"},{"$f":"\"070\"","v":"070"},"DENTIST","ADULT DENTURES ONLY","122400000X","DENTURIST"]
["122300000X","35",{"$f":"\"071\"","v":"071"},"DENTIST","GENERAL DENTISTRY","122300000X","DENTIST"]
["1223D0004X","35","071","DENTIST","GENERAL DENTISTRY","1223D0004X","DENTIST - DENTIST ANESTHESIOLOGIST"]
["1223E0200X","35","071","DENTIST","GENERAL DENTISTRY","1223E0200X","DENTIST - ENDODONTICS"]
["1223G0001X","35","071","DENTIST","GENERAL DENTISTRY","1223G0001X","DENTIST - GENERAL PRACTICE"]
["1223P0106X","35","071","DENTIST","GENERAL DENTISTRY","1223P0106X","DENTIST - ORAL AND MAXILLOFACIAL PATHOLOGY"]
["1223P0300X","35","071","DENTIST","GENERAL DENTISTRY","1223P0300X","DENTIST - PERIODONTICS"]
["1223P0700X","35","071","DENTIST","GENERAL DENTISTRY","1223P0700X","DENTIST - PROSTHODONTICS"]
["1223S0112X","35",{"$f":"\"072\"","v":"072"},"DENTIST","ORAL SURGERY (DENTIST)","1223S0112X","DENTIST - ORAL AND MAXILLOFACIAL SURGERY"]
["1223P0221X","35",{"$f":"\"073\"","v":"073"},"DENTIST","PEDODONTIST","1223P0221X","DENTIST - PEDIATRIC DENTISTRY"]
["1223D0001X","35",{"$f":"\"074\"","v":"074"},"DENTIST","OTHER DENTIST","1223D0001X","DENTIST - DENTAL PUBLIC HEALTH"]
["1223G0001X","35",{"$f":"\"074\"","v":"074"},"DENTIST","OTHER DENTIST","1223G0001X","DENTIST - GENERAL PRACTICE"]
["1223X0400X","35",{"$f":"\"088\"","v":"088"},"DENTIST","ORTHODONTIST","1223X0400X","DENTIST - ORTHODONTICS AND DENTOFACIAL ORTHOPEDICS"]
["367H00000X",{"$f":"\"36\"","v":"36"},{"$f":"\"130\"","v":"130"},"MEDICAL ASSISTANT","ANESTHESIOLOGY ASSISTANT","367H00000X","ANESTHESIOLOGIST ASSISTANT"]
["124Q00000X",{"$f":"\"37\"","v":"37"},{"$f":"\"937\"","v":"937"},"REGISTERED DENTAL HYGIENIST","REGISTERED DENTAL HYGIENIST","124Q00000X","DENTAL HYGIENIST"]
["125K00000X",{"$f":"\"37\"","v":"37"},{"$f":"\"937\"","v":"937"},"REGISTERED DENTAL HYGIENIST","REGISTERED DENTAL HYGIENIST","125K00000X","ADVANCED PRACTICE DENTAL THERAPIST"]
["101YA0400X",{"$f":"\"39\"","v":"39"},{"$f":"\"390\"","v":"390"},"BEHAVIOR ANALYSIS","REGISTERED BEHAVIOR TECHNICIAN","101YA0400X","COUNSELOR - ADDICTION (SUBSTANCE USE DISORDER)"]
["106S00000X","39",{"$f":"\"390\"","v":"390"},"BEHAVIOR ANALYSIS","REGISTERED BEHAVIOR TECHNICIAN","106S00000X","BEHAVIOR TECHNICIAN"]
["101Y00000X","39",{"$f":"\"391\"","v":"391"},"BEHAVIOR ANALYSIS","ASSISTANT BEHAVIOR ANALYST","101Y00000X","COUNSELOR"]
["101YA0400X","39",{"$f":"\"391\"","v":"391"},"BEHAVIOR ANALYSIS","ASSISTANT BEHAVIOR ANALYST","101YA0400X","COUNSELOR - ADDICTION (SUBSTANCE USE DISORDER)"]
["106E00000X","39",{"$f":"\"391\"","v":"391"},"BEHAVIOR ANALYSIS","ASSISTANT BEHAVIOR ANALYST","106E00000X","ASSISTANT BEHAVIOR ANALYST"]
["101Y00000X","39",{"$f":"\"392\"","v":"392"},"BEHAVIOR ANALYSIS","LEAD ANALYST","101Y00000X","COUNSELOR"]
["101YA0400X","39","392","BEHAVIOR ANALYSIS","LEAD ANALYST","101YA0400X","COUNSELOR - ADDICTION (SUBSTANCE USE DISORDER)"]
[{"$f":"CLEAN(F707)","v":"101YP2500X"},"39","392","BEHAVIOR ANALYSIS","LEAD ANALYST","101YP2500X","COUNSELOR - PROFESSIONAL"]
["102L00000X","39","392","BEHAVIOR ANALYSIS","LEAD ANALYST","102L00000X","PSYCHOANALYST"]
["103G00000X","39","392","BEHAVIOR ANALYSIS","LEAD ANALYST","103G00000X","CLINICAL NEUROPSYCHOLOGIST"]
["103K00000X","39","392","BEHAVIOR ANALYSIS","LEAD ANALYST","103K00000X","BEHAVIORAL ANALYST"]
["103TA0400X","39","392","BEHAVIOR ANALYSIS","LEAD ANALYST","103TA0400X","PSYCHOLOGIST - ADDICTION (SUBSTANCE USE DISORDER)"]
["103TA0700X","39","392","BEHAVIOR ANALYSIS","LEAD ANALYST","103TA0700X","PSYCHOLOGIST - ADULT DEVELOPMENT & AGING"]
["103TB0200X","39","392","BEHAVIOR ANALYSIS","LEAD ANALYST","103TB0200X","PSYCHOLOGIST - COGNITIVE & BEHAVIORAL"]
["103TC0700X","39","392","BEHAVIOR ANALYSIS","LEAD ANALYST","103TC0700X","PSYCHOLOGIST - CLINICAL"]
["103TC1900X","39","392","BEHAVIOR ANALYSIS","LEAD ANALYST","103TC1900X","PSYCHOLOGIST - COUNSELING"]
["103TC2200X","39","392","BEHAVIOR ANALYSIS","LEAD ANALYST","103TC2200X","PSYCHOLOGIST - CLINICAL CHILD & ADOLESCENT"]
["103TE1100X","39","392","BEHAVIOR ANALYSIS","LEAD ANALYST","103TE1100X","PSYCHOLOGIST - EXERCISE & SPORTS"]
["103TF0000X","39","392","BEHAVIOR ANALYSIS","LEAD ANALYST","103TF0000X","PSYCHOLOGIST - FAMILY"]
["103TF0200X","39","392","BEHAVIOR ANALYSIS","LEAD ANALYST","103TF0200X","PSYCHOLOGIST - FORENSIC"]
["103TH0004X","39","392","BEHAVIOR ANALYSIS","LEAD ANALYST","103TH0004X","PSYCHOLOGIST - HEALTH"]
["103TH0100X","39","392","BEHAVIOR ANALYSIS","LEAD ANALYST","103TH0100X","PSYCHOLOGIST - HEALTH SERVICE"]
["103TM1800X","39","392","BEHAVIOR ANALYSIS","LEAD ANALYST","103TM1800X","PSYCHOLOGIST - MENTAL RETARDATION & DEVELOPMENTAL DISABILITIES"]
["103TP0016X","39","392","BEHAVIOR ANALYSIS","LEAD ANALYST","103TP0016X","PSYCHOLOGIST - PRESCRIBING (MEDICAL)"]
["103TP0814X","39","392","BEHAVIOR ANALYSIS","LEAD ANALYST","103TP0814X","PSYCHOLOGIST - PSYCHOANALYSIS"]
["103TR0400X","39","392","BEHAVIOR ANALYSIS","LEAD ANALYST","103TR0400X","PSYCHOLOGIST - REHABILITATION"]
["103TS0200X","39","392","BEHAVIOR ANALYSIS","LEAD ANALYST","103TS0200X","PSYCHOLOGIST - SCHOOL"]
["103K00000X","39",{"$f":"\"393\"","v":"393"},"BEHAVIOR ANALYSIS","BEHAVIOR ANALYSIS GROUP","103K00000X","BEHAVIORAL ANALYST"]
["341600000X",{"$f":"\"40\"","v":"40"},{"$f":"\"940\"","v":"940"},"AMBULANCE","AMBULANCE","341600000X","AMBULANCE"]
["3416L0300X",{"$f":"\"40\"","v":"40"},{"$f":"\"940\"","v":"940"},"AMBULANCE","AMBULANCE","3416L0300X","AMBULANCE - LAND TRANSPORT"]
["3416S0300X",{"$f":"\"40\"","v":"40"},{"$f":"\"940\"","v":"940"},"AMBULANCE","AMBULANCE","3416S0300X","AMBULANCE - WATER TRANSPORT"]
["342000000X",{"$f":"\"41\"","v":"41"},{"$f":"\"941\"","v":"941"},"NON-EMERGENCY TRANSPORT","NON-EMERGENCY TRANSPORT","342000000X","TRANSPORTATION NETWORK COMPANY"]
["343900000X",{"$f":"\"41\"","v":"41"},{"$f":"\"941\"","v":"941"},"NON-EMERGENCY TRANSPORT","NON-EMERGENCY TRANSPORT","343900000X","NON-EMERGENCY MEDICAL TRANSPORT (VAN)"]
["3416A0800X",{"$f":"\"42\"","v":"42"},{"$f":"\"942\"","v":"942"},"AIR AMBULANCE","AIR AMBULANCE","3416A0800X","AMBULANCE - AIR TRANSPORT"]
["344600000X",{"$f":"\"43\"","v":"43"},{"$f":"\"943\"","v":"943"},"TAXICAB COMPANY","TAXICAB COMPANY","344600000X","TAXI"]
["3416A0800X",{"$f":"\"44\"","v":"44"},{"$f":"\"944\"","v":"944"},"GOVERNMENT/MUNICIPAL TRANSPORT","GOVERNMENT/MUNICIPAL TRANSPORT","3416A0800X","AMBULANCE - AIR TRANSPORT"]
["3416L0300X",{"$f":"\"44\"","v":"44"},{"$f":"\"944\"","v":"944"},"GOVERNMENT/MUNICIPAL TRANSPORT","GOVERNMENT/MUNICIPAL TRANSPORT","3416L0300X","AMBULANCE - LAND TRANSPORT"]
["3416S0300X",{"$f":"\"44\"","v":"44"},{"$f":"\"944\"","v":"944"},"GOVERNMENT/MUNICIPAL TRANSPORT","GOVERNMENT/MUNICIPAL TRANSPORT","3416S0300X","AMBULANCE - WATER TRANSPORT"]
["347C00000X",{"$f":"\"45\"","v":"45"},{"$f":"\"945\"","v":"945"},"PRIVATE TRANSPORTATION","PRIVATE TRANSPORTATION","347C00000X","PRIVATE VEHICLE"]
["343900000X",{"$f":"\"46\"","v":"46"},{"$f":"\"946\"","v":"946"},"NON-PROFIT TRANSPORTATION","NON-PROFIT TRANSPORTATION","343900000X","NON-EMERGENCY MEDICAL TRANSPORT (VAN)"]
["343900000X",{"$f":"\"47\"","v":"47"},{"$f":"\"947\"","v":"947"},"MULTI-LOAD PRIVATE TRANSPORT","MULTI-LOAD PRIVATE TRANSPORT","343900000X","NON-EMERGENCY MEDICAL TRANSPORT (VAN)"]
["291U00000X",{"$f":"\"50\"","v":"50"},{"$f":"\"950\"","v":"950"},"INDEPENDENT LABORATORY","INDEPENDENT LABORATORY","291U00000X","CLINICAL MEDICAL LABORATORY"]
["261QR0207X",{"$f":"\"51\"","v":"51"},{"$f":"\"951\"","v":"951"},"PORTABLE X-RAY COMPANY","PORTABLE X-RAY COMPANY","261QR0207X","CLINIC/CENTER - RADIOLOGY, MOBILE MAMMOGRAPHY"]
["261QR0208X",{"$f":"\"51\"","v":"51"},{"$f":"\"951\"","v":"951"},"PORTABLE X-RAY COMPANY","PORTABLE X-RAY COMPANY","261QR0208X","CLINIC/CENTER - RADIOLOGY, MOBILE"]
["335V00000X",{"$f":"\"51\"","v":"51"},{"$f":"\"951\"","v":"951"},"PORTABLE X-RAY COMPANY","PORTABLE X-RAY COMPANY","335V00000X","PORTABLE X-RAY SUPPLIER"]
["231H00000X",{"$f":"\"60\"","v":"60"},{"$f":"\"960\"","v":"960"},"AUDIOLOGIST","AUDIOLOGIST","231H00000X","AUDIOLOGIST"]
["231HA2400X",{"$f":"\"60\"","v":"60"},{"$f":"\"960\"","v":"960"},"AUDIOLOGIST","AUDIOLOGIST","231HA2400X","AUDIOLOGIST - ASSISTIVE TECHNOLOGY PRACTITIONER"]
["231HA2500X",{"$f":"\"60\"","v":"60"},{"$f":"\"960\"","v":"960"},"AUDIOLOGIST","AUDIOLOGIST","231HA2500X","AUDIOLOGIST - ASSISTIVE TECHNOLOGY SUPPLIER"]
["235500000X",{"$f":"\"61\"","v":"61"},{"$f":"\"961\"","v":"961"},"HEARING AID SPECIALIST","HEARING AID SPECIALIST","235500000X","SPECIALIST/TECHNOLOGIST"]
["237600000X",{"$f":"\"61\"","v":"61"},{"$f":"\"961\"","v":"961"},"HEARING AID SPECIALIST","HEARING AID SPECIALIST","237600000X","AUDIOLOGIST-HEARING AID FITTER"]
["237700000X",{"$f":"\"61\"","v":"61"},{"$f":"\"961\"","v":"961"},"HEARING AID SPECIALIST","HEARING AID SPECIALIST","237700000X","HEARING INSTRUMENT SPECIALIST"]
["152W00000X",{"$f":"\"62\"","v":"62"},{"$f":"\"962\"","v":"962"},"OPTOMETRIST","OPTOMETRIST","152W00000X","OPTOMETRIST"]
["152WC0802X","62","962","OPTOMETRIST","OPTOMETRIST","152WC0802X","OPTOMETRIST - CORNEAL AND CONTACT MANAGEMENT"]
["152WL0500X","62","962","OPTOMETRIST","OPTOMETRIST","152WL0500X","OPTOMETRIST - LOW VISION REHABILITATION"]
["152WP0200X","62","962","OPTOMETRIST","OPTOMETRIST","152WP0200X","OPTOMETRIST - PEDIATRICS"]
["152WS0006X","62","962","OPTOMETRIST","OPTOMETRIST","152WS0006X","OPTOMETRIST - SPORTS VISION"]
["152WV0400X","62","962","OPTOMETRIST","OPTOMETRIST","152WV0400X","OPTOMETRIST - VISION THERAPY"]
["152WX0102X","62","962","OPTOMETRIST","OPTOMETRIST","152WX0102X","OPTOMETRIST - OCCUPATIONAL VISION"]
["302F00000X","62","962","OPTOMETRIST","OPTOMETRIST","302F00000X","EXCLUSIVE PROVIDER ORGANIZATION"]
["156FX1800X",{"$f":"\"63\"","v":"63"},{"$f":"\"963\"","v":"963"},"OPTICIAN","OPTICIAN","156FX1800X","TECHNICIAN/TECHNOLOGIST - OPTICIAN"]
["253Z00000X",{"$f":"\"65\"","v":"65"},{"$f":"\"114\"","v":"114"},"HOME HEALTH SERVICES","PERSONAL CARE","253Z00000X","IN HOME SUPPORT CARE AGENCIES"]
["164W00000X","65",{"$f":"\"117\"","v":"117"},"HOME HEALTH SERVICES","INDEPENDENT HOME HEALTH NURSE - LPN","164W00000X","LICENSED PRACTICAL NURSE"]
["163WH0200X","65",{"$f":"\"118\"","v":"118"},"HOME HEALTH SERVICES","INDEPENDENT HOME HEALTH NURSE - RN","163WH0200X","REGISTERED NURSE - HOME HEALTH"]
["251E00000X","65",{"$f":"\"965\"","v":"965"},"HOME HEALTH SERVICES","HOME HEALTH AGENCY","251E00000X","HOME HEALTH"]
["253Z00000X","65",{"$f":"\"965\"","v":"965"},"HOME HEALTH SERVICES","HOME HEALTH AGENCY","253Z00000X","IN HOME SUPPORT CARE AGENCIES"]
["374U00000X","65",{"$f":"\"965\"","v":"965"},"HOME HEALTH SERVICES","HOME HEALTH AGENCY","374U00000X","HOME HEALTH AIDE"]
["261QR1300X",{"$f":"\"66\"","v":"66"},{"$f":"\"966\"","v":"966"},"RURAL HEALTH CLINIC","RURAL HEALTH CLINIC","261QR1300X","CLINIC/CENTER - RURAL HEALTH"]
["310400000X",{"$f":"\"67\"","v":"67"},{"$f":"\"089\"","v":"089"},"HOME AND COMMUNITY BASED SERVICES WAIVER","ASSISTED LIVING FOR THE ELDERLY","310400000X","ASSISTED LIVING FACILITY"]
["253Z00000X","67",{"$f":"\"095\"","v":"095"},"HOME AND COMMUNITY BASED SERVICES WAIVER","STATEWIDE MEDICAID MANAGED CARE WAIVER SERVICES","253Z00000X","IN HOME SUPPORT CARE AGENCIES"]
["333300000X","67",{"$f":"\"095\"","v":"095"},"HOME AND COMMUNITY BASED SERVICES WAIVER","STATEWIDE MEDICAID MANAGED CARE WAIVER SERVICES","333300000X","PERSONAL EMERGENCY RESPONSE SYSTEMS"]
["3747A0650X","67",{"$f":"\"095\"","v":"095"},"HOME AND COMMUNITY BASED SERVICES WAIVER","STATEWIDE MEDICAID MANAGED CARE WAIVER SERVICES","3747A0650X","TECHNICIAN - ATTENDANT CARE PROVIDER"]
[{"$f":"CLEAN(F771)","v":"251C00000X"},"67",{"$f":"\"096\"","v":"096"},"HOME AND COMMUNITY BASED SERVICES WAIVER","DEVELOPMENTAL DISABILITY","251C00000X","DAY TRAINING, DEVELOPMENTALLY DISABLED SERVICES"]
["251J00000X","67",{"$f":"\"096\"","v":"096"},"HOME AND COMMUNITY BASED SERVICES WAIVER","DEVELOPMENTAL DISABILITY","251J00000X","NURSING CARE"]
["261QD1600X","67",{"$f":"\"096\"","v":"096"},"HOME AND COMMUNITY BASED SERVICES WAIVER","DEVELOPMENTAL DISABILITY","261QD1600X","CLINIC/CENTER - DEVELOPMENTAL DISABILITIES"]
["320900000X","67",{"$f":"\"096\"","v":"096"},"HOME AND COMMUNITY BASED SERVICES WAIVER","DEVELOPMENTAL DISABILITY","320900000X","COMMUNITY BASED RESIDENTIAL TREATMENT, MENTAL RETARDATION AND/OR DEVELOPMENTAL DISABILITIES"]
["261QA0600X","67",{"$f":"\"113\"","v":"113"},"HOME AND COMMUNITY BASED SERVICES WAIVER","ADULT DAY CARE","261QA0600X","CLINIC/CENTER - ADULT DAY CARE"]
["385H00000X","67",{"$f":"\"113\"","v":"113"},"HOME AND COMMUNITY BASED SERVICES WAIVER","ADULT DAY CARE","385H00000X","RESPITE CARE"]
["251J00000X","67",{"$f":"\"967\"","v":"967"},"HOME AND COMMUNITY BASED SERVICES WAIVER","HOME & COMMUNITY-BASED SERVICES WAIVER","251J00000X","NURSING CARE"]
["261QF0400X",{"$f":"\"68\"","v":"68"},{"$f":"\"968\"","v":"968"},"FEDERALLY QUALIFIED HEALTH CENTER","FEDERALLY QUALIFIED HEALTH CENTER","261QF0400X","CLINIC/CENTER - FEDERALLY QUALIFIED HEALTH CENTER (FQHC)"]
["261QB0400X",{"$f":"\"69\"","v":"69"},{"$f":"\"969\"","v":"969"},"BIRTH CENTER","BIRTH CENTER","261QB0400X","CLINIC/CENTER - BIRTHING"]
["343900000X",{"$f":"\"70\"","v":"70"},{"$f":"\"600\"","v":"600"},"MEDICAID HEALTH PLAN","CNET CAPITATED TRANSPORTATION","343900000X","NON-EMERGENCY MEDICAL TRANSPORT (VAN)"]
["302R00000X","70",{"$f":"\"601\"","v":"601"},"MEDICAID HEALTH PLAN","DUAL SPECIAL NEEDS PLAN","302R00000X","HEALTH MAINTENANCE ORGANIZATION"]
["302R00000X","70",{"$f":"\"670\"","v":"670"},"MEDICAID HEALTH PLAN","SMMC-CAPITATED LTC","302R00000X","HEALTH MAINTENANCE ORGANIZATION"]
["302R00000X","70",{"$f":"\"672\"","v":"672"},"MEDICAID HEALTH PLAN","SMMC-CAPITATED MMA","302R00000X","HEALTH MAINTENANCE ORGANIZATION"]
["302R00000X","70",{"$f":"\"673\"","v":"673"},"MEDICAID HEALTH PLAN","SMMC-CAPITATED MMA SPECIALTY","302R00000X","HEALTH MAINTENANCE ORGANIZATION"]
["302R00000X","70",{"$f":"\"674\"","v":"674"},"MEDICAID HEALTH PLAN","SMMC-CAPITATED MMA CHILD WELFARE","302R00000X","HEALTH MAINTENANCE ORGANIZATION"]
["302R00000X","70",{"$f":"\"675\"","v":"675"},"MEDICAID HEALTH PLAN","MMA DOH CMS","302R00000X","HEALTH MAINTENANCE ORGANIZATION"]
["302F00000X","70",{"$f":"\"970\"","v":"970"},"MEDICAID HEALTH PLAN","HMO","302F00000X","EXCLUSIVE PROVIDER ORGANIZATION"]
["302R00000X","70",{"$f":"\"970\"","v":"970"},"MEDICAID HEALTH PLAN","HMO","302R00000X","HEALTH MAINTENANCE ORGANIZATION"]
["305R00000X","70",{"$f":"\"970\"","v":"970"},"MEDICAID HEALTH PLAN","HMO","305R00000X","PREFERRED PROVIDER ORGANIZATION"]
["251K00000X",{"$f":"\"77\"","v":"77"},{"$f":"\"977\"","v":"977"},"COUNTY HEALTH DEPARTMENT","COUNTY HEALTH DEPARTMENT","251K00000X","PUBLIC HEALTH OR WELFARE"]
["261QP0905X",{"$f":"\"77\"","v":"77"},{"$f":"\"977\"","v":"977"},"COUNTY HEALTH DEPARTMENT","COUNTY HEALTH DEPARTMENT","261QP0905X","CLINIC/CENTER - PUBLIC HEALTH, STATE OR LOCAL"]
["261Q00000X",{"$f":"\"78\"","v":"78"},{"$f":"\"978\"","v":"978"},"CHILDREN'S MEDICAL SERVICES","CHILDREN'S MEDICAL SERVICES","261Q00000X","CLINIC/CENTER"]
["222Q00000X",{"$f":"\"81\"","v":"81"},{"$f":"\"981\"","v":"981"},"PROFESSIONAL EARLY INTERVENTION SERVICES","PROFESSIONAL EARLY INTERVENTION SERVICES","222Q00000X","DEVELOPMENTAL THERAPIST"]
["252Y00000X",{"$f":"\"81\"","v":"81"},{"$f":"\"981\"","v":"981"},"PROFESSIONAL EARLY INTERVENTION SERVICES","PROFESSIONAL EARLY INTERVENTION SERVICES","252Y00000X","EARLY INTERVENTION PROVIDER AGENCY"]
["225X00000X",{"$f":"\"83\"","v":"83"},{"$f":"\"090\"","v":"090"},"THERAPIST (PT, OT, ST, RT)","OCCUPATIONAL THERAPIST","225X00000X","OCCUPATIONAL THERAPIST"]
["225XE0001X","83","090","THERAPIST (PT, OT, ST, RT)","OCCUPATIONAL THERAPIST","225XE0001X","OCCUPATIONAL THERAPIST - ENVIRONMENTAL MODIFICATION"]
["225XE1200X","83","090","THERAPIST (PT, OT, ST, RT)","OCCUPATIONAL THERAPIST","225XE1200X","OCCUPATIONAL THERAPIST - ERGONOMICS"]
["225XF0002X","83","090","THERAPIST (PT, OT, ST, RT)","OCCUPATIONAL THERAPIST","225XF0002X","OCCUPATIONAL THERAPIST - FEEDING, EATING AND SWALLOWING"]
["225XG0600X","83","090","THERAPIST (PT, OT, ST, RT)","OCCUPATIONAL THERAPIST","225XG0600X","OCCUPATIONAL THERAPIST - GERONTOLOGY"]
["225XH1200X","83","090","THERAPIST (PT, OT, ST, RT)","OCCUPATIONAL THERAPIST","225XH1200X","OCCUPATIONAL THERAPIST - HAND"]
["225XH1300X","83","090","THERAPIST (PT, OT, ST, RT)","OCCUPATIONAL THERAPIST","225XH1300X","OCCUPATIONAL THERAPIST - HUMAN FACTORS"]
["225XL0004X","83","090","THERAPIST (PT, OT, ST, RT)","OCCUPATIONAL THERAPIST","225XL0004X","OCCUPATIONAL THERAPIST - LOW VISION"]
["225XM0800X","83","090","THERAPIST (PT, OT, ST, RT)","OCCUPATIONAL THERAPIST","225XM0800X","OCCUPATIONAL THERAPIST - MENTAL HEALTH"]
["225XN1300X","83","090","THERAPIST (PT, OT, ST, RT)","OCCUPATIONAL THERAPIST","225XN1300X","OCCUPATIONAL THERAPIST - NEUROREHABILITATION"]
["225XP0019X","83","090","THERAPIST (PT, OT, ST, RT)","OCCUPATIONAL THERAPIST","225XP0019X","OCCUPATIONAL THERAPIST - PHYSICAL REHABILITATION"]
["225XP0200X","83","090","THERAPIST (PT, OT, ST, RT)","OCCUPATIONAL THERAPIST","225XP0200X","OCCUPATIONAL THERAPIST - PEDIATRICS"]
["225XR0403X","83","090","THERAPIST (PT, OT, ST, RT)","OCCUPATIONAL THERAPIST","225XR0403X","OCCUPATIONAL THERAPIST - DRIVING AND COMMUNITY MOBILITY"]
["225100000X","83",{"$f":"\"091\"","v":"091"},"THERAPIST (PT, OT, ST, RT)","PHYSICAL THERAPIST","225100000X","PHYSICAL THERAPIST"]
["2251C2600X","83","091","THERAPIST (PT, OT, ST, RT)","PHYSICAL THERAPIST","2251C2600X","PHYSICAL THERAPIST - CARDIOPULMONARY"]
["2251E1200X","83","091","THERAPIST (PT, OT, ST, RT)","PHYSICAL THERAPIST","2251E1200X","PHYSICAL THERAPIST - ERGONOMICS"]
["2251E1300X","83","091","THERAPIST (PT, OT, ST, RT)","PHYSICAL THERAPIST","2251E1300X","PHYSICAL THERAPIST - ELECTROPHYSIOLOGY, CLINICAL"]
["2251G0304X","83","091","THERAPIST (PT, OT, ST, RT)","PHYSICAL THERAPIST","2251G0304X","PHYSICAL THERAPIST - GERIATRICS"]
["2251H1200X","83","091","THERAPIST (PT, OT, ST, RT)","PHYSICAL THERAPIST","2251H1200X","PHYSICAL THERAPIST - HAND"]
["2251H1300X","83","091","THERAPIST (PT, OT, ST, RT)","PHYSICAL THERAPIST","2251H1300X","PHYSICAL THERAPIST - HUMAN FACTORS"]
["2251N0400X","83","091","THERAPIST (PT, OT, ST, RT)","PHYSICAL THERAPIST","2251N0400X","PHYSICAL THERAPIST - NEUROLOGY"]
["2251P0200X","83","091","THERAPIST (PT, OT, ST, RT)","PHYSICAL THERAPIST","2251P0200X","PHYSICAL THERAPIST - PEDIATRICS"]
["2251S0007X","83","091","THERAPIST (PT, OT, ST, RT)","PHYSICAL THERAPIST","2251S0007X","PHYSICAL THERAPIST - SPORTS"]
["2251X0800X","83","091","THERAPIST (PT, OT, ST, RT)","PHYSICAL THERAPIST","2251X0800X","PHYSICAL THERAPIST - ORTHOPEDIC"]
["235Z00000X","83",{"$f":"\"092\"","v":"092"},"THERAPIST (PT, OT, ST, RT)","SPEECH THERAPIST","235Z00000X","SPEECH-LANGUAGE PATHOLOGIST"]
["227800000X","83",{"$f":"\"093\"","v":"093"},"THERAPIST (PT, OT, ST, RT)","RESPIRATORY THERAPIST","227800000X","RESPIRATORY THERAPIST, CERTIFIED"]
["2278C0205X","83","093","THERAPIST (PT, OT, ST, RT)","RESPIRATORY THERAPIST","2278C0205X","RESPIRATORY THERAPIST, CERTIFIED - CRITICAL CARE"]
["2278E0002X","83","093","THERAPIST (PT, OT, ST, RT)","RESPIRATORY THERAPIST","2278E0002X","RESPIRATORY THERAPIST, CERTIFIED - EMERGENCY CARE"]
["2278E1000X","83","093","THERAPIST (PT, OT, ST, RT)","RESPIRATORY THERAPIST","2278E1000X","RESPIRATORY THERAPIST, CERTIFIED - EDUCATIONAL"]
["2278G0305X","83","093","THERAPIST (PT, OT, ST, RT)","RESPIRATORY THERAPIST","2278G0305X","RESPIRATORY THERAPIST, CERTIFIED - GERIATRIC CARE"]
["2278G1100X","83","093","THERAPIST (PT, OT, ST, RT)","RESPIRATORY THERAPIST","2278G1100X","RESPIRATORY THERAPIST, CERTIFIED - GENERAL CARE"]
["2278P1004X","83","093","THERAPIST (PT, OT, ST, RT)","RESPIRATORY THERAPIST","2278P1004X","RESPIRATORY THERAPIST, CERTIFIED - PULMONARY DIAGNOSTICS"]
["2278P1005X","83","093","THERAPIST (PT, OT, ST, RT)","RESPIRATORY THERAPIST","2278P1005X","RESPIRATORY THERAPIST, CERTIFIED - PULMONARY REHABILITATION"]
["2278P1006X","83","093","THERAPIST (PT, OT, ST, RT)","RESPIRATORY THERAPIST","2278P1006X","RESPIRATORY THERAPIST, CERTIFIED - PULMONARY FUNCTION TECHNOLOGIST"]
["2278P3800X","83","093","THERAPIST (PT, OT, ST, RT)","RESPIRATORY THERAPIST","2278P3800X","RESPIRATORY THERAPIST, CERTIFIED - PALLIATIVE/HOSPICE"]
["2278P3900X","83","093","THERAPIST (PT, OT, ST, RT)","RESPIRATORY THERAPIST","2278P3900X","RESPIRATORY THERAPIST, CERTIFIED - NEONATAL/PEDIATRICS"]
["2278P4000X","83","093","THERAPIST (PT, OT, ST, RT)","RESPIRATORY THERAPIST","2278P4000X","RESPIRATORY THERAPIST, CERTIFIED - PATIENT TRANSPORT"]
["2278S1500X","83","093","THERAPIST (PT, OT, ST, RT)","RESPIRATORY THERAPIST","2278S1500X","RESPIRATORY THERAPIST, CERTIFIED - SNF/SUBACUTE CARE"]
["227900000X","83","093","THERAPIST (PT, OT, ST, RT)","RESPIRATORY THERAPIST","227900000X","RESPIRATORY THERAPIST, REGISTERED"]
["2279C0205X","83","093","THERAPIST (PT, OT, ST, RT)","RESPIRATORY THERAPIST","2279C0205X","RESPIRATORY THERAPIST, REGISTERED - CRITICAL CARE"]
[{"$f":"CLEAN(F835)","v":"2279E0002X"},"83","093","THERAPIST (PT, OT, ST, RT)","RESPIRATORY THERAPIST","2279E0002X","RESPIRATORY THERAPIST, REGISTERED - EMERGENCY CARE"]
["2279E1000X","83","093","THERAPIST (PT, OT, ST, RT)","RESPIRATORY THERAPIST","2279E1000X","RESPIRATORY THERAPIST, REGISTERED - EDUCATIONAL"]
["2279G0305X","83","093","THERAPIST (PT, OT, ST, RT)","RESPIRATORY THERAPIST","2279G0305X","RESPIRATORY THERAPIST, REGISTERED - GERIATRIC CARE"]
["2279G1100X","83","093","THERAPIST (PT, OT, ST, RT)","RESPIRATORY THERAPIST","2279G1100X","RESPIRATORY THERAPIST, REGISTERED - GENERAL CARE"]
["2279H0200X","83","093","THERAPIST (PT, OT, ST, RT)","RESPIRATORY THERAPIST","2279H0200X","RESPIRATORY THERAPIST, REGISTERED - HOME HEALTH"]
["2279P1004X","83","093","THERAPIST (PT, OT, ST, RT)","RESPIRATORY THERAPIST","2279P1004X","RESPIRATORY THERAPIST, REGISTERED - PULMONARY DIAGNOSTICS"]
["2279P1005X","83","093","THERAPIST (PT, OT, ST, RT)","RESPIRATORY THERAPIST","2279P1005X","RESPIRATORY THERAPIST, REGISTERED - PULMONARY REHABILITATION"]
["2279P1006X","83","093","THERAPIST (PT, OT, ST, RT)","RESPIRATORY THERAPIST","2279P1006X","RESPIRATORY THERAPIST, REGISTERED - PULMONARY FUNCTION TECHNOLOGIST"]
["2279P3800X","83","093","THERAPIST (PT, OT, ST, RT)","RESPIRATORY THERAPIST","2279P3800X","RESPIRATORY THERAPIST, REGISTERED - PALLIATIVE/HOSPICE"]
["2279P3900X","83","093","THERAPIST (PT, OT, ST, RT)","RESPIRATORY THERAPIST","2279P3900X","RESPIRATORY THERAPIST, REGISTERED - NEONATAL/PEDIATRICS"]
["2279P4000X","83","093","THERAPIST (PT, OT, ST, RT)","RESPIRATORY THERAPIST","2279P4000X","RESPIRATORY THERAPIST, REGISTERED - PATIENT TRANSPORT"]
["2279S1500X","83","093","THERAPIST (PT, OT, ST, RT)","RESPIRATORY THERAPIST","2279S1500X","RESPIRATORY THERAPIST, REGISTERED - SNF/SUBACUTE CARE"]
["261Q00000X","83",{"$f":"\"983\"","v":"983"},"THERAPIST (PT, OT, ST, RT)","THERAPIST (PT, OT, ST, RT) - GROUP","261Q00000X","CLINIC/CENTER"]
["224Z00000X",{"$f":"\"84\"","v":"84"},{"$f":"\"813\"","v":"813"},"SCHOOL HEALTH PROVIDER","OCCUPATIONAL THERAPY ASSISTANT","224Z00000X","OCCUPATIONAL THERAPY ASSISTANT"]
["225200000X","84",{"$f":"\"814\"","v":"814"},"SCHOOL HEALTH PROVIDER","PHYSICAL THERAPY ASSISTANT","225200000X","PHYSICAL THERAPY ASSISTANT"]
["2355S0801X","84",{"$f":"\"815\"","v":"815"},"SCHOOL HEALTH PROVIDER","SPEECH-LANGUAGE PATHOLOGY ASSISTANT","2355S0801X","SPECIALIST/TECHNOLOGIST - SPEECH-LANGUAGE ASSISTANT"]
["101YS0200X","84",{"$f":"\"816\"","v":"816"},"SCHOOL HEALTH PROVIDER","SCHOOL COUNSELOR","101YS0200X","COUNSELOR - SCHOOL"]
["164X00000X","84",{"$f":"\"817\"","v":"817"},"SCHOOL HEALTH PROVIDER","LICENSED PRACTICAL NURSE","164X00000X","LICENSED VOCATIONAL NURSE"]
["103TS0200X","84",{"$f":"\"819\"","v":"819"},"SCHOOL HEALTH PROVIDER","SCHOOL PSYCHOLOGIST","103TS0200X","PSYCHOLOGIST - SCHOOL"]
["1041S0200X","84",{"$f":"\"820\"","v":"820"},"SCHOOL HEALTH PROVIDER","SOCIAL WORKER","1041S0200X","SOCIAL WORKER - SCHOOL"]
["106H00000X","84",{"$f":"\"821\"","v":"821"},"SCHOOL HEALTH PROVIDER","MARRIAGE AND FAMILY THERAPIST","106H00000X","MARRIAGE & FAMILY THERAPIST"]
["101YS0200X","84",{"$f":"\"822\"","v":"822"},"SCHOOL HEALTH PROVIDER","MENTAL HEALTH COUNSELOR","101YS0200X","COUNSELOR - SCHOOL"]
["103K00000X","84",{"$f":"\"823\"","v":"823"},"SCHOOL HEALTH PROVIDER","CERTIFIED BEHAVIOR ANALYST - LEAD","103K00000X","BEHAVIORAL ANALYST"]
["106E00000X","84",{"$f":"\"824\"","v":"824"},"SCHOOL HEALTH PROVIDER","CERTIFIED ASSISTANT BEHAVIOR ANALYST","106E00000X","ASSISTANT BEHAVIOR ANALYST"]
["225X00000X","84",{"$f":"\"825\"","v":"825"},"SCHOOL HEALTH PROVIDER","OCCUPATIONAL THERAPIST","225X00000X","OCCUPATIONAL THERAPIST"]
["225100000X","84",{"$f":"\"826\"","v":"826"},"SCHOOL HEALTH PROVIDER","PHYSICAL THERAPIST","225100000X","PHYSICAL THERAPIST"]
["235Z00000X","84",{"$f":"\"827\"","v":"827"},"SCHOOL HEALTH PROVIDER","SPEECH LANGUAGE PATHOLOGIST","235Z00000X","SPEECH-LANGUAGE PATHOLOGIST"]
["163WS0200X","84",{"$f":"\"828\"","v":"828"},"SCHOOL HEALTH PROVIDER","REGISTERED NURSES","163WS0200X","REGISTERED NURSE - SCHOOL"]
["261QE0700X",{"$f":"\"89\"","v":"89"},{"$f":"\"989\"","v":"989"},"DIALYSIS CENTER","DIALYSIS CENTER","261QE0700X","CLINIC/CENTER - END-STAGE RENAL DISEASE (ESRD) TREATMENT"]
["332BX2000X",{"$f":"\"90\"","v":"90"},{"$f":"\"069\"","v":"069"},"DURABLE MED EQUIPT/ MEDICAL SUPPLIES","MEDICAL OXYGEN RETAILER","332BX2000X","DURABLE MEDICAL EQUIPMENT & MEDICAL SUPPLIES - OXYGEN EQUIPMENT & SUPPLIES"]
["222Z00000X","90",{"$f":"\"990\"","v":"990"},"DURABLE MED EQUIPT/ MEDICAL SUPPLIES","DURABLE MED EQUIPT/ MEDICAL SUPPLIES","222Z00000X","ORTHOTIST"]
["224900000X","90","990","DURABLE MED EQUIPT/ MEDICAL SUPPLIES","DURABLE MED EQUIPT/ MEDICAL SUPPLIES","224900000X","MASTECTOMY FITTER"]
["224L00000X","90","990","DURABLE MED EQUIPT/ MEDICAL SUPPLIES","DURABLE MED EQUIPT/ MEDICAL SUPPLIES","224L00000X","PEDORTHIST"]
["224P00000X","90","990","DURABLE MED EQUIPT/ MEDICAL SUPPLIES","DURABLE MED EQUIPT/ MEDICAL SUPPLIES","224P00000X","PROSTHETIST"]
["225000000X","90","990","DURABLE MED EQUIPT/ MEDICAL SUPPLIES","DURABLE MED EQUIPT/ MEDICAL SUPPLIES","225000000X","ORTHOTIC FITTER"]
["332B00000X","90","990","DURABLE MED EQUIPT/ MEDICAL SUPPLIES","DURABLE MED EQUIPT/ MEDICAL SUPPLIES","332B00000X","DURABLE MEDICAL EQUIPMENT & MEDICAL SUPPLIES"]
["332BC3200X","90","990","DURABLE MED EQUIPT/ MEDICAL SUPPLIES","DURABLE MED EQUIPT/ MEDICAL SUPPLIES","332BC3200X","DURABLE MEDICAL EQUIPMENT & MEDICAL SUPPLIES - CUSTOMIZED EQUIPMENT"]
["332BD1200X","90","990","DURABLE MED EQUIPT/ MEDICAL SUPPLIES","DURABLE MED EQUIPT/ MEDICAL SUPPLIES","332BD1200X","DURABLE MEDICAL EQUIPMENT & MEDICAL SUPPLIES - DIALYSIS EQUIPMENT & SUPPLIES"]
["332BN1400X","90","990","DURABLE MED EQUIPT/ MEDICAL SUPPLIES","DURABLE MED EQUIPT/ MEDICAL SUPPLIES","332BN1400X","DURABLE MEDICAL EQUIPMENT & MEDICAL SUPPLIES - NURSING FACILITY SUPPLIES"]
["332BP3500X","90","990","DURABLE MED EQUIPT/ MEDICAL SUPPLIES","DURABLE MED EQUIPT/ MEDICAL SUPPLIES","332BP3500X","DURABLE MEDICAL EQUIPMENT & MEDICAL SUPPLIES - PARENTERAL & ENTERAL NUTRITION"]
["335E00000X","90","990","DURABLE MED EQUIPT/ MEDICAL SUPPLIES","DURABLE MED EQUIPT/ MEDICAL SUPPLIES","335E00000X","PROSTHETIC/ORTHOTIC SUPPLIER"]
["251B00000X",{"$f":"\"91\"","v":"91"},{"$f":"\"174\"","v":"174"},"CASE MANAGEMENT AGENCY","MENTAL HEALTH TCM","251B00000X","CASE MANAGEMENT"]
["251B00000X","91",{"$f":"\"175\"","v":"175"},"CASE MANAGEMENT AGENCY","TCM FOR CHILDREN AT RISK OF ABUSE AND NEGLECT","251B00000X","CASE MANAGEMENT"]
["251B00000X","91",{"$f":"\"176\"","v":"176"},"CASE MANAGEMENT AGENCY","DOH/CMS TCM","251B00000X","CASE MANAGEMENT"]
["251B00000X","91",{"$f":"\"177\"","v":"177"},"CASE MANAGEMENT AGENCY","CMS/MFC TCM","251B00000X","CASE MANAGEMENT"]
["251B00000X","91",{"$f":"\"178\"","v":"178"},"CASE MANAGEMENT AGENCY","PROVIDER SERVICE NETWORK","251B00000X","CASE MANAGEMENT"]
["302R00000X","91",{"$f":"\"691\"","v":"691"},"CASE MANAGEMENT AGENCY","SMMC-FFS LTC","302R00000X","HEALTH MAINTENANCE ORGANIZATION"]
["302R00000X","91",{"$f":"\"692\"","v":"692"},"CASE MANAGEMENT AGENCY","SMMC-FFS MMA","302R00000X","HEALTH MAINTENANCE ORGANIZATION"]
["302R00000X","91",{"$f":"\"693\"","v":"693"},"CASE MANAGEMENT AGENCY","SMMC-FFS MMA SPECIALTY","302R00000X","HEALTH MAINTENANCE ORGANIZATION"]
["302R00000X","91",{"$f":"\"694\"","v":"694"},"CASE MANAGEMENT AGENCY","SMMC-FFS MMA CHILD WELFARE","302R00000X","HEALTH MAINTENANCE ORGANIZATION"]
["251B00000X","91",{"$f":"\"991\"","v":"991"},"CASE MANAGEMENT AGENCY","CASE MANAGEMENT AGENCY","251B00000X","CASE MANAGEMENT"]
["171100000X",{"$f":"\"97\"","v":"97"},{"$f":"\"800\"","v":"800"},"MANAGED CARE TREATING PROVIDER - NON-MEDICAID","MANAGED CARE TREATING PROVIDER - ACUPUNCTURIST","171100000X","ACUPUNCTURIST"]
["133N00000X",{"$f":"\"97\"","v":"97"},{"$f":"\"801\"","v":"801"},"MANAGED CARE TREATING PROVIDER - NON-MEDICAID","MANAGED CARE TREATING PROVIDER - NUTRITIONIST","133N00000X","NUTRITIONIST"]
["261QM1200X",{"$f":"\"97\"","v":"97"},{"$f":"\"802\"","v":"802"},"MANAGED CARE TREATING PROVIDER - NON-MEDICAID","MANAGED CARE TREATING PROVIDER - INDPDT DIAGNOST","261QM1200X","CLINIC/CENTER - MAGNETIC RESONANCE IMAGING (MRI)"]

{"sheet":"CBH_Taxonomies","index":7,"n_rows":918,"n_cols":22,"rows_kept":918,"cut":false,"hidden":true,"merged":[]}
["Code","Column2","Column3","Portico_Specialty","Taxonomy_Notes","On_BH_Taxonomy_List","Medicare_Eligible","CA_Medicaid_SP_Mapping","IL_Medicaid_SP_Mapping","Kansas_SP_Mapping","OH_Medicaid_SP_Mapping","WA_Medicaid_SP_Mapping","Ambetter_SP_Mapping","Medicare_SP_Mapping","Medicaid_SP_Mapping","Column1",null,null,"Portico_Specialty&Code",null,null,{"$f":"COUNTIF(U:U,\"?*\")","v":0}]
["171100000X",{"$f":"Table1[[#This Row],[Code]]&\" \"&Table1[[#This Row],[Portico_Specialty]]","v":"171100000X Acupuncturist"},{"$f":"CLEAN(Table1[[#This Row],[Code]])","v":"171100000X"},"Acupuncturist",null,"Medical taxonomy","N","AC",null,"AC","99","AC","AC","99","99",null,null,{"$f":"IF(ISNUMBER(SEARCH(INDIRECT(CELL(\"address\")),S2)),MAX($R$1:R1)+1,0)","v":0},{"$f":"Table1[[#This Row],[Portico_Specialty]]&\"-\"&Table1[[#This Row],[Code]]","v":"Acupuncturist-171100000X"},null,{"$f":"IFERROR(VLOOKUP(ROWS($U$1:U1),$R$2:$S$918,2,FALSE),\"\")","v":""}]
["372600000X",{"$f":"Table1[[#This Row],[Code]]&\" \"&Table1[[#This Row],[Portico_Specialty]]","v":"372600000X Adult Companion"},{"$f":"CLEAN(Table1[[#This Row],[Code]])","v":"372600000X"},"Adult Companion",null,"Medical taxonomy","N","99",null,"99","HH",null,null,null,"HH",null,null,{"$f":"IF(ISNUMBER(SEARCH(INDIRECT(CELL(\"address\")),S3)),MAX($R$1:R2)+1,0)","v":0},{"$f":"Table1[[#This Row],[Portico_Specialty]]&\"-\"&Table1[[#This Row],[Code]]","v":"Adult Companion-372600000X"},null,{"$f":"IFERROR(VLOOKUP(ROWS($U$1:U2),$R$2:$S$918,2,FALSE),\"\")","v":""}]
["125K00000X",{"$f":"Table1[[#This Row],[Code]]&\" \"&Table1[[#This Row],[Portico_Specialty]]","v":"125K00000X Advanced Practice Dental Therapist"},{"$f":"CLEAN(Table1[[#This Row],[Code]])","v":"125K00000X"},"Advanced Practice Dental Therapist",null,"Medical taxonomy","N",null,null,"99","DT",null,null,null,"DT",null,null,{"$f":"IF(ISNUMBER(SEARCH(INDIRECT(CELL(\"address\")),S4)),MAX($R$1:R3)+1,0)","v":0},{"$f":"Table1[[#This Row],[Portico_Specialty]]&\"-\"&Table1[[#This Row],[Code]]","v":"Advanced Practice Dental Therapist-125K00000X"},null,{"$f":"IFERROR(VLOOKUP(ROWS($U$1:U3),$R$2:$S$918,2,FALSE),\"\")","v":""}]
["367A00000X",{"$f":"Table1[[#This Row],[Code]]&\" \"&Table1[[#This Row],[Portico_Specialty]]","v":"367A00000X Advanced Practice Midwife"},{"$f":"CLEAN(Table1[[#This Row],[Code]])","v":"367A00000X"},"Advanced Practice Midwife",null,"Medical taxonomy","Y","42",null,"42","42","42","42","42","42",null,null,{"$f":"IF(ISNUMBER(SEARCH(INDIRECT(CELL(\"address\")),S5)),MAX($R$1:R4)+1,0)","v":0},{"$f":"Table1[[#This Row],[Portico_Specialty]]&\"-\"&Table1[[#This Row],[Code]]","v":"Advanced Practice Midwife-367A00000X"},null,{"$f":"IFERROR(VLOOKUP(ROWS($U$1:U4),$R$2:$S$918,2,FALSE),\"\")","v":""}]
["344800000X",{"$f":"Table1[[#This Row],[Code]]&\" \"&Table1[[#This Row],[Portico_Specialty]]","v":"344800000X Air Carrier"},{"$f":"CLEAN(Table1[[#This Row],[Code]])","v":"344800000X"},"Air Carrier",null,"Medical taxonomy","N","TR",null,"TR","59","TR","TR",null,"59",null,null,{"$f":"IF(ISNUMBER(SEARCH(INDIRECT(CELL(\"address\")),S6)),MAX($R$1:R5)+1,0)","v":0},{"$f":"Table1[[#This Row],[Portico_Specialty]]&\"-\"&Table1[[#This Row],[Code]]","v":"Air Carrier-344800000X"},null,{"$f":"IFERROR(VLOOKUP(ROWS($U$1:U5),$R$2:$S$918,2,FALSE),\"\")","v":""}]
["207K00000X",{"$f":"Table1[[#This Row],[Code]]&\" \"&Table1[[#This Row],[Portico_Specialty]]","v":"207K00000X Allergy & Immunology"},{"$f":"CLEAN(Table1[[#This Row],[Code]])","v":"207K00000X"},"Allergy & Immunology",null,"Medical taxonomy","Y","03",null,"03","03","03","03","03","03",null,null,{"$f":"IF(ISNUMBER(SEARCH(INDIRECT(CELL(\"address\")),S7)),MAX($R$1:R6)+1,0)","v":0},{"$f":"Table1[[#This Row],[Portico_Specialty]]&\"-\"&Table1[[#This Row],[Code]]","v":"Allergy & Immunology-207K00000X"},null,{"$f":"IFERROR(VLOOKUP(ROWS($U$1:U6),$R$2:$S$918,2,FALSE),\"\")","v":""}]
["207KA0200X",{"$f":"Table1[[#This Row],[Code]]&\" \"&Table1[[#This Row],[Portico_Specialty]]","v":"207KA0200X Allergy & Immunology: Allergy"},{"$f":"CLEAN(Table1[[#This Row],[Code]])","v":"207KA0200X"},"Allergy & Immunology: Allergy",null,"Medical taxonomy","Y","03",null,"03","03","03","03","03","03",null,null,{"$f":"IF(ISNUMBER(SEARCH(INDIRECT(CELL(\"address\")),S8)),MAX($R$1:R7)+1,0)","v":0},{"$f":"Table1[[#This Row],[Portico_Specialty]]&\"-\"&Table1[[#This Row],[Code]]","v":"Allergy & Immunology: Allergy-207KA0200X"},null,{"$f":"IFERROR(VLOOKUP(ROWS($U$1:U7),$R$2:$S$918,2,FALSE),\"\")","v":""}]
["207KI0005X",{"$f":"Table1[[#This Row],[Code]]&\" \"&Table1[[#This Row],[Portico_Specialty]]","v":"207KI0005X Allergy & Immunology: Clinical & Laboratory Immunology"},{"$f":"CLEAN(Table1[[#This Row],[Code]])","v":"207KI0005X"},"Allergy & Immunology: Clinical & Laboratory Immunology",null,"Medical taxonomy","Y","03",null,"03","03","03","03","03","03",null,null,{"$f":"IF(ISNUMBER(SEARCH(INDIRECT(CELL(\"address\")),S9)),MAX($R$1:R8)+1,0)","v":0},{"$f":"Table1[[#This Row],[Portico_Specialty]]&\"-\"&Table1[[#This Row],[Code]]","v":"Allergy & Immunology: Clinical & Laboratory Immunology-207KI0005X"},null,{"$f":"IFERROR(VLOOKUP(ROWS($U$1:U8),$R$2:$S$918,2,FALSE),\"\")","v":""}]
["311500000X",{"$f":"Table1[[#This Row],[Code]]&\" \"&Table1[[#This Row],[Portico_Specialty]]","v":"311500000X Alzheimer Center (Dementia Center)"},{"$f":"CLEAN(Table1[[#This Row],[Code]])","v":"311500000X"},"Alzheimer Center (Dementia Center)",null,"Medical taxonomy","N","SN",null,"SN","SN","SN","SN","A1","SN",null,null,{"$f":"IF(ISNUMBER(SEARCH(INDIRECT(CELL(\"address\")),S10)),MAX($R$1:R9)+1,0)","v":0},{"$f":"Table1[[#This Row],[Portico_Specialty]]&\"-\"&Table1[[#This Row],[Code]]","v":"Alzheimer Center (Dementia Center)-311500000X"},null,{"$f":"IFERROR(VLOOKUP(ROWS($U$1:U9),$R$2:$S$918,2,FALSE),\"\")","v":""}]
["341600000X",{"$f":"Table1[[#This Row],[Code]]&\" \"&Table1[[#This Row],[Portico_Specialty]]","v":"341600000X Ambulance"},{"$f":"CLEAN(Table1[[#This Row],[Code]])","v":"341600000X"},"Ambulance",null,"Medical taxonomy","Y","59",null,"59","59","59","59","59","59",null,null,{"$f":"IF(ISNUMBER(SEARCH(INDIRECT(CELL(\"address\")),S11)),MAX($R$1:R10)+1,0)","v":0},{"$f":"Table1[[#This Row],[Portico_Specialty]]&\"-\"&Table1[[#This Row],[Code]]","v":"Ambulance-341600000X"},null,{"$f":"IFERROR(VLOOKUP(ROWS($U$1:U10),$R$2:$S$918,2,FALSE),\"\")","v":""}]
["3416A0800X",{"$f":"Table1[[#This Row],[Code]]&\" \"&Table1[[#This Row],[Portico_Specialty]]","v":"3416A0800X Ambulance: Air Transport"},{"$f":"CLEAN(Table1[[#This Row],[Code]])","v":"3416A0800X"},"Ambulance: Air Transport",null,"Medical taxonomy","Y","59",null,"59","59","59","59","59","59",null,null,{"$f":"IF(ISNUMBER(SEARCH(INDIRECT(CELL(\"address\")),S12)),MAX($R$1:R11)+1,0)","v":0},{"$f":"Table1[[#This Row],[Portico_Specialty]]&\"-\"&Table1[[#This Row],[Code]]","v":"Ambulance: Air Transport-3416A0800X"},null,{"$f":"IFERROR(VLOOKUP(ROWS($U$1:U11),$R$2:$S$918,2,FALSE),\"\")","v":""}]
["3416L0300X",{"$f":"Table1[[#This Row],[Code]]&\" \"&Table1[[#This Row],[Portico_Specialty]]","v":"3416L0300X Ambulance: Land Transport"},{"$f":"CLEAN(Table1[[#This Row],[Code]])","v":"3416L0300X"},"Ambulance: Land Transport",null,"Medical taxonomy","Y","59",null,"59","59","59","59","59","59",null,null,{"$f":"IF(ISNUMBER(SEARCH(INDIRECT(CELL(\"address\")),S13)),MAX($R$1:R12)+1,0)","v":0},{"$f":"Table1[[#This Row],[Portico_Specialty]]&\"-\"&Table1[[#This Row],[Code]]","v":"Ambulance: Land Transport-3416L0300X"},null,{"$f":"IFERROR(VLOOKUP(ROWS($U$1:U12),$R$2:$S$918,2,FALSE),\"\")","v":""}]
["3416S0300X",{"$f":"Table1[[#This Row],[Code]]&\" \"&Table1[[#This Row],[Portico_Specialty]]","v":"3416S0300X Ambulance: Water Transport"},{"$f":"CLEAN(Table1[[#This Row],[Code]])","v":"3416S0300X"},"Ambulance: Water Transport",null,"Medical taxonomy","Y","59",null,"59","59","59","59","59","59",null,null,{"$f":"IF(ISNUMBER(SEARCH(INDIRECT(CELL(\"address\")),S14)),MAX($R$1:R13)+1,0)","v":0},{"$f":"Table1[[#This Row],[Portico_Specialty]]&\"-\"&Table1[[#This Row],[Code]]","v":"Ambulance: Water Transport-3416S0300X"},null,{"$f":"IFERROR(VLOOKUP(ROWS($U$1:U13),$R$2:$S$918,2,FALSE),\"\")","v":""}]
["229N00000X",{"$f":"Table1[[#This Row],[Code]]&\" \"&Table1[[#This Row],[Portico_Specialty]]","v":"229N00000X Anaplastologist"},{"$f":"CLEAN(Table1[[#This Row],[Code]])","v":"229N00000X"},"Anaplastologist",null,"Medical taxonomy","Y","65",null,"65","25","65","65","65","25",null,null,{"$f":"IF(ISNUMBER(SEARCH(INDIRECT(CELL(\"address\")),S15)),MAX($R$1:R14)+1,0)","v":0},{"$f":"Table1[[#This Row],[Portico_Specialty]]&\"-\"&Table1[[#This Row],[Code]]","v":"Anaplastologist-229N00000X"},null,{"$f":"IFERROR(VLOOKUP(ROWS($U$1:U14),$R$2:$S$918,2,FALSE),\"\")","v":""}]
["367H00000X",{"$f":"Table1[[#This Row],[Code]]&\" \"&Table1[[#This Row],[Portico_Specialty]]","v":"367H00000X Anesthesiologist Assistant"},{"$f":"CLEAN(Table1[[#This Row],[Code]])","v":"367H00000X"},"Anesthesiologist Assistant",null,"Medical taxonomy","Y","32",null,"32","43","32","32","32","43",null,null,{"$f":"IF(ISNUMBER(SEARCH(INDIRECT(CELL(\"address\")),S16)),MAX($R$1:R15)+1,0)","v":0},{"$f":"Table1[[#This Row],[Portico_Specialty]]&\"-\"&Table1[[#This Row],[Code]]","v":"Anesthesiologist Assistant-367H00000X"},null,{"$f":"IFERROR(VLOOKUP(ROWS($U$1:U15),$R$2:$S$918,2,FALSE),\"\")","v":""}]
["207L00000X",{"$f":"Table1[[#This Row],[Code]]&\" \"&Table1[[#This Row],[Portico_Specialty]]","v":"207L00000X Anesthesiology"},{"$f":"CLEAN(Table1[[#This Row],[Code]])","v":"207L00000X"},"Anesthesiology",null,"Medical taxonomy","Y","05",null,"05","05","05","05","05","05",null,null,{"$f":"IF(ISNUMBER(SEARCH(INDIRECT(CELL(\"address\")),S17)),MAX($R$1:R16)+1,0)","v":0},{"$f":"Table1[[#This Row],[Portico_Specialty]]&\"-\"&Table1[[#This Row],[Code]]","v":"Anesthesiology-207L00000X"},null,{"$f":"IFERROR(VLOOKUP(ROWS($U$1:U16),$R$2:$S$918,2,FALSE),\"\")","v":""}]
["207LA0401X",{"$f":"Table1[[#This Row],[Code]]&\" \"&Table1[[#This Row],[Portico_Specialty]]","v":"207LA0401X Anesthesiology: Addiction Medicine"},{"$f":"CLEAN(Table1[[#This Row],[Code]])","v":"207LA0401X"},"Anesthesiology: Addiction Medicine",null,"Medical taxonomy","Y","05",null,"05","79","05","05","05","79",null,null,{"$f":"IF(ISNUMBER(SEARCH(INDIRECT(CELL(\"address\")),S18)),MAX($R$1:R17)+1,0)","v":0},{"$f":"Table1[[#This Row],[Portico_Specialty]]&\"-\"&Table1[[#This Row],[Code]]","v":"Anesthesiology: Addiction Medicine-207LA0401X"},null,{"$f":"IFERROR(VLOOKUP(ROWS($U$1:U17),$R$2:$S$918,2,FALSE),\"\")","v":""}]
["207LC0200X",{"$f":"Table1[[#This Row],[Code]]&\" \"&Table1[[#This Row],[Portico_Specialty]]","v":"207LC0200X Anesthesiology: Critical Care Medicine"},{"$f":"CLEAN(Table1[[#This Row],[Code]])","v":"207LC0200X"},"Anesthesiology: Critical Care Medicine",null,"Medical taxonomy","Y","05",null,"05","05","05","05","05","05",null,null,{"$f":"IF(ISNUMBER(SEARCH(INDIRECT(CELL(\"address\")),S19)),MAX($R$1:R18)+1,0)","v":0},{"$f":"Table1[[#This Row],[Portico_Specialty]]&\"-\"&Table1[[#This Row],[Code]]","v":"Anesthesiology: Critical Care Medicine-207LC0200X"},null,{"$f":"IFERROR(VLOOKUP(ROWS($U$1:U18),$R$2:$S$918,2,FALSE),\"\")","v":""}]
["207LH0002X",{"$f":"Table1[[#This Row],[Code]]&\" \"&Table1[[#This Row],[Portico_Specialty]]","v":"207LH0002X Anesthesiology: Hospice and Palliative Medicine"},{"$f":"CLEAN(Table1[[#This Row],[Code]])","v":"207LH0002X"},"Anesthesiology: Hospice and Palliative Medicine",null,"Medical taxonomy","Y","05",null,"05","05","05","05","05","05",null,null,{"$f":"IF(ISNUMBER(SEARCH(INDIRECT(CELL(\"address\")),S20)),MAX($R$1:R19)+1,0)","v":0},{"$f":"Table1[[#This Row],[Portico_Specialty]]&\"-\"&Table1[[#This Row],[Code]]","v":"Anesthesiology: Hospice and Palliative Medicine-207LH0002X"},null,{"$f":"IFERROR(VLOOKUP(ROWS($U$1:U19),$R$2:$S$918,2,FALSE),\"\")","v":""}]
["207LP2900X",{"$f":"Table1[[#This Row],[Code]]&\" \"&Table1[[#This Row],[Portico_Specialty]]","v":"207LP2900X Anesthesiology: Pain Medicine"},{"$f":"CLEAN(Table1[[#This Row],[Code]])","v":"207LP2900X"},"Anesthesiology: Pain Medicine",null,"Medical taxonomy","Y","09",null,"09","05","09","09","09","05",null,null,{"$f":"IF(ISNUMBER(SEARCH(INDIRECT(CELL(\"address\")),S21)),MAX($R$1:R20)+1,0)","v":0},{"$f":"Table1[[#This Row],[Portico_Specialty]]&\"-\"&Table1[[#This Row],[Code]]","v":"Anesthesiology: Pain Medicine-207LP2900X"},null,{"$f":"IFERROR(VLOOKUP(ROWS($U$1:U20),$R$2:$S$918,2,FALSE),\"\")","v":""}]
["207LP3000X",{"$f":"Table1[[#This Row],[Code]]&\" \"&Table1[[#This Row],[Portico_Specialty]]","v":"207LP3000X Anesthesiology: Pediatric Anesthesiology"},{"$f":"CLEAN(Table1[[#This Row],[Code]])","v":"207LP3000X"},"Anesthesiology: Pediatric Anesthesiology",null,"Medical taxonomy","Y","05",null,"05","05","05","05","05","05",null,null,{"$f":"IF(ISNUMBER(SEARCH(INDIRECT(CELL(\"address\")),S22)),MAX($R$1:R21)+1,0)","v":0},{"$f":"Table1[[#This Row],[Portico_Specialty]]&\"-\"&Table1[[#This Row],[Code]]","v":"Anesthesiology: Pediatric Anesthesiology-207LP3000X"},null,{"$f":"IFERROR(VLOOKUP(ROWS($U$1:U21),$R$2:$S$918,2,FALSE),\"\")","v":""}]
["221700000X",{"$f":"Table1[[#This Row],[Code]]&\" \"&Table1[[#This Row],[Portico_Specialty]]","v":"221700000X Art Therapist"},{"$f":"CLEAN(Table1[[#This Row],[Code]])","v":"221700000X"},"Art Therapist",null,"Medical taxonomy","N","65",null,"65","65","65","65","65","65",null,null,{"$f":"IF(ISNUMBER(SEARCH(INDIRECT(CELL(\"address\")),S23)),MAX($R$1:R22)+1,0)","v":0},{"$f":"Table1[[#This Row],[Portico_Specialty]]&\"-\"&Table1[[#This Row],[Code]]","v":"Art Therapist-221700000X"},null,{"$f":"IFERROR(VLOOKUP(ROWS($U$1:U22),$R$2:$S$918,2,FALSE),\"\")","v":""}]
["106E00000X",{"$f":"Table1[[#This Row],[Code]]&\" \"&Table1[[#This Row],[Portico_Specialty]]","v":"106E00000X Assistant Behavior Analyst"},{"$f":"CLEAN(Table1[[#This Row],[Code]])","v":"106E00000X"},"Assistant Behavior Analyst",null,"BH Only Taxonomy","Y",null,null,"BB","BB",null,null,null,"BB",null,null,{"$f":"IF(ISNUMBER(SEARCH(INDIRECT(CELL(\"address\")),S24)),MAX($R$1:R23)+1,0)","v":0},{"$f":"Table1[[#This Row],[Portico_Specialty]]&\"-\"&Table1[[#This Row],[Code]]","v":"Assistant Behavior Analyst-106E00000X"},null,{"$f":"IFERROR(VLOOKUP(ROWS($U$1:U23),$R$2:$S$918,2,FALSE),\"\")","v":""}]
["211D00000X",{"$f":"Table1[[#This Row],[Code]]&\" \"&Table1[[#This Row],[Portico_Specialty]]","v":"211D00000X Assistant, Podiatric"},{"$f":"CLEAN(Table1[[#This Row],[Code]])","v":"211D00000X"},"Assistant, Podiatric",null,"Medical taxonomy","N",null,null,"99","48",null,null,"B2","48",null,null,{"$f":"IF(ISNUMBER(SEARCH(INDIRECT(CELL(\"address\")),S25)),MAX($R$1:R24)+1,0)","v":0},{"$f":"Table1[[#This Row],[Portico_Specialty]]&\"-\"&Table1[[#This Row],[Code]]","v":"Assistant, Podiatric-211D00000X"},null,{"$f":"IFERROR(VLOOKUP(ROWS($U$1:U24),$R$2:$S$918,2,FALSE),\"\")","v":""}]
["310400000X",{"$f":"Table1[[#This Row],[Code]]&\" \"&Table1[[#This Row],[Portico_Specialty]]","v":"310400000X Assisted Living Facility"},{"$f":"CLEAN(Table1[[#This Row],[Code]])","v":"310400000X"},"Assisted Living Facility",null,"Medical taxonomy","N","SN",null,"SN","SN","SN","SN","A1","SN",null,null,{"$f":"IF(ISNUMBER(SEARCH(INDIRECT(CELL(\"address\")),S26)),MAX($R$1:R25)+1,0)","v":0},{"$f":"Table1[[#This Row],[Portico_Specialty]]&\"-\"&Table1[[#This Row],[Code]]","v":"Assisted Living Facility-310400000X"},null,{"$f":"IFERROR(VLOOKUP(ROWS($U$1:U25),$R$2:$S$918,2,FALSE),\"\")","v":""}]
["3104A0630X",{"$f":"Table1[[#This Row],[Code]]&\" \"&Table1[[#This Row],[Portico_Specialty]]","v":"3104A0630X Assisted Living Facility: Assisted Living, Behavioral Disturbances"},{"$f":"CLEAN(Table1[[#This Row],[Code]])","v":"3104A0630X"},"Assisted Living Facility: Assisted Living, Behavioral Disturbances",null,"Medical taxonomy","N","SN",null,"SN","SN","SN","SN","A1","SN",null,null,{"$f":"IF(ISNUMBER(SEARCH(INDIRECT(CELL(\"address\")),S27)),MAX($R$1:R26)+1,0)","v":0},{"$f":"Table1[[#This Row],[Portico_Specialty]]&\"-\"&Table1[[#This Row],[Code]]","v":"Assisted Living Facility: Assisted Living, Behavioral Disturbances-3104A0630X"},null,{"$f":"IFERROR(VLOOKUP(ROWS($U$1:U26),$R$2:$S$918,2,FALSE),\"\")","v":""}]
["3104A0625X",{"$f":"Table1[[#This Row],[Code]]&\" \"&Table1[[#This Row],[Portico_Specialty]]","v":"3104A0625X Assisted Living Facility: Assisted Living, Mental Illness"},{"$f":"CLEAN(Table1[[#This Row],[Code]])","v":"3104A0625X"},"Assisted Living Facility: Assisted Living, Mental Illness",null,"Medical taxonomy","N","SN",null,"SN","SN","SN","SN","A1","SN",null,null,{"$f":"IF(ISNUMBER(SEARCH(INDIRECT(CELL(\"address\")),S28)),MAX($R$1:R27)+1,0)","v":0},{"$f":"Table1[[#This Row],[Portico_Specialty]]&\"-\"&Table1[[#This Row],[Code]]","v":"Assisted Living Facility: Assisted Living, Mental Illness-3104A0625X"},null,{"$f":"IFERROR(VLOOKUP(ROWS($U$1:U27),$R$2:$S$918,2,FALSE),\"\")","v":""}]
["231H00000X",{"$f":"Table1[[#This Row],[Code]]&\" \"&Table1[[#This Row],[Portico_Specialty]]","v":"231H00000X Audiologist"},{"$f":"CLEAN(Table1[[#This Row],[Code]])","v":"231H00000X"},"Audiologist",null,"Medical taxonomy","Y","64",null,"64","64","64","64","64","64",null,null,{"$f":"IF(ISNUMBER(SEARCH(INDIRECT(CELL(\"address\")),S29)),MAX($R$1:R28)+1,0)","v":0},{"$f":"Table1[[#This Row],[Portico_Specialty]]&\"-\"&Table1[[#This Row],[Code]]","v":"Audiologist-231H00000X"},null,{"$f":"IFERROR(VLOOKUP(ROWS($U$1:U28),$R$2:$S$918,2,FALSE),\"\")","v":""}]
["231HA2400X",{"$f":"Table1[[#This Row],[Code]]&\" \"&Table1[[#This Row],[Portico_Specialty]]","v":"231HA2400X Audiologist: Assistive Technology Practitioner"},{"$f":"CLEAN(Table1[[#This Row],[Code]])","v":"231HA2400X"},"Audiologist: Assistive Technology Practitioner",null,"Medical taxonomy","Y","64",null,"64","64","64","64","64","64",null,null,{"$f":"IF(ISNUMBER(SEARCH(INDIRECT(CELL(\"address\")),S30)),MAX($R$1:R29)+1,0)","v":0},{"$f":"Table1[[#This Row],[Portico_Specialty]]&\"-\"&Table1[[#This Row],[Code]]","v":"Audiologist: Assistive Technology Practitioner-231HA2400X"},null,{"$f":"IFERROR(VLOOKUP(ROWS($U$1:U29),$R$2:$S$918,2,FALSE),\"\")","v":""}]
["231HA2500X",{"$f":"Table1[[#This Row],[Code]]&\" \"&Table1[[#This Row],[Portico_Specialty]]","v":"231HA2500X Audiologist: Assistive Technology Supplier"},{"$f":"CLEAN(Table1[[#This Row],[Code]])","v":"231HA2500X"},"Audiologist: Assistive Technology Supplier",null,"Medical taxonomy","N","64",null,"64","64","64","64","64","64",null,null,{"$f":"IF(ISNUMBER(SEARCH(INDIRECT(CELL(\"address\")),S31)),MAX($R$1:R30)+1,0)","v":0},{"$f":"Table1[[#This Row],[Portico_Specialty]]&\"-\"&Table1[[#This Row],[Code]]","v":"Audiologist: Assistive Technology Supplier-231HA2500X"},null,{"$f":"IFERROR(VLOOKUP(ROWS($U$1:U30),$R$2:$S$918,2,FALSE),\"\")","v":""}]
["237600000X",{"$f":"Table1[[#This Row],[Code]]&\" \"&Table1[[#This Row],[Portico_Specialty]]","v":"237600000X Audiologist-Hearing Aid Fitter"},{"$f":"CLEAN(Table1[[#This Row],[Code]])","v":"237600000X"},"Audiologist-Hearing Aid Fitter",null,"Medical taxonomy","N","64",null,"64","64","64","64","64","64",null,null,{"$f":"IF(ISNUMBER(SEARCH(INDIRECT(CELL(\"address\")),S32)),MAX($R$1:R31)+1,0)","v":0},{"$f":"Table1[[#This Row],[Portico_Specialty]]&\"-\"&Table1[[#This Row],[Code]]","v":"Audiologist-Hearing Aid Fitter-237600000X"},null,{"$f":"IFERROR(VLOOKUP(ROWS($U$1:U31),$R$2:$S$918,2,FALSE),\"\")","v":""}]
["106S00000X",{"$f":"Table1[[#This Row],[Code]]&\" \"&Table1[[#This Row],[Portico_Specialty]]","v":"106S00000X Behavior Technician"},{"$f":"CLEAN(Table1[[#This Row],[Code]])","v":"106S00000X"},"Behavior Technician",null,"BH Only Taxonomy","Y",null,null,"80","80",null,null,null,"80",null,null,{"$f":"IF(ISNUMBER(SEARCH(INDIRECT(CELL(\"address\")),S33)),MAX($R$1:R32)+1,0)","v":0},{"$f":"Table1[[#This Row],[Portico_Specialty]]&\"-\"&Table1[[#This Row],[Code]]","v":"Behavior Technician-106S00000X"},null,{"$f":"IFERROR(VLOOKUP(ROWS($U$1:U32),$R$2:$S$918,2,FALSE),\"\")","v":""}]
["103K00000X",{"$f":"Table1[[#This Row],[Code]]&\" \"&Table1[[#This Row],[Portico_Specialty]]","v":"103K00000X Behavioral Analyst"},{"$f":"CLEAN(Table1[[#This Row],[Code]])","v":"103K00000X"},"Behavioral Analyst",null,"BH Only Taxonomy","N","80",null,"BA","BA","80","BA","80","BA",null,null,{"$f":"IF(ISNUMBER(SEARCH(INDIRECT(CELL(\"address\")),S34)),MAX($R$1:R33)+1,0)","v":0},{"$f":"Table1[[#This Row],[Portico_Specialty]]&\"-\"&Table1[[#This Row],[Code]]","v":"Behavioral Analyst-103K00000X"},null,{"$f":"IFERROR(VLOOKUP(ROWS($U$1:U33),$R$2:$S$918,2,FALSE),\"\")","v":""}]
["2084B0040X",{"$f":"Table1[[#This Row],[Code]]&\" \"&Table1[[#This Row],[Portico_Specialty]]","v":"2084B0040X Behavioral Neurology & Neuropsychiatry"},{"$f":"CLEAN(Table1[[#This Row],[Code]])","v":"2084B0040X"},"Behavioral Neurology & Neuropsychiatry",null,"BH Only Taxonomy","N",null,null,"26","26",null,null,null,"26",null,null,{"$f":"IF(ISNUMBER(SEARCH(INDIRECT(CELL(\"address\")),S35)),MAX($R$1:R34)+1,0)","v":0},{"$f":"Table1[[#This Row],[Portico_Specialty]]&\"-\"&Table1[[#This Row],[Code]]","v":"Behavioral Neurology & Neuropsychiatry-2084B0040X"},null,{"$f":"IFERROR(VLOOKUP(ROWS($U$1:U34),$R$2:$S$918,2,FALSE),\"\")","v":""}]
["331L00000X",{"$f":"Table1[[#This Row],[Code]]&\" \"&Table1[[#This Row],[Portico_Specialty]]","v":"331L00000X Blood Bank"},{"$f":"CLEAN(Table1[[#This Row],[Code]])","v":"331L00000X"},"Blood Bank",null,"Medical taxonomy","N","87",null,"99","99","87","87","87","99",null,null,{"$f":"IF(ISNUMBER(SEARCH(INDIRECT(CELL(\"address\")),S36)),MAX($R$1:R35)+1,0)","v":0},{"$f":"Table1[[#This Row],[Portico_Specialty]]&\"-\"&Table1[[#This Row],[Code]]","v":"Blood Bank-331L00000X"},null,{"$f":"IFERROR(VLOOKUP(ROWS($U$1:U35),$R$2:$S$918,2,FALSE),\"\")","v":""}]
["347B00000X",{"$f":"Table1[[#This Row],[Code]]&\" \"&Table1[[#This Row],[Portico_Specialty]]","v":"347B00000X Bus"},{"$f":"CLEAN(Table1[[#This Row],[Code]])","v":"347B00000X"},"Bus",null,"Medical taxonomy","N","TR",null,"TR","59","TR","TR",null,"59",null,null,{"$f":"IF(ISNUMBER(SEARCH(INDIRECT(CELL(\"address\")),S37)),MAX($R$1:R36)+1,0)","v":0},{"$f":"Table1[[#This Row],[Portico_Specialty]]&\"-\"&Table1[[#This Row],[Code]]","v":"Bus-347B00000X"},null,{"$f":"IFERROR(VLOOKUP(ROWS($U$1:U36),$R$2:$S$918,2,FALSE),\"\")","v":""}]
["AltSpec1",{"$f":"Table1[[#This Row],[Code]]&\" \"&Table1[[#This Row],[Portico_Specialty]]","v":"AltSpec1 Care Management Specialist - HCBS"},{"$f":"CLEAN(Table1[[#This Row],[Code]])","v":"AltSpec1"},"Care Management Specialist - HCBS",null,"Medical taxonomy","N",null,null,null,"Y1",null,null,null,null,null,null,{"$f":"IF(ISNUMBER(SEARCH(INDIRECT(CELL(\"address\")),S38)),MAX($R$1:R37)+1,0)","v":0},{"$f":"Table1[[#This Row],[Portico_Specialty]]&\"-\"&Table1[[#This Row],[Code]]","v":"Care Management Specialist - HCBS-AltSpec1"},null,{"$f":"IFERROR(VLOOKUP(ROWS($U$1:U37),$R$2:$S$918,2,FALSE),\"\")","v":""}]
["251B00000X",{"$f":"Table1[[#This Row],[Code]]&\" \"&Table1[[#This Row],[Portico_Specialty]]","v":"251B00000X Case Management"},{"$f":"CLEAN(Table1[[#This Row],[Code]])","v":"251B00000X"},"Case Management",null,"Shared Taxonomy","N","CC",null,"CC","70","CM","CC","A4","70",null,null,{"$f":"IF(ISNUMBER(SEARCH(INDIRECT(CELL(\"address\")),S39)),MAX($R$1:R38)+1,0)","v":0},{"$f":"Table1[[#This Row],[Portico_Specialty]]&\"-\"&Table1[[#This Row],[Code]]","v":"Case Management-251B00000X"},null,{"$f":"IFERROR(VLOOKUP(ROWS($U$1:U38),$R$2:$S$918,2,FALSE),\"\")","v":""}]
["171M00000X",{"$f":"Table1[[#This Row],[Code]]&\" \"&Table1[[#This Row],[Portico_Specialty]]","v":"171M00000X Case Manager/Care Coordinator"},{"$f":"CLEAN(Table1[[#This Row],[Code]])","v":"171M00000X"},"Case Manager/Care Coordinator",null,"Shared Taxonomy","N","87",null,"CC","80","80","CC","A4","80",null,null,{"$f":"IF(ISNUMBER(SEARCH(INDIRECT(CELL(\"address\")),S40)),MAX($R$1:R39)+1,0)","v":0},{"$f":"Table1[[#This Row],[Portico_Specialty]]&\"-\"&Table1[[#This Row],[Code]]","v":"Case Manager/Care Coordinator-171M00000X"},null,{"$f":"IFERROR(VLOOKUP(ROWS($U$1:U39),$R$2:$S$918,2,FALSE),\"\")","v":""}]
["AltSpec1",{"$f":"Table1[[#This Row],[Code]]&\" \"&Table1[[#This Row],[Portico_Specialty]]","v":"AltSpec1 Certified Ohio Behavioral Analyst - HCBS"},{"$f":"CLEAN(Table1[[#This Row],[Code]])","v":"AltSpec1"},"Certified Ohio Behavioral Analyst - HCBS",null,"Medical taxonomy","N",null,null,null,"Y2",null,null,null,null,null,null,{"$f":"IF(ISNUMBER(SEARCH(INDIRECT(CELL(\"address\")),S41)),MAX($R$1:R40)+1,0)","v":0},{"$f":"Table1[[#This Row],[Portico_Specialty]]&\"-\"&Table1[[#This Row],[Code]]","v":"Certified Ohio Behavioral Analyst - HCBS-AltSpec1"},null,{"$f":"IFERROR(VLOOKUP(ROWS($U$1:U40),$R$2:$S$918,2,FALSE),\"\")","v":""}]
["AltSpec1",{"$f":"Table1[[#This Row],[Code]]&\" \"&Table1[[#This Row],[Portico_Specialty]]","v":"AltSpec1 Chemical Depend Counselor II - HCBS"},{"$f":"CLEAN(Table1[[#This Row],[Code]])","v":"AltSpec1"},"Chemical Depend Counselor II - HCBS",null,"Medical taxonomy","N",null,null,null,"Y3",null,null,null,null,null,null,{"$f":"IF(ISNUMBER(SEARCH(INDIRECT(CELL(\"address\")),S42)),MAX($R$1:R41)+1,0)","v":0},{"$f":"Table1[[#This Row],[Portico_Specialty]]&\"-\"&Table1[[#This Row],[Code]]","v":"Chemical Depend Counselor II - HCBS-AltSpec1"},null,{"$f":"IFERROR(VLOOKUP(ROWS($U$1:U41),$R$2:$S$918,2,FALSE),\"\")","v":""}]
["AltSpec1",{"$f":"Table1[[#This Row],[Code]]&\" \"&Table1[[#This Row],[Portico_Specialty]]","v":"AltSpec1 Chemical Depend Counselor III - HCBS"},{"$f":"CLEAN(Table1[[#This Row],[Code]])","v":"AltSpec1"},"Chemical Depend Counselor III - HCBS",null,"Medical taxonomy","N",null,null,null,"Y4",null,null,null,null,null,null,{"$f":"IF(ISNUMBER(SEARCH(INDIRECT(CELL(\"address\")),S43)),MAX($R$1:R42)+1,0)","v":0},{"$f":"Table1[[#This Row],[Portico_Specialty]]&\"-\"&Table1[[#This Row],[Code]]","v":"Chemical Depend Counselor III - HCBS-AltSpec1"},null,{"$f":"IFERROR(VLOOKUP(ROWS($U$1:U42),$R$2:$S$918,2,FALSE),\"\")","v":""}]
["AltSpec1",{"$f":"Table1[[#This Row],[Code]]&\" \"&Table1[[#This Row],[Portico_Specialty]]","v":"AltSpec1 Chemical Dependency Counselor - HCBS"},{"$f":"CLEAN(Table1[[#This Row],[Code]])","v":"AltSpec1"},"Chemical Dependency Counselor - HCBS",null,"Medical taxonomy","N",null,null,null,"Y5",null,null,null,null,null,null,{"$f":"IF(ISNUMBER(SEARCH(INDIRECT(CELL(\"address\")),S44)),MAX($R$1:R43)+1,0)","v":0},{"$f":"Table1[[#This Row],[Portico_Specialty]]&\"-\"&Table1[[#This Row],[Code]]","v":"Chemical Dependency Counselor - HCBS-AltSpec1"},null,{"$f":"IFERROR(VLOOKUP(ROWS($U$1:U43),$R$2:$S$918,2,FALSE),\"\")","v":""}]
["AltSpec1",{"$f":"Table1[[#This Row],[Code]]&\" \"&Table1[[#This Row],[Portico_Specialty]]","v":"AltSpec1 Chemical Dependency Counselor Assistant - HCBS"},{"$f":"CLEAN(Table1[[#This Row],[Code]])","v":"AltSpec1"},"Chemical Dependency Counselor Assistant - HCBS",null,"Medical taxonomy","N",null,null,null,"Y6",null,null,null,null,null,null,{"$f":"IF(ISNUMBER(SEARCH(INDIRECT(CELL(\"address\")),S45)),MAX($R$1:R44)+1,0)","v":0},{"$f":"Table1[[#This Row],[Portico_Specialty]]&\"-\"&Table1[[#This Row],[Code]]","v":"Chemical Dependency Counselor Assistant - HCBS-AltSpec1"},null,{"$f":"IFERROR(VLOOKUP(ROWS($U$1:U44),$R$2:$S$918,2,FALSE),\"\")","v":""}]
["AltSpec1",{"$f":"Table1[[#This Row],[Code]]&\" \"&Table1[[#This Row],[Portico_Specialty]]","v":"AltSpec1 Chemical Dependency Counselor Assistant Dual 399"},{"$f":"CLEAN(Table1[[#This Row],[Code]])","v":"AltSpec1"},"Chemical Dependency Counselor Assistant Dual 399",null,"Medical taxonomy","N",null,null,null,"ZI",null,null,null,null,null,null,{"$f":"IF(ISNUMBER(SEARCH(INDIRECT(CELL(\"address\")),S46)),MAX($R$1:R45)+1,0)","v":0},{"$f":"Table1[[#This Row],[Portico_Specialty]]&\"-\"&Table1[[#This Row],[Code]]","v":"Chemical Dependency Counselor Assistant Dual 399-AltSpec1"},null,{"$f":"IFERROR(VLOOKUP(ROWS($U$1:U45),$R$2:$S$918,2,FALSE),\"\")","v":""}]
["AltSpec1",{"$f":"Table1[[#This Row],[Code]]&\" \"&Table1[[#This Row],[Portico_Specialty]]","v":"AltSpec1 Chemical Dependency Counselor Assistant Dual 699"},{"$f":"CLEAN(Table1[[#This Row],[Code]])","v":"AltSpec1"},"Chemical Dependency Counselor Assistant Dual 699",null,"Medical taxonomy","N",null,null,null,"YI",null,null,null,null,null,null,{"$f":"IF(ISNUMBER(SEARCH(INDIRECT(CELL(\"address\")),S47)),MAX($R$1:R46)+1,0)","v":0},{"$f":"Table1[[#This Row],[Portico_Specialty]]&\"-\"&Table1[[#This Row],[Code]]","v":"Chemical Dependency Counselor Assistant Dual 699-AltSpec1"},null,{"$f":"IFERROR(VLOOKUP(ROWS($U$1:U46),$R$2:$S$918,2,FALSE),\"\")","v":""}]
["111N00000X",{"$f":"Table1[[#This Row],[Code]]&\" \"&Table1[[#This Row],[Portico_Specialty]]","v":"111N00000X Chiropractor"},{"$f":"CLEAN(Table1[[#This Row],[Code]])","v":"111N00000X"},"Chiropractor",null,"Medical taxonomy","Y","35",null,"35","35","35","35","35","35",null,null,{"$f":"IF(ISNUMBER(SEARCH(INDIRECT(CELL(\"address\")),S48)),MAX($R$1:R47)+1,0)","v":0},{"$f":"Table1[[#This Row],[Portico_Specialty]]&\"-\"&Table1[[#This Row],[Code]]","v":"Chiropractor-111N00000X"},null,{"$f":"IFERROR(VLOOKUP(ROWS($U$1:U47),$R$2:$S$918,2,FALSE),\"\")","v":""}]
["111NI0013X",{"$f":"Table1[[#This Row],[Code]]&\" \"&Table1[[#This Row],[Portico_Specialty]]","v":"111NI0013X Chiropractor: Independent Medical Examiner"},{"$f":"CLEAN(Table1[[#This Row],[Code]])","v":"111NI0013X"},"Chiropractor: Independent Medical Examiner",null,"Medical taxonomy","Y","35",null,"35","35","35","35","35","35",null,null,{"$f":"IF(ISNUMBER(SEARCH(INDIRECT(CELL(\"address\")),S49)),MAX($R$1:R48)+1,0)","v":0},{"$f":"Table1[[#This Row],[Portico_Specialty]]&\"-\"&Table1[[#This Row],[Code]]","v":"Chiropractor: Independent Medical Examiner-111NI0013X"},null,{"$f":"IFERROR(VLOOKUP(ROWS($U$1:U48),$R$2:$S$918,2,FALSE),\"\")","v":""}]
["111NI0900X",{"$f":"Table1[[#This Row],[Code]]&\" \"&Table1[[#This Row],[Portico_Specialty]]","v":"111NI0900X Chiropractor: Internist"},{"$f":"CLEAN(Table1[[#This Row],[Code]])","v":"111NI0900X"},"Chiropractor: Internist",null,"Medical taxonomy","Y","35",null,"35","35","35","35","35","35",null,null,{"$f":"IF(ISNUMBER(SEARCH(INDIRECT(CELL(\"address\")),S50)),MAX($R$1:R49)+1,0)","v":0},{"$f":"Table1[[#This Row],[Portico_Specialty]]&\"-\"&Table1[[#This Row],[Code]]","v":"Chiropractor: Internist-111NI0900X"},null,{"$f":"IFERROR(VLOOKUP(ROWS($U$1:U49),$R$2:$S$918,2,FALSE),\"\")","v":""}]
["111NN0400X",{"$f":"Table1[[#This Row],[Code]]&\" \"&Table1[[#This Row],[Portico_Specialty]]","v":"111NN0400X Chiropractor: Neurology"},{"$f":"CLEAN(Table1[[#This Row],[Code]])","v":"111NN0400X"},"Chiropractor: Neurology",null,"Medical taxonomy","Y","35",null,"35","35","35","35","35","35",null,null,{"$f":"IF(ISNUMBER(SEARCH(INDIRECT(CELL(\"address\")),S51)),MAX($R$1:R50)+1,0)","v":0},{"$f":"Table1[[#This Row],[Portico_Specialty]]&\"-\"&Table1[[#This Row],[Code]]","v":"Chiropractor: Neurology-111NN0400X"},null,{"$f":"IFERROR(VLOOKUP(ROWS($U$1:U50),$R$2:$S$918,2,FALSE),\"\")","v":""}]
["111NN1001X",{"$f":"Table1[[#This Row],[Code]]&\" \"&Table1[[#This Row],[Portico_Specialty]]","v":"111NN1001X Chiropractor: Nutrition"},{"$f":"CLEAN(Table1[[#This Row],[Code]])","v":"111NN1001X"},"Chiropractor: Nutrition",null,"Medical taxonomy","Y","35",null,"35","35","35","35","35","35",null,null,{"$f":"IF(ISNUMBER(SEARCH(INDIRECT(CELL(\"address\")),S52)),MAX($R$1:R51)+1,0)","v":0},{"$f":"Table1[[#This Row],[Portico_Specialty]]&\"-\"&Table1[[#This Row],[Code]]","v":"Chiropractor: Nutrition-111NN1001X"},null,{"$f":"IFERROR(VLOOKUP(ROWS($U$1:U51),$R$2:$S$918,2,FALSE),\"\")","v":""}]
["111NX0100X",{"$f":"Table1[[#This Row],[Code]]&\" \"&Table1[[#This Row],[Portico_Specialty]]","v":"111NX0100X Chiropractor: Occupational Medicine"},{"$f":"CLEAN(Table1[[#This Row],[Code]])","v":"111NX0100X"},"Chiropractor: Occupational Medicine",null,"Medical taxonomy","Y","35",null,"35","35","35","35","35","35",null,null,{"$f":"IF(ISNUMBER(SEARCH(INDIRECT(CELL(\"address\")),S53)),MAX($R$1:R52)+1,0)","v":0},{"$f":"Table1[[#This Row],[Portico_Specialty]]&\"-\"&Table1[[#This Row],[Code]]","v":"Chiropractor: Occupational Medicine-111NX0100X"},null,{"$f":"IFERROR(VLOOKUP(ROWS($U$1:U52),$R$2:$S$918,2,FALSE),\"\")","v":""}]
["111NX0800X",{"$f":"Table1[[#This Row],[Code]]&\" \"&Table1[[#This Row],[Portico_Specialty]]","v":"111NX0800X Chiropractor: Orthopedic"},{"$f":"CLEAN(Table1[[#This Row],[Code]])","v":"111NX0800X"},"Chiropractor: Orthopedic",null,"Medical taxonomy","Y","35",null,"35","35","35","35","35","35",null,null,{"$f":"IF(ISNUMBER(SEARCH(INDIRECT(CELL(\"address\")),S54)),MAX($R$1:R53)+1,0)","v":0},{"$f":"Table1[[#This Row],[Portico_Specialty]]&\"-\"&Table1[[#This Row],[Code]]","v":"Chiropractor: Orthopedic-111NX0800X"},null,{"$f":"IFERROR(VLOOKUP(ROWS($U$1:U53),$R$2:$S$918,2,FALSE),\"\")","v":""}]
["111NP0017X",{"$f":"Table1[[#This Row],[Code]]&\" \"&Table1[[#This Row],[Portico_Specialty]]","v":"111NP0017X Chiropractor: Pediatric Chiropractor"},{"$f":"CLEAN(Table1[[#This Row],[Code]])","v":"111NP0017X"},"Chiropractor: Pediatric Chiropractor",null,"Medical taxonomy","Y","35",null,"35","35","35","35","35","35",null,null,{"$f":"IF(ISNUMBER(SEARCH(INDIRECT(CELL(\"address\")),S55)),MAX($R$1:R54)+1,0)","v":0},{"$f":"Table1[[#This Row],[Portico_Specialty]]&\"-\"&Table1[[#This Row],[Code]]","v":"Chiropractor: Pediatric Chiropractor-111NP0017X"},null,{"$f":"IFERROR(VLOOKUP(ROWS($U$1:U54),$R$2:$S$918,2,FALSE),\"\")","v":""}]
["111NR0200X",{"$f":"Table1[[#This Row],[Code]]&\" \"&Table1[[#This Row],[Portico_Specialty]]","v":"111NR0200X Chiropractor: Radiology"},{"$f":"CLEAN(Table1[[#This Row],[Code]])","v":"111NR0200X"},"Chiropractor: Radiology",null,"Medical taxonomy","Y","35",null,"35","35","35","35","35","35",null,null,{"$f":"IF(ISNUMBER(SEARCH(INDIRECT(CELL(\"address\")),S56)),MAX($R$1:R55)+1,0)","v":0},{"$f":"Table1[[#This Row],[Portico_Specialty]]&\"-\"&Table1[[#This Row],[Code]]","v":"Chiropractor: Radiology-111NR0200X"},null,{"$f":"IFERROR(VLOOKUP(ROWS($U$1:U55),$R$2:$S$918,2,FALSE),\"\")","v":""}]
["111NR0400X",{"$f":"Table1[[#This Row],[Code]]&\" \"&Table1[[#This Row],[Portico_Specialty]]","v":"111NR0400X Chiropractor: Rehabilitation"},{"$f":"CLEAN(Table1[[#This Row],[Code]])","v":"111NR0400X"},"Chiropractor: Rehabilitation",null,"Medical taxonomy","Y","35",null,"35","35","35","35","35","35",null,null,{"$f":"IF(ISNUMBER(SEARCH(INDIRECT(CELL(\"address\")),S57)),MAX($R$1:R56)+1,0)","v":0},{"$f":"Table1[[#This Row],[Portico_Specialty]]&\"-\"&Table1[[#This Row],[Code]]","v":"Chiropractor: Rehabilitation-111NR0400X"},null,{"$f":"IFERROR(VLOOKUP(ROWS($U$1:U56),$R$2:$S$918,2,FALSE),\"\")","v":""}]
["111NS0005X",{"$f":"Table1[[#This Row],[Code]]&\" \"&Table1[[#This Row],[Portico_Specialty]]","v":"111NS0005X Chiropractor: Sports Physician"},{"$f":"CLEAN(Table1[[#This Row],[Code]])","v":"111NS0005X"},"Chiropractor: Sports Physician",null,"Medical taxonomy","Y","35",null,"35","35","35","35","35","35",null,null,{"$f":"IF(ISNUMBER(SEARCH(INDIRECT(CELL(\"address\")),S58)),MAX($R$1:R57)+1,0)","v":0},{"$f":"Table1[[#This Row],[Portico_Specialty]]&\"-\"&Table1[[#This Row],[Code]]","v":"Chiropractor: Sports Physician-111NS0005X"},null,{"$f":"IFERROR(VLOOKUP(ROWS($U$1:U57),$R$2:$S$918,2,FALSE),\"\")","v":""}]
["111NT0100X",{"$f":"Table1[[#This Row],[Code]]&\" \"&Table1[[#This Row],[Portico_Specialty]]","v":"111NT0100X Chiropractor: Thermography"},{"$f":"CLEAN(Table1[[#This Row],[Code]])","v":"111NT0100X"},"Chiropractor: Thermography",null,"Medical taxonomy","Y","35",null,"35","35","35","35","35","35",null,null,{"$f":"IF(ISNUMBER(SEARCH(INDIRECT(CELL(\"address\")),S59)),MAX($R$1:R58)+1,0)","v":0},{"$f":"Table1[[#This Row],[Portico_Specialty]]&\"-\"&Table1[[#This Row],[Code]]","v":"Chiropractor: Thermography-111NT0100X"},null,{"$f":"IFERROR(VLOOKUP(ROWS($U$1:U58),$R$2:$S$918,2,FALSE),\"\")","v":""}]
["372500000X",{"$f":"Table1[[#This Row],[Code]]&\" \"&Table1[[#This Row],[Portico_Specialty]]","v":"372500000X Chore Provider"},{"$f":"CLEAN(Table1[[#This Row],[Code]])","v":"372500000X"},"Chore Provider",null,"Medical taxonomy","N","HH",null,"HH","HH",null,"HH","88","HH",null,null,{"$f":"IF(ISNUMBER(SEARCH(INDIRECT(CELL(\"address\")),S60)),MAX($R$1:R59)+1,0)","v":0},{"$f":"Table1[[#This Row],[Portico_Specialty]]&\"-\"&Table1[[#This Row],[Code]]","v":"Chore Provider-372500000X"},null,{"$f":"IFERROR(VLOOKUP(ROWS($U$1:U59),$R$2:$S$918,2,FALSE),\"\")","v":""}]
["317400000X",{"$f":"Table1[[#This Row],[Code]]&\" \"&Table1[[#This Row],[Portico_Specialty]]","v":"317400000X Christian Science Facility"},{"$f":"CLEAN(Table1[[#This Row],[Code]])","v":"317400000X"},"Christian Science Facility",null,"Medical taxonomy","N","SN",null,"SN","SN","SN","CF","A1","SN",null,null,{"$f":"IF(ISNUMBER(SEARCH(INDIRECT(CELL(\"address\")),S61)),MAX($R$1:R60)+1,0)","v":0},{"$f":"Table1[[#This Row],[Portico_Specialty]]&\"-\"&Table1[[#This Row],[Code]]","v":"Christian Science Facility-317400000X"},null,{"$f":"IFERROR(VLOOKUP(ROWS($U$1:U60),$R$2:$S$918,2,FALSE),\"\")","v":""}]
["374T00000X",{"$f":"Table1[[#This Row],[Code]]&\" \"&Table1[[#This Row],[Portico_Specialty]]","v":"374T00000X Christian Science Practitioner/Nurse"},{"$f":"CLEAN(Table1[[#This Row],[Code]])","v":"374T00000X"},"Christian Science Practitioner/Nurse",null,"Medical taxonomy","N","87",null,"SN","RN",null,"CF",null,"RN",null,null,{"$f":"IF(ISNUMBER(SEARCH(INDIRECT(CELL(\"address\")),S62)),MAX($R$1:R61)+1,0)","v":0},{"$f":"Table1[[#This Row],[Portico_Specialty]]&\"-\"&Table1[[#This Row],[Code]]","v":"Christian Science Practitioner/Nurse-374T00000X"},null,{"$f":"IFERROR(VLOOKUP(ROWS($U$1:U61),$R$2:$S$918,2,FALSE),\"\")","v":""}]
["287300000X",{"$f":"Table1[[#This Row],[Code]]&\" \"&Table1[[#This Row],[Portico_Specialty]]","v":"287300000X Christian Science Sanitorium"},{"$f":"CLEAN(Table1[[#This Row],[Code]])","v":"287300000X"},"Christian Science Sanitorium",null,"Medical taxonomy","N","HO",null,"HO","HO","HO","CF","A0","HO",null,null,{"$f":"IF(ISNUMBER(SEARCH(INDIRECT(CELL(\"address\")),S63)),MAX($R$1:R62)+1,0)","v":0},{"$f":"Table1[[#This Row],[Portico_Specialty]]&\"-\"&Table1[[#This Row],[Code]]","v":"Christian Science Sanitorium-287300000X"},null,{"$f":"IFERROR(VLOOKUP(ROWS($U$1:U62),$R$2:$S$918,2,FALSE),\"\")","v":""}]
["281P00000X",{"$f":"Table1[[#This Row],[Code]]&\" \"&Table1[[#This Row],[Portico_Specialty]]","v":"281P00000X Chronic Disease Hospital"},{"$f":"CLEAN(Table1[[#This Row],[Code]])","v":"281P00000X"},"Chronic Disease Hospital",null,"Medical taxonomy","N","HO",null,"HO","HO","HO","HO",null,"HO",null,null,{"$f":"IF(ISNUMBER(SEARCH(INDIRECT(CELL(\"address\")),S64)),MAX($R$1:R63)+1,0)","v":0},{"$f":"Table1[[#This Row],[Portico_Specialty]]&\"-\"&Table1[[#This Row],[Code]]","v":"Chronic Disease Hospital-281P00000X"},null,{"$f":"IFERROR(VLOOKUP(ROWS($U$1:U63),$R$2:$S$918,2,FALSE),\"\")","v":""}]
["281PC2000X",{"$f":"Table1[[#This Row],[Code]]&\" \"&Table1[[#This Row],[Portico_Specialty]]","v":"281PC2000X Chronic Disease Hospital: Children"},{"$f":"CLEAN(Table1[[#This Row],[Code]])","v":"281PC2000X"},"Chronic Disease Hospital: Children",null,"Medical taxonomy","N","HO",null,"HO","HO","HO","HO",null,"HO",null,null,{"$f":"IF(ISNUMBER(SEARCH(INDIRECT(CELL(\"address\")),S65)),MAX($R$1:R64)+1,0)","v":0},{"$f":"Table1[[#This Row],[Portico_Specialty]]&\"-\"&Table1[[#This Row],[Code]]","v":"Chronic Disease Hospital: Children-281PC2000X"},null,{"$f":"IFERROR(VLOOKUP(ROWS($U$1:U64),$R$2:$S$918,2,FALSE),\"\")","v":""}]
["261Q00000X",{"$f":"Table1[[#This Row],[Code]]&\" \"&Table1[[#This Row],[Portico_Specialty]]","v":"261Q00000X Clinic/Center"},{"$f":"CLEAN(Table1[[#This Row],[Code]])","v":"261Q00000X"},"Clinic/Center",null,"Shared Taxonomy","Y","70",null,"70","70","70","70","70","70",null,null,{"$f":"IF(ISNUMBER(SEARCH(INDIRECT(CELL(\"address\")),S66)),MAX($R$1:R65)+1,0)","v":0},{"$f":"Table1[[#This Row],[Portico_Specialty]]&\"-\"&Table1[[#This Row],[Code]]","v":"Clinic/Center-261Q00000X"},null,{"$f":"IFERROR(VLOOKUP(ROWS($U$1:U65),$R$2:$S$918,2,FALSE),\"\")","v":""}]
["261QM0855X",{"$f":"Table1[[#This Row],[Code]]&\" \"&Table1[[#This Row],[Portico_Specialty]]","v":"261QM0855X Clinic/Center: Adolescent and Children Mental Health"},{"$f":"CLEAN(Table1[[#This Row],[Code]])","v":"261QM0855X"},"Clinic/Center: Adolescent and Children Mental Health",null,"Medical taxonomy","N","70",null,"70","70","CM","70","70","70",null,null,{"$f":"IF(ISNUMBER(SEARCH(INDIRECT(CELL(\"address\")),S67)),MAX($R$1:R66)+1,0)","v":0},{"$f":"Table1[[#This Row],[Portico_Specialty]]&\"-\"&Table1[[#This Row],[Code]]","v":"Clinic/Center: Adolescent and Children Mental Health-261QM0855X"},null,{"$f":"IFERROR(VLOOKUP(ROWS($U$1:U66),$R$2:$S$918,2,FALSE),\"\")","v":""}]
["261QA0600X",{"$f":"Table1[[#This Row],[Code]]&\" \"&Table1[[#This Row],[Portico_Specialty]]","v":"261QA0600X Clinic/Center: Adult Day Care"},{"$f":"CLEAN(Table1[[#This Row],[Code]])","v":"261QA0600X"},"Clinic/Center: Adult Day Care",null,"Medical taxonomy","N","70",null,"70","70","70","70","70","70",null,null,{"$f":"IF(ISNUMBER(SEARCH(INDIRECT(CELL(\"address\")),S68)),MAX($R$1:R67)+1,0)","v":0},{"$f":"Table1[[#This Row],[Portico_Specialty]]&\"-\"&Table1[[#This Row],[Code]]","v":"Clinic/Center: Adult Day Care-261QA0600X"},null,{"$f":"IFERROR(VLOOKUP(ROWS($U$1:U67),$R$2:$S$918,2,FALSE),\"\")","v":""}]
["261QM0850X",{"$f":"Table1[[#This Row],[Code]]&\" \"&Table1[[#This Row],[Portico_Specialty]]","v":"261QM0850X Clinic/Center: Adult Mental Health"},{"$f":"CLEAN(Table1[[#This Row],[Code]])","v":"261QM0850X"},"Clinic/Center: Adult Mental Health",null,"BH Only Taxonomy","N","70",null,"70","70","CM","70","70","70",null,null,{"$f":"IF(ISNUMBER(SEARCH(INDIRECT(CELL(\"address\")),S69)),MAX($R$1:R68)+1,0)","v":0},{"$f":"Table1[[#This Row],[Portico_Specialty]]&\"-\"&Table1[[#This Row],[Code]]","v":"Clinic/Center: Adult Mental Health-261QM0850X"},null,{"$f":"IFERROR(VLOOKUP(ROWS($U$1:U68),$R$2:$S$918,2,FALSE),\"\")","v":""}]
["261QA0005X",{"$f":"Table1[[#This Row],[Code]]&\" \"&Table1[[#This Row],[Portico_Specialty]]","v":"261QA0005X Clinic/Center: Ambulatory Family Planning Facility"},{"$f":"CLEAN(Table1[[#This Row],[Code]])","v":"261QA0005X"},"Clinic/Center: Ambulatory Family Planning Facility",null,"Medical taxonomy","N","FP",null,"FP","70","70","FP","70","70",null,null,{"$f":"IF(ISNUMBER(SEARCH(INDIRECT(CELL(\"address\")),S70)),MAX($R$1:R69)+1,0)","v":0},{"$f":"Table1[[#This Row],[Portico_Specialty]]&\"-\"&Table1[[#This Row],[Code]]","v":"Clinic/Center: Ambulatory Family Planning Facility-261QA0005X"},null,{"$f":"IFERROR(VLOOKUP(ROWS($U$1:U69),$R$2:$S$918,2,FALSE),\"\")","v":""}]
["261QA0006X",{"$f":"Table1[[#This Row],[Code]]&\" \"&Table1[[#This Row],[Portico_Specialty]]","v":"261QA0006X Clinic/Center: Ambulatory Fertility Facility"},{"$f":"CLEAN(Table1[[#This Row],[Code]])","v":"261QA0006X"},"Clinic/Center: Ambulatory Fertility Facility",null,"Medical taxonomy","N","70",null,"70","70","70","70","70","70",null,null,{"$f":"IF(ISNUMBER(SEARCH(INDIRECT(CELL(\"address\")),S71)),MAX($R$1:R70)+1,0)","v":0},{"$f":"Table1[[#This Row],[Portico_Specialty]]&\"-\"&Table1[[#This Row],[Code]]","v":"Clinic/Center: Ambulatory Fertility Facility-261QA0006X"},null,{"$f":"IFERROR(VLOOKUP(ROWS($U$1:U70),$R$2:$S$918,2,FALSE),\"\")","v":""}]
["261QA1903X",{"$f":"Table1[[#This Row],[Code]]&\" \"&Table1[[#This Row],[Portico_Specialty]]","v":"261QA1903X Clinic/Center: Ambulatory Surgical"},{"$f":"CLEAN(Table1[[#This Row],[Code]])","v":"261QA1903X"},"Clinic/Center: Ambulatory Surgical",null,"Medical taxonomy","Y","49",null,"49","70","49","49","49","70",null,null,{"$f":"IF(ISNUMBER(SEARCH(INDIRECT(CELL(\"address\")),S72)),MAX($R$1:R71)+1,0)","v":0},{"$f":"Table1[[#This Row],[Portico_Specialty]]&\"-\"&Table1[[#This Row],[Code]]","v":"Clinic/Center: Ambulatory Surgical-261QA1903X"},null,{"$f":"IFERROR(VLOOKUP(ROWS($U$1:U71),$R$2:$S$918,2,FALSE),\"\")","v":""}]
["261QA0900X",{"$f":"Table1[[#This Row],[Code]]&\" \"&Table1[[#This Row],[Portico_Specialty]]","v":"261QA0900X Clinic/Center: Amputee"},{"$f":"CLEAN(Table1[[#This Row],[Code]])","v":"261QA0900X"},"Clinic/Center: Amputee",null,"Medical taxonomy","N","70",null,"70","70","70","70","70","70",null,null,{"$f":"IF(ISNUMBER(SEARCH(INDIRECT(CELL(\"address\")),S73)),MAX($R$1:R72)+1,0)","v":0},{"$f":"Table1[[#This Row],[Portico_Specialty]]&\"-\"&Table1[[#This Row],[Code]]","v":"Clinic/Center: Amputee-261QA0900X"},null,{"$f":"IFERROR(VLOOKUP(ROWS($U$1:U72),$R$2:$S$918,2,FALSE),\"\")","v":""}]
["261QA3000X",{"$f":"Table1[[#This Row],[Code]]&\" \"&Table1[[#This Row],[Portico_Specialty]]","v":"261QA3000X Clinic/Center: Augmentative Communication"},{"$f":"CLEAN(Table1[[#This Row],[Code]])","v":"261QA3000X"},"Clinic/Center: Augmentative Communication",null,"Medical taxonomy","N","70",null,"70","70","70","70","70","70",null,null,{"$f":"IF(ISNUMBER(SEARCH(INDIRECT(CELL(\"address\")),S74)),MAX($R$1:R73)+1,0)","v":0},{"$f":"Table1[[#This Row],[Portico_Specialty]]&\"-\"&Table1[[#This Row],[Code]]","v":"Clinic/Center: Augmentative Communication-261QA3000X"},null,{"$f":"IFERROR(VLOOKUP(ROWS($U$1:U73),$R$2:$S$918,2,FALSE),\"\")","v":""}]
["261QB0400X",{"$f":"Table1[[#This Row],[Code]]&\" \"&Table1[[#This Row],[Portico_Specialty]]","v":"261QB0400X Clinic/Center: Birthing"},{"$f":"CLEAN(Table1[[#This Row],[Code]])","v":"261QB0400X"},"Clinic/Center: Birthing",null,"Medical taxonomy","N","BR",null,"70","70","70","70","70","70",null,null,{"$f":"IF(ISNUMBER(SEARCH(INDIRECT(CELL(\"address\")),S75)),MAX($R$1:R74)+1,0)","v":0},{"$f":"Table1[[#This Row],[Portico_Specialty]]&\"-\"&Table1[[#This Row],[Code]]","v":"Clinic/Center: Birthing-261QB0400X"},null,{"$f":"IFERROR(VLOOKUP(ROWS($U$1:U74),$R$2:$S$918,2,FALSE),\"\")","v":""}]
["261QC1500X",{"$f":"Table1[[#This Row],[Code]]&\" \"&Table1[[#This Row],[Portico_Specialty]]","v":"261QC1500X Clinic/Center: Community Health"},{"$f":"CLEAN(Table1[[#This Row],[Code]])","v":"261QC1500X"},"Clinic/Center: Community Health",null,"Shared Taxonomy","N","70",null,"70","70","70","70","70","70",null,null,{"$f":"IF(ISNUMBER(SEARCH(INDIRECT(CELL(\"address\")),S76)),MAX($R$1:R75)+1,0)","v":0},{"$f":"Table1[[#This Row],[Portico_Specialty]]&\"-\"&Table1[[#This Row],[Code]]","v":"Clinic/Center: Community Health-261QC1500X"},null,{"$f":"IFERROR(VLOOKUP(ROWS($U$1:U75),$R$2:$S$918,2,FALSE),\"\")","v":""}]
["261QC1800X",{"$f":"Table1[[#This Row],[Code]]&\" \"&Table1[[#This Row],[Portico_Specialty]]","v":"261QC1800X Clinic/Center: Corporate Health"},{"$f":"CLEAN(Table1[[#This Row],[Code]])","v":"261QC1800X"},"Clinic/Center: Corporate Health",null,"Medical taxonomy","N","70",null,"70","70","70","70","70","70",null,null,{"$f":"IF(ISNUMBER(SEARCH(INDIRECT(CELL(\"address\")),S77)),MAX($R$1:R76)+1,0)","v":0},{"$f":"Table1[[#This Row],[Portico_Specialty]]&\"-\"&Table1[[#This Row],[Code]]","v":"Clinic/Center: Corporate Health-261QC1800X"},null,{"$f":"IFERROR(VLOOKUP(ROWS($U$1:U76),$R$2:$S$918,2,FALSE),\"\")","v":""}]
["261QC0050X",{"$f":"Table1[[#This Row],[Code]]&\" \"&Table1[[#This Row],[Portico_Specialty]]","v":"261QC0050X Clinic/Center: Critical Access Hospital"},{"$f":"CLEAN(Table1[[#This Row],[Code]])","v":"261QC0050X"},"Clinic/Center: Critical Access Hospital","REQUIRED: Both an M & H Claim_Type build for BH.","Shared Taxonomy","N","HO",null,"70","HO","HO","HO",null,"HO",null,null,{"$f":"IF(ISNUMBER(SEARCH(INDIRECT(CELL(\"address\")),S78)),MAX($R$1:R77)+1,0)","v":0},{"$f":"Table1[[#This Row],[Portico_Specialty]]&\"-\"&Table1[[#This Row],[Code]]","v":"Clinic/Center: Critical Access Hospital-261QC0050X"},null,{"$f":"IFERROR(VLOOKUP(ROWS($U$1:U77),$R$2:$S$918,2,FALSE),\"\")","v":""}]
["261QD0000X",{"$f":"Table1[[#This Row],[Code]]&\" \"&Table1[[#This Row],[Portico_Specialty]]","v":"261QD0000X Clinic/Center: Dental"},{"$f":"CLEAN(Table1[[#This Row],[Code]])","v":"261QD0000X"},"Clinic/Center: Dental",null,"Medical taxonomy","N","DT",null,"DT","DT","DT","DT",null,"DT",null,null,{"$f":"IF(ISNUMBER(SEARCH(INDIRECT(CELL(\"address\")),S79)),MAX($R$1:R78)+1,0)","v":0},{"$f":"Table1[[#This Row],[Portico_Specialty]]&\"-\"&Table1[[#This Row],[Code]]","v":"Clinic/Center: Dental-261QD0000X"},null,{"$f":"IFERROR(VLOOKUP(ROWS($U$1:U78),$R$2:$S$918,2,FALSE),\"\")","v":""}]
["261QD1600X",{"$f":"Table1[[#This Row],[Code]]&\" \"&Table1[[#This Row],[Portico_Specialty]]","v":"261QD1600X Clinic/Center: Developmental Disabilities"},{"$f":"CLEAN(Table1[[#This Row],[Code]])","v":"261QD1600X"},"Clinic/Center: Developmental Disabilities",null,"Shared Taxonomy","N","70",null,"70","70","70","70","70","70",null,null,{"$f":"IF(ISNUMBER(SEARCH(INDIRECT(CELL(\"address\")),S80)),MAX($R$1:R79)+1,0)","v":0},{"$f":"Table1[[#This Row],[Portico_Specialty]]&\"-\"&Table1[[#This Row],[Code]]","v":"Clinic/Center: Developmental Disabilities-261QD1600X"},null,{"$f":"IFERROR(VLOOKUP(ROWS($U$1:U79),$R$2:$S$918,2,FALSE),\"\")","v":""}]
["261QE0002X",{"$f":"Table1[[#This Row],[Code]]&\" \"&Table1[[#This Row],[Portico_Specialty]]","v":"261QE0002X Clinic/Center: Emergency Care"},{"$f":"CLEAN(Table1[[#This Row],[Code]])","v":"261QE0002X"},"Clinic/Center: Emergency Care",null,"Medical taxonomy","N","70",null,"70","70","70","70","70","70",null,null,{"$f":"IF(ISNUMBER(SEARCH(INDIRECT(CELL(\"address\")),S81)),MAX($R$1:R80)+1,0)","v":0},{"$f":"Table1[[#This Row],[Portico_Specialty]]&\"-\"&Table1[[#This Row],[Code]]","v":"Clinic/Center: Emergency Care-261QE0002X"},null,{"$f":"IFERROR(VLOOKUP(ROWS($U$1:U80),$R$2:$S$918,2,FALSE),\"\")","v":""}]
["261QE0800X",{"$f":"Table1[[#This Row],[Code]]&\" \"&Table1[[#This Row],[Portico_Specialty]]","v":"261QE0800X Clinic/Center: Endoscopy"},{"$f":"CLEAN(Table1[[#This Row],[Code]])","v":"261QE0800X"},"Clinic/Center: Endoscopy",null,"Medical taxonomy","N","49",null,"49","70","49","49","49","70",null,null,{"$f":"IF(ISNUMBER(SEARCH(INDIRECT(CELL(\"address\")),S82)),MAX($R$1:R81)+1,0)","v":0},{"$f":"Table1[[#This Row],[Portico_Specialty]]&\"-\"&Table1[[#This Row],[Code]]","v":"Clinic/Center: Endoscopy-261QE0800X"},null,{"$f":"IFERROR(VLOOKUP(ROWS($U$1:U81),$R$2:$S$918,2,FALSE),\"\")","v":""}]
["261QE0700X",{"$f":"Table1[[#This Row],[Code]]&\" \"&Table1[[#This Row],[Portico_Specialty]]","v":"261QE0700X Clinic/Center: End-Stage Renal Disease (ESRD) Treatment"},{"$f":"CLEAN(Table1[[#This Row],[Code]])","v":"261QE0700X"},"Clinic/Center: End-Stage Renal Disease (ESRD) Treatment",null,"Medical taxonomy","Y","DS",null,"DS","70","DS","DS","DS","70",null,null,{"$f":"IF(ISNUMBER(SEARCH(INDIRECT(CELL(\"address\")),S83)),MAX($R$1:R82)+1,0)","v":0},{"$f":"Table1[[#This Row],[Portico_Specialty]]&\"-\"&Table1[[#This Row],[Code]]","v":"Clinic/Center: End-Stage Renal Disease (ESRD) Treatment-261QE0700X"},null,{"$f":"IFERROR(VLOOKUP(ROWS($U$1:U82),$R$2:$S$918,2,FALSE),\"\")","v":""}]
["261QF0050X",{"$f":"Table1[[#This Row],[Code]]&\" \"&Table1[[#This Row],[Portico_Specialty]]","v":"261QF0050X Clinic/Center: Family Planning, Non-Surgical"},{"$f":"CLEAN(Table1[[#This Row],[Code]])","v":"261QF0050X"},"Clinic/Center: Family Planning, Non-Surgical",null,"Medical taxonomy","N","70",null,"FP","70","70","FP","70","70",null,null,{"$f":"IF(ISNUMBER(SEARCH(INDIRECT(CELL(\"address\")),S84)),MAX($R$1:R83)+1,0)","v":0},{"$f":"Table1[[#This Row],[Portico_Specialty]]&\"-\"&Table1[[#This Row],[Code]]","v":"Clinic/Center: Family Planning, Non-Surgical-261QF0050X"},null,{"$f":"IFERROR(VLOOKUP(ROWS($U$1:U83),$R$2:$S$918,2,FALSE),\"\")","v":""}]
["261QF0400X",{"$f":"Table1[[#This Row],[Code]]&\" \"&Table1[[#This Row],[Portico_Specialty]]","v":"261QF0400X Clinic/Center: Federally Qualified Health Center (FQHC)"},{"$f":"CLEAN(Table1[[#This Row],[Code]])","v":"261QF0400X"},"Clinic/Center: Federally Qualified Health Center (FQHC)",null,"Shared Taxonomy","Y","70",null,"FQ","FQ","70","70","70","FQ",null,null,{"$f":"IF(ISNUMBER(SEARCH(INDIRECT(CELL(\"address\")),S85)),MAX($R$1:R84)+1,0)","v":0},{"$f":"Table1[[#This Row],[Portico_Specialty]]&\"-\"&Table1[[#This Row],[Code]]","v":"Clinic/Center: Federally Qualified Health Center (FQHC)-261QF0400X"},null,{"$f":"IFERROR(VLOOKUP(ROWS($U$1:U84),$R$2:$S$918,2,FALSE),\"\")","v":""}]
["261QG0250X",{"$f":"Table1[[#This Row],[Code]]&\" \"&Table1[[#This Row],[Portico_Specialty]]","v":"261QG0250X Clinic/Center: Genetics"},{"$f":"CLEAN(Table1[[#This Row],[Code]])","v":"261QG0250X"},"Clinic/Center: Genetics",null,"Medical taxonomy","N","GN",null,"GN","70","GN","GN",null,"70",null,null,{"$f":"IF(ISNUMBER(SEARCH(INDIRECT(CELL(\"address\")),S86)),MAX($R$1:R85)+1,0)","v":0},{"$f":"Table1[[#This Row],[Portico_Specialty]]&\"-\"&Table1[[#This Row],[Code]]","v":"Clinic/Center: Genetics-261QG0250X"},null,{"$f":"IFERROR(VLOOKUP(ROWS($U$1:U85),$R$2:$S$918,2,FALSE),\"\")","v":""}]
["261QH0100X",{"$f":"Table1[[#This Row],[Code]]&\" \"&Table1[[#This Row],[Portico_Specialty]]","v":"261QH0100X Clinic/Center: Health Service"},{"$f":"CLEAN(Table1[[#This Row],[Code]])","v":"261QH0100X"},"Clinic/Center: Health Service",null,"Medical taxonomy","N","70",null,"70","70","70","70","70","70",null,null,{"$f":"IF(ISNUMBER(SEARCH(INDIRECT(CELL(\"address\")),S87)),MAX($R$1:R86)+1,0)","v":0},{"$f":"Table1[[#This Row],[Portico_Specialty]]&\"-\"&Table1[[#This Row],[Code]]","v":"Clinic/Center: Health Service-261QH0100X"},null,{"$f":"IFERROR(VLOOKUP(ROWS($U$1:U86),$R$2:$S$918,2,FALSE),\"\")","v":""}]
["261QH0700X",{"$f":"Table1[[#This Row],[Code]]&\" \"&Table1[[#This Row],[Portico_Specialty]]","v":"261QH0700X Clinic/Center: Hearing and Speech"},{"$f":"CLEAN(Table1[[#This Row],[Code]])","v":"261QH0700X"},"Clinic/Center: Hearing and Speech",null,"Medical taxonomy","N","ST",null,"ST","70","ST","SH","99","70",null,null,{"$f":"IF(ISNUMBER(SEARCH(INDIRECT(CELL(\"address\")),S88)),MAX($R$1:R87)+1,0)","v":0},{"$f":"Table1[[#This Row],[Portico_Specialty]]&\"-\"&Table1[[#This Row],[Code]]","v":"Clinic/Center: Hearing and Speech-261QH0700X"},null,{"$f":"IFERROR(VLOOKUP(ROWS($U$1:U87),$R$2:$S$918,2,FALSE),\"\")","v":""}]
["261QI0500X",{"$f":"Table1[[#This Row],[Code]]&\" \"&Table1[[#This Row],[Portico_Specialty]]","v":"261QI0500X Clinic/Center: Infusion Therapy"},{"$f":"CLEAN(Table1[[#This Row],[Code]])","v":"261QI0500X"},"Clinic/Center: Infusion Therapy",null,"Medical taxonomy","N","70",null,"70","70","70","70","70","70",null,null,{"$f":"IF(ISNUMBER(SEARCH(INDIRECT(CELL(\"address\")),S89)),MAX($R$1:R88)+1,0)","v":0},{"$f":"Table1[[#This Row],[Portico_Specialty]]&\"-\"&Table1[[#This Row],[Code]]","v":"Clinic/Center: Infusion Therapy-261QI0500X"},null,{"$f":"IFERROR(VLOOKUP(ROWS($U$1:U88),$R$2:$S$918,2,FALSE),\"\")","v":""}]
["261QL0400X",{"$f":"Table1[[#This Row],[Code]]&\" \"&Table1[[#This Row],[Portico_Specialty]]","v":"261QL0400X Clinic/Center: Lithotripsy"},{"$f":"CLEAN(Table1[[#This Row],[Code]])","v":"261QL0400X"},"Clinic/Center: Lithotripsy",null,"Medical taxonomy","N","49",null,"49","70","49","49","49","70",null,null,{"$f":"IF(ISNUMBER(SEARCH(INDIRECT(CELL(\"address\")),S90)),MAX($R$1:R89)+1,0)","v":0},{"$f":"Table1[[#This Row],[Portico_Specialty]]&\"-\"&Table1[[#This Row],[Code]]","v":"Clinic/Center: Lithotripsy-261QL0400X"},null,{"$f":"IFERROR(VLOOKUP(ROWS($U$1:U89),$R$2:$S$918,2,FALSE),\"\")","v":""}]
["261QM1200X",{"$f":"Table1[[#This Row],[Code]]&\" \"&Table1[[#This Row],[Portico_Specialty]]","v":"261QM1200X Clinic/Center: Magnetic Resonance Imaging (MRI)"},{"$f":"CLEAN(Table1[[#This Row],[Code]])","v":"261QM1200X"},"Clinic/Center: Magnetic Resonance Imaging (MRI)",null,"Medical taxonomy","N","30",null,"30","70","30","30","30","70",null,null,{"$f":"IF(ISNUMBER(SEARCH(INDIRECT(CELL(\"address\")),S91)),MAX($R$1:R90)+1,0)","v":0},{"$f":"Table1[[#This Row],[Portico_Specialty]]&\"-\"&Table1[[#This Row],[Code]]","v":"Clinic/Center: Magnetic Resonance Imaging (MRI)-261QM1200X"},null,{"$f":"IFERROR(VLOOKUP(ROWS($U$1:U90),$R$2:$S$918,2,FALSE),\"\")","v":""}]
["261QM2500X",{"$f":"Table1[[#This Row],[Code]]&\" \"&Table1[[#This Row],[Portico_Specialty]]","v":"261QM2500X Clinic/Center: Medical Specialty"},{"$f":"CLEAN(Table1[[#This Row],[Code]])","v":"261QM2500X"},"Clinic/Center: Medical Specialty",null,"Medical taxonomy","N","70",null,"70","70","70","70","70","70",null,null,{"$f":"IF(ISNUMBER(SEARCH(INDIRECT(CELL(\"address\")),S92)),MAX($R$1:R91)+1,0)","v":0},{"$f":"Table1[[#This Row],[Portico_Specialty]]&\"-\"&Table1[[#This Row],[Code]]","v":"Clinic/Center: Medical Specialty-261QM2500X"},null,{"$f":"IFERROR(VLOOKUP(ROWS($U$1:U91),$R$2:$S$918,2,FALSE),\"\")","v":""}]
["261QM3000X",{"$f":"Table1[[#This Row],[Code]]&\" \"&Table1[[#This Row],[Portico_Specialty]]","v":"261QM3000X Clinic/Center: Medically Fragile Intants and Children Day Care"},{"$f":"CLEAN(Table1[[#This Row],[Code]])","v":"261QM3000X"},"Clinic/Center: Medically Fragile Intants and Children Day Care",null,"Medical taxonomy","N","70",null,"70","70","70","70","70","70",null,null,{"$f":"IF(ISNUMBER(SEARCH(INDIRECT(CELL(\"address\")),S93)),MAX($R$1:R92)+1,0)","v":0},{"$f":"Table1[[#This Row],[Portico_Specialty]]&\"-\"&Table1[[#This Row],[Code]]","v":"Clinic/Center: Medically Fragile Intants and Children Day Care-261QM3000X"},null,{"$f":"IFERROR(VLOOKUP(ROWS($U$1:U92),$R$2:$S$918,2,FALSE),\"\")","v":""}]
["261QM0801X",{"$f":"Table1[[#This Row],[Code]]&\" \"&Table1[[#This Row],[Portico_Specialty]]","v":"261QM0801X Clinic/Center: Mental Health (Including Community Mental Health Center)"},{"$f":"CLEAN(Table1[[#This Row],[Code]])","v":"261QM0801X"},"Clinic/Center: Mental Health (Including Community Mental Health Center)",null,"BH Only Taxonomy","Y","70",null,"70","CM","CM","70","70","CM",null,null,{"$f":"IF(ISNUMBER(SEARCH(INDIRECT(CELL(\"address\")),S94)),MAX($R$1:R93)+1,0)","v":0},{"$f":"Table1[[#This Row],[Portico_Specialty]]&\"-\"&Table1[[#This Row],[Code]]","v":"Clinic/Center: Mental Health (Including Community Mental Health Center)-261QM0801X"},null,{"$f":"IFERROR(VLOOKUP(ROWS($U$1:U93),$R$2:$S$918,2,FALSE),\"\")","v":""}]
["261QM2800X",{"$f":"Table1[[#This Row],[Code]]&\" \"&Table1[[#This Row],[Portico_Specialty]]","v":"261QM2800X Clinic/Center: Methadone Clinic"},{"$f":"CLEAN(Table1[[#This Row],[Code]])","v":"261QM2800X"},"Clinic/Center: Methadone Clinic",null,"BH Only Taxonomy","N","70",null,"CM","DA","CM","CM","70","DA",null,null,{"$f":"IF(ISNUMBER(SEARCH(INDIRECT(CELL(\"address\")),S95)),MAX($R$1:R94)+1,0)","v":0},{"$f":"Table1[[#This Row],[Portico_Specialty]]&\"-\"&Table1[[#This Row],[Code]]","v":"Clinic/Center: Methadone Clinic-261QM2800X"},null,{"$f":"IFERROR(VLOOKUP(ROWS($U$1:U94),$R$2:$S$918,2,FALSE),\"\")","v":""}]
["261QM1000X",{"$f":"Table1[[#This Row],[Code]]&\" \"&Table1[[#This Row],[Portico_Specialty]]","v":"261QM1000X Clinic/Center: Migrant Health"},{"$f":"CLEAN(Table1[[#This Row],[Code]])","v":"261QM1000X"},"Clinic/Center: Migrant Health",null,"Medical taxonomy","N","70",null,"70","70","70","70","70","70",null,null,{"$f":"IF(ISNUMBER(SEARCH(INDIRECT(CELL(\"address\")),S96)),MAX($R$1:R95)+1,0)","v":0},{"$f":"Table1[[#This Row],[Portico_Specialty]]&\"-\"&Table1[[#This Row],[Code]]","v":"Clinic/Center: Migrant Health-261QM1000X"},null,{"$f":"IFERROR(VLOOKUP(ROWS($U$1:U95),$R$2:$S$918,2,FALSE),\"\")","v":""}]
["261QM1103X",{"$f":"Table1[[#This Row],[Code]]&\" \"&Table1[[#This Row],[Portico_Specialty]]","v":"261QM1103X Clinic/Center: Military Ambulatory Procedure Visits Operational (Transportable)"},{"$f":"CLEAN(Table1[[#This Row],[Code]])","v":"261QM1103X"},"Clinic/Center: Military Ambulatory Procedure Visits Operational (Transportable)",null,"Medical taxonomy","N","70",null,"70","70","70","70","70","70",null,null,{"$f":"IF(ISNUMBER(SEARCH(INDIRECT(CELL(\"address\")),S97)),MAX($R$1:R96)+1,0)","v":0},{"$f":"Table1[[#This Row],[Portico_Specialty]]&\"-\"&Table1[[#This Row],[Code]]","v":"Clinic/Center: Military Ambulatory Procedure Visits Operational (Transportable)-261QM1103X"},null,{"$f":"IFERROR(VLOOKUP(ROWS($U$1:U96),$R$2:$S$918,2,FALSE),\"\")","v":""}]
["261QM1101X",{"$f":"Table1[[#This Row],[Code]]&\" \"&Table1[[#This Row],[Portico_Specialty]]","v":"261QM1101X Clinic/Center: Military and U.S. Coast Guard Ambulatory Procedure"},{"$f":"CLEAN(Table1[[#This Row],[Code]])","v":"261QM1101X"},"Clinic/Center: Military and U.S. Coast Guard Ambulatory Procedure",null,"Medical taxonomy","N","70",null,"70","70","70","70","70","70",null,null,{"$f":"IF(ISNUMBER(SEARCH(INDIRECT(CELL(\"address\")),S98)),MAX($R$1:R97)+1,0)","v":0},{"$f":"Table1[[#This Row],[Portico_Specialty]]&\"-\"&Table1[[#This Row],[Code]]","v":"Clinic/Center: Military and U.S. Coast Guard Ambulatory Procedure-261QM1101X"},null,{"$f":"IFERROR(VLOOKUP(ROWS($U$1:U97),$R$2:$S$918,2,FALSE),\"\")","v":""}]
["261QM1102X",{"$f":"Table1[[#This Row],[Code]]&\" \"&Table1[[#This Row],[Portico_Specialty]]","v":"261QM1102X Clinic/Center: Military Outpatient Operational (Transportable) Component"},{"$f":"CLEAN(Table1[[#This Row],[Code]])","v":"261QM1102X"},"Clinic/Center: Military Outpatient Operational (Transportable) Component",null,"Medical taxonomy","N","70",null,"70","70","70","70","70","70",null,null,{"$f":"IF(ISNUMBER(SEARCH(INDIRECT(CELL(\"address\")),S99)),MAX($R$1:R98)+1,0)","v":0},{"$f":"Table1[[#This Row],[Portico_Specialty]]&\"-\"&Table1[[#This Row],[Code]]","v":"Clinic/Center: Military Outpatient Operational (Transportable) Component-261QM1102X"},null,{"$f":"IFERROR(VLOOKUP(ROWS($U$1:U98),$R$2:$S$918,2,FALSE),\"\")","v":""}]
["261QM1100X",{"$f":"Table1[[#This Row],[Code]]&\" \"&Table1[[#This Row],[Portico_Specialty]]","v":"261QM1100X Clinic/Center: Military/U.S. Coast Guard Outpatient"},{"$f":"CLEAN(Table1[[#This Row],[Code]])","v":"261QM1100X"},"Clinic/Center: Military/U.S. Coast Guard Outpatient",null,"Medical taxonomy","N","70",null,"70","70","70","70","70","70",null,null,{"$f":"IF(ISNUMBER(SEARCH(INDIRECT(CELL(\"address\")),S100)),MAX($R$1:R99)+1,0)","v":0},{"$f":"Table1[[#This Row],[Portico_Specialty]]&\"-\"&Table1[[#This Row],[Code]]","v":"Clinic/Center: Military/U.S. Coast Guard Outpatient-261QM1100X"},null,{"$f":"IFERROR(VLOOKUP(ROWS($U$1:U99),$R$2:$S$918,2,FALSE),\"\")","v":""}]
["261QM1300X",{"$f":"Table1[[#This Row],[Code]]&\" \"&Table1[[#This Row],[Portico_Specialty]]","v":"261QM1300X Clinic/Center: Multi-Specialty"},{"$f":"CLEAN(Table1[[#This Row],[Code]])","v":"261QM1300X"},"Clinic/Center: Multi-Specialty",null,"Shared Taxonomy","Y","70",null,"70","70","70","70","70","70",null,null,{"$f":"IF(ISNUMBER(SEARCH(INDIRECT(CELL(\"address\")),S101)),MAX($R$1:R100)+1,0)","v":0},{"$f":"Table1[[#This Row],[Portico_Specialty]]&\"-\"&Table1[[#This Row],[Code]]","v":"Clinic/Center: Multi-Specialty-261QM1300X"},null,{"$f":"IFERROR(VLOOKUP(ROWS($U$1:U100),$R$2:$S$918,2,FALSE),\"\")","v":""}]
["261QX0100X",{"$f":"Table1[[#This Row],[Code]]&\" \"&Table1[[#This Row],[Portico_Specialty]]","v":"261QX0100X Clinic/Center: Occupational Medicine"},{"$f":"CLEAN(Table1[[#This Row],[Code]])","v":"261QX0100X"},"Clinic/Center: Occupational Medicine",null,"Medical taxonomy","N","70",null,"70","70","70","70","70","70",null,null,{"$f":"IF(ISNUMBER(SEARCH(INDIRECT(CELL(\"address\")),S102)),MAX($R$1:R101)+1,0)","v":0},{"$f":"Table1[[#This Row],[Portico_Specialty]]&\"-\"&Table1[[#This Row],[Code]]","v":"Clinic/Center: Occupational Medicine-261QX0100X"},null,{"$f":"IFERROR(VLOOKUP(ROWS($U$1:U101),$R$2:$S$918,2,FALSE),\"\")","v":""}]
["261QX0200X",{"$f":"Table1[[#This Row],[Code]]&\" \"&Table1[[#This Row],[Portico_Specialty]]","v":"261QX0200X Clinic/Center: Oncology"},{"$f":"CLEAN(Table1[[#This Row],[Code]])","v":"261QX0200X"},"Clinic/Center: Oncology",null,"Medical taxonomy","N","70",null,"70","70","70","70","70","70",null,null,{"$f":"IF(ISNUMBER(SEARCH(INDIRECT(CELL(\"address\")),S103)),MAX($R$1:R102)+1,0)","v":0},{"$f":"Table1[[#This Row],[Portico_Specialty]]&\"-\"&Table1[[#This Row],[Code]]","v":"Clinic/Center: Oncology-261QX0200X"},null,{"$f":"IFERROR(VLOOKUP(ROWS($U$1:U102),$R$2:$S$918,2,FALSE),\"\")","v":""}]
["261QX0203X",{"$f":"Table1[[#This Row],[Code]]&\" \"&Table1[[#This Row],[Portico_Specialty]]","v":"261QX0203X Clinic/Center: Oncology, Radiation"},{"$f":"CLEAN(Table1[[#This Row],[Code]])","v":"261QX0203X"},"Clinic/Center: Oncology, Radiation",null,"Medical taxonomy","N","70",null,"70","70","70","70","70","70",null,null,{"$f":"IF(ISNUMBER(SEARCH(INDIRECT(CELL(\"address\")),S104)),MAX($R$1:R103)+1,0)","v":0},{"$f":"Table1[[#This Row],[Portico_Specialty]]&\"-\"&Table1[[#This Row],[Code]]","v":"Clinic/Center: Oncology, Radiation-261QX0203X"},null,{"$f":"IFERROR(VLOOKUP(ROWS($U$1:U103),$R$2:$S$918,2,FALSE),\"\")","v":""}]
["261QS0132X",{"$f":"Table1[[#This Row],[Code]]&\" \"&Table1[[#This Row],[Portico_Specialty]]","v":"261QS0132X Clinic/Center: Ophthalmologic Surgery"},{"$f":"CLEAN(Table1[[#This Row],[Code]])","v":"261QS0132X"},"Clinic/Center: Ophthalmologic Surgery",null,"Medical taxonomy","N","49",null,"49","70","49","49","49","70",null,null,{"$f":"IF(ISNUMBER(SEARCH(INDIRECT(CELL(\"address\")),S105)),MAX($R$1:R104)+1,0)","v":0},{"$f":"Table1[[#This Row],[Portico_Specialty]]&\"-\"&Table1[[#This Row],[Code]]","v":"Clinic/Center: Ophthalmologic Surgery-261QS0132X"},null,{"$f":"IFERROR(VLOOKUP(ROWS($U$1:U104),$R$2:$S$918,2,FALSE),\"\")","v":""}]
["261QS0112X",{"$f":"Table1[[#This Row],[Code]]&\" \"&Table1[[#This Row],[Portico_Specialty]]","v":"261QS0112X Clinic/Center: Oral and Maxillofacial Surgery"},{"$f":"CLEAN(Table1[[#This Row],[Code]])","v":"261QS0112X"},"Clinic/Center: Oral and Maxillofacial Surgery",null,"Medical taxonomy","N","70",null,"49","DT","49","49",null,"DT",null,null,{"$f":"IF(ISNUMBER(SEARCH(INDIRECT(CELL(\"address\")),S106)),MAX($R$1:R105)+1,0)","v":0},{"$f":"Table1[[#This Row],[Portico_Specialty]]&\"-\"&Table1[[#This Row],[Code]]","v":"Clinic/Center: Oral and Maxillofacial Surgery-261QS0112X"},null,{"$f":"IFERROR(VLOOKUP(ROWS($U$1:U105),$R$2:$S$918,2,FALSE),\"\")","v":""}]
["261QP3300X",{"$f":"Table1[[#This Row],[Code]]&\" \"&Table1[[#This Row],[Portico_Specialty]]","v":"261QP3300X Clinic/Center: Pain"},{"$f":"CLEAN(Table1[[#This Row],[Code]])","v":"261QP3300X"},"Clinic/Center: Pain",null,"Medical taxonomy","N","70",null,"70","70","70","70","09","70",null,null,{"$f":"IF(ISNUMBER(SEARCH(INDIRECT(CELL(\"address\")),S107)),MAX($R$1:R106)+1,0)","v":0},{"$f":"Table1[[#This Row],[Portico_Specialty]]&\"-\"&Table1[[#This Row],[Code]]","v":"Clinic/Center: Pain-261QP3300X"},null,{"$f":"IFERROR(VLOOKUP(ROWS($U$1:U106),$R$2:$S$918,2,FALSE),\"\")","v":""}]
["261QP2000X",{"$f":"Table1[[#This Row],[Code]]&\" \"&Table1[[#This Row],[Portico_Specialty]]","v":"261QP2000X Clinic/Center: Physical Therapy"},{"$f":"CLEAN(Table1[[#This Row],[Code]])","v":"261QP2000X"},"Clinic/Center: Physical Therapy",null,"Medical taxonomy","Y","70",null,"70","70","70","70","70","70",null,null,{"$f":"IF(ISNUMBER(SEARCH(INDIRECT(CELL(\"address\")),S108)),MAX($R$1:R107)+1,0)","v":0},{"$f":"Table1[[#This Row],[Portico_Specialty]]&\"-\"&Table1[[#This Row],[Code]]","v":"Clinic/Center: Physical Therapy-261QP2000X"},null,{"$f":"IFERROR(VLOOKUP(ROWS($U$1:U107),$R$2:$S$918,2,FALSE),\"\")","v":""}]
["261QP1100X",{"$f":"Table1[[#This Row],[Code]]&\" \"&Table1[[#This Row],[Portico_Specialty]]","v":"261QP1100X Clinic/Center: Podiatric"},{"$f":"CLEAN(Table1[[#This Row],[Code]])","v":"261QP1100X"},"Clinic/Center: Podiatric",null,"Medical taxonomy","N","70",null,"70","70","70","70","70","70",null,null,{"$f":"IF(ISNUMBER(SEARCH(INDIRECT(CELL(\"address\")),S109)),MAX($R$1:R108)+1,0)","v":0},{"$f":"Table1[[#This Row],[Portico_Specialty]]&\"-\"&Table1[[#This Row],[Code]]","v":"Clinic/Center: Podiatric-261QP1100X"},null,{"$f":"IFERROR(VLOOKUP(ROWS($U$1:U108),$R$2:$S$918,2,FALSE),\"\")","v":""}]
["261QP2300X",{"$f":"Table1[[#This Row],[Code]]&\" \"&Table1[[#This Row],[Portico_Specialty]]","v":"261QP2300X Clinic/Center: Primary Care"},{"$f":"CLEAN(Table1[[#This Row],[Code]])","v":"261QP2300X"},"Clinic/Center: Primary Care",null,"Medical taxonomy","N","70",null,"70","70","70","70","70","70",null,null,{"$f":"IF(ISNUMBER(SEARCH(INDIRECT(CELL(\"address\")),S110)),MAX($R$1:R109)+1,0)","v":0},{"$f":"Table1[[#This Row],[Portico_Specialty]]&\"-\"&Table1[[#This Row],[Code]]","v":"Clinic/Center: Primary Care-261QP2300X"},null,{"$f":"IFERROR(VLOOKUP(ROWS($U$1:U109),$R$2:$S$918,2,FALSE),\"\")","v":""}]
["261QP2400X",{"$f":"Table1[[#This Row],[Code]]&\" \"&Table1[[#This Row],[Portico_Specialty]]","v":"261QP2400X Clinic/Center: Prison Health"},{"$f":"CLEAN(Table1[[#This Row],[Code]])","v":"261QP2400X"},"Clinic/Center: Prison Health",null,"Medical taxonomy","N","70",null,"70","70","70","70","70","70",null,null,{"$f":"IF(ISNUMBER(SEARCH(INDIRECT(CELL(\"address\")),S111)),MAX($R$1:R110)+1,0)","v":0},{"$f":"Table1[[#This Row],[Portico_Specialty]]&\"-\"&Table1[[#This Row],[Code]]","v":"Clinic/Center: Prison Health-261QP2400X"},null,{"$f":"IFERROR(VLOOKUP(ROWS($U$1:U110),$R$2:$S$918,2,FALSE),\"\")","v":""}]
["261QP0904X",{"$f":"Table1[[#This Row],[Code]]&\" \"&Table1[[#This Row],[Portico_Specialty]]","v":"261QP0904X Clinic/Center: Public Health, Federal"},{"$f":"CLEAN(Table1[[#This Row],[Code]])","v":"261QP0904X"},"Clinic/Center: Public Health, Federal",null,"Medical taxonomy","N","70",null,"70","70","70","70","70","70",null,null,{"$f":"IF(ISNUMBER(SEARCH(INDIRECT(CELL(\"address\")),S112)),MAX($R$1:R111)+1,0)","v":0},{"$f":"Table1[[#This Row],[Portico_Specialty]]&\"-\"&Table1[[#This Row],[Code]]","v":"Clinic/Center: Public Health, Federal-261QP0904X"},null,{"$f":"IFERROR(VLOOKUP(ROWS($U$1:U111),$R$2:$S$918,2,FALSE),\"\")","v":""}]
["261QP0905X",{"$f":"Table1[[#This Row],[Code]]&\" \"&Table1[[#This Row],[Portico_Specialty]]","v":"261QP0905X Clinic/Center: Public Health, State or Local"},{"$f":"CLEAN(Table1[[#This Row],[Code]])","v":"261QP0905X"},"Clinic/Center: Public Health, State or Local",null,"Medical taxonomy","N","70",null,"70","70","70","70","70","70",null,null,{"$f":"IF(ISNUMBER(SEARCH(INDIRECT(CELL(\"address\")),S113)),MAX($R$1:R112)+1,0)","v":0},{"$f":"Table1[[#This Row],[Portico_Specialty]]&\"-\"&Table1[[#This Row],[Code]]","v":"Clinic/Center: Public Health, State or Local-261QP0905X"},null,{"$f":"IFERROR(VLOOKUP(ROWS($U$1:U112),$R$2:$S$918,2,FALSE),\"\")","v":""}]
["261QR0200X",{"$f":"Table1[[#This Row],[Code]]&\" \"&Table1[[#This Row],[Portico_Specialty]]","v":"261QR0200X Clinic/Center: Radiology"},{"$f":"CLEAN(Table1[[#This Row],[Code]])","v":"261QR0200X"},"Clinic/Center: Radiology",null,"Medical taxonomy","Y","70",null,"70","70","70","70","74","70",null,null,{"$f":"IF(ISNUMBER(SEARCH(INDIRECT(CELL(\"address\")),S114)),MAX($R$1:R113)+1,0)","v":0},{"$f":"Table1[[#This Row],[Portico_Specialty]]&\"-\"&Table1[[#This Row],[Code]]","v":"Clinic/Center: Radiology-261QR0200X"},null,{"$f":"IFERROR(VLOOKUP(ROWS($U$1:U113),$R$2:$S$918,2,FALSE),\"\")","v":""}]
["261QR0206X",{"$f":"Table1[[#This Row],[Code]]&\" \"&Table1[[#This Row],[Portico_Specialty]]","v":"261QR0206X Clinic/Center: Radiology, Mammography"},{"$f":"CLEAN(Table1[[#This Row],[Code]])","v":"261QR0206X"},"Clinic/Center: Radiology, Mammography",null,"Medical taxonomy","N","70",null,"45","70","70","45","45","70",null,null,{"$f":"IF(ISNUMBER(SEARCH(INDIRECT(CELL(\"address\")),S115)),MAX($R$1:R114)+1,0)","v":0},{"$f":"Table1[[#This Row],[Portico_Specialty]]&\"-\"&Table1[[#This Row],[Code]]","v":"Clinic/Center: Radiology, Mammography-261QR0206X"},null,{"$f":"IFERROR(VLOOKUP(ROWS($U$1:U114),$R$2:$S$918,2,FALSE),\"\")","v":""}]
["261QR0208X",{"$f":"Table1[[#This Row],[Code]]&\" \"&Table1[[#This Row],[Portico_Specialty]]","v":"261QR0208X Clinic/Center: Radiology, Mobile"},{"$f":"CLEAN(Table1[[#This Row],[Code]])","v":"261QR0208X"},"Clinic/Center: Radiology, Mobile",null,"Medical taxonomy","Y","70",null,"70","70","70","70","70","70",null,null,{"$f":"IF(ISNUMBER(SEARCH(INDIRECT(CELL(\"address\")),S116)),MAX($R$1:R115)+1,0)","v":0},{"$f":"Table1[[#This Row],[Portico_Specialty]]&\"-\"&Table1[[#This Row],[Code]]","v":"Clinic/Center: Radiology, Mobile-261QR0208X"},null,{"$f":"IFERROR(VLOOKUP(ROWS($U$1:U115),$R$2:$S$918,2,FALSE),\"\")","v":""}]
["261QR0207X",{"$f":"Table1[[#This Row],[Code]]&\" \"&Table1[[#This Row],[Portico_Specialty]]","v":"261QR0207X Clinic/Center: Radiology, Mobile Mammography"},{"$f":"CLEAN(Table1[[#This Row],[Code]])","v":"261QR0207X"},"Clinic/Center: Radiology, Mobile Mammography",null,"Medical taxonomy","Y","70",null,"45","70","70","45","45","70",null,null,{"$f":"IF(ISNUMBER(SEARCH(INDIRECT(CELL(\"address\")),S117)),MAX($R$1:R116)+1,0)","v":0},{"$f":"Table1[[#This Row],[Portico_Specialty]]&\"-\"&Table1[[#This Row],[Code]]","v":"Clinic/Center: Radiology, Mobile Mammography-261QR0207X"},null,{"$f":"IFERROR(VLOOKUP(ROWS($U$1:U116),$R$2:$S$918,2,FALSE),\"\")","v":""}]
["261QR0800X",{"$f":"Table1[[#This Row],[Code]]&\" \"&Table1[[#This Row],[Portico_Specialty]]","v":"261QR0800X Clinic/Center: Recovery Care"},{"$f":"CLEAN(Table1[[#This Row],[Code]])","v":"261QR0800X"},"Clinic/Center: Recovery Care",null,"BH Only Taxonomy","N","70",null,"70","70","70","70","70","70",null,null,{"$f":"IF(ISNUMBER(SEARCH(INDIRECT(CELL(\"address\")),S118)),MAX($R$1:R117)+1,0)","v":0},{"$f":"Table1[[#This Row],[Portico_Specialty]]&\"-\"&Table1[[#This Row],[Code]]","v":"Clinic/Center: Recovery Care-261QR0800X"},null,{"$f":"IFERROR(VLOOKUP(ROWS($U$1:U117),$R$2:$S$918,2,FALSE),\"\")","v":""}]
["261QR0400X",{"$f":"Table1[[#This Row],[Code]]&\" \"&Table1[[#This Row],[Portico_Specialty]]","v":"261QR0400X Clinic/Center: Rehabilitation"},{"$f":"CLEAN(Table1[[#This Row],[Code]])","v":"261QR0400X"},"Clinic/Center: Rehabilitation",null,"Medical taxonomy","Y","70",null,"70","70","70","70","B4","70",null,null,{"$f":"IF(ISNUMBER(SEARCH(INDIRECT(CELL(\"address\")),S119)),MAX($R$1:R118)+1,0)","v":0},{"$f":"Table1[[#This Row],[Portico_Specialty]]&\"-\"&Table1[[#This Row],[Code]]","v":"Clinic/Center: Rehabilitation-261QR0400X"},null,{"$f":"IFERROR(VLOOKUP(ROWS($U$1:U118),$R$2:$S$918,2,FALSE),\"\")","v":""}]
["261QR0404X",{"$f":"Table1[[#This Row],[Code]]&\" \"&Table1[[#This Row],[Portico_Specialty]]","v":"261QR0404X Clinic/Center: Rehabilitation, Cardiac Facilities"},{"$f":"CLEAN(Table1[[#This Row],[Code]])","v":"261QR0404X"},"Clinic/Center: Rehabilitation, Cardiac Facilities",null,"Medical taxonomy","N","70",null,"70","70","70","70","31","70",null,null,{"$f":"IF(ISNUMBER(SEARCH(INDIRECT(CELL(\"address\")),S120)),MAX($R$1:R119)+1,0)","v":0},{"$f":"Table1[[#This Row],[Portico_Specialty]]&\"-\"&Table1[[#This Row],[Code]]","v":"Clinic/Center: Rehabilitation, Cardiac Facilities-261QR0404X"},null,{"$f":"IFERROR(VLOOKUP(ROWS($U$1:U119),$R$2:$S$918,2,FALSE),\"\")","v":""}]
["261QR0401X",{"$f":"Table1[[#This Row],[Code]]&\" \"&Table1[[#This Row],[Portico_Specialty]]","v":"261QR0401X Clinic/Center: Rehabilitation, Comprehensive Outpatient Rehabilitation Facility (CORF)"},{"$f":"CLEAN(Table1[[#This Row],[Code]])","v":"261QR0401X"},"Clinic/Center: Rehabilitation, Comprehensive Outpatient Rehabilitation Facility (CORF)",null,"Medical taxonomy","Y","70",null,"70","70","70","70","70","70",null,null,{"$f":"IF(ISNUMBER(SEARCH(INDIRECT(CELL(\"address\")),S121)),MAX($R$1:R120)+1,0)","v":0},{"$f":"Table1[[#This Row],[Portico_Specialty]]&\"-\"&Table1[[#This Row],[Code]]","v":"Clinic/Center: Rehabilitation, Comprehensive Outpatient Rehabilitation Facility (CORF)-261QR0401X"},null,{"$f":"IFERROR(VLOOKUP(ROWS($U$1:U120),$R$2:$S$918,2,FALSE),\"\")","v":""}]
["261QR0405X",{"$f":"Table1[[#This Row],[Code]]&\" \"&Table1[[#This Row],[Portico_Specialty]]","v":"261QR0405X Clinic/Center: Rehabilitation, Substance Use Disorder"},{"$f":"CLEAN(Table1[[#This Row],[Code]])","v":"261QR0405X"},"Clinic/Center: Rehabilitation, Substance Use Disorder","REQUIRED: Both an M & H Claim_Type build for BH.","BH Only Taxonomy","N","70",null,"SU","70","CM","FR","70","70",null,null,{"$f":"IF(ISNUMBER(SEARCH(INDIRECT(CELL(\"address\")),S122)),MAX($R$1:R121)+1,0)","v":0},{"$f":"Table1[[#This Row],[Portico_Specialty]]&\"-\"&Table1[[#This Row],[Code]]","v":"Clinic/Center: Rehabilitation, Substance Use Disorder-261QR0405X"},null,{"$f":"IFERROR(VLOOKUP(ROWS($U$1:U121),$R$2:$S$918,2,FALSE),\"\")","v":""}]
["261QR1100X",{"$f":"Table1[[#This Row],[Code]]&\" \"&Table1[[#This Row],[Portico_Specialty]]","v":"261QR1100X Clinic/Center: Research"},{"$f":"CLEAN(Table1[[#This Row],[Code]])","v":"261QR1100X"},"Clinic/Center: Research",null,"Medical taxonomy","N","70",null,"70","70","70","70","70","70",null,null,{"$f":"IF(ISNUMBER(SEARCH(INDIRECT(CELL(\"address\")),S123)),MAX($R$1:R122)+1,0)","v":0},{"$f":"Table1[[#This Row],[Portico_Specialty]]&\"-\"&Table1[[#This Row],[Code]]","v":"Clinic/Center: Research-261QR1100X"},null,{"$f":"IFERROR(VLOOKUP(ROWS($U$1:U122),$R$2:$S$918,2,FALSE),\"\")","v":""}]
["261QR1300X",{"$f":"Table1[[#This Row],[Code]]&\" \"&Table1[[#This Row],[Portico_Specialty]]","v":"261QR1300X Clinic/Center: Rural Health"},{"$f":"CLEAN(Table1[[#This Row],[Code]])","v":"261QR1300X"},"Clinic/Center: Rural Health",null,"Shared Taxonomy","Y","70",null,"RH","RH","70","70","70","RH",null,null,{"$f":"IF(ISNUMBER(SEARCH(INDIRECT(CELL(\"address\")),S124)),MAX($R$1:R123)+1,0)","v":0},{"$f":"Table1[[#This Row],[Portico_Specialty]]&\"-\"&Table1[[#This Row],[Code]]","v":"Clinic/Center: Rural Health-261QR1300X"},null,{"$f":"IFERROR(VLOOKUP(ROWS($U$1:U123),$R$2:$S$918,2,FALSE),\"\")","v":""}]
["261QS1200X",{"$f":"Table1[[#This Row],[Code]]&\" \"&Table1[[#This Row],[Portico_Specialty]]","v":"261QS1200X Clinic/Center: Sleep Disorder Diagnostic"},{"$f":"CLEAN(Table1[[#This Row],[Code]])","v":"261QS1200X"},"Clinic/Center: Sleep Disorder Diagnostic",null,"Medical taxonomy","N","70",null,"70","70","70","70","70","70",null,null,{"$f":"IF(ISNUMBER(SEARCH(INDIRECT(CELL(\"address\")),S125)),MAX($R$1:R124)+1,0)","v":0},{"$f":"Table1[[#This Row],[Portico_Specialty]]&\"-\"&Table1[[#This Row],[Code]]","v":"Clinic/Center: Sleep Disorder Diagnostic-261QS1200X"},null,{"$f":"IFERROR(VLOOKUP(ROWS($U$1:U124),$R$2:$S$918,2,FALSE),\"\")","v":""}]
["261QS1000X",{"$f":"Table1[[#This Row],[Code]]&\" \"&Table1[[#This Row],[Portico_Specialty]]","v":"261QS1000X Clinic/Center: Student Health"},{"$f":"CLEAN(Table1[[#This Row],[Code]])","v":"261QS1000X"},"Clinic/Center: Student Health",null,"Medical taxonomy","N","70",null,"70","70","70","70","70","70",null,null,{"$f":"IF(ISNUMBER(SEARCH(INDIRECT(CELL(\"address\")),S126)),MAX($R$1:R125)+1,0)","v":0},{"$f":"Table1[[#This Row],[Portico_Specialty]]&\"-\"&Table1[[#This Row],[Code]]","v":"Clinic/Center: Student Health-261QS1000X"},null,{"$f":"IFERROR(VLOOKUP(ROWS($U$1:U125),$R$2:$S$918,2,FALSE),\"\")","v":""}]
["261QU0200X",{"$f":"Table1[[#This Row],[Code]]&\" \"&Table1[[#This Row],[Portico_Specialty]]","v":"261QU0200X Clinic/Center: Urgent Care"},{"$f":"CLEAN(Table1[[#This Row],[Code]])","v":"261QU0200X"},"Clinic/Center: Urgent Care",null,"Medical taxonomy","N","UC",null,"UC","70","70","UC","70","70",null,null,{"$f":"IF(ISNUMBER(SEARCH(INDIRECT(CELL(\"address\")),S127)),MAX($R$1:R126)+1,0)","v":0},{"$f":"Table1[[#This Row],[Portico_Specialty]]&\"-\"&Table1[[#This Row],[Code]]","v":"Clinic/Center: Urgent Care-261QU0200X"},null,{"$f":"IFERROR(VLOOKUP(ROWS($U$1:U126),$R$2:$S$918,2,FALSE),\"\")","v":""}]
["261QV0200X",{"$f":"Table1[[#This Row],[Code]]&\" \"&Table1[[#This Row],[Portico_Specialty]]","v":"261QV0200X Clinic/Center: VA"},{"$f":"CLEAN(Table1[[#This Row],[Code]])","v":"261QV0200X"},"Clinic/Center: VA",null,"Medical taxonomy","N","70",null,"70","70","70","70","70","70",null,null,{"$f":"IF(ISNUMBER(SEARCH(INDIRECT(CELL(\"address\")),S128)),MAX($R$1:R127)+1,0)","v":0},{"$f":"Table1[[#This Row],[Portico_Specialty]]&\"-\"&Table1[[#This Row],[Code]]","v":"Clinic/Center: VA-261QV0200X"},null,{"$f":"IFERROR(VLOOKUP(ROWS($U$1:U127),$R$2:$S$918,2,FALSE),\"\")","v":""}]
["AltSpec1",{"$f":"Table1[[#This Row],[Code]]&\" \"&Table1[[#This Row],[Portico_Specialty]]","v":"AltSpec1 Clinical Counselor - HCBS"},{"$f":"CLEAN(Table1[[#This Row],[Code]])","v":"AltSpec1"},"Clinical Counselor - HCBS",null,"Medical taxonomy","N",null,null,null,"Y7",null,null,null,null,null,null,{"$f":"IF(ISNUMBER(SEARCH(INDIRECT(CELL(\"address\")),S129)),MAX($R$1:R128)+1,0)","v":0},{"$f":"Table1[[#This Row],[Portico_Specialty]]&\"-\"&Table1[[#This Row],[Code]]","v":"Clinical Counselor - HCBS-AltSpec1"},null,{"$f":"IFERROR(VLOOKUP(ROWS($U$1:U128),$R$2:$S$918,2,FALSE),\"\")","v":""}]
["174V00000X",{"$f":"Table1[[#This Row],[Code]]&\" \"&Table1[[#This Row],[Portico_Specialty]]","v":"174V00000X Clinical Ethicist"},{"$f":"CLEAN(Table1[[#This Row],[Code]])","v":"174V00000X"},"Clinical Ethicist",null,"Medical taxonomy","N","87",null,"99","99",null,null,null,"99",null,null,{"$f":"IF(ISNUMBER(SEARCH(INDIRECT(CELL(\"address\")),S130)),MAX($R$1:R129)+1,0)","v":0},{"$f":"Table1[[#This Row],[Portico_Specialty]]&\"-\"&Table1[[#This Row],[Code]]","v":"Clinical Ethicist-174V00000X"},null,{"$f":"IFERROR(VLOOKUP(ROWS($U$1:U129),$R$2:$S$918,2,FALSE),\"\")","v":""}]
["224Y00000X",{"$f":"Table1[[#This Row],[Code]]&\" \"&Table1[[#This Row],[Portico_Specialty]]","v":"224Y00000X Clinical Exercise Physiologist"},{"$f":"CLEAN(Table1[[#This Row],[Code]])","v":"224Y00000X"},"Clinical Exercise Physiologist",null,"Medical taxonomy","N",null,null,"99","23",null,null,null,"23",null,null,{"$f":"IF(ISNUMBER(SEARCH(INDIRECT(CELL(\"address\")),S131)),MAX($R$1:R130)+1,0)","v":0},{"$f":"Table1[[#This Row],[Portico_Specialty]]&\"-\"&Table1[[#This Row],[Code]]","v":"Clinical Exercise Physiologist-224Y00000X"},null,{"$f":"IFERROR(VLOOKUP(ROWS($U$1:U130),$R$2:$S$918,2,FALSE),\"\")","v":""}]
["291U00000X",{"$f":"Table1[[#This Row],[Code]]&\" \"&Table1[[#This Row],[Portico_Specialty]]","v":"291U00000X Clinical Medical Laboratory"},{"$f":"CLEAN(Table1[[#This Row],[Code]])","v":"291U00000X"},"Clinical Medical Laboratory",null,"Medical taxonomy","Y","69",null,"69","69","69","69","69","69",null,null,{"$f":"IF(ISNUMBER(SEARCH(INDIRECT(CELL(\"address\")),S132)),MAX($R$1:R131)+1,0)","v":0},{"$f":"Table1[[#This Row],[Portico_Specialty]]&\"-\"&Table1[[#This Row],[Code]]","v":"Clinical Medical Laboratory-291U00000X"},null,{"$f":"IFERROR(VLOOKUP(ROWS($U$1:U131),$R$2:$S$918,2,FALSE),\"\")","v":""}]
["103G00000X",{"$f":"Table1[[#This Row],[Code]]&\" \"&Table1[[#This Row],[Portico_Specialty]]","v":"103G00000X Clinical Neuropsychologist"},{"$f":"CLEAN(Table1[[#This Row],[Code]])","v":"103G00000X"},"Clinical Neuropsychologist",null,"BH Only Taxonomy","N","68",null,"68","68","68","CN","68","68",null,null,{"$f":"IF(ISNUMBER(SEARCH(INDIRECT(CELL(\"address\")),S133)),MAX($R$1:R132)+1,0)","v":0},{"$f":"Table1[[#This Row],[Portico_Specialty]]&\"-\"&Table1[[#This Row],[Code]]","v":"Clinical Neuropsychologist-103G00000X"},null,{"$f":"IFERROR(VLOOKUP(ROWS($U$1:U132),$R$2:$S$918,2,FALSE),\"\")","v":""}]
["103GC0700X",{"$f":"Table1[[#This Row],[Code]]&\" \"&Table1[[#This Row],[Portico_Specialty]]","v":"103GC0700X Clinical Neuropsychologist: Clinical"},{"$f":"CLEAN(Table1[[#This Row],[Code]])","v":"103GC0700X"},"Clinical Neuropsychologist: Clinical",null,"BH Only Taxonomy","N","38",null,"68","68","68","68","68","68",null,null,{"$f":"IF(ISNUMBER(SEARCH(INDIRECT(CELL(\"address\")),S134)),MAX($R$1:R133)+1,0)","v":0},{"$f":"Table1[[#This Row],[Portico_Specialty]]&\"-\"&Table1[[#This Row],[Code]]","v":"Clinical Neuropsychologist: Clinical-103GC0700X"},null,{"$f":"IFERROR(VLOOKUP(ROWS($U$1:U133),$R$2:$S$918,2,FALSE),\"\")","v":""}]
["364S00000X",{"$f":"Table1[[#This Row],[Code]]&\" \"&Table1[[#This Row],[Portico_Specialty]]","v":"364S00000X Clinical Nurse Specialist"},{"$f":"CLEAN(Table1[[#This Row],[Code]])","v":"364S00000X"},"Clinical Nurse Specialist",null,"Shared Taxonomy","Y","89",null,"89","89","89","89","89","89",null,null,{"$f":"IF(ISNUMBER(SEARCH(INDIRECT(CELL(\"address\")),S135)),MAX($R$1:R134)+1,0)","v":0},{"$f":"Table1[[#This Row],[Portico_Specialty]]&\"-\"&Table1[[#This Row],[Code]]","v":"Clinical Nurse Specialist-364S00000X"},null,{"$f":"IFERROR(VLOOKUP(ROWS($U$1:U134),$R$2:$S$918,2,FALSE),\"\")","v":""}]
["364SA2100X",{"$f":"Table1[[#This Row],[Code]]&\" \"&Table1[[#This Row],[Portico_Specialty]]","v":"364SA2100X Clinical Nurse Specialist: Acute Care"},{"$f":"CLEAN(Table1[[#This Row],[Code]])","v":"364SA2100X"},"Clinical Nurse Specialist: Acute Care",null,"Medical taxonomy","Y","89",null,"89","89","89","89","89","89",null,null,{"$f":"IF(ISNUMBER(SEARCH(INDIRECT(CELL(\"address\")),S136)),MAX($R$1:R135)+1,0)","v":0},{"$f":"Table1[[#This Row],[Portico_Specialty]]&\"-\"&Table1[[#This Row],[Code]]","v":"Clinical Nurse Specialist: Acute Care-364SA2100X"},null,{"$f":"IFERROR(VLOOKUP(ROWS($U$1:U135),$R$2:$S$918,2,FALSE),\"\")","v":""}]
["364SA2200X",{"$f":"Table1[[#This Row],[Code]]&\" \"&Table1[[#This Row],[Portico_Specialty]]","v":"364SA2200X Clinical Nurse Specialist: Adult Health"},{"$f":"CLEAN(Table1[[#This Row],[Code]])","v":"364SA2200X"},"Clinical Nurse Specialist: Adult Health",null,"Medical taxonomy","Y","89",null,"89","89","89","89","89","89",null,null,{"$f":"IF(ISNUMBER(SEARCH(INDIRECT(CELL(\"address\")),S137)),MAX($R$1:R136)+1,0)","v":0},{"$f":"Table1[[#This Row],[Portico_Specialty]]&\"-\"&Table1[[#This Row],[Code]]","v":"Clinical Nurse Specialist: Adult Health-364SA2200X"},null,{"$f":"IFERROR(VLOOKUP(ROWS($U$1:U136),$R$2:$S$918,2,FALSE),\"\")","v":""}]
["364SC2300X",{"$f":"Table1[[#This Row],[Code]]&\" \"&Table1[[#This Row],[Portico_Specialty]]","v":"364SC2300X Clinical Nurse Specialist: Chronic Care"},{"$f":"CLEAN(Table1[[#This Row],[Code]])","v":"364SC2300X"},"Clinical Nurse Specialist: Chronic Care",null,"Medical taxonomy","Y","89",null,"89","89","89","89","89","89",null,null,{"$f":"IF(ISNUMBER(SEARCH(INDIRECT(CELL(\"address\")),S138)),MAX($R$1:R137)+1,0)","v":0},{"$f":"Table1[[#This Row],[Portico_Specialty]]&\"-\"&Table1[[#This Row],[Code]]","v":"Clinical Nurse Specialist: Chronic Care-364SC2300X"},null,{"$f":"IFERROR(VLOOKUP(ROWS($U$1:U137),$R$2:$S$918,2,FALSE),\"\")","v":""}]
["364SC1501X",{"$f":"Table1[[#This Row],[Code]]&\" \"&Table1[[#This Row],[Portico_Specialty]]","v":"364SC1501X Clinical Nurse Specialist: Community Health/Public Health"},{"$f":"CLEAN(Table1[[#This Row],[Code]])","v":"364SC1501X"},"Clinical Nurse Specialist: Community Health/Public Health",null,"Shared Taxonomy","Y","89",null,"89","89","89","89","89","89",null,null,{"$f":"IF(ISNUMBER(SEARCH(INDIRECT(CELL(\"address\")),S139)),MAX($R$1:R138)+1,0)","v":0},{"$f":"Table1[[#This Row],[Portico_Specialty]]&\"-\"&Table1[[#This Row],[Code]]","v":"Clinical Nurse Specialist: Community Health/Public Health-364SC1501X"},null,{"$f":"IFERROR(VLOOKUP(ROWS($U$1:U138),$R$2:$S$918,2,FALSE),\"\")","v":""}]
["364SC0200X",{"$f":"Table1[[#This Row],[Code]]&\" \"&Table1[[#This Row],[Portico_Specialty]]","v":"364SC0200X Clinical Nurse Specialist: Critical Care Medicine"},{"$f":"CLEAN(Table1[[#This Row],[Code]])","v":"364SC0200X"},"Clinical Nurse Specialist: Critical Care Medicine",null,"Medical taxonomy","Y","89",null,"89","89","89","89","89","89",null,null,{"$f":"IF(ISNUMBER(SEARCH(INDIRECT(CELL(\"address\")),S140)),MAX($R$1:R139)+1,0)","v":0},{"$f":"Table1[[#This Row],[Portico_Specialty]]&\"-\"&Table1[[#This Row],[Code]]","v":"Clinical Nurse Specialist: Critical Care Medicine-364SC0200X"},null,{"$f":"IFERROR(VLOOKUP(ROWS($U$1:U139),$R$2:$S$918,2,FALSE),\"\")","v":""}]
["364SE0003X",{"$f":"Table1[[#This Row],[Code]]&\" \"&Table1[[#This Row],[Portico_Specialty]]","v":"364SE0003X Clinical Nurse Specialist: Emergency"},{"$f":"CLEAN(Table1[[#This Row],[Code]])","v":"364SE0003X"},"Clinical Nurse Specialist: Emergency",null,"Medical taxonomy","Y","89",null,"89","89","89","89","89","89",null,null,{"$f":"IF(ISNUMBER(SEARCH(INDIRECT(CELL(\"address\")),S141)),MAX($R$1:R140)+1,0)","v":0},{"$f":"Table1[[#This Row],[Portico_Specialty]]&\"-\"&Table1[[#This Row],[Code]]","v":"Clinical Nurse Specialist: Emergency-364SE0003X"},null,{"$f":"IFERROR(VLOOKUP(ROWS($U$1:U140),$R$2:$S$918,2,FALSE),\"\")","v":""}]
["364SE1400X",{"$f":"Table1[[#This Row],[Code]]&\" \"&Table1[[#This Row],[Portico_Specialty]]","v":"364SE1400X Clinical Nurse Specialist: Ethics"},{"$f":"CLEAN(Table1[[#This Row],[Code]])","v":"364SE1400X"},"Clinical Nurse Specialist: Ethics",null,"Medical taxonomy","Y","89",null,"89","89","89","89","89","89",null,null,{"$f":"IF(ISNUMBER(SEARCH(INDIRECT(CELL(\"address\")),S142)),MAX($R$1:R141)+1,0)","v":0},{"$f":"Table1[[#This Row],[Portico_Specialty]]&\"-\"&Table1[[#This Row],[Code]]","v":"Clinical Nurse Specialist: Ethics-364SE1400X"},null,{"$f":"IFERROR(VLOOKUP(ROWS($U$1:U141),$R$2:$S$918,2,FALSE),\"\")","v":""}]
["364SF0001X",{"$f":"Table1[[#This Row],[Code]]&\" \"&Table1[[#This Row],[Portico_Specialty]]","v":"364SF0001X Clinical Nurse Specialist: Family Health"},{"$f":"CLEAN(Table1[[#This Row],[Code]])","v":"364SF0001X"},"Clinical Nurse Specialist: Family Health",null,"Medical taxonomy","Y","89",null,"89","89","89","89","89","89",null,null,{"$f":"IF(ISNUMBER(SEARCH(INDIRECT(CELL(\"address\")),S143)),MAX($R$1:R142)+1,0)","v":0},{"$f":"Table1[[#This Row],[Portico_Specialty]]&\"-\"&Table1[[#This Row],[Code]]","v":"Clinical Nurse Specialist: Family Health-364SF0001X"},null,{"$f":"IFERROR(VLOOKUP(ROWS($U$1:U142),$R$2:$S$918,2,FALSE),\"\")","v":""}]
["364SG0600X",{"$f":"Table1[[#This Row],[Code]]&\" \"&Table1[[#This Row],[Portico_Specialty]]","v":"364SG0600X Clinical Nurse Specialist: Gerontology"},{"$f":"CLEAN(Table1[[#This Row],[Code]])","v":"364SG0600X"},"Clinical Nurse Specialist: Gerontology",null,"Medical taxonomy","Y","89",null,"89","89","89","89","89","89",null,null,{"$f":"IF(ISNUMBER(SEARCH(INDIRECT(CELL(\"address\")),S144)),MAX($R$1:R143)+1,0)","v":0},{"$f":"Table1[[#This Row],[Portico_Specialty]]&\"-\"&Table1[[#This Row],[Code]]","v":"Clinical Nurse Specialist: Gerontology-364SG0600X"},null,{"$f":"IFERROR(VLOOKUP(ROWS($U$1:U143),$R$2:$S$918,2,FALSE),\"\")","v":""}]
["364SH1100X",{"$f":"Table1[[#This Row],[Code]]&\" \"&Table1[[#This Row],[Portico_Specialty]]","v":"364SH1100X Clinical Nurse Specialist: Holistic"},{"$f":"CLEAN(Table1[[#This Row],[Code]])","v":"364SH1100X"},"Clinical Nurse Specialist: Holistic",null,"Medical taxonomy","Y","89",null,"89","89","89","89","89","89",null,null,{"$f":"IF(ISNUMBER(SEARCH(INDIRECT(CELL(\"address\")),S145)),MAX($R$1:R144)+1,0)","v":0},{"$f":"Table1[[#This Row],[Portico_Specialty]]&\"-\"&Table1[[#This Row],[Code]]","v":"Clinical Nurse Specialist: Holistic-364SH1100X"},null,{"$f":"IFERROR(VLOOKUP(ROWS($U$1:U144),$R$2:$S$918,2,FALSE),\"\")","v":""}]
["364SH0200X",{"$f":"Table1[[#This Row],[Code]]&\" \"&Table1[[#This Row],[Portico_Specialty]]","v":"364SH0200X Clinical Nurse Specialist: Home Health"},{"$f":"CLEAN(Table1[[#This Row],[Code]])","v":"364SH0200X"},"Clinical Nurse Specialist: Home Health",null,"Medical taxonomy","Y","89",null,"89","89","89","89","89","89",null,null,{"$f":"IF(ISNUMBER(SEARCH(INDIRECT(CELL(\"address\")),S146)),MAX($R$1:R145)+1,0)","v":0},{"$f":"Table1[[#This Row],[Portico_Specialty]]&\"-\"&Table1[[#This Row],[Code]]","v":"Clinical Nurse Specialist: Home Health-364SH0200X"},null,{"$f":"IFERROR(VLOOKUP(ROWS($U$1:U145),$R$2:$S$918,2,FALSE),\"\")","v":""}]
["364SI0800X",{"$f":"Table1[[#This Row],[Code]]&\" \"&Table1[[#This Row],[Portico_Specialty]]","v":"364SI0800X Clinical Nurse Specialist: Informatics"},{"$f":"CLEAN(Table1[[#This Row],[Code]])","v":"364SI0800X"},"Clinical Nurse Specialist: Informatics",null,"Medical taxonomy","Y","89",null,"89","89","89","89","89","89",null,null,{"$f":"IF(ISNUMBER(SEARCH(INDIRECT(CELL(\"address\")),S147)),MAX($R$1:R146)+1,0)","v":0},{"$f":"Table1[[#This Row],[Portico_Specialty]]&\"-\"&Table1[[#This Row],[Code]]","v":"Clinical Nurse Specialist: Informatics-364SI0800X"},null,{"$f":"IFERROR(VLOOKUP(ROWS($U$1:U146),$R$2:$S$918,2,FALSE),\"\")","v":""}]
["364SL0600X",{"$f":"Table1[[#This Row],[Code]]&\" \"&Table1[[#This Row],[Portico_Specialty]]","v":"364SL0600X Clinical Nurse Specialist: Long-Term Care"},{"$f":"CLEAN(Table1[[#This Row],[Code]])","v":"364SL0600X"},"Clinical Nurse Specialist: Long-Term Care",null,"Medical taxonomy","Y","89",null,"89","89","89","89","89","89",null,null,{"$f":"IF(ISNUMBER(SEARCH(INDIRECT(CELL(\"address\")),S148)),MAX($R$1:R147)+1,0)","v":0},{"$f":"Table1[[#This Row],[Portico_Specialty]]&\"-\"&Table1[[#This Row],[Code]]","v":"Clinical Nurse Specialist: Long-Term Care-364SL0600X"},null,{"$f":"IFERROR(VLOOKUP(ROWS($U$1:U147),$R$2:$S$918,2,FALSE),\"\")","v":""}]
["364SM0705X",{"$f":"Table1[[#This Row],[Code]]&\" \"&Table1[[#This Row],[Portico_Specialty]]","v":"364SM0705X Clinical Nurse Specialist: Medical-Surgical"},{"$f":"CLEAN(Table1[[#This Row],[Code]])","v":"364SM0705X"},"Clinical Nurse Specialist: Medical-Surgical",null,"Medical taxonomy","Y","89",null,"89","89","89","89","89","89",null,null,{"$f":"IF(ISNUMBER(SEARCH(INDIRECT(CELL(\"address\")),S149)),MAX($R$1:R148)+1,0)","v":0},{"$f":"Table1[[#This Row],[Portico_Specialty]]&\"-\"&Table1[[#This Row],[Code]]","v":"Clinical Nurse Specialist: Medical-Surgical-364SM0705X"},null,{"$f":"IFERROR(VLOOKUP(ROWS($U$1:U148),$R$2:$S$918,2,FALSE),\"\")","v":""}]
["364SN0000X",{"$f":"Table1[[#This Row],[Code]]&\" \"&Table1[[#This Row],[Portico_Specialty]]","v":"364SN0000X Clinical Nurse Specialist: Neonatal"},{"$f":"CLEAN(Table1[[#This Row],[Code]])","v":"364SN0000X"},"Clinical Nurse Specialist: Neonatal",null,"Medical taxonomy","Y","89",null,"89","89","89","89","89","89",null,null,{"$f":"IF(ISNUMBER(SEARCH(INDIRECT(CELL(\"address\")),S150)),MAX($R$1:R149)+1,0)","v":0},{"$f":"Table1[[#This Row],[Portico_Specialty]]&\"-\"&Table1[[#This Row],[Code]]","v":"Clinical Nurse Specialist: Neonatal-364SN0000X"},null,{"$f":"IFERROR(VLOOKUP(ROWS($U$1:U149),$R$2:$S$918,2,FALSE),\"\")","v":""}]
["364SN0800X",{"$f":"Table1[[#This Row],[Code]]&\" \"&Table1[[#This Row],[Portico_Specialty]]","v":"364SN0800X Clinical Nurse Specialist: Neuroscience"},{"$f":"CLEAN(Table1[[#This Row],[Code]])","v":"364SN0800X"},"Clinical Nurse Specialist: Neuroscience",null,"Medical taxonomy","Y","89",null,"89","89","89","89","89","89",null,null,{"$f":"IF(ISNUMBER(SEARCH(INDIRECT(CELL(\"address\")),S151)),MAX($R$1:R150)+1,0)","v":0},{"$f":"Table1[[#This Row],[Portico_Specialty]]&\"-\"&Table1[[#This Row],[Code]]","v":"Clinical Nurse Specialist: Neuroscience-364SN0800X"},null,{"$f":"IFERROR(VLOOKUP(ROWS($U$1:U150),$R$2:$S$918,2,FALSE),\"\")","v":""}]
["364SX0106X",{"$f":"Table1[[#This Row],[Code]]&\" \"&Table1[[#This Row],[Portico_Specialty]]","v":"364SX0106X Clinical Nurse Specialist: Occupational Health"},{"$f":"CLEAN(Table1[[#This Row],[Code]])","v":"364SX0106X"},"Clinical Nurse Specialist: Occupational Health",null,"Medical taxonomy","Y","89",null,"89","89","89","89","89","89",null,null,{"$f":"IF(ISNUMBER(SEARCH(INDIRECT(CELL(\"address\")),S152)),MAX($R$1:R151)+1,0)","v":0},{"$f":"Table1[[#This Row],[Portico_Specialty]]&\"-\"&Table1[[#This Row],[Code]]","v":"Clinical Nurse Specialist: Occupational Health-364SX0106X"},null,{"$f":"IFERROR(VLOOKUP(ROWS($U$1:U151),$R$2:$S$918,2,FALSE),\"\")","v":""}]
["364SX0200X",{"$f":"Table1[[#This Row],[Code]]&\" \"&Table1[[#This Row],[Portico_Specialty]]","v":"364SX0200X Clinical Nurse Specialist: Oncology"},{"$f":"CLEAN(Table1[[#This Row],[Code]])","v":"364SX0200X"},"Clinical Nurse Specialist: Oncology",null,"Medical taxonomy","Y","89",null,"89","89","89","89","89","89",null,null,{"$f":"IF(ISNUMBER(SEARCH(INDIRECT(CELL(\"address\")),S153)),MAX($R$1:R152)+1,0)","v":0},{"$f":"Table1[[#This Row],[Portico_Specialty]]&\"-\"&Table1[[#This Row],[Code]]","v":"Clinical Nurse Specialist: Oncology-364SX0200X"},null,{"$f":"IFERROR(VLOOKUP(ROWS($U$1:U152),$R$2:$S$918,2,FALSE),\"\")","v":""}]
["364SX0204X",{"$f":"Table1[[#This Row],[Code]]&\" \"&Table1[[#This Row],[Portico_Specialty]]","v":"364SX0204X Clinical Nurse Specialist: Oncology, Pediatrics"},{"$f":"CLEAN(Table1[[#This Row],[Code]])","v":"364SX0204X"},"Clinical Nurse Specialist: Oncology, Pediatrics",null,"Medical taxonomy","Y","89",null,"89","89","89","89","89","89",null,null,{"$f":"IF(ISNUMBER(SEARCH(INDIRECT(CELL(\"address\")),S154)),MAX($R$1:R153)+1,0)","v":0},{"$f":"Table1[[#This Row],[Portico_Specialty]]&\"-\"&Table1[[#This Row],[Code]]","v":"Clinical Nurse Specialist: Oncology, Pediatrics-364SX0204X"},null,{"$f":"IFERROR(VLOOKUP(ROWS($U$1:U153),$R$2:$S$918,2,FALSE),\"\")","v":""}]
["364SP0200X",{"$f":"Table1[[#This Row],[Code]]&\" \"&Table1[[#This Row],[Portico_Specialty]]","v":"364SP0200X Clinical Nurse Specialist: Pediatrics"},{"$f":"CLEAN(Table1[[#This Row],[Code]])","v":"364SP0200X"},"Clinical Nurse Specialist: Pediatrics",null,"Medical taxonomy","Y","89",null,"89","89","89","89","89","89",null,null,{"$f":"IF(ISNUMBER(SEARCH(INDIRECT(CELL(\"address\")),S155)),MAX($R$1:R154)+1,0)","v":0},{"$f":"Table1[[#This Row],[Portico_Specialty]]&\"-\"&Table1[[#This Row],[Code]]","v":"Clinical Nurse Specialist: Pediatrics-364SP0200X"},null,{"$f":"IFERROR(VLOOKUP(ROWS($U$1:U154),$R$2:$S$918,2,FALSE),\"\")","v":""}]
["364SP1700X",{"$f":"Table1[[#This Row],[Code]]&\" \"&Table1[[#This Row],[Portico_Specialty]]","v":"364SP1700X Clinical Nurse Specialist: Perinatal"},{"$f":"CLEAN(Table1[[#This Row],[Code]])","v":"364SP1700X"},"Clinical Nurse Specialist: Perinatal",null,"Medical taxonomy","Y","89",null,"89","89","89","89","89","89",null,null,{"$f":"IF(ISNUMBER(SEARCH(INDIRECT(CELL(\"address\")),S156)),MAX($R$1:R155)+1,0)","v":0},{"$f":"Table1[[#This Row],[Portico_Specialty]]&\"-\"&Table1[[#This Row],[Code]]","v":"Clinical Nurse Specialist: Perinatal-364SP1700X"},null,{"$f":"IFERROR(VLOOKUP(ROWS($U$1:U155),$R$2:$S$918,2,FALSE),\"\")","v":""}]
["364SP2800X",{"$f":"Table1[[#This Row],[Code]]&\" \"&Table1[[#This Row],[Portico_Specialty]]","v":"364SP2800X Clinical Nurse Specialist: Perioperative"},{"$f":"CLEAN(Table1[[#This Row],[Code]])","v":"364SP2800X"},"Clinical Nurse Specialist: Perioperative",null,"Medical taxonomy","Y","89",null,"89","89","89","89","89","89",null,null,{"$f":"IF(ISNUMBER(SEARCH(INDIRECT(CELL(\"address\")),S157)),MAX($R$1:R156)+1,0)","v":0},{"$f":"Table1[[#This Row],[Portico_Specialty]]&\"-\"&Table1[[#This Row],[Code]]","v":"Clinical Nurse Specialist: Perioperative-364SP2800X"},null,{"$f":"IFERROR(VLOOKUP(ROWS($U$1:U156),$R$2:$S$918,2,FALSE),\"\")","v":""}]
["364SP0808X",{"$f":"Table1[[#This Row],[Code]]&\" \"&Table1[[#This Row],[Portico_Specialty]]","v":"364SP0808X Clinical Nurse Specialist: Psych/Mental Health"},{"$f":"CLEAN(Table1[[#This Row],[Code]])","v":"364SP0808X"},"Clinical Nurse Specialist: Psych/Mental Health",null,"BH Only Taxonomy","Y","89",null,"89","89","89","89","89","89",null,null,{"$f":"IF(ISNUMBER(SEARCH(INDIRECT(CELL(\"address\")),S158)),MAX($R$1:R157)+1,0)","v":0},{"$f":"Table1[[#This Row],[Portico_Specialty]]&\"-\"&Table1[[#This Row],[Code]]","v":"Clinical Nurse Specialist: Psych/Mental Health-364SP0808X"},null,{"$f":"IFERROR(VLOOKUP(ROWS($U$1:U157),$R$2:$S$918,2,FALSE),\"\")","v":""}]
["364SP0809X",{"$f":"Table1[[#This Row],[Code]]&\" \"&Table1[[#This Row],[Portico_Specialty]]","v":"364SP0809X Clinical Nurse Specialist: Psych/Mental Health, Adult"},{"$f":"CLEAN(Table1[[#This Row],[Code]])","v":"364SP0809X"},"Clinical Nurse Specialist: Psych/Mental Health, Adult",null,"BH Only Taxonomy","Y","89",null,"89","89","89","89","89","89",null,null,{"$f":"IF(ISNUMBER(SEARCH(INDIRECT(CELL(\"address\")),S159)),MAX($R$1:R158)+1,0)","v":0},{"$f":"Table1[[#This Row],[Portico_Specialty]]&\"-\"&Table1[[#This Row],[Code]]","v":"Clinical Nurse Specialist: Psych/Mental Health, Adult-364SP0809X"},null,{"$f":"IFERROR(VLOOKUP(ROWS($U$1:U158),$R$2:$S$918,2,FALSE),\"\")","v":""}]
["364SP0807X",{"$f":"Table1[[#This Row],[Code]]&\" \"&Table1[[#This Row],[Portico_Specialty]]","v":"364SP0807X Clinical Nurse Specialist: Psych/Mental Health, Child & Adolescent"},{"$f":"CLEAN(Table1[[#This Row],[Code]])","v":"364SP0807X"},"Clinical Nurse Specialist: Psych/Mental Health, Child & Adolescent",null,"BH Only Taxonomy","Y","89",null,"89","89","89","89","89","89",null,null,{"$f":"IF(ISNUMBER(SEARCH(INDIRECT(CELL(\"address\")),S160)),MAX($R$1:R159)+1,0)","v":0},{"$f":"Table1[[#This Row],[Portico_Specialty]]&\"-\"&Table1[[#This Row],[Code]]","v":"Clinical Nurse Specialist: Psych/Mental Health, Child & Adolescent-364SP0807X"},null,{"$f":"IFERROR(VLOOKUP(ROWS($U$1:U159),$R$2:$S$918,2,FALSE),\"\")","v":""}]
["364SP0810X",{"$f":"Table1[[#This Row],[Code]]&\" \"&Table1[[#This Row],[Portico_Specialty]]","v":"364SP0810X Clinical Nurse Specialist: Psych/Mental Health, Child & Family"},{"$f":"CLEAN(Table1[[#This Row],[Code]])","v":"364SP0810X"},"Clinical Nurse Specialist: Psych/Mental Health, Child & Family",null,"BH Only Taxonomy","Y","89",null,"89","89","89","89","89","89",null,null,{"$f":"IF(ISNUMBER(SEARCH(INDIRECT(CELL(\"address\")),S161)),MAX($R$1:R160)+1,0)","v":0},{"$f":"Table1[[#This Row],[Portico_Specialty]]&\"-\"&Table1[[#This Row],[Code]]","v":"Clinical Nurse Specialist: Psych/Mental Health, Child & Family-364SP0810X"},null,{"$f":"IFERROR(VLOOKUP(ROWS($U$1:U160),$R$2:$S$918,2,FALSE),\"\")","v":""}]
["364SP0811X",{"$f":"Table1[[#This Row],[Code]]&\" \"&Table1[[#This Row],[Portico_Specialty]]","v":"364SP0811X Clinical Nurse Specialist: Psych/Mental Health, Chronically Ill"},{"$f":"CLEAN(Table1[[#This Row],[Code]])","v":"364SP0811X"},"Clinical Nurse Specialist: Psych/Mental Health, Chronically Ill",null,"BH Only Taxonomy","Y","89",null,"89","89","89","89","89","89",null,null,{"$f":"IF(ISNUMBER(SEARCH(INDIRECT(CELL(\"address\")),S162)),MAX($R$1:R161)+1,0)","v":0},{"$f":"Table1[[#This Row],[Portico_Specialty]]&\"-\"&Table1[[#This Row],[Code]]","v":"Clinical Nurse Specialist: Psych/Mental Health, Chronically Ill-364SP0811X"},null,{"$f":"IFERROR(VLOOKUP(ROWS($U$1:U161),$R$2:$S$918,2,FALSE),\"\")","v":""}]
["364SP0812X",{"$f":"Table1[[#This Row],[Code]]&\" \"&Table1[[#This Row],[Portico_Specialty]]","v":"364SP0812X Clinical Nurse Specialist: Psych/Mental Health, Community"},{"$f":"CLEAN(Table1[[#This Row],[Code]])","v":"364SP0812X"},"Clinical Nurse Specialist: Psych/Mental Health, Community",null,"BH Only Taxonomy","Y","89",null,"89","89","89","89","89","89",null,null,{"$f":"IF(ISNUMBER(SEARCH(INDIRECT(CELL(\"address\")),S163)),MAX($R$1:R162)+1,0)","v":0},{"$f":"Table1[[#This Row],[Portico_Specialty]]&\"-\"&Table1[[#This Row],[Code]]","v":"Clinical Nurse Specialist: Psych/Mental Health, Community-364SP0812X"},null,{"$f":"IFERROR(VLOOKUP(ROWS($U$1:U162),$R$2:$S$918,2,FALSE),\"\")","v":""}]
["364SP0813X",{"$f":"Table1[[#This Row],[Code]]&\" \"&Table1[[#This Row],[Portico_Specialty]]","v":"364SP0813X Clinical Nurse Specialist: Psych/Mental Health, Geropsychiatric"},{"$f":"CLEAN(Table1[[#This Row],[Code]])","v":"364SP0813X"},"Clinical Nurse Specialist: Psych/Mental Health, Geropsychiatric",null,"BH Only Taxonomy","Y","89",null,"89","89","89","89","89","89",null,null,{"$f":"IF(ISNUMBER(SEARCH(INDIRECT(CELL(\"address\")),S164)),MAX($R$1:R163)+1,0)","v":0},{"$f":"Table1[[#This Row],[Portico_Specialty]]&\"-\"&Table1[[#This Row],[Code]]","v":"Clinical Nurse Specialist: Psych/Mental Health, Geropsychiatric-364SP0813X"},null,{"$f":"IFERROR(VLOOKUP(ROWS($U$1:U163),$R$2:$S$918,2,FALSE),\"\")","v":""}]
["364SR0400X",{"$f":"Table1[[#This Row],[Code]]&\" \"&Table1[[#This Row],[Portico_Specialty]]","v":"364SR0400X Clinical Nurse Specialist: Rehabilitation"},{"$f":"CLEAN(Table1[[#This Row],[Code]])","v":"364SR0400X"},"Clinical Nurse Specialist: Rehabilitation",null,"Medical taxonomy","Y","89",null,"89","89","89","89","89","89",null,null,{"$f":"IF(ISNUMBER(SEARCH(INDIRECT(CELL(\"address\")),S165)),MAX($R$1:R164)+1,0)","v":0},{"$f":"Table1[[#This Row],[Portico_Specialty]]&\"-\"&Table1[[#This Row],[Code]]","v":"Clinical Nurse Specialist: Rehabilitation-364SR0400X"},null,{"$f":"IFERROR(VLOOKUP(ROWS($U$1:U164),$R$2:$S$918,2,FALSE),\"\")","v":""}]
["364SS0200X",{"$f":"Table1[[#This Row],[Code]]&\" \"&Table1[[#This Row],[Portico_Specialty]]","v":"364SS0200X Clinical Nurse Specialist: School"},{"$f":"CLEAN(Table1[[#This Row],[Code]])","v":"364SS0200X"},"Clinical Nurse Specialist: School",null,"Medical taxonomy","Y","89",null,"89","89","89","89","89","89",null,null,{"$f":"IF(ISNUMBER(SEARCH(INDIRECT(CELL(\"address\")),S166)),MAX($R$1:R165)+1,0)","v":0},{"$f":"Table1[[#This Row],[Portico_Specialty]]&\"-\"&Table1[[#This Row],[Code]]","v":"Clinical Nurse Specialist: School-364SS0200X"},null,{"$f":"IFERROR(VLOOKUP(ROWS($U$1:U165),$R$2:$S$918,2,FALSE),\"\")","v":""}]
["364ST0500X",{"$f":"Table1[[#This Row],[Code]]&\" \"&Table1[[#This Row],[Portico_Specialty]]","v":"364ST0500X Clinical Nurse Specialist: Transplantation"},{"$f":"CLEAN(Table1[[#This Row],[Code]])","v":"364ST0500X"},"Clinical Nurse Specialist: Transplantation",null,"Medical taxonomy","Y","89",null,"89","89","89","89","89","89",null,null,{"$f":"IF(ISNUMBER(SEARCH(INDIRECT(CELL(\"address\")),S167)),MAX($R$1:R166)+1,0)","v":0},{"$f":"Table1[[#This Row],[Portico_Specialty]]&\"-\"&Table1[[#This Row],[Code]]","v":"Clinical Nurse Specialist: Transplantation-364ST0500X"},null,{"$f":"IFERROR(VLOOKUP(ROWS($U$1:U166),$R$2:$S$918,2,FALSE),\"\")","v":""}]
["364SW0102X",{"$f":"Table1[[#This Row],[Code]]&\" \"&Table1[[#This Row],[Portico_Specialty]]","v":"364SW0102X Clinical Nurse Specialist: Womens Health"},{"$f":"CLEAN(Table1[[#This Row],[Code]])","v":"364SW0102X"},"Clinical Nurse Specialist: Womens Health",null,"Medical taxonomy","Y","89",null,"89","89","89","89","89","89",null,null,{"$f":"IF(ISNUMBER(SEARCH(INDIRECT(CELL(\"address\")),S168)),MAX($R$1:R167)+1,0)","v":0},{"$f":"Table1[[#This Row],[Portico_Specialty]]&\"-\"&Table1[[#This Row],[Code]]","v":"Clinical Nurse Specialist: Womens Health-364SW0102X"},null,{"$f":"IFERROR(VLOOKUP(ROWS($U$1:U167),$R$2:$S$918,2,FALSE),\"\")","v":""}]
["208U00000X",{"$f":"Table1[[#This Row],[Code]]&\" \"&Table1[[#This Row],[Portico_Specialty]]","v":"208U00000X Clinical Pharmacology"},{"$f":"CLEAN(Table1[[#This Row],[Code]])","v":"208U00000X"},"Clinical Pharmacology",null,"Medical taxonomy","N",null,null,"99","PD",null,null,null,"PD",null,null,{"$f":"IF(ISNUMBER(SEARCH(INDIRECT(CELL(\"address\")),S169)),MAX($R$1:R168)+1,0)","v":0},{"$f":"Table1[[#This Row],[Portico_Specialty]]&\"-\"&Table1[[#This Row],[Code]]","v":"Clinical Pharmacology-208U00000X"},null,{"$f":"IFERROR(VLOOKUP(ROWS($U$1:U168),$R$2:$S$918,2,FALSE),\"\")","v":""}]
["AltSpec1",{"$f":"Table1[[#This Row],[Code]]&\" \"&Table1[[#This Row],[Portico_Specialty]]","v":"AltSpec1 CNP Dual 399"},{"$f":"CLEAN(Table1[[#This Row],[Code]])","v":"AltSpec1"},"CNP Dual 399",null,"Medical taxonomy","N",null,null,null,"ZT",null,null,null,null,null,null,{"$f":"IF(ISNUMBER(SEARCH(INDIRECT(CELL(\"address\")),S170)),MAX($R$1:R169)+1,0)","v":0},{"$f":"Table1[[#This Row],[Portico_Specialty]]&\"-\"&Table1[[#This Row],[Code]]","v":"CNP Dual 399-AltSpec1"},null,{"$f":"IFERROR(VLOOKUP(ROWS($U$1:U169),$R$2:$S$918,2,FALSE),\"\")","v":""}]
["AltSpec1",{"$f":"Table1[[#This Row],[Code]]&\" \"&Table1[[#This Row],[Portico_Specialty]]","v":"AltSpec1 CNP Dual 699"},{"$f":"CLEAN(Table1[[#This Row],[Code]])","v":"AltSpec1"},"CNP Dual 699",null,"Medical taxonomy","N",null,null,null,"YT",null,null,null,null,null,null,{"$f":"IF(ISNUMBER(SEARCH(INDIRECT(CELL(\"address\")),S171)),MAX($R$1:R170)+1,0)","v":0},{"$f":"Table1[[#This Row],[Portico_Specialty]]&\"-\"&Table1[[#This Row],[Code]]","v":"CNP Dual 699-AltSpec1"},null,{"$f":"IFERROR(VLOOKUP(ROWS($U$1:U170),$R$2:$S$918,2,FALSE),\"\")","v":""}]
["AltSpec1",{"$f":"Table1[[#This Row],[Code]]&\" \"&Table1[[#This Row],[Portico_Specialty]]","v":"AltSpec1 CNS Dual 399"},{"$f":"CLEAN(Table1[[#This Row],[Code]])","v":"AltSpec1"},"CNS Dual 399",null,"Medical taxonomy","N",null,null,null,"ZS",null,null,null,null,null,null,{"$f":"IF(ISNUMBER(SEARCH(INDIRECT(CELL(\"address\")),S172)),MAX($R$1:R171)+1,0)","v":0},{"$f":"Table1[[#This Row],[Portico_Specialty]]&\"-\"&Table1[[#This Row],[Code]]","v":"CNS Dual 399-AltSpec1"},null,{"$f":"IFERROR(VLOOKUP(ROWS($U$1:U171),$R$2:$S$918,2,FALSE),\"\")","v":""}]
["AltSpec1",{"$f":"Table1[[#This Row],[Code]]&\" \"&Table1[[#This Row],[Portico_Specialty]]","v":"AltSpec1 CNS Dual 699"},{"$f":"CLEAN(Table1[[#This Row],[Code]])","v":"AltSpec1"},"CNS Dual 699",null,"Medical taxonomy","N",null,null,null,"YS",null,null,null,null,null,null,{"$f":"IF(ISNUMBER(SEARCH(INDIRECT(CELL(\"address\")),S173)),MAX($R$1:R172)+1,0)","v":0},{"$f":"Table1[[#This Row],[Portico_Specialty]]&\"-\"&Table1[[#This Row],[Code]]","v":"CNS Dual 699-AltSpec1"},null,{"$f":"IFERROR(VLOOKUP(ROWS($U$1:U172),$R$2:$S$918,2,FALSE),\"\")","v":""}]
["208C00000X",{"$f":"Table1[[#This Row],[Code]]&\" \"&Table1[[#This Row],[Portico_Specialty]]","v":"208C00000X Colon & Rectal Surgery"},{"$f":"CLEAN(Table1[[#This Row],[Code]])","v":"208C00000X"},"Colon & Rectal Surgery",null,"Medical taxonomy","Y","28",null,"28","28","28","28","28","28",null,null,{"$f":"IF(ISNUMBER(SEARCH(INDIRECT(CELL(\"address\")),S174)),MAX($R$1:R173)+1,0)","v":0},{"$f":"Table1[[#This Row],[Portico_Specialty]]&\"-\"&Table1[[#This Row],[Code]]","v":"Colon & Rectal Surgery-208C00000X"},null,{"$f":"IFERROR(VLOOKUP(ROWS($U$1:U173),$R$2:$S$918,2,FALSE),\"\")","v":""}]
["320800000X",{"$f":"Table1[[#This Row],[Code]]&\" \"&Table1[[#This Row],[Portico_Specialty]]","v":"320800000X Community Based Residential Treatment Facility, Mental Illness"},{"$f":"CLEAN(Table1[[#This Row],[Code]])","v":"320800000X"},"Community Based Residential Treatment Facility, Mental Illness",null,"BH Only Taxonomy","N","70",null,"70","70","CM","FR","70","70",null,null,{"$f":"IF(ISNUMBER(SEARCH(INDIRECT(CELL(\"address\")),S175)),MAX($R$1:R174)+1,0)","v":0},{"$f":"Table1[[#This Row],[Portico_Specialty]]&\"-\"&Table1[[#This Row],[Code]]","v":"Community Based Residential Treatment Facility, Mental Illness-320800000X"},null,{"$f":"IFERROR(VLOOKUP(ROWS($U$1:U174),$R$2:$S$918,2,FALSE),\"\")","v":""}]
["320900000X",{"$f":"Table1[[#This Row],[Code]]&\" \"&Table1[[#This Row],[Portico_Specialty]]","v":"320900000X Community Based Residential Treatment, Mental Retardation and/or Developmental Disabilities"},{"$f":"CLEAN(Table1[[#This Row],[Code]])","v":"320900000X"},"Community Based Residential Treatment, Mental Retardation and/or Developmental Disabilities",null,"BH Only Taxonomy","N","70",null,"70","70","CM","FR","70","70",null,null,{"$f":"IF(ISNUMBER(SEARCH(INDIRECT(CELL(\"address\")),S176)),MAX($R$1:R175)+1,0)","v":0},{"$f":"Table1[[#This Row],[Portico_Specialty]]&\"-\"&Table1[[#This Row],[Code]]","v":"Community Based Residential Treatment, Mental Retardation and/or Developmental Disabilities-320900000X"},null,{"$f":"IFERROR(VLOOKUP(ROWS($U$1:U175),$R$2:$S$918,2,FALSE),\"\")","v":""}]
["172V00000X",{"$f":"Table1[[#This Row],[Code]]&\" \"&Table1[[#This Row],[Portico_Specialty]]","v":"172V00000X Community Health Worker"},{"$f":"CLEAN(Table1[[#This Row],[Code]])","v":"172V00000X"},"Community Health Worker",null,"Medical taxonomy","N",null,null,"99","PP","87","87",null,"PP",null,null,{"$f":"IF(ISNUMBER(SEARCH(INDIRECT(CELL(\"address\")),S177)),MAX($R$1:R176)+1,0)","v":0},{"$f":"Table1[[#This Row],[Portico_Specialty]]&\"-\"&Table1[[#This Row],[Code]]","v":"Community Health Worker-172V00000X"},null,{"$f":"IFERROR(VLOOKUP(ROWS($U$1:U176),$R$2:$S$918,2,FALSE),\"\")","v":""}]
["251S00000X",{"$f":"Table1[[#This Row],[Code]]&\" \"&Table1[[#This Row],[Portico_Specialty]]","v":"251S00000X Community/Behavioral Health"},{"$f":"CLEAN(Table1[[#This Row],[Code]])","v":"251S00000X"},"Community/Behavioral Health",null,"BH Only Taxonomy","N","70",null,"70","CM","CM","70","70","CM",null,null,{"$f":"IF(ISNUMBER(SEARCH(INDIRECT(CELL(\"address\")),S178)),MAX($R$1:R177)+1,0)","v":0},{"$f":"Table1[[#This Row],[Portico_Specialty]]&\"-\"&Table1[[#This Row],[Code]]","v":"Community/Behavioral Health-251S00000X"},null,{"$f":"IFERROR(VLOOKUP(ROWS($U$1:U177),$R$2:$S$918,2,FALSE),\"\")","v":""}]
["171W00000X",{"$f":"Table1[[#This Row],[Code]]&\" \"&Table1[[#This Row],[Portico_Specialty]]","v":"171W00000X Contractor: Financial Services"},{"$f":"CLEAN(Table1[[#This Row],[Code]])","v":"171W00000X"},"Contractor: Financial Services",null,"Medical taxonomy","N","87",null,"99","99","87","87","87","99",null,null,{"$f":"IF(ISNUMBER(SEARCH(INDIRECT(CELL(\"address\")),S179)),MAX($R$1:R178)+1,0)","v":0},{"$f":"Table1[[#This Row],[Portico_Specialty]]&\"-\"&Table1[[#This Row],[Code]]","v":"Contractor: Financial Services-171W00000X"},null,{"$f":"IFERROR(VLOOKUP(ROWS($U$1:U178),$R$2:$S$918,2,FALSE),\"\")","v":""}]
["171WH0202X",{"$f":"Table1[[#This Row],[Code]]&\" \"&Table1[[#This Row],[Portico_Specialty]]","v":"171WH0202X Contractor: Home Modifications"},{"$f":"CLEAN(Table1[[#This Row],[Code]])","v":"171WH0202X"},"Contractor: Home Modifications",null,"Medical taxonomy","N","87",null,"99","99","70","87","87","99",null,null,{"$f":"IF(ISNUMBER(SEARCH(INDIRECT(CELL(\"address\")),S180)),MAX($R$1:R179)+1,0)","v":0},{"$f":"Table1[[#This Row],[Portico_Specialty]]&\"-\"&Table1[[#This Row],[Code]]","v":"Contractor: Home Modifications-171WH0202X"},null,{"$f":"IFERROR(VLOOKUP(ROWS($U$1:U179),$R$2:$S$918,2,FALSE),\"\")","v":""}]
["171WV0202X",{"$f":"Table1[[#This Row],[Code]]&\" \"&Table1[[#This Row],[Portico_Specialty]]","v":"171WV0202X Contractor: Vehicle Modifications"},{"$f":"CLEAN(Table1[[#This Row],[Code]])","v":"171WV0202X"},"Contractor: Vehicle Modifications",null,"Medical taxonomy","N","87",null,"99","99",null,"87",null,"99",null,null,{"$f":"IF(ISNUMBER(SEARCH(INDIRECT(CELL(\"address\")),S181)),MAX($R$1:R180)+1,0)","v":0},{"$f":"Table1[[#This Row],[Portico_Specialty]]&\"-\"&Table1[[#This Row],[Code]]","v":"Contractor: Vehicle Modifications-171WV0202X"},null,{"$f":"IFERROR(VLOOKUP(ROWS($U$1:U180),$R$2:$S$918,2,FALSE),\"\")","v":""}]
["101Y00000X",{"$f":"Table1[[#This Row],[Code]]&\" \"&Table1[[#This Row],[Portico_Specialty]]","v":"101Y00000X Counselor"},{"$f":"CLEAN(Table1[[#This Row],[Code]])","v":"101Y00000X"},"Counselor",null,"BH Only Taxonomy","N","LC",null,"80","80","80","LC","80","80",null,null,{"$f":"IF(ISNUMBER(SEARCH(INDIRECT(CELL(\"address\")),S182)),MAX($R$1:R181)+1,0)","v":0},{"$f":"Table1[[#This Row],[Portico_Specialty]]&\"-\"&Table1[[#This Row],[Code]]","v":"Counselor-101Y00000X"},null,{"$f":"IFERROR(VLOOKUP(ROWS($U$1:U181),$R$2:$S$918,2,FALSE),\"\")","v":""}]
["AltSpec1",{"$f":"Table1[[#This Row],[Code]]&\" \"&Table1[[#This Row],[Portico_Specialty]]","v":"AltSpec1 Counselor Trainee - HCBS"},{"$f":"CLEAN(Table1[[#This Row],[Code]])","v":"AltSpec1"},"Counselor Trainee - HCBS",null,"Medical taxonomy","N",null,null,null,"Y8",null,null,null,null,null,null,{"$f":"IF(ISNUMBER(SEARCH(INDIRECT(CELL(\"address\")),S183)),MAX($R$1:R182)+1,0)","v":0},{"$f":"Table1[[#This Row],[Portico_Specialty]]&\"-\"&Table1[[#This Row],[Code]]","v":"Counselor Trainee - HCBS-AltSpec1"},null,{"$f":"IFERROR(VLOOKUP(ROWS($U$1:U182),$R$2:$S$918,2,FALSE),\"\")","v":""}]
["AltSpec1",{"$f":"Table1[[#This Row],[Code]]&\" \"&Table1[[#This Row],[Portico_Specialty]]","v":"AltSpec1 Counselor Trainee Dual 399"},{"$f":"CLEAN(Table1[[#This Row],[Code]])","v":"AltSpec1"},"Counselor Trainee Dual 399",null,"Medical taxonomy","N",null,null,null,"ZE",null,null,null,null,null,null,{"$f":"IF(ISNUMBER(SEARCH(INDIRECT(CELL(\"address\")),S184)),MAX($R$1:R183)+1,0)","v":0},{"$f":"Table1[[#This Row],[Portico_Specialty]]&\"-\"&Table1[[#This Row],[Code]]","v":"Counselor Trainee Dual 399-AltSpec1"},null,{"$f":"IFERROR(VLOOKUP(ROWS($U$1:U183),$R$2:$S$918,2,FALSE),\"\")","v":""}]
["AltSpec1",{"$f":"Table1[[#This Row],[Code]]&\" \"&Table1[[#This Row],[Portico_Specialty]]","v":"AltSpec1 Counselor Trainee Dual 699"},{"$f":"CLEAN(Table1[[#This Row],[Code]])","v":"AltSpec1"},"Counselor Trainee Dual 699",null,"Medical taxonomy","N",null,null,null,"YE",null,null,null,null,null,null,{"$f":"IF(ISNUMBER(SEARCH(INDIRECT(CELL(\"address\")),S185)),MAX($R$1:R184)+1,0)","v":0},{"$f":"Table1[[#This Row],[Portico_Specialty]]&\"-\"&Table1[[#This Row],[Code]]","v":"Counselor Trainee Dual 699-AltSpec1"},null,{"$f":"IFERROR(VLOOKUP(ROWS($U$1:U184),$R$2:$S$918,2,FALSE),\"\")","v":""}]
["101YA0400X",{"$f":"Table1[[#This Row],[Code]]&\" \"&Table1[[#This Row],[Portico_Specialty]]","v":"101YA0400X Counselor: Addiction (Substance Use Disorder)"},{"$f":"CLEAN(Table1[[#This Row],[Code]])","v":"101YA0400X"},"Counselor: Addiction (Substance Use Disorder)",null,"BH Only Taxonomy","N","LC",null,"LC","80","80","LC","80","80",null,null,{"$f":"IF(ISNUMBER(SEARCH(INDIRECT(CELL(\"address\")),S186)),MAX($R$1:R185)+1,0)","v":0},{"$f":"Table1[[#This Row],[Portico_Specialty]]&\"-\"&Table1[[#This Row],[Code]]","v":"Counselor: Addiction (Substance Use Disorder)-101YA0400X"},null,{"$f":"IFERROR(VLOOKUP(ROWS($U$1:U185),$R$2:$S$918,2,FALSE),\"\")","v":""}]
["101YM0800X",{"$f":"Table1[[#This Row],[Code]]&\" \"&Table1[[#This Row],[Portico_Specialty]]","v":"101YM0800X Counselor: Mental Health"},{"$f":"CLEAN(Table1[[#This Row],[Code]])","v":"101YM0800X"},"Counselor: Mental Health","Not valid on FL Medicare","BH Only Taxonomy","N","80",null,"80","80","80","LC","80","80",null,null,{"$f":"IF(ISNUMBER(SEARCH(INDIRECT(CELL(\"address\")),S187)),MAX($R$1:R186)+1,0)","v":0},{"$f":"Table1[[#This Row],[Portico_Specialty]]&\"-\"&Table1[[#This Row],[Code]]","v":"Counselor: Mental Health-101YM0800X"},null,{"$f":"IFERROR(VLOOKUP(ROWS($U$1:U186),$R$2:$S$918,2,FALSE),\"\")","v":""}]
["101YP1600X",{"$f":"Table1[[#This Row],[Code]]&\" \"&Table1[[#This Row],[Portico_Specialty]]","v":"101YP1600X Counselor: Pastoral"},{"$f":"CLEAN(Table1[[#This Row],[Code]])","v":"101YP1600X"},"Counselor: Pastoral",null,"BH Only Taxonomy","N","LC",null,"80","80","80","LC",null,"80",null,null,{"$f":"IF(ISNUMBER(SEARCH(INDIRECT(CELL(\"address\")),S188)),MAX($R$1:R187)+1,0)","v":0},{"$f":"Table1[[#This Row],[Portico_Specialty]]&\"-\"&Table1[[#This Row],[Code]]","v":"Counselor: Pastoral-101YP1600X"},null,{"$f":"IFERROR(VLOOKUP(ROWS($U$1:U187),$R$2:$S$918,2,FALSE),\"\")","v":""}]
["101YP2500X",{"$f":"Table1[[#This Row],[Code]]&\" \"&Table1[[#This Row],[Portico_Specialty]]","v":"101YP2500X Counselor: Professional"},{"$f":"CLEAN(Table1[[#This Row],[Code]])","v":"101YP2500X"},"Counselor: Professional","Not valid on FL Medicare","BH Only Taxonomy","N","80",null,"80","80","80","LC","80","80",null,null,{"$f":"IF(ISNUMBER(SEARCH(INDIRECT(CELL(\"address\")),S189)),MAX($R$1:R188)+1,0)","v":0},{"$f":"Table1[[#This Row],[Portico_Specialty]]&\"-\"&Table1[[#This Row],[Code]]","v":"Counselor: Professional-101YP2500X"},null,{"$f":"IFERROR(VLOOKUP(ROWS($U$1:U188),$R$2:$S$918,2,FALSE),\"\")","v":""}]
["101YS0200X",{"$f":"Table1[[#This Row],[Code]]&\" \"&Table1[[#This Row],[Portico_Specialty]]","v":"101YS0200X Counselor: School"},{"$f":"CLEAN(Table1[[#This Row],[Code]])","v":"101YS0200X"},"Counselor: School",null,"BH Only Taxonomy","N","LC",null,"80","80","LC","LC",null,"80",null,null,{"$f":"IF(ISNUMBER(SEARCH(INDIRECT(CELL(\"address\")),S190)),MAX($R$1:R189)+1,0)","v":0},{"$f":"Table1[[#This Row],[Portico_Specialty]]&\"-\"&Table1[[#This Row],[Code]]","v":"Counselor: School-101YS0200X"},null,{"$f":"IFERROR(VLOOKUP(ROWS($U$1:U189),$R$2:$S$918,2,FALSE),\"\")","v":""}]
["311Z00000X",{"$f":"Table1[[#This Row],[Code]]&\" \"&Table1[[#This Row],[Portico_Specialty]]","v":"311Z00000X Custodial Care Facility"},{"$f":"CLEAN(Table1[[#This Row],[Code]])","v":"311Z00000X"},"Custodial Care Facility",null,"Medical taxonomy","N","SN",null,"SN","SN","SN","SN","A1","SN",null,null,{"$f":"IF(ISNUMBER(SEARCH(INDIRECT(CELL(\"address\")),S191)),MAX($R$1:R190)+1,0)","v":0},{"$f":"Table1[[#This Row],[Portico_Specialty]]&\"-\"&Table1[[#This Row],[Code]]","v":"Custodial Care Facility-311Z00000X"},null,{"$f":"IFERROR(VLOOKUP(ROWS($U$1:U190),$R$2:$S$918,2,FALSE),\"\")","v":""}]
["311ZA0620X",{"$f":"Table1[[#This Row],[Code]]&\" \"&Table1[[#This Row],[Portico_Specialty]]","v":"311ZA0620X Custodial Care Facility: Adult Care Home"},{"$f":"CLEAN(Table1[[#This Row],[Code]])","v":"311ZA0620X"},"Custodial Care Facility: Adult Care Home",null,"Medical taxonomy","N","SN",null,"SN","SN","SN","SN","A1","SN",null,null,{"$f":"IF(ISNUMBER(SEARCH(INDIRECT(CELL(\"address\")),S192)),MAX($R$1:R191)+1,0)","v":0},{"$f":"Table1[[#This Row],[Portico_Specialty]]&\"-\"&Table1[[#This Row],[Code]]","v":"Custodial Care Facility: Adult Care Home-311ZA0620X"},null,{"$f":"IFERROR(VLOOKUP(ROWS($U$1:U191),$R$2:$S$918,2,FALSE),\"\")","v":""}]
["225600000X",{"$f":"Table1[[#This Row],[Code]]&\" \"&Table1[[#This Row],[Portico_Specialty]]","v":"225600000X Dance Therapist"},{"$f":"CLEAN(Table1[[#This Row],[Code]])","v":"225600000X"},"Dance Therapist",null,"Medical taxonomy","N","65",null,"99","65","65",null,null,"65",null,null,{"$f":"IF(ISNUMBER(SEARCH(INDIRECT(CELL(\"address\")),S193)),MAX($R$1:R192)+1,0)","v":0},{"$f":"Table1[[#This Row],[Portico_Specialty]]&\"-\"&Table1[[#This Row],[Code]]","v":"Dance Therapist-225600000X"},null,{"$f":"IFERROR(VLOOKUP(ROWS($U$1:U192),$R$2:$S$918,2,FALSE),\"\")","v":""}]
["251C00000X",{"$f":"Table1[[#This Row],[Code]]&\" \"&Table1[[#This Row],[Portico_Specialty]]","v":"251C00000X Day Training, Developmentally Disabled Services"},{"$f":"CLEAN(Table1[[#This Row],[Code]])","v":"251C00000X"},"Day Training, Developmentally Disabled Services",null,"Medical taxonomy","N","HH",null,"HH","70","HH","HH","A4","70",null,null,{"$f":"IF(ISNUMBER(SEARCH(INDIRECT(CELL(\"address\")),S194)),MAX($R$1:R193)+1,0)","v":0},{"$f":"Table1[[#This Row],[Portico_Specialty]]&\"-\"&Table1[[#This Row],[Code]]","v":"Day Training, Developmentally Disabled Services-251C00000X"},null,{"$f":"IFERROR(VLOOKUP(ROWS($U$1:U193),$R$2:$S$918,2,FALSE),\"\")","v":""}]
["373H00000X",{"$f":"Table1[[#This Row],[Code]]&\" \"&Table1[[#This Row],[Portico_Specialty]]","v":"373H00000X Day Training/Habilitation Specialist"},{"$f":"CLEAN(Table1[[#This Row],[Code]])","v":"373H00000X"},"Day Training/Habilitation Specialist",null,"Medical taxonomy","N","HH",null,"99","99","HH",null,null,"99",null,null,{"$f":"IF(ISNUMBER(SEARCH(INDIRECT(CELL(\"address\")),S195)),MAX($R$1:R194)+1,0)","v":0},{"$f":"Table1[[#This Row],[Portico_Specialty]]&\"-\"&Table1[[#This Row],[Code]]","v":"Day Training/Habilitation Specialist-373H00000X"},null,{"$f":"IFERROR(VLOOKUP(ROWS($U$1:U194),$R$2:$S$918,2,FALSE),\"\")","v":""}]
["126800000X",{"$f":"Table1[[#This Row],[Code]]&\" \"&Table1[[#This Row],[Portico_Specialty]]","v":"126800000X Dental Assistant"},{"$f":"CLEAN(Table1[[#This Row],[Code]])","v":"126800000X"},"Dental Assistant",null,"Medical taxonomy","N",null,null,"99","DT",null,null,null,"DT",null,null,{"$f":"IF(ISNUMBER(SEARCH(INDIRECT(CELL(\"address\")),S196)),MAX($R$1:R195)+1,0)","v":0},{"$f":"Table1[[#This Row],[Portico_Specialty]]&\"-\"&Table1[[#This Row],[Code]]","v":"Dental Assistant-126800000X"},null,{"$f":"IFERROR(VLOOKUP(ROWS($U$1:U195),$R$2:$S$918,2,FALSE),\"\")","v":""}]
["124Q00000X",{"$f":"Table1[[#This Row],[Code]]&\" \"&Table1[[#This Row],[Portico_Specialty]]","v":"124Q00000X Dental Hygienist"},{"$f":"CLEAN(Table1[[#This Row],[Code]])","v":"124Q00000X"},"Dental Hygienist",null,"Medical taxonomy","N",null,null,"99","DT",null,null,null,"DT",null,null,{"$f":"IF(ISNUMBER(SEARCH(INDIRECT(CELL(\"address\")),S197)),MAX($R$1:R196)+1,0)","v":0},{"$f":"Table1[[#This Row],[Portico_Specialty]]&\"-\"&Table1[[#This Row],[Code]]","v":"Dental Hygienist-124Q00000X"},null,{"$f":"IFERROR(VLOOKUP(ROWS($U$1:U196),$R$2:$S$918,2,FALSE),\"\")","v":""}]
["292200000X",{"$f":"Table1[[#This Row],[Code]]&\" \"&Table1[[#This Row],[Portico_Specialty]]","v":"292200000X Dental Laboratory"},{"$f":"CLEAN(Table1[[#This Row],[Code]])","v":"292200000X"},"Dental Laboratory",null,"Medical taxonomy","N","69",null,"69","69","69","69","69","69",null,null,{"$f":"IF(ISNUMBER(SEARCH(INDIRECT(CELL(\"address\")),S198)),MAX($R$1:R197)+1,0)","v":0},{"$f":"Table1[[#This Row],[Portico_Specialty]]&\"-\"&Table1[[#This Row],[Code]]","v":"Dental Laboratory-292200000X"},null,{"$f":"IFERROR(VLOOKUP(ROWS($U$1:U197),$R$2:$S$918,2,FALSE),\"\")","v":""}]
["126900000X",{"$f":"Table1[[#This Row],[Code]]&\" \"&Table1[[#This Row],[Portico_Specialty]]","v":"126900000X Dental Laboratory Technician"},{"$f":"CLEAN(Table1[[#This Row],[Code]])","v":"126900000X"},"Dental Laboratory Technician",null,"Medical taxonomy","N",null,null,"99","DT",null,null,null,"DT",null,null,{"$f":"IF(ISNUMBER(SEARCH(INDIRECT(CELL(\"address\")),S199)),MAX($R$1:R198)+1,0)","v":0},{"$f":"Table1[[#This Row],[Portico_Specialty]]&\"-\"&Table1[[#This Row],[Code]]","v":"Dental Laboratory Technician-126900000X"},null,{"$f":"IFERROR(VLOOKUP(ROWS($U$1:U198),$R$2:$S$918,2,FALSE),\"\")","v":""}]
["125J00000X",{"$f":"Table1[[#This Row],[Code]]&\" \"&Table1[[#This Row],[Portico_Specialty]]","v":"125J00000X Dental Therapist"},{"$f":"CLEAN(Table1[[#This Row],[Code]])","v":"125J00000X"},"Dental Therapist",null,"Medical taxonomy","N",null,null,"99","DT",null,null,null,"DT",null,null,{"$f":"IF(ISNUMBER(SEARCH(INDIRECT(CELL(\"address\")),S200)),MAX($R$1:R199)+1,0)","v":0},{"$f":"Table1[[#This Row],[Portico_Specialty]]&\"-\"&Table1[[#This Row],[Code]]","v":"Dental Therapist-125J00000X"},null,{"$f":"IFERROR(VLOOKUP(ROWS($U$1:U199),$R$2:$S$918,2,FALSE),\"\")","v":""}]
["122300000X",{"$f":"Table1[[#This Row],[Code]]&\" \"&Table1[[#This Row],[Portico_Specialty]]","v":"122300000X Dentist"},{"$f":"CLEAN(Table1[[#This Row],[Code]])","v":"122300000X"},"Dentist",null,"Medical taxonomy","Y","DT",null,"DT","DT","DT","DT","19","DT",null,null,{"$f":"IF(ISNUMBER(SEARCH(INDIRECT(CELL(\"address\")),S201)),MAX($R$1:R200)+1,0)","v":0},{"$f":"Table1[[#This Row],[Portico_Specialty]]&\"-\"&Table1[[#This Row],[Code]]","v":"Dentist-122300000X"},null,{"$f":"IFERROR(VLOOKUP(ROWS($U$1:U200),$R$2:$S$918,2,FALSE),\"\")","v":""}]
["1223D0001X",{"$f":"Table1[[#This Row],[Code]]&\" \"&Table1[[#This Row],[Portico_Specialty]]","v":"1223D0001X Dentist: Dental Public Health"},{"$f":"CLEAN(Table1[[#This Row],[Code]])","v":"1223D0001X"},"Dentist: Dental Public Health",null,"Medical taxonomy","N","DT",null,"DT","DT","DT","DT",null,"DT",null,null,{"$f":"IF(ISNUMBER(SEARCH(INDIRECT(CELL(\"address\")),S202)),MAX($R$1:R201)+1,0)","v":0},{"$f":"Table1[[#This Row],[Portico_Specialty]]&\"-\"&Table1[[#This Row],[Code]]","v":"Dentist: Dental Public Health-1223D0001X"},null,{"$f":"IFERROR(VLOOKUP(ROWS($U$1:U201),$R$2:$S$918,2,FALSE),\"\")","v":""}]
["1223D0004X",{"$f":"Table1[[#This Row],[Code]]&\" \"&Table1[[#This Row],[Portico_Specialty]]","v":"1223D0004X Dentist: Dentist Anesthesiologist"},{"$f":"CLEAN(Table1[[#This Row],[Code]])","v":"1223D0004X"},"Dentist: Dentist Anesthesiologist",null,"Medical taxonomy","N",null,null,"99","DT",null,null,null,"DT",null,null,{"$f":"IF(ISNUMBER(SEARCH(INDIRECT(CELL(\"address\")),S203)),MAX($R$1:R202)+1,0)","v":0},{"$f":"Table1[[#This Row],[Portico_Specialty]]&\"-\"&Table1[[#This Row],[Code]]","v":"Dentist: Dentist Anesthesiologist-1223D0004X"},null,{"$f":"IFERROR(VLOOKUP(ROWS($U$1:U202),$R$2:$S$918,2,FALSE),\"\")","v":""}]
["1223E0200X",{"$f":"Table1[[#This Row],[Code]]&\" \"&Table1[[#This Row],[Portico_Specialty]]","v":"1223E0200X Dentist: Endodontics"},{"$f":"CLEAN(Table1[[#This Row],[Code]])","v":"1223E0200X"},"Dentist: Endodontics",null,"Medical taxonomy","N","DT",null,"DT","DT","DT","DT",null,"DT",null,null,{"$f":"IF(ISNUMBER(SEARCH(INDIRECT(CELL(\"address\")),S204)),MAX($R$1:R203)+1,0)","v":0},{"$f":"Table1[[#This Row],[Portico_Specialty]]&\"-\"&Table1[[#This Row],[Code]]","v":"Dentist: Endodontics-1223E0200X"},null,{"$f":"IFERROR(VLOOKUP(ROWS($U$1:U203),$R$2:$S$918,2,FALSE),\"\")","v":""}]
["1223G0001X",{"$f":"Table1[[#This Row],[Code]]&\" \"&Table1[[#This Row],[Portico_Specialty]]","v":"1223G0001X Dentist: General Practice"},{"$f":"CLEAN(Table1[[#This Row],[Code]])","v":"1223G0001X"},"Dentist: General Practice",null,"Medical taxonomy","N","DT",null,"DT","DT","DT","DT",null,"DT",null,null,{"$f":"IF(ISNUMBER(SEARCH(INDIRECT(CELL(\"address\")),S205)),MAX($R$1:R204)+1,0)","v":0},{"$f":"Table1[[#This Row],[Portico_Specialty]]&\"-\"&Table1[[#This Row],[Code]]","v":"Dentist: General Practice-1223G0001X"},null,{"$f":"IFERROR(VLOOKUP(ROWS($U$1:U204),$R$2:$S$918,2,FALSE),\"\")","v":""}]
["1223P0106X",{"$f":"Table1[[#This Row],[Code]]&\" \"&Table1[[#This Row],[Portico_Specialty]]","v":"1223P0106X Dentist: Oral and Maxillofacial Pathology"},{"$f":"CLEAN(Table1[[#This Row],[Code]])","v":"1223P0106X"},"Dentist: Oral and Maxillofacial Pathology",null,"Medical taxonomy","N","85",null,"85","DT","85","85","19","DT",null,null,{"$f":"IF(ISNUMBER(SEARCH(INDIRECT(CELL(\"address\")),S206)),MAX($R$1:R205)+1,0)","v":0},{"$f":"Table1[[#This Row],[Portico_Specialty]]&\"-\"&Table1[[#This Row],[Code]]","v":"Dentist: Oral and Maxillofacial Pathology-1223P0106X"},null,{"$f":"IFERROR(VLOOKUP(ROWS($U$1:U205),$R$2:$S$918,2,FALSE),\"\")","v":""}]
["1223X0008X",{"$f":"Table1[[#This Row],[Code]]&\" \"&Table1[[#This Row],[Portico_Specialty]]","v":"1223X0008X Dentist: Oral and Maxillofacial Radiology"},{"$f":"CLEAN(Table1[[#This Row],[Code]])","v":"1223X0008X"},"Dentist: Oral and Maxillofacial Radiology",null,"Medical taxonomy","N","85",null,"85","DT","85","85","19","DT",null,null,{"$f":"IF(ISNUMBER(SEARCH(INDIRECT(CELL(\"address\")),S207)),MAX($R$1:R206)+1,0)","v":0},{"$f":"Table1[[#This Row],[Portico_Specialty]]&\"-\"&Table1[[#This Row],[Code]]","v":"Dentist: Oral and Maxillofacial Radiology-1223X0008X"},null,{"$f":"IFERROR(VLOOKUP(ROWS($U$1:U206),$R$2:$S$918,2,FALSE),\"\")","v":""}]
["1223S0112X",{"$f":"Table1[[#This Row],[Code]]&\" \"&Table1[[#This Row],[Portico_Specialty]]","v":"1223S0112X Dentist: Oral and Maxillofacial Surgery"},{"$f":"CLEAN(Table1[[#This Row],[Code]])","v":"1223S0112X"},"Dentist: Oral and Maxillofacial Surgery",null,"Medical taxonomy","Y","19",null,"DA","DT","85","DA","19","DT",null,null,{"$f":"IF(ISNUMBER(SEARCH(INDIRECT(CELL(\"address\")),S208)),MAX($R$1:R207)+1,0)","v":0},{"$f":"Table1[[#This Row],[Portico_Specialty]]&\"-\"&Table1[[#This Row],[Code]]","v":"Dentist: Oral and Maxillofacial Surgery-1223S0112X"},null,{"$f":"IFERROR(VLOOKUP(ROWS($U$1:U207),$R$2:$S$918,2,FALSE),\"\")","v":""}]
["1223X0400X",{"$f":"Table1[[#This Row],[Code]]&\" \"&Table1[[#This Row],[Portico_Specialty]]","v":"1223X0400X Dentist: Orthodontics and Dentofacial Orthopedics"},{"$f":"CLEAN(Table1[[#This Row],[Code]])","v":"1223X0400X"},"Dentist: Orthodontics and Dentofacial Orthopedics",null,"Medical taxonomy","N","DT",null,"DT","DT","DT","DT","19","DT",null,null,{"$f":"IF(ISNUMBER(SEARCH(INDIRECT(CELL(\"address\")),S209)),MAX($R$1:R208)+1,0)","v":0},{"$f":"Table1[[#This Row],[Portico_Specialty]]&\"-\"&Table1[[#This Row],[Code]]","v":"Dentist: Orthodontics and Dentofacial Orthopedics-1223X0400X"},null,{"$f":"IFERROR(VLOOKUP(ROWS($U$1:U208),$R$2:$S$918,2,FALSE),\"\")","v":""}]
["1223P0221X",{"$f":"Table1[[#This Row],[Code]]&\" \"&Table1[[#This Row],[Portico_Specialty]]","v":"1223P0221X Dentist: Pediatric Dentistry"},{"$f":"CLEAN(Table1[[#This Row],[Code]])","v":"1223P0221X"},"Dentist: Pediatric Dentistry",null,"Medical taxonomy","N","DT",null,"DT","DT","DT","DT","19","DT",null,null,{"$f":"IF(ISNUMBER(SEARCH(INDIRECT(CELL(\"address\")),S210)),MAX($R$1:R209)+1,0)","v":0},{"$f":"Table1[[#This Row],[Portico_Specialty]]&\"-\"&Table1[[#This Row],[Code]]","v":"Dentist: Pediatric Dentistry-1223P0221X"},null,{"$f":"IFERROR(VLOOKUP(ROWS($U$1:U209),$R$2:$S$918,2,FALSE),\"\")","v":""}]
["1223P0300X",{"$f":"Table1[[#This Row],[Code]]&\" \"&Table1[[#This Row],[Portico_Specialty]]","v":"1223P0300X Dentist: Periodontics"},{"$f":"CLEAN(Table1[[#This Row],[Code]])","v":"1223P0300X"},"Dentist: Periodontics",null,"Medical taxonomy","N","DT",null,"DT","DT","DT","DT",null,"DT",null,null,{"$f":"IF(ISNUMBER(SEARCH(INDIRECT(CELL(\"address\")),S211)),MAX($R$1:R210)+1,0)","v":0},{"$f":"Table1[[#This Row],[Portico_Specialty]]&\"-\"&Table1[[#This Row],[Code]]","v":"Dentist: Periodontics-1223P0300X"},null,{"$f":"IFERROR(VLOOKUP(ROWS($U$1:U210),$R$2:$S$918,2,FALSE),\"\")","v":""}]
["1223P0700X",{"$f":"Table1[[#This Row],[Code]]&\" \"&Table1[[#This Row],[Portico_Specialty]]","v":"1223P0700X Dentist: Prosthodontics"},{"$f":"CLEAN(Table1[[#This Row],[Code]])","v":"1223P0700X"},"Dentist: Prosthodontics",null,"Medical taxonomy","N","DT",null,"DT","DT","DT","DT",null,"DT",null,null,{"$f":"IF(ISNUMBER(SEARCH(INDIRECT(CELL(\"address\")),S212)),MAX($R$1:R211)+1,0)","v":0},{"$f":"Table1[[#This Row],[Portico_Specialty]]&\"-\"&Table1[[#This Row],[Code]]","v":"Dentist: Prosthodontics-1223P0700X"},null,{"$f":"IFERROR(VLOOKUP(ROWS($U$1:U211),$R$2:$S$918,2,FALSE),\"\")","v":""}]
["122400000X",{"$f":"Table1[[#This Row],[Code]]&\" \"&Table1[[#This Row],[Portico_Specialty]]","v":"122400000X Denturist"},{"$f":"CLEAN(Table1[[#This Row],[Code]])","v":"122400000X"},"Denturist",null,"Medical taxonomy","N","DT",null,"DT","DT","DT","DT",null,"DT",null,null,{"$f":"IF(ISNUMBER(SEARCH(INDIRECT(CELL(\"address\")),S213)),MAX($R$1:R212)+1,0)","v":0},{"$f":"Table1[[#This Row],[Portico_Specialty]]&\"-\"&Table1[[#This Row],[Code]]","v":"Denturist-122400000X"},null,{"$f":"IFERROR(VLOOKUP(ROWS($U$1:U212),$R$2:$S$918,2,FALSE),\"\")","v":""}]
["332100000X",{"$f":"Table1[[#This Row],[Code]]&\" \"&Table1[[#This Row],[Portico_Specialty]]","v":"332100000X Department of Veterans Affairs (VA) Pharmacy"},{"$f":"CLEAN(Table1[[#This Row],[Code]])","v":"332100000X"},"Department of Veterans Affairs (VA) Pharmacy",null,"Medical taxonomy","N","PH",null,"PH","PD","PH","PH","A5","PD",null,null,{"$f":"IF(ISNUMBER(SEARCH(INDIRECT(CELL(\"address\")),S214)),MAX($R$1:R213)+1,0)","v":0},{"$f":"Table1[[#This Row],[Portico_Specialty]]&\"-\"&Table1[[#This Row],[Code]]","v":"Department of Veterans Affairs (VA) Pharmacy-332100000X"},null,{"$f":"IFERROR(VLOOKUP(ROWS($U$1:U213),$R$2:$S$918,2,FALSE),\"\")","v":""}]
["207N00000X",{"$f":"Table1[[#This Row],[Code]]&\" \"&Table1[[#This Row],[Portico_Specialty]]","v":"207N00000X Dermatology"},{"$f":"CLEAN(Table1[[#This Row],[Code]])","v":"207N00000X"},"Dermatology",null,"Medical taxonomy","Y","07",null,"07","07","07","07","07","07",null,null,{"$f":"IF(ISNUMBER(SEARCH(INDIRECT(CELL(\"address\")),S215)),MAX($R$1:R214)+1,0)","v":0},{"$f":"Table1[[#This Row],[Portico_Specialty]]&\"-\"&Table1[[#This Row],[Code]]","v":"Dermatology-207N00000X"},null,{"$f":"IFERROR(VLOOKUP(ROWS($U$1:U214),$R$2:$S$918,2,FALSE),\"\")","v":""}]
["207NI0002X",{"$f":"Table1[[#This Row],[Code]]&\" \"&Table1[[#This Row],[Portico_Specialty]]","v":"207NI0002X Dermatology: Clinical & Laboratory Dermatological Immunology"},{"$f":"CLEAN(Table1[[#This Row],[Code]])","v":"207NI0002X"},"Dermatology: Clinical & Laboratory Dermatological Immunology",null,"Medical taxonomy","Y","07",null,"07","07","07","07","07","07",null,null,{"$f":"IF(ISNUMBER(SEARCH(INDIRECT(CELL(\"address\")),S216)),MAX($R$1:R215)+1,0)","v":0},{"$f":"Table1[[#This Row],[Portico_Specialty]]&\"-\"&Table1[[#This Row],[Code]]","v":"Dermatology: Clinical & Laboratory Dermatological Immunology-207NI0002X"},null,{"$f":"IFERROR(VLOOKUP(ROWS($U$1:U215),$R$2:$S$918,2,FALSE),\"\")","v":""}]
["207ND0900X",{"$f":"Table1[[#This Row],[Code]]&\" \"&Table1[[#This Row],[Portico_Specialty]]","v":"207ND0900X Dermatology: Dermatopathology"},{"$f":"CLEAN(Table1[[#This Row],[Code]])","v":"207ND0900X"},"Dermatology: Dermatopathology",null,"Medical taxonomy","Y","07",null,"07","07","07","07","07","07",null,null,{"$f":"IF(ISNUMBER(SEARCH(INDIRECT(CELL(\"address\")),S217)),MAX($R$1:R216)+1,0)","v":0},{"$f":"Table1[[#This Row],[Portico_Specialty]]&\"-\"&Table1[[#This Row],[Code]]","v":"Dermatology: Dermatopathology-207ND0900X"},null,{"$f":"IFERROR(VLOOKUP(ROWS($U$1:U216),$R$2:$S$918,2,FALSE),\"\")","v":""}]
["207ND0101X",{"$f":"Table1[[#This Row],[Code]]&\" \"&Table1[[#This Row],[Portico_Specialty]]","v":"207ND0101X Dermatology: MOHS-Micrographic Surgery"},{"$f":"CLEAN(Table1[[#This Row],[Code]])","v":"207ND0101X"},"Dermatology: MOHS-Micrographic Surgery",null,"Medical taxonomy","Y","07",null,"07","07","07","07","07","07",null,null,{"$f":"IF(ISNUMBER(SEARCH(INDIRECT(CELL(\"address\")),S218)),MAX($R$1:R217)+1,0)","v":0},{"$f":"Table1[[#This Row],[Portico_Specialty]]&\"-\"&Table1[[#This Row],[Code]]","v":"Dermatology: MOHS-Micrographic Surgery-207ND0101X"},null,{"$f":"IFERROR(VLOOKUP(ROWS($U$1:U217),$R$2:$S$918,2,FALSE),\"\")","v":""}]
["207NP0225X",{"$f":"Table1[[#This Row],[Code]]&\" \"&Table1[[#This Row],[Portico_Specialty]]","v":"207NP0225X Dermatology: Pediatric Dermatology"},{"$f":"CLEAN(Table1[[#This Row],[Code]])","v":"207NP0225X"},"Dermatology: Pediatric Dermatology",null,"Medical taxonomy","Y","07",null,"07","07","07","07","07","07",null,null,{"$f":"IF(ISNUMBER(SEARCH(INDIRECT(CELL(\"address\")),S219)),MAX($R$1:R218)+1,0)","v":0},{"$f":"Table1[[#This Row],[Portico_Specialty]]&\"-\"&Table1[[#This Row],[Code]]","v":"Dermatology: Pediatric Dermatology-207NP0225X"},null,{"$f":"IFERROR(VLOOKUP(ROWS($U$1:U218),$R$2:$S$918,2,FALSE),\"\")","v":""}]
["207NS0135X",{"$f":"Table1[[#This Row],[Code]]&\" \"&Table1[[#This Row],[Portico_Specialty]]","v":"207NS0135X Dermatology: Procedural Dermatology"},{"$f":"CLEAN(Table1[[#This Row],[Code]])","v":"207NS0135X"},"Dermatology: Procedural Dermatology",null,"Medical taxonomy","Y","07",null,"07","07","07","07","07","07",null,null,{"$f":"IF(ISNUMBER(SEARCH(INDIRECT(CELL(\"address\")),S220)),MAX($R$1:R219)+1,0)","v":0},{"$f":"Table1[[#This Row],[Portico_Specialty]]&\"-\"&Table1[[#This Row],[Code]]","v":"Dermatology: Procedural Dermatology-207NS0135X"},null,{"$f":"IFERROR(VLOOKUP(ROWS($U$1:U219),$R$2:$S$918,2,FALSE),\"\")","v":""}]
["222Q00000X",{"$f":"Table1[[#This Row],[Code]]&\" \"&Table1[[#This Row],[Portico_Specialty]]","v":"222Q00000X Developmental Therapist"},{"$f":"CLEAN(Table1[[#This Row],[Code]])","v":"222Q00000X"},"Developmental Therapist",null,"Medical taxonomy","N","65",null,"80","65","65","80",null,"65",null,null,{"$f":"IF(ISNUMBER(SEARCH(INDIRECT(CELL(\"address\")),S221)),MAX($R$1:R220)+1,0)","v":0},{"$f":"Table1[[#This Row],[Portico_Specialty]]&\"-\"&Table1[[#This Row],[Code]]","v":"Developmental Therapist-222Q00000X"},null,{"$f":"IFERROR(VLOOKUP(ROWS($U$1:U220),$R$2:$S$918,2,FALSE),\"\")","v":""}]
["132700000X",{"$f":"Table1[[#This Row],[Code]]&\" \"&Table1[[#This Row],[Portico_Specialty]]","v":"132700000X Dietary Manager"},{"$f":"CLEAN(Table1[[#This Row],[Code]])","v":"132700000X"},"Dietary Manager",null,"Medical taxonomy","N","NT",null,"99","NT","NT",null,null,"NT",null,null,{"$f":"IF(ISNUMBER(SEARCH(INDIRECT(CELL(\"address\")),S222)),MAX($R$1:R221)+1,0)","v":0},{"$f":"Table1[[#This Row],[Portico_Specialty]]&\"-\"&Table1[[#This Row],[Code]]","v":"Dietary Manager-132700000X"},null,{"$f":"IFERROR(VLOOKUP(ROWS($U$1:U221),$R$2:$S$918,2,FALSE),\"\")","v":""}]
["136A00000X",{"$f":"Table1[[#This Row],[Code]]&\" \"&Table1[[#This Row],[Portico_Specialty]]","v":"136A00000X Dietetic Technician, Registered"},{"$f":"CLEAN(Table1[[#This Row],[Code]])","v":"136A00000X"},"Dietetic Technician, Registered",null,"Medical taxonomy","N","NT",null,"99","NT","NT",null,null,"NT",null,null,{"$f":"IF(ISNUMBER(SEARCH(INDIRECT(CELL(\"address\")),S223)),MAX($R$1:R222)+1,0)","v":0},{"$f":"Table1[[#This Row],[Portico_Specialty]]&\"-\"&Table1[[#This Row],[Code]]","v":"Dietetic Technician, Registered-136A00000X"},null,{"$f":"IFERROR(VLOOKUP(ROWS($U$1:U222),$R$2:$S$918,2,FALSE),\"\")","v":""}]
["133V00000X",{"$f":"Table1[[#This Row],[Code]]&\" \"&Table1[[#This Row],[Portico_Specialty]]","v":"133V00000X Dietitian, Registered"},{"$f":"CLEAN(Table1[[#This Row],[Code]])","v":"133V00000X"},"Dietitian, Registered",null,"Medical taxonomy","Y","71",null,"71","NT","71","71","71","NT",null,null,{"$f":"IF(ISNUMBER(SEARCH(INDIRECT(CELL(\"address\")),S224)),MAX($R$1:R223)+1,0)","v":0},{"$f":"Table1[[#This Row],[Portico_Specialty]]&\"-\"&Table1[[#This Row],[Code]]","v":"Dietitian, Registered-133V00000X"},null,{"$f":"IFERROR(VLOOKUP(ROWS($U$1:U223),$R$2:$S$918,2,FALSE),\"\")","v":""}]
["133VN1006X",{"$f":"Table1[[#This Row],[Code]]&\" \"&Table1[[#This Row],[Portico_Specialty]]","v":"133VN1006X Dietitian, Registered: Nutrition, Metabolic"},{"$f":"CLEAN(Table1[[#This Row],[Code]])","v":"133VN1006X"},"Dietitian, Registered: Nutrition, Metabolic",null,"Medical taxonomy","Y","71",null,"71","NT","71","71","71","NT",null,null,{"$f":"IF(ISNUMBER(SEARCH(INDIRECT(CELL(\"address\")),S225)),MAX($R$1:R224)+1,0)","v":0},{"$f":"Table1[[#This Row],[Portico_Specialty]]&\"-\"&Table1[[#This Row],[Code]]","v":"Dietitian, Registered: Nutrition, Metabolic-133VN1006X"},null,{"$f":"IFERROR(VLOOKUP(ROWS($U$1:U224),$R$2:$S$918,2,FALSE),\"\")","v":""}]
["133VN1004X",{"$f":"Table1[[#This Row],[Code]]&\" \"&Table1[[#This Row],[Portico_Specialty]]","v":"133VN1004X Dietitian, Registered: Nutrition, Pediatric"},{"$f":"CLEAN(Table1[[#This Row],[Code]])","v":"133VN1004X"},"Dietitian, Registered: Nutrition, Pediatric",null,"Medical taxonomy","Y","71",null,"71","NT","71","71","71","NT",null,null,{"$f":"IF(ISNUMBER(SEARCH(INDIRECT(CELL(\"address\")),S226)),MAX($R$1:R225)+1,0)","v":0},{"$f":"Table1[[#This Row],[Portico_Specialty]]&\"-\"&Table1[[#This Row],[Code]]","v":"Dietitian, Registered: Nutrition, Pediatric-133VN1004X"},null,{"$f":"IFERROR(VLOOKUP(ROWS($U$1:U225),$R$2:$S$918,2,FALSE),\"\")","v":""}]
["133VN1005X",{"$f":"Table1[[#This Row],[Code]]&\" \"&Table1[[#This Row],[Portico_Specialty]]","v":"133VN1005X Dietitian, Registered: Nutrition, Renal"},{"$f":"CLEAN(Table1[[#This Row],[Code]])","v":"133VN1005X"},"Dietitian, Registered: Nutrition, Renal",null,"Medical taxonomy","Y","71",null,"71","NT","71","71","71","NT",null,null,{"$f":"IF(ISNUMBER(SEARCH(INDIRECT(CELL(\"address\")),S227)),MAX($R$1:R226)+1,0)","v":0},{"$f":"Table1[[#This Row],[Portico_Specialty]]&\"-\"&Table1[[#This Row],[Code]]","v":"Dietitian, Registered: Nutrition, Renal-133VN1005X"},null,{"$f":"IFERROR(VLOOKUP(ROWS($U$1:U226),$R$2:$S$918,2,FALSE),\"\")","v":""}]
["374J00000X",{"$f":"Table1[[#This Row],[Code]]&\" \"&Table1[[#This Row],[Portico_Specialty]]","v":"374J00000X Doula"},{"$f":"CLEAN(Table1[[#This Row],[Code]])","v":"374J00000X"},"Doula",null,"Medical taxonomy","N","87",null,"99","42",null,null,null,"42",null,null,{"$f":"IF(ISNUMBER(SEARCH(INDIRECT(CELL(\"address\")),S228)),MAX($R$1:R227)+1,0)","v":0},{"$f":"Table1[[#This Row],[Portico_Specialty]]&\"-\"&Table1[[#This Row],[Code]]","v":"Doula-374J00000X"},null,{"$f":"IFERROR(VLOOKUP(ROWS($U$1:U227),$R$2:$S$918,2,FALSE),\"\")","v":""}]
["172A00000X",{"$f":"Table1[[#This Row],[Code]]&\" \"&Table1[[#This Row],[Portico_Specialty]]","v":"172A00000X Driver"},{"$f":"CLEAN(Table1[[#This Row],[Code]])","v":"172A00000X"},"Driver",null,"Medical taxonomy","N","TR",null,"99","59","TR",null,null,"59",null,null,{"$f":"IF(ISNUMBER(SEARCH(INDIRECT(CELL(\"address\")),S229)),MAX($R$1:R228)+1,0)","v":0},{"$f":"Table1[[#This Row],[Portico_Specialty]]&\"-\"&Table1[[#This Row],[Code]]","v":"Driver-172A00000X"},null,{"$f":"IFERROR(VLOOKUP(ROWS($U$1:U228),$R$2:$S$918,2,FALSE),\"\")","v":""}]
["332B00000X",{"$f":"Table1[[#This Row],[Code]]&\" \"&Table1[[#This Row],[Portico_Specialty]]","v":"332B00000X Durable Medical Equipment & Medical Supplies"},{"$f":"CLEAN(Table1[[#This Row],[Code]])","v":"332B00000X"},"Durable Medical Equipment & Medical Supplies",null,"Medical taxonomy","Y","DM",null,"DM","DM","DM","DM","54","DM",null,null,{"$f":"IF(ISNUMBER(SEARCH(INDIRECT(CELL(\"address\")),S230)),MAX($R$1:R229)+1,0)","v":0},{"$f":"Table1[[#This Row],[Portico_Specialty]]&\"-\"&Table1[[#This Row],[Code]]","v":"Durable Medical Equipment & Medical Supplies-332B00000X"},null,{"$f":"IFERROR(VLOOKUP(ROWS($U$1:U229),$R$2:$S$918,2,FALSE),\"\")","v":""}]
["332BC3200X",{"$f":"Table1[[#This Row],[Code]]&\" \"&Table1[[#This Row],[Portico_Specialty]]","v":"332BC3200X Durable Medical Equipment & Medical Supplies: Customized Equipment"},{"$f":"CLEAN(Table1[[#This Row],[Code]])","v":"332BC3200X"},"Durable Medical Equipment & Medical Supplies: Customized Equipment",null,"Medical taxonomy","N","DM",null,"DM","DM","DM","DM","52","DM",null,null,{"$f":"IF(ISNUMBER(SEARCH(INDIRECT(CELL(\"address\")),S231)),MAX($R$1:R230)+1,0)","v":0},{"$f":"Table1[[#This Row],[Portico_Specialty]]&\"-\"&Table1[[#This Row],[Code]]","v":"Durable Medical Equipment & Medical Supplies: Customized Equipment-332BC3200X"},null,{"$f":"IFERROR(VLOOKUP(ROWS($U$1:U230),$R$2:$S$918,2,FALSE),\"\")","v":""}]
["332BD1200X",{"$f":"Table1[[#This Row],[Code]]&\" \"&Table1[[#This Row],[Portico_Specialty]]","v":"332BD1200X Durable Medical Equipment & Medical Supplies: Dialysis Equipment & Supplies"},{"$f":"CLEAN(Table1[[#This Row],[Code]])","v":"332BD1200X"},"Durable Medical Equipment & Medical Supplies: Dialysis Equipment & Supplies",null,"Medical taxonomy","N","DM",null,"DM","DM","DM","DM","54","DM",null,null,{"$f":"IF(ISNUMBER(SEARCH(INDIRECT(CELL(\"address\")),S232)),MAX($R$1:R231)+1,0)","v":0},{"$f":"Table1[[#This Row],[Portico_Specialty]]&\"-\"&Table1[[#This Row],[Code]]","v":"Durable Medical Equipment & Medical Supplies: Dialysis Equipment & Supplies-332BD1200X"},null,{"$f":"IFERROR(VLOOKUP(ROWS($U$1:U231),$R$2:$S$918,2,FALSE),\"\")","v":""}]
["332BN1400X",{"$f":"Table1[[#This Row],[Code]]&\" \"&Table1[[#This Row],[Portico_Specialty]]","v":"332BN1400X Durable Medical Equipment & Medical Supplies: Nursing Facility Supplies"},{"$f":"CLEAN(Table1[[#This Row],[Code]])","v":"332BN1400X"},"Durable Medical Equipment & Medical Supplies: Nursing Facility Supplies",null,"Medical taxonomy","N","DM",null,"DM","DM","DM","DM","54","DM",null,null,{"$f":"IF(ISNUMBER(SEARCH(INDIRECT(CELL(\"address\")),S233)),MAX($R$1:R232)+1,0)","v":0},{"$f":"Table1[[#This Row],[Portico_Specialty]]&\"-\"&Table1[[#This Row],[Code]]","v":"Durable Medical Equipment & Medical Supplies: Nursing Facility Supplies-332BN1400X"},null,{"$f":"IFERROR(VLOOKUP(ROWS($U$1:U232),$R$2:$S$918,2,FALSE),\"\")","v":""}]
["332BX2000X",{"$f":"Table1[[#This Row],[Code]]&\" \"&Table1[[#This Row],[Portico_Specialty]]","v":"332BX2000X Durable Medical Equipment & Medical Supplies: Oxygen Equipment & Supplies"},{"$f":"CLEAN(Table1[[#This Row],[Code]])","v":"332BX2000X"},"Durable Medical Equipment & Medical Supplies: Oxygen Equipment & Supplies",null,"Medical taxonomy","Y","DM",null,"DM","DM","DM","DM","54","DM",null,null,{"$f":"IF(ISNUMBER(SEARCH(INDIRECT(CELL(\"address\")),S234)),MAX($R$1:R233)+1,0)","v":0},{"$f":"Table1[[#This Row],[Portico_Specialty]]&\"-\"&Table1[[#This Row],[Code]]","v":"Durable Medical Equipment & Medical Supplies: Oxygen Equipment & Supplies-332BX2000X"},null,{"$f":"IFERROR(VLOOKUP(ROWS($U$1:U233),$R$2:$S$918,2,FALSE),\"\")","v":""}]
["332BP3500X",{"$f":"Table1[[#This Row],[Code]]&\" \"&Table1[[#This Row],[Portico_Specialty]]","v":"332BP3500X Durable Medical Equipment & Medical Supplies: Parenteral & Enteral Nutrition"},{"$f":"CLEAN(Table1[[#This Row],[Code]])","v":"332BP3500X"},"Durable Medical Equipment & Medical Supplies: Parenteral & Enteral Nutrition",null,"Medical taxonomy","N","DM",null,"DM","DM","DM","DM","54","DM",null,null,{"$f":"IF(ISNUMBER(SEARCH(INDIRECT(CELL(\"address\")),S235)),MAX($R$1:R234)+1,0)","v":0},{"$f":"Table1[[#This Row],[Portico_Specialty]]&\"-\"&Table1[[#This Row],[Code]]","v":"Durable Medical Equipment & Medical Supplies: Parenteral & Enteral Nutrition-332BP3500X"},null,{"$f":"IFERROR(VLOOKUP(ROWS($U$1:U234),$R$2:$S$918,2,FALSE),\"\")","v":""}]
["252Y00000X",{"$f":"Table1[[#This Row],[Code]]&\" \"&Table1[[#This Row],[Portico_Specialty]]","v":"252Y00000X Early Intervention Provider Agency"},{"$f":"CLEAN(Table1[[#This Row],[Code]])","v":"252Y00000X"},"Early Intervention Provider Agency",null,"Medical taxonomy","N","HH",null,"99","70",null,null,"A4","70",null,null,{"$f":"IF(ISNUMBER(SEARCH(INDIRECT(CELL(\"address\")),S236)),MAX($R$1:R235)+1,0)","v":0},{"$f":"Table1[[#This Row],[Portico_Specialty]]&\"-\"&Table1[[#This Row],[Code]]","v":"Early Intervention Provider Agency-252Y00000X"},null,{"$f":"IFERROR(VLOOKUP(ROWS($U$1:U235),$R$2:$S$918,2,FALSE),\"\")","v":""}]
["204R00000X",{"$f":"Table1[[#This Row],[Code]]&\" \"&Table1[[#This Row],[Portico_Specialty]]","v":"204R00000X Electrodiagnostic Medicine"},{"$f":"CLEAN(Table1[[#This Row],[Code]])","v":"204R00000X"},"Electrodiagnostic Medicine",null,"Medical taxonomy","N","87",null,"99","13","99","87",null,"13",null,null,{"$f":"IF(ISNUMBER(SEARCH(INDIRECT(CELL(\"address\")),S237)),MAX($R$1:R236)+1,0)","v":0},{"$f":"Table1[[#This Row],[Portico_Specialty]]&\"-\"&Table1[[#This Row],[Code]]","v":"Electrodiagnostic Medicine-204R00000X"},null,{"$f":"IFERROR(VLOOKUP(ROWS($U$1:U236),$R$2:$S$918,2,FALSE),\"\")","v":""}]
["146N00000X",{"$f":"Table1[[#This Row],[Code]]&\" \"&Table1[[#This Row],[Portico_Specialty]]","v":"146N00000X Emergency Medical Technician, Basic"},{"$f":"CLEAN(Table1[[#This Row],[Code]])","v":"146N00000X"},"Emergency Medical Technician, Basic",null,"Medical taxonomy","N","87",null,"99","93","87","87",null,"93",null,null,{"$f":"IF(ISNUMBER(SEARCH(INDIRECT(CELL(\"address\")),S238)),MAX($R$1:R237)+1,0)","v":0},{"$f":"Table1[[#This Row],[Portico_Specialty]]&\"-\"&Table1[[#This Row],[Code]]","v":"Emergency Medical Technician, Basic-146N00000X"},null,{"$f":"IFERROR(VLOOKUP(ROWS($U$1:U237),$R$2:$S$918,2,FALSE),\"\")","v":""}]
["146M00000X",{"$f":"Table1[[#This Row],[Code]]&\" \"&Table1[[#This Row],[Portico_Specialty]]","v":"146M00000X Emergency Medical Technician, Intermediate"},{"$f":"CLEAN(Table1[[#This Row],[Code]])","v":"146M00000X"},"Emergency Medical Technician, Intermediate",null,"Medical taxonomy","N","87",null,"99","93","87",null,null,"93",null,null,{"$f":"IF(ISNUMBER(SEARCH(INDIRECT(CELL(\"address\")),S239)),MAX($R$1:R238)+1,0)","v":0},{"$f":"Table1[[#This Row],[Portico_Specialty]]&\"-\"&Table1[[#This Row],[Code]]","v":"Emergency Medical Technician, Intermediate-146M00000X"},null,{"$f":"IFERROR(VLOOKUP(ROWS($U$1:U238),$R$2:$S$918,2,FALSE),\"\")","v":""}]
["146L00000X",{"$f":"Table1[[#This Row],[Code]]&\" \"&Table1[[#This Row],[Portico_Specialty]]","v":"146L00000X Emergency Medical Technician, Paramedic"},{"$f":"CLEAN(Table1[[#This Row],[Code]])","v":"146L00000X"},"Emergency Medical Technician, Paramedic",null,"Medical taxonomy","N","87",null,"99","93","87","87",null,"93",null,null,{"$f":"IF(ISNUMBER(SEARCH(INDIRECT(CELL(\"address\")),S240)),MAX($R$1:R239)+1,0)","v":0},{"$f":"Table1[[#This Row],[Portico_Specialty]]&\"-\"&Table1[[#This Row],[Code]]","v":"Emergency Medical Technician, Paramedic-146L00000X"},null,{"$f":"IFERROR(VLOOKUP(ROWS($U$1:U239),$R$2:$S$918,2,FALSE),\"\")","v":""}]
["207P00000X",{"$f":"Table1[[#This Row],[Code]]&\" \"&Table1[[#This Row],[Portico_Specialty]]","v":"207P00000X Emergency Medicine"},{"$f":"CLEAN(Table1[[#This Row],[Code]])","v":"207P00000X"},"Emergency Medicine",null,"Medical taxonomy","Y","93",null,"93","93","93","93","93","93",null,null,{"$f":"IF(ISNUMBER(SEARCH(INDIRECT(CELL(\"address\")),S241)),MAX($R$1:R240)+1,0)","v":0},{"$f":"Table1[[#This Row],[Portico_Specialty]]&\"-\"&Table1[[#This Row],[Code]]","v":"Emergency Medicine-207P00000X"},null,{"$f":"IFERROR(VLOOKUP(ROWS($U$1:U240),$R$2:$S$918,2,FALSE),\"\")","v":""}]
["207PE0004X",{"$f":"Table1[[#This Row],[Code]]&\" \"&Table1[[#This Row],[Portico_Specialty]]","v":"207PE0004X Emergency Medicine: Emergency Medical Services"},{"$f":"CLEAN(Table1[[#This Row],[Code]])","v":"207PE0004X"},"Emergency Medicine: Emergency Medical Services",null,"Medical taxonomy","Y","93",null,"93","93","93","93","93","93",null,null,{"$f":"IF(ISNUMBER(SEARCH(INDIRECT(CELL(\"address\")),S242)),MAX($R$1:R241)+1,0)","v":0},{"$f":"Table1[[#This Row],[Portico_Specialty]]&\"-\"&Table1[[#This Row],[Code]]","v":"Emergency Medicine: Emergency Medical Services-207PE0004X"},null,{"$f":"IFERROR(VLOOKUP(ROWS($U$1:U241),$R$2:$S$918,2,FALSE),\"\")","v":""}]
["207PH0002X",{"$f":"Table1[[#This Row],[Code]]&\" \"&Table1[[#This Row],[Portico_Specialty]]","v":"207PH0002X Emergency Medicine: Hospice and Palliative Medicine"},{"$f":"CLEAN(Table1[[#This Row],[Code]])","v":"207PH0002X"},"Emergency Medicine: Hospice and Palliative Medicine",null,"Medical taxonomy","Y","93",null,"93","93","93","93","93","93",null,null,{"$f":"IF(ISNUMBER(SEARCH(INDIRECT(CELL(\"address\")),S243)),MAX($R$1:R242)+1,0)","v":0},{"$f":"Table1[[#This Row],[Portico_Specialty]]&\"-\"&Table1[[#This Row],[Code]]","v":"Emergency Medicine: Hospice and Palliative Medicine-207PH0002X"},null,{"$f":"IFERROR(VLOOKUP(ROWS($U$1:U242),$R$2:$S$918,2,FALSE),\"\")","v":""}]
["207PT0002X",{"$f":"Table1[[#This Row],[Code]]&\" \"&Table1[[#This Row],[Portico_Specialty]]","v":"207PT0002X Emergency Medicine: Medical Toxicology"},{"$f":"CLEAN(Table1[[#This Row],[Code]])","v":"207PT0002X"},"Emergency Medicine: Medical Toxicology",null,"Medical taxonomy","Y","93",null,"93","93","93","93","93","93",null,null,{"$f":"IF(ISNUMBER(SEARCH(INDIRECT(CELL(\"address\")),S244)),MAX($R$1:R243)+1,0)","v":0},{"$f":"Table1[[#This Row],[Portico_Specialty]]&\"-\"&Table1[[#This Row],[Code]]","v":"Emergency Medicine: Medical Toxicology-207PT0002X"},null,{"$f":"IFERROR(VLOOKUP(ROWS($U$1:U243),$R$2:$S$918,2,FALSE),\"\")","v":""}]
["207PP0204X",{"$f":"Table1[[#This Row],[Code]]&\" \"&Table1[[#This Row],[Portico_Specialty]]","v":"207PP0204X Emergency Medicine: Pediatric Emergency Medicine"},{"$f":"CLEAN(Table1[[#This Row],[Code]])","v":"207PP0204X"},"Emergency Medicine: Pediatric Emergency Medicine",null,"Medical taxonomy","Y","93",null,"93","93","93","93","93","93",null,null,{"$f":"IF(ISNUMBER(SEARCH(INDIRECT(CELL(\"address\")),S245)),MAX($R$1:R244)+1,0)","v":0},{"$f":"Table1[[#This Row],[Portico_Specialty]]&\"-\"&Table1[[#This Row],[Code]]","v":"Emergency Medicine: Pediatric Emergency Medicine-207PP0204X"},null,{"$f":"IFERROR(VLOOKUP(ROWS($U$1:U244),$R$2:$S$918,2,FALSE),\"\")","v":""}]
["207PS0010X",{"$f":"Table1[[#This Row],[Code]]&\" \"&Table1[[#This Row],[Portico_Specialty]]","v":"207PS0010X Emergency Medicine: Sports Medicine"},{"$f":"CLEAN(Table1[[#This Row],[Code]])","v":"207PS0010X"},"Emergency Medicine: Sports Medicine",null,"Medical taxonomy","Y","93",null,"93","93","93","93","93","93",null,null,{"$f":"IF(ISNUMBER(SEARCH(INDIRECT(CELL(\"address\")),S246)),MAX($R$1:R245)+1,0)","v":0},{"$f":"Table1[[#This Row],[Portico_Specialty]]&\"-\"&Table1[[#This Row],[Code]]","v":"Emergency Medicine: Sports Medicine-207PS0010X"},null,{"$f":"IFERROR(VLOOKUP(ROWS($U$1:U245),$R$2:$S$918,2,FALSE),\"\")","v":""}]
["207PE0005X",{"$f":"Table1[[#This Row],[Code]]&\" \"&Table1[[#This Row],[Portico_Specialty]]","v":"207PE0005X Emergency Medicine: Undersea and Hyperbaric Medicine"},{"$f":"CLEAN(Table1[[#This Row],[Code]])","v":"207PE0005X"},"Emergency Medicine: Undersea and Hyperbaric Medicine",null,"Medical taxonomy","Y","93",null,"93","93","93","93","93","93",null,null,{"$f":"IF(ISNUMBER(SEARCH(INDIRECT(CELL(\"address\")),S247)),MAX($R$1:R246)+1,0)","v":0},{"$f":"Table1[[#This Row],[Portico_Specialty]]&\"-\"&Table1[[#This Row],[Code]]","v":"Emergency Medicine: Undersea and Hyperbaric Medicine-207PE0005X"},null,{"$f":"IFERROR(VLOOKUP(ROWS($U$1:U246),$R$2:$S$918,2,FALSE),\"\")","v":""}]
["333300000X",{"$f":"Table1[[#This Row],[Code]]&\" \"&Table1[[#This Row],[Portico_Specialty]]","v":"333300000X Emergency Response System Companies"},{"$f":"CLEAN(Table1[[#This Row],[Code]])","v":"333300000X"},"Emergency Response System Companies",null,"Medical taxonomy","N","87",null,"99","DM","87","87","87","DM",null,null,{"$f":"IF(ISNUMBER(SEARCH(INDIRECT(CELL(\"address\")),S248)),MAX($R$1:R247)+1,0)","v":0},{"$f":"Table1[[#This Row],[Portico_Specialty]]&\"-\"&Table1[[#This Row],[Code]]","v":"Emergency Response System Companies-333300000X"},null,{"$f":"IFERROR(VLOOKUP(ROWS($U$1:U247),$R$2:$S$918,2,FALSE),\"\")","v":""}]
["273100000X",{"$f":"Table1[[#This Row],[Code]]&\" \"&Table1[[#This Row],[Portico_Specialty]]","v":"273100000X Epilepsy Unit"},{"$f":"CLEAN(Table1[[#This Row],[Code]])","v":"273100000X"},"Epilepsy Unit",null,"Medical taxonomy","N","HO",null,"HO","HO","HO","HO",null,"HO",null,null,{"$f":"IF(ISNUMBER(SEARCH(INDIRECT(CELL(\"address\")),S249)),MAX($R$1:R248)+1,0)","v":0},{"$f":"Table1[[#This Row],[Portico_Specialty]]&\"-\"&Table1[[#This Row],[Code]]","v":"Epilepsy Unit-273100000X"},null,{"$f":"IFERROR(VLOOKUP(ROWS($U$1:U248),$R$2:$S$918,2,FALSE),\"\")","v":""}]
["302F00000X",{"$f":"Table1[[#This Row],[Code]]&\" \"&Table1[[#This Row],[Portico_Specialty]]","v":"302F00000X Exclusive Provider Organization"},{"$f":"CLEAN(Table1[[#This Row],[Code]])","v":"302F00000X"},"Exclusive Provider Organization",null,"Medical taxonomy","N","99",null,"99","60","99","87","99","60",null,null,{"$f":"IF(ISNUMBER(SEARCH(INDIRECT(CELL(\"address\")),S250)),MAX($R$1:R249)+1,0)","v":0},{"$f":"Table1[[#This Row],[Portico_Specialty]]&\"-\"&Table1[[#This Row],[Code]]","v":"Exclusive Provider Organization-302F00000X"},null,{"$f":"IFERROR(VLOOKUP(ROWS($U$1:U249),$R$2:$S$918,2,FALSE),\"\")","v":""}]
["332G00000X",{"$f":"Table1[[#This Row],[Code]]&\" \"&Table1[[#This Row],[Portico_Specialty]]","v":"332G00000X Eye Bank"},{"$f":"CLEAN(Table1[[#This Row],[Code]])","v":"332G00000X"},"Eye Bank",null,"Medical taxonomy","N","87",null,"99","41","87","87",null,"41",null,null,{"$f":"IF(ISNUMBER(SEARCH(INDIRECT(CELL(\"address\")),S251)),MAX($R$1:R250)+1,0)","v":0},{"$f":"Table1[[#This Row],[Portico_Specialty]]&\"-\"&Table1[[#This Row],[Code]]","v":"Eye Bank-332G00000X"},null,{"$f":"IFERROR(VLOOKUP(ROWS($U$1:U250),$R$2:$S$918,2,FALSE),\"\")","v":""}]
["332H00000X",{"$f":"Table1[[#This Row],[Code]]&\" \"&Table1[[#This Row],[Portico_Specialty]]","v":"332H00000X Eyewear Supplier (Equipment, not the service)"},{"$f":"CLEAN(Table1[[#This Row],[Code]])","v":"332H00000X"},"Eyewear Supplier (Equipment, not the service)",null,"Medical taxonomy","N","87",null,"EY","41","87","EY","41","41",null,null,{"$f":"IF(ISNUMBER(SEARCH(INDIRECT(CELL(\"address\")),S252)),MAX($R$1:R251)+1,0)","v":0},{"$f":"Table1[[#This Row],[Portico_Specialty]]&\"-\"&Table1[[#This Row],[Code]]","v":"Eyewear Supplier (Equipment, not the service)-332H00000X"},null,{"$f":"IFERROR(VLOOKUP(ROWS($U$1:U251),$R$2:$S$918,2,FALSE),\"\")","v":""}]
["207Q00000X",{"$f":"Table1[[#This Row],[Code]]&\" \"&Table1[[#This Row],[Portico_Specialty]]","v":"207Q00000X Family Medicine"},{"$f":"CLEAN(Table1[[#This Row],[Code]])","v":"207Q00000X"},"Family Medicine",null,"Shared Taxonomy","Y","08",null,"08","26","08","08","08","26",null,null,{"$f":"IF(ISNUMBER(SEARCH(INDIRECT(CELL(\"address\")),S253)),MAX($R$1:R252)+1,0)","v":0},{"$f":"Table1[[#This Row],[Portico_Specialty]]&\"-\"&Table1[[#This Row],[Code]]","v":"Family Medicine-207Q00000X"},null,{"$f":"IFERROR(VLOOKUP(ROWS($U$1:U252),$R$2:$S$918,2,FALSE),\"\")","v":""}]
["207QA0401X",{"$f":"Table1[[#This Row],[Code]]&\" \"&Table1[[#This Row],[Portico_Specialty]]","v":"207QA0401X Family Medicine: Addiction Medicine"},{"$f":"CLEAN(Table1[[#This Row],[Code]])","v":"207QA0401X"},"Family Medicine: Addiction Medicine",null,"Medical taxonomy","Y","79",null,"79","79","79","79","79","79",null,null,{"$f":"IF(ISNUMBER(SEARCH(INDIRECT(CELL(\"address\")),S254)),MAX($R$1:R253)+1,0)","v":0},{"$f":"Table1[[#This Row],[Portico_Specialty]]&\"-\"&Table1[[#This Row],[Code]]","v":"Family Medicine: Addiction Medicine-207QA0401X"},null,{"$f":"IFERROR(VLOOKUP(ROWS($U$1:U253),$R$2:$S$918,2,FALSE),\"\")","v":""}]
["207QA0000X",{"$f":"Table1[[#This Row],[Code]]&\" \"&Table1[[#This Row],[Portico_Specialty]]","v":"207QA0000X Family Medicine: Adolescent Medicine"},{"$f":"CLEAN(Table1[[#This Row],[Code]])","v":"207QA0000X"},"Family Medicine: Adolescent Medicine",null,"Medical taxonomy","Y","37",null,"37","26","37","37",null,"26",null,null,{"$f":"IF(ISNUMBER(SEARCH(INDIRECT(CELL(\"address\")),S255)),MAX($R$1:R254)+1,0)","v":0},{"$f":"Table1[[#This Row],[Portico_Specialty]]&\"-\"&Table1[[#This Row],[Code]]","v":"Family Medicine: Adolescent Medicine-207QA0000X"},null,{"$f":"IFERROR(VLOOKUP(ROWS($U$1:U254),$R$2:$S$918,2,FALSE),\"\")","v":""}]
["207QA0505X",{"$f":"Table1[[#This Row],[Code]]&\" \"&Table1[[#This Row],[Portico_Specialty]]","v":"207QA0505X Family Medicine: Adult Medicine"},{"$f":"CLEAN(Table1[[#This Row],[Code]])","v":"207QA0505X"},"Family Medicine: Adult Medicine",null,"Medical taxonomy","Y","08",null,"08","26","08","08","08","26",null,null,{"$f":"IF(ISNUMBER(SEARCH(INDIRECT(CELL(\"address\")),S256)),MAX($R$1:R255)+1,0)","v":0},{"$f":"Table1[[#This Row],[Portico_Specialty]]&\"-\"&Table1[[#This Row],[Code]]","v":"Family Medicine: Adult Medicine-207QA0505X"},null,{"$f":"IFERROR(VLOOKUP(ROWS($U$1:U255),$R$2:$S$918,2,FALSE),\"\")","v":""}]
["207QG0300X",{"$f":"Table1[[#This Row],[Code]]&\" \"&Table1[[#This Row],[Portico_Specialty]]","v":"207QG0300X Family Medicine: Geriatric Medicine"},{"$f":"CLEAN(Table1[[#This Row],[Code]])","v":"207QG0300X"},"Family Medicine: Geriatric Medicine",null,"Shared Taxonomy","Y","38",null,"38","26","38","38","38","26",null,null,{"$f":"IF(ISNUMBER(SEARCH(INDIRECT(CELL(\"address\")),S257)),MAX($R$1:R256)+1,0)","v":0},{"$f":"Table1[[#This Row],[Portico_Specialty]]&\"-\"&Table1[[#This Row],[Code]]","v":"Family Medicine: Geriatric Medicine-207QG0300X"},null,{"$f":"IFERROR(VLOOKUP(ROWS($U$1:U256),$R$2:$S$918,2,FALSE),\"\")","v":""}]
["207QH0002X",{"$f":"Table1[[#This Row],[Code]]&\" \"&Table1[[#This Row],[Portico_Specialty]]","v":"207QH0002X Family Medicine: Hospice and Palliative Medicine"},{"$f":"CLEAN(Table1[[#This Row],[Code]])","v":"207QH0002X"},"Family Medicine: Hospice and Palliative Medicine",null,"Medical taxonomy","Y","08",null,"08","26","08","08","08","26",null,null,{"$f":"IF(ISNUMBER(SEARCH(INDIRECT(CELL(\"address\")),S258)),MAX($R$1:R257)+1,0)","v":0},{"$f":"Table1[[#This Row],[Portico_Specialty]]&\"-\"&Table1[[#This Row],[Code]]","v":"Family Medicine: Hospice and Palliative Medicine-207QH0002X"},null,{"$f":"IFERROR(VLOOKUP(ROWS($U$1:U257),$R$2:$S$918,2,FALSE),\"\")","v":""}]
["207QB0002X",{"$f":"Table1[[#This Row],[Code]]&\" \"&Table1[[#This Row],[Portico_Specialty]]","v":"207QB0002X Family Medicine: Obesity Medicine"},{"$f":"CLEAN(Table1[[#This Row],[Code]])","v":"207QB0002X"},"Family Medicine: Obesity Medicine",null,"Medical taxonomy","Y","08",null,"08","26","08","08","08","26",null,null,{"$f":"IF(ISNUMBER(SEARCH(INDIRECT(CELL(\"address\")),S259)),MAX($R$1:R258)+1,0)","v":0},{"$f":"Table1[[#This Row],[Portico_Specialty]]&\"-\"&Table1[[#This Row],[Code]]","v":"Family Medicine: Obesity Medicine-207QB0002X"},null,{"$f":"IFERROR(VLOOKUP(ROWS($U$1:U258),$R$2:$S$918,2,FALSE),\"\")","v":""}]
["207QS1201X",{"$f":"Table1[[#This Row],[Code]]&\" \"&Table1[[#This Row],[Portico_Specialty]]","v":"207QS1201X Family Medicine: Sleep Medicine"},{"$f":"CLEAN(Table1[[#This Row],[Code]])","v":"207QS1201X"},"Family Medicine: Sleep Medicine",null,"Medical taxonomy","Y","08",null,"01","26","C0","01","C0","26",null,null,{"$f":"IF(ISNUMBER(SEARCH(INDIRECT(CELL(\"address\")),S260)),MAX($R$1:R259)+1,0)","v":0},{"$f":"Table1[[#This Row],[Portico_Specialty]]&\"-\"&Table1[[#This Row],[Code]]","v":"Family Medicine: Sleep Medicine-207QS1201X"},null,{"$f":"IFERROR(VLOOKUP(ROWS($U$1:U259),$R$2:$S$918,2,FALSE),\"\")","v":""}]
["207QS0010X",{"$f":"Table1[[#This Row],[Code]]&\" \"&Table1[[#This Row],[Portico_Specialty]]","v":"207QS0010X Family Medicine: Sports Medicine"},{"$f":"CLEAN(Table1[[#This Row],[Code]])","v":"207QS0010X"},"Family Medicine: Sports Medicine",null,"Medical taxonomy","Y","08",null,"01","26","01","23","23","26",null,null,{"$f":"IF(ISNUMBER(SEARCH(INDIRECT(CELL(\"address\")),S261)),MAX($R$1:R260)+1,0)","v":0},{"$f":"Table1[[#This Row],[Portico_Specialty]]&\"-\"&Table1[[#This Row],[Code]]","v":"Family Medicine: Sports Medicine-207QS0010X"},null,{"$f":"IFERROR(VLOOKUP(ROWS($U$1:U260),$R$2:$S$918,2,FALSE),\"\")","v":""}]
["207VF0040X",{"$f":"Table1[[#This Row],[Code]]&\" \"&Table1[[#This Row],[Portico_Specialty]]","v":"207VF0040X Female Pelvic Medicine and Reconstructive Surgery, OB/GYN"},{"$f":"CLEAN(Table1[[#This Row],[Code]])","v":"207VF0040X"},"Female Pelvic Medicine and Reconstructive Surgery, OB/GYN",null,"Medical taxonomy","Y",null,null,"99","16",null,"16","16","16",null,null,{"$f":"IF(ISNUMBER(SEARCH(INDIRECT(CELL(\"address\")),S262)),MAX($R$1:R261)+1,0)","v":0},{"$f":"Table1[[#This Row],[Portico_Specialty]]&\"-\"&Table1[[#This Row],[Code]]","v":"Female Pelvic Medicine and Reconstructive Surgery, OB/GYN-207VF0040X"},null,{"$f":"IFERROR(VLOOKUP(ROWS($U$1:U261),$R$2:$S$918,2,FALSE),\"\")","v":""}]
["2088F0040X",{"$f":"Table1[[#This Row],[Code]]&\" \"&Table1[[#This Row],[Portico_Specialty]]","v":"2088F0040X Female Pelvic Medicine and Reconstructive Surgery, Urology Physician"},{"$f":"CLEAN(Table1[[#This Row],[Code]])","v":"2088F0040X"},"Female Pelvic Medicine and Reconstructive Surgery, Urology Physician",null,"Medical taxonomy","Y",null,null,"99","34","34","34","24","34",null,null,{"$f":"IF(ISNUMBER(SEARCH(INDIRECT(CELL(\"address\")),S263)),MAX($R$1:R262)+1,0)","v":0},{"$f":"Table1[[#This Row],[Portico_Specialty]]&\"-\"&Table1[[#This Row],[Code]]","v":"Female Pelvic Medicine and Reconstructive Surgery, Urology Physician-2088F0040X"},null,{"$f":"IFERROR(VLOOKUP(ROWS($U$1:U262),$R$2:$S$918,2,FALSE),\"\")","v":""}]
["253J00000X",{"$f":"Table1[[#This Row],[Code]]&\" \"&Table1[[#This Row],[Portico_Specialty]]","v":"253J00000X Foster Care Agency"},{"$f":"CLEAN(Table1[[#This Row],[Code]])","v":"253J00000X"},"Foster Care Agency",null,"Medical taxonomy","N","60",null,"60","70","60","60","60","70",null,null,{"$f":"IF(ISNUMBER(SEARCH(INDIRECT(CELL(\"address\")),S264)),MAX($R$1:R263)+1,0)","v":0},{"$f":"Table1[[#This Row],[Portico_Specialty]]&\"-\"&Table1[[#This Row],[Code]]","v":"Foster Care Agency-253J00000X"},null,{"$f":"IFERROR(VLOOKUP(ROWS($U$1:U263),$R$2:$S$918,2,FALSE),\"\")","v":""}]
["176P00000X",{"$f":"Table1[[#This Row],[Code]]&\" \"&Table1[[#This Row],[Portico_Specialty]]","v":"176P00000X Funeral Director"},{"$f":"CLEAN(Table1[[#This Row],[Code]])","v":"176P00000X"},"Funeral Director",null,"Medical taxonomy","N",null,null,"99","99",null,null,null,"99",null,null,{"$f":"IF(ISNUMBER(SEARCH(INDIRECT(CELL(\"address\")),S265)),MAX($R$1:R264)+1,0)","v":0},{"$f":"Table1[[#This Row],[Portico_Specialty]]&\"-\"&Table1[[#This Row],[Code]]","v":"Funeral Director-176P00000X"},null,{"$f":"IFERROR(VLOOKUP(ROWS($U$1:U264),$R$2:$S$918,2,FALSE),\"\")","v":""}]
["282N00000X",{"$f":"Table1[[#This Row],[Code]]&\" \"&Table1[[#This Row],[Portico_Specialty]]","v":"282N00000X General Acute Care Hospital"},{"$f":"CLEAN(Table1[[#This Row],[Code]])","v":"282N00000X"},"General Acute Care Hospital","REQUIRED: Both an M & H Claim_Type build for BH.","Shared Taxonomy","Y","HO",null,"HO","HO","HO","HO","A0","HO",null,null,{"$f":"IF(ISNUMBER(SEARCH(INDIRECT(CELL(\"address\")),S266)),MAX($R$1:R265)+1,0)","v":0},{"$f":"Table1[[#This Row],[Portico_Specialty]]&\"-\"&Table1[[#This Row],[Code]]","v":"General Acute Care Hospital-282N00000X"},null,{"$f":"IFERROR(VLOOKUP(ROWS($U$1:U265),$R$2:$S$918,2,FALSE),\"\")","v":""}]
["282NC2000X",{"$f":"Table1[[#This Row],[Code]]&\" \"&Table1[[#This Row],[Portico_Specialty]]","v":"282NC2000X General Acute Care Hospital: Children"},{"$f":"CLEAN(Table1[[#This Row],[Code]])","v":"282NC2000X"},"General Acute Care Hospital: Children","REQUIRED: Both an M & H Claim_Type build for BH.","Shared Taxonomy","Y","HO",null,"HO","HO","HO","HO","A0","HO",null,null,{"$f":"IF(ISNUMBER(SEARCH(INDIRECT(CELL(\"address\")),S267)),MAX($R$1:R266)+1,0)","v":0},{"$f":"Table1[[#This Row],[Portico_Specialty]]&\"-\"&Table1[[#This Row],[Code]]","v":"General Acute Care Hospital: Children-282NC2000X"},null,{"$f":"IFERROR(VLOOKUP(ROWS($U$1:U266),$R$2:$S$918,2,FALSE),\"\")","v":""}]
["282NC0060X",{"$f":"Table1[[#This Row],[Code]]&\" \"&Table1[[#This Row],[Portico_Specialty]]","v":"282NC0060X General Acute Care Hospital: Critical Access"},{"$f":"CLEAN(Table1[[#This Row],[Code]])","v":"282NC0060X"},"General Acute Care Hospital: Critical Access","REQUIRED: Both an M & H Claim_Type build for BH.","Shared Taxonomy","Y","HO",null,"HO","HO","HO","HO","A0","HO",null,null,{"$f":"IF(ISNUMBER(SEARCH(INDIRECT(CELL(\"address\")),S268)),MAX($R$1:R267)+1,0)","v":0},{"$f":"Table1[[#This Row],[Portico_Specialty]]&\"-\"&Table1[[#This Row],[Code]]","v":"General Acute Care Hospital: Critical Access-282NC0060X"},null,{"$f":"IFERROR(VLOOKUP(ROWS($U$1:U267),$R$2:$S$918,2,FALSE),\"\")","v":""}]
["282NR1301X",{"$f":"Table1[[#This Row],[Code]]&\" \"&Table1[[#This Row],[Portico_Specialty]]","v":"282NR1301X General Acute Care Hospital: Rural"},{"$f":"CLEAN(Table1[[#This Row],[Code]])","v":"282NR1301X"},"General Acute Care Hospital: Rural","REQUIRED: Both an M & H Claim_Type build for BH.","Shared Taxonomy","N","HO",null,"HO","HO","HO","HO","A0","HO",null,null,{"$f":"IF(ISNUMBER(SEARCH(INDIRECT(CELL(\"address\")),S269)),MAX($R$1:R268)+1,0)","v":0},{"$f":"Table1[[#This Row],[Portico_Specialty]]&\"-\"&Table1[[#This Row],[Code]]","v":"General Acute Care Hospital: Rural-282NR1301X"},null,{"$f":"IFERROR(VLOOKUP(ROWS($U$1:U268),$R$2:$S$918,2,FALSE),\"\")","v":""}]
["282NW0100X",{"$f":"Table1[[#This Row],[Code]]&\" \"&Table1[[#This Row],[Portico_Specialty]]","v":"282NW0100X General Acute Care Hospital: Women"},{"$f":"CLEAN(Table1[[#This Row],[Code]])","v":"282NW0100X"},"General Acute Care Hospital: Women",null,"Medical taxonomy","N","HO",null,"HO","HO","HO","HO","A0","HO",null,null,{"$f":"IF(ISNUMBER(SEARCH(INDIRECT(CELL(\"address\")),S270)),MAX($R$1:R269)+1,0)","v":0},{"$f":"Table1[[#This Row],[Portico_Specialty]]&\"-\"&Table1[[#This Row],[Code]]","v":"General Acute Care Hospital: Women-282NW0100X"},null,{"$f":"IFERROR(VLOOKUP(ROWS($U$1:U269),$R$2:$S$918,2,FALSE),\"\")","v":""}]
["208D00000X",{"$f":"Table1[[#This Row],[Code]]&\" \"&Table1[[#This Row],[Portico_Specialty]]","v":"208D00000X General Practice"},{"$f":"CLEAN(Table1[[#This Row],[Code]])","v":"208D00000X"},"General Practice",null,"Medical taxonomy","Y","01",null,"01","01","01","01","01","01",null,null,{"$f":"IF(ISNUMBER(SEARCH(INDIRECT(CELL(\"address\")),S271)),MAX($R$1:R270)+1,0)","v":0},{"$f":"Table1[[#This Row],[Portico_Specialty]]&\"-\"&Table1[[#This Row],[Code]]","v":"General Practice-208D00000X"},null,{"$f":"IFERROR(VLOOKUP(ROWS($U$1:U270),$R$2:$S$918,2,FALSE),\"\")","v":""}]
["170300000X",{"$f":"Table1[[#This Row],[Code]]&\" \"&Table1[[#This Row],[Portico_Specialty]]","v":"170300000X Genetic Counselor, MS"},{"$f":"CLEAN(Table1[[#This Row],[Code]])","v":"170300000X"},"Genetic Counselor, MS",null,"Medical taxonomy","N","80",null,"GN","GN","GN","GN","47","GN",null,null,{"$f":"IF(ISNUMBER(SEARCH(INDIRECT(CELL(\"address\")),S272)),MAX($R$1:R271)+1,0)","v":0},{"$f":"Table1[[#This Row],[Portico_Specialty]]&\"-\"&Table1[[#This Row],[Code]]","v":"Genetic Counselor, MS-170300000X"},null,{"$f":"IFERROR(VLOOKUP(ROWS($U$1:U271),$R$2:$S$918,2,FALSE),\"\")","v":""}]
["174H00000X",{"$f":"Table1[[#This Row],[Code]]&\" \"&Table1[[#This Row],[Portico_Specialty]]","v":"174H00000X Health Educator"},{"$f":"CLEAN(Table1[[#This Row],[Code]])","v":"174H00000X"},"Health Educator",null,"Medical taxonomy","N","87",null,"99","PP",null,null,null,"PP",null,null,{"$f":"IF(ISNUMBER(SEARCH(INDIRECT(CELL(\"address\")),S273)),MAX($R$1:R272)+1,0)","v":0},{"$f":"Table1[[#This Row],[Portico_Specialty]]&\"-\"&Table1[[#This Row],[Code]]","v":"Health Educator-174H00000X"},null,{"$f":"IFERROR(VLOOKUP(ROWS($U$1:U272),$R$2:$S$918,2,FALSE),\"\")","v":""}]
["302R00000X",{"$f":"Table1[[#This Row],[Code]]&\" \"&Table1[[#This Row],[Portico_Specialty]]","v":"302R00000X Health Maintenance Organization"},{"$f":"CLEAN(Table1[[#This Row],[Code]])","v":"302R00000X"},"Health Maintenance Organization",null,"Medical taxonomy","N","99",null,"99","60","99","87","99","60",null,null,{"$f":"IF(ISNUMBER(SEARCH(INDIRECT(CELL(\"address\")),S274)),MAX($R$1:R273)+1,0)","v":0},{"$f":"Table1[[#This Row],[Portico_Specialty]]&\"-\"&Table1[[#This Row],[Code]]","v":"Health Maintenance Organization-302R00000X"},null,{"$f":"IFERROR(VLOOKUP(ROWS($U$1:U273),$R$2:$S$918,2,FALSE),\"\")","v":""}]
["332S00000X",{"$f":"Table1[[#This Row],[Code]]&\" \"&Table1[[#This Row],[Portico_Specialty]]","v":"332S00000X Hearing Aid Equipment"},{"$f":"CLEAN(Table1[[#This Row],[Code]])","v":"332S00000X"},"Hearing Aid Equipment",null,"Medical taxonomy","N","HA",null,"99","DM","87","DM","99","DM",null,null,{"$f":"IF(ISNUMBER(SEARCH(INDIRECT(CELL(\"address\")),S275)),MAX($R$1:R274)+1,0)","v":0},{"$f":"Table1[[#This Row],[Portico_Specialty]]&\"-\"&Table1[[#This Row],[Code]]","v":"Hearing Aid Equipment-332S00000X"},null,{"$f":"IFERROR(VLOOKUP(ROWS($U$1:U274),$R$2:$S$918,2,FALSE),\"\")","v":""}]
["237700000X",{"$f":"Table1[[#This Row],[Code]]&\" \"&Table1[[#This Row],[Portico_Specialty]]","v":"237700000X Hearing Instrument Specialist"},{"$f":"CLEAN(Table1[[#This Row],[Code]])","v":"237700000X"},"Hearing Instrument Specialist",null,"Medical taxonomy","N","64",null,"64","64","ST","64","64","64",null,null,{"$f":"IF(ISNUMBER(SEARCH(INDIRECT(CELL(\"address\")),S276)),MAX($R$1:R275)+1,0)","v":0},{"$f":"Table1[[#This Row],[Portico_Specialty]]&\"-\"&Table1[[#This Row],[Code]]","v":"Hearing Instrument Specialist-237700000X"},null,{"$f":"IFERROR(VLOOKUP(ROWS($U$1:U275),$R$2:$S$918,2,FALSE),\"\")","v":""}]
["332U00000X",{"$f":"Table1[[#This Row],[Code]]&\" \"&Table1[[#This Row],[Portico_Specialty]]","v":"332U00000X Home Delivered Meals"},{"$f":"CLEAN(Table1[[#This Row],[Code]])","v":"332U00000X"},"Home Delivered Meals",null,"Medical taxonomy","N","87",null,"99","99","87","87","99","99",null,null,{"$f":"IF(ISNUMBER(SEARCH(INDIRECT(CELL(\"address\")),S277)),MAX($R$1:R276)+1,0)","v":0},{"$f":"Table1[[#This Row],[Portico_Specialty]]&\"-\"&Table1[[#This Row],[Code]]","v":"Home Delivered Meals-332U00000X"},null,{"$f":"IFERROR(VLOOKUP(ROWS($U$1:U276),$R$2:$S$918,2,FALSE),\"\")","v":""}]
["251E00000X",{"$f":"Table1[[#This Row],[Code]]&\" \"&Table1[[#This Row],[Portico_Specialty]]","v":"251E00000X Home Health"},{"$f":"CLEAN(Table1[[#This Row],[Code]])","v":"251E00000X"},"Home Health",null,"Medical taxonomy","Y","HH",null,"HH","HH","HH","HH","A4","HH",null,null,{"$f":"IF(ISNUMBER(SEARCH(INDIRECT(CELL(\"address\")),S278)),MAX($R$1:R277)+1,0)","v":0},{"$f":"Table1[[#This Row],[Portico_Specialty]]&\"-\"&Table1[[#This Row],[Code]]","v":"Home Health-251E00000X"},null,{"$f":"IFERROR(VLOOKUP(ROWS($U$1:U277),$R$2:$S$918,2,FALSE),\"\")","v":""}]
["374U00000X",{"$f":"Table1[[#This Row],[Code]]&\" \"&Table1[[#This Row],[Portico_Specialty]]","v":"374U00000X Home Health Aide"},{"$f":"CLEAN(Table1[[#This Row],[Code]])","v":"374U00000X"},"Home Health Aide",null,"Medical taxonomy","N","HH",null,"HH","HH","HH","HH",null,"HH",null,null,{"$f":"IF(ISNUMBER(SEARCH(INDIRECT(CELL(\"address\")),S279)),MAX($R$1:R278)+1,0)","v":0},{"$f":"Table1[[#This Row],[Portico_Specialty]]&\"-\"&Table1[[#This Row],[Code]]","v":"Home Health Aide-374U00000X"},null,{"$f":"IFERROR(VLOOKUP(ROWS($U$1:U278),$R$2:$S$918,2,FALSE),\"\")","v":""}]
["251F00000X",{"$f":"Table1[[#This Row],[Code]]&\" \"&Table1[[#This Row],[Portico_Specialty]]","v":"251F00000X Home Infusion"},{"$f":"CLEAN(Table1[[#This Row],[Code]])","v":"251F00000X"},"Home Infusion",null,"Medical taxonomy","N","IV",null,"IV","IV","IV","IV","A4","IV",null,null,{"$f":"IF(ISNUMBER(SEARCH(INDIRECT(CELL(\"address\")),S280)),MAX($R$1:R279)+1,0)","v":0},{"$f":"Table1[[#This Row],[Portico_Specialty]]&\"-\"&Table1[[#This Row],[Code]]","v":"Home Infusion-251F00000X"},null,{"$f":"IFERROR(VLOOKUP(ROWS($U$1:U279),$R$2:$S$918,2,FALSE),\"\")","v":""}]
["376J00000X",{"$f":"Table1[[#This Row],[Code]]&\" \"&Table1[[#This Row],[Portico_Specialty]]","v":"376J00000X Homemaker"},{"$f":"CLEAN(Table1[[#This Row],[Code]])","v":"376J00000X"},"Homemaker",null,"Medical taxonomy","N","HH",null,"HH","HH","HH","HH","A4","HH",null,null,{"$f":"IF(ISNUMBER(SEARCH(INDIRECT(CELL(\"address\")),S281)),MAX($R$1:R280)+1,0)","v":0},{"$f":"Table1[[#This Row],[Portico_Specialty]]&\"-\"&Table1[[#This Row],[Code]]","v":"Homemaker-376J00000X"},null,{"$f":"IFERROR(VLOOKUP(ROWS($U$1:U280),$R$2:$S$918,2,FALSE),\"\")","v":""}]
["175L00000X",{"$f":"Table1[[#This Row],[Code]]&\" \"&Table1[[#This Row],[Portico_Specialty]]","v":"175L00000X Homeopath"},{"$f":"CLEAN(Table1[[#This Row],[Code]])","v":"175L00000X"},"Homeopath",null,"Medical taxonomy","N","87",null,"99","99",null,null,null,"99",null,null,{"$f":"IF(ISNUMBER(SEARCH(INDIRECT(CELL(\"address\")),S282)),MAX($R$1:R281)+1,0)","v":0},{"$f":"Table1[[#This Row],[Portico_Specialty]]&\"-\"&Table1[[#This Row],[Code]]","v":"Homeopath-175L00000X"},null,{"$f":"IFERROR(VLOOKUP(ROWS($U$1:U281),$R$2:$S$918,2,FALSE),\"\")","v":""}]
["207RH0002X",{"$f":"Table1[[#This Row],[Code]]&\" \"&Table1[[#This Row],[Portico_Specialty]]","v":"207RH0002X Hospice and Palliative Medicine"},{"$f":"CLEAN(Table1[[#This Row],[Code]])","v":"207RH0002X"},"Hospice and Palliative Medicine",null,"Medical taxonomy","Y",null,null,"11","11",null,"11","17","11",null,null,{"$f":"IF(ISNUMBER(SEARCH(INDIRECT(CELL(\"address\")),S283)),MAX($R$1:R282)+1,0)","v":0},{"$f":"Table1[[#This Row],[Portico_Specialty]]&\"-\"&Table1[[#This Row],[Code]]","v":"Hospice and Palliative Medicine-207RH0002X"},null,{"$f":"IFERROR(VLOOKUP(ROWS($U$1:U282),$R$2:$S$918,2,FALSE),\"\")","v":""}]
["251G00000X",{"$f":"Table1[[#This Row],[Code]]&\" \"&Table1[[#This Row],[Portico_Specialty]]","v":"251G00000X Hospice Care, Community Based"},{"$f":"CLEAN(Table1[[#This Row],[Code]])","v":"251G00000X"},"Hospice Care, Community Based",null,"Medical taxonomy","Y","HS",null,"HS","HS","HS","HS","17","HS",null,null,{"$f":"IF(ISNUMBER(SEARCH(INDIRECT(CELL(\"address\")),S284)),MAX($R$1:R283)+1,0)","v":0},{"$f":"Table1[[#This Row],[Portico_Specialty]]&\"-\"&Table1[[#This Row],[Code]]","v":"Hospice Care, Community Based-251G00000X"},null,{"$f":"IFERROR(VLOOKUP(ROWS($U$1:U283),$R$2:$S$918,2,FALSE),\"\")","v":""}]
["315D00000X",{"$f":"Table1[[#This Row],[Code]]&\" \"&Table1[[#This Row],[Portico_Specialty]]","v":"315D00000X Hospice, Inpatient"},{"$f":"CLEAN(Table1[[#This Row],[Code]])","v":"315D00000X"},"Hospice, Inpatient",null,"Medical taxonomy","N","HS",null,"HS","SN","HS","HS","17","SN",null,null,{"$f":"IF(ISNUMBER(SEARCH(INDIRECT(CELL(\"address\")),S285)),MAX($R$1:R284)+1,0)","v":0},{"$f":"Table1[[#This Row],[Portico_Specialty]]&\"-\"&Table1[[#This Row],[Code]]","v":"Hospice, Inpatient-315D00000X"},null,{"$f":"IFERROR(VLOOKUP(ROWS($U$1:U284),$R$2:$S$918,2,FALSE),\"\")","v":""}]
["208M00000X",{"$f":"Table1[[#This Row],[Code]]&\" \"&Table1[[#This Row],[Portico_Specialty]]","v":"208M00000X Hospitalist"},{"$f":"CLEAN(Table1[[#This Row],[Code]])","v":"208M00000X"},"Hospitalist",null,"Medical taxonomy","Y","11",null,"11","93","11","81","81","93",null,null,{"$f":"IF(ISNUMBER(SEARCH(INDIRECT(CELL(\"address\")),S286)),MAX($R$1:R285)+1,0)","v":0},{"$f":"Table1[[#This Row],[Portico_Specialty]]&\"-\"&Table1[[#This Row],[Code]]","v":"Hospitalist-208M00000X"},null,{"$f":"IFERROR(VLOOKUP(ROWS($U$1:U285),$R$2:$S$918,2,FALSE),\"\")","v":""}]
["207RH0005X",{"$f":"Table1[[#This Row],[Code]]&\" \"&Table1[[#This Row],[Portico_Specialty]]","v":"207RH0005X Hypertension Specialist"},{"$f":"CLEAN(Table1[[#This Row],[Code]])","v":"207RH0005X"},"Hypertension Specialist",null,"Medical taxonomy","N",null,null,"99","06",null,null,null,"06",null,null,{"$f":"IF(ISNUMBER(SEARCH(INDIRECT(CELL(\"address\")),S287)),MAX($R$1:R286)+1,0)","v":0},{"$f":"Table1[[#This Row],[Portico_Specialty]]&\"-\"&Table1[[#This Row],[Code]]","v":"Hypertension Specialist-207RH0005X"},null,{"$f":"IFERROR(VLOOKUP(ROWS($U$1:U286),$R$2:$S$918,2,FALSE),\"\")","v":""}]
["253Z00000X",{"$f":"Table1[[#This Row],[Code]]&\" \"&Table1[[#This Row],[Portico_Specialty]]","v":"253Z00000X In Home Supportive Care"},{"$f":"CLEAN(Table1[[#This Row],[Code]])","v":"253Z00000X"},"In Home Supportive Care",null,"Medical taxonomy","N","87",null,"HH","HH","70","HH","A4","HH",null,null,{"$f":"IF(ISNUMBER(SEARCH(INDIRECT(CELL(\"address\")),S288)),MAX($R$1:R287)+1,0)","v":0},{"$f":"Table1[[#This Row],[Portico_Specialty]]&\"-\"&Table1[[#This Row],[Code]]","v":"In Home Supportive Care-253Z00000X"},null,{"$f":"IFERROR(VLOOKUP(ROWS($U$1:U287),$R$2:$S$918,2,FALSE),\"\")","v":""}]
["202C00000X",{"$f":"Table1[[#This Row],[Code]]&\" \"&Table1[[#This Row],[Portico_Specialty]]","v":"202C00000X Independent Medical Examiner"},{"$f":"CLEAN(Table1[[#This Row],[Code]])","v":"202C00000X"},"Independent Medical Examiner",null,"Medical taxonomy","N","99",null,"18","69",null,"18",null,"69",null,null,{"$f":"IF(ISNUMBER(SEARCH(INDIRECT(CELL(\"address\")),S289)),MAX($R$1:R288)+1,0)","v":0},{"$f":"Table1[[#This Row],[Portico_Specialty]]&\"-\"&Table1[[#This Row],[Code]]","v":"Independent Medical Examiner-202C00000X"},null,{"$f":"IFERROR(VLOOKUP(ROWS($U$1:U288),$R$2:$S$918,2,FALSE),\"\")","v":""}]
["332800000X",{"$f":"Table1[[#This Row],[Code]]&\" \"&Table1[[#This Row],[Portico_Specialty]]","v":"332800000X Indian Health Service/Tribal/Urban Indian Health (I/T/U) Pharmacy"},{"$f":"CLEAN(Table1[[#This Row],[Code]])","v":"332800000X"},"Indian Health Service/Tribal/Urban Indian Health (I/T/U) Pharmacy",null,"Medical taxonomy","N","70",null,"PH","PD","PH","PH","70","PD",null,null,{"$f":"IF(ISNUMBER(SEARCH(INDIRECT(CELL(\"address\")),S290)),MAX($R$1:R289)+1,0)","v":0},{"$f":"Table1[[#This Row],[Portico_Specialty]]&\"-\"&Table1[[#This Row],[Code]]","v":"Indian Health Service/Tribal/Urban Indian Health (I/T/U) Pharmacy-332800000X"},null,{"$f":"IFERROR(VLOOKUP(ROWS($U$1:U289),$R$2:$S$918,2,FALSE),\"\")","v":""}]
["310500000X",{"$f":"Table1[[#This Row],[Code]]&\" \"&Table1[[#This Row],[Portico_Specialty]]","v":"310500000X Intermediate Care Facility, Mental Illness"},{"$f":"CLEAN(Table1[[#This Row],[Code]])","v":"310500000X"},"Intermediate Care Facility, Mental Illness",null,"Medical taxonomy","N","SN",null,"SN","SN","SN","SN","A1","SN",null,null,{"$f":"IF(ISNUMBER(SEARCH(INDIRECT(CELL(\"address\")),S291)),MAX($R$1:R290)+1,0)","v":0},{"$f":"Table1[[#This Row],[Portico_Specialty]]&\"-\"&Table1[[#This Row],[Code]]","v":"Intermediate Care Facility, Mental Illness-310500000X"},null,{"$f":"IFERROR(VLOOKUP(ROWS($U$1:U290),$R$2:$S$918,2,FALSE),\"\")","v":""}]
["315P00000X",{"$f":"Table1[[#This Row],[Code]]&\" \"&Table1[[#This Row],[Portico_Specialty]]","v":"315P00000X Intermediate Care Facility, Mentally Retarded"},{"$f":"CLEAN(Table1[[#This Row],[Code]])","v":"315P00000X"},"Intermediate Care Facility, Mentally Retarded",null,"Medical taxonomy","N","SN",null,"SN","SN","SN","SN","A1","SN",null,null,{"$f":"IF(ISNUMBER(SEARCH(INDIRECT(CELL(\"address\")),S292)),MAX($R$1:R291)+1,0)","v":0},{"$f":"Table1[[#This Row],[Portico_Specialty]]&\"-\"&Table1[[#This Row],[Code]]","v":"Intermediate Care Facility, Mentally Retarded-315P00000X"},null,{"$f":"IFERROR(VLOOKUP(ROWS($U$1:U291),$R$2:$S$918,2,FALSE),\"\")","v":""}]
["207R00000X",{"$f":"Table1[[#This Row],[Code]]&\" \"&Table1[[#This Row],[Portico_Specialty]]","v":"207R00000X Internal Medicine"},{"$f":"CLEAN(Table1[[#This Row],[Code]])","v":"207R00000X"},"Internal Medicine",null,"Shared Taxonomy","Y","11",null,"11","11","11","11","11","11",null,null,{"$f":"IF(ISNUMBER(SEARCH(INDIRECT(CELL(\"address\")),S293)),MAX($R$1:R292)+1,0)","v":0},{"$f":"Table1[[#This Row],[Portico_Specialty]]&\"-\"&Table1[[#This Row],[Code]]","v":"Internal Medicine-207R00000X"},null,{"$f":"IFERROR(VLOOKUP(ROWS($U$1:U292),$R$2:$S$918,2,FALSE),\"\")","v":""}]
["207RA0401X",{"$f":"Table1[[#This Row],[Code]]&\" \"&Table1[[#This Row],[Portico_Specialty]]","v":"207RA0401X Internal Medicine: Addiction Medicine"},{"$f":"CLEAN(Table1[[#This Row],[Code]])","v":"207RA0401X"},"Internal Medicine: Addiction Medicine",null,"Shared Taxonomy","Y","79",null,"79","79","79","79","79","79",null,null,{"$f":"IF(ISNUMBER(SEARCH(INDIRECT(CELL(\"address\")),S294)),MAX($R$1:R293)+1,0)","v":0},{"$f":"Table1[[#This Row],[Portico_Specialty]]&\"-\"&Table1[[#This Row],[Code]]","v":"Internal Medicine: Addiction Medicine-207RA0401X"},null,{"$f":"IFERROR(VLOOKUP(ROWS($U$1:U293),$R$2:$S$918,2,FALSE),\"\")","v":""}]
["207RA0000X",{"$f":"Table1[[#This Row],[Code]]&\" \"&Table1[[#This Row],[Portico_Specialty]]","v":"207RA0000X Internal Medicine: Adolescent Medicine"},{"$f":"CLEAN(Table1[[#This Row],[Code]])","v":"207RA0000X"},"Internal Medicine: Adolescent Medicine",null,"Medical taxonomy","Y","37",null,"37","11","37","37","11","11",null,null,{"$f":"IF(ISNUMBER(SEARCH(INDIRECT(CELL(\"address\")),S295)),MAX($R$1:R294)+1,0)","v":0},{"$f":"Table1[[#This Row],[Portico_Specialty]]&\"-\"&Table1[[#This Row],[Code]]","v":"Internal Medicine: Adolescent Medicine-207RA0000X"},null,{"$f":"IFERROR(VLOOKUP(ROWS($U$1:U294),$R$2:$S$918,2,FALSE),\"\")","v":""}]
["207RA0001X",{"$f":"Table1[[#This Row],[Code]]&\" \"&Table1[[#This Row],[Portico_Specialty]]","v":"207RA0001X Internal Medicine: Advanced Heart Failure and Transplant Cardiology"},{"$f":"CLEAN(Table1[[#This Row],[Code]])","v":"207RA0001X"},"Internal Medicine: Advanced Heart Failure and Transplant Cardiology",null,"Medical taxonomy","Y",null,null,"11","11",null,null,null,"11",null,null,{"$f":"IF(ISNUMBER(SEARCH(INDIRECT(CELL(\"address\")),S296)),MAX($R$1:R295)+1,0)","v":0},{"$f":"Table1[[#This Row],[Portico_Specialty]]&\"-\"&Table1[[#This Row],[Code]]","v":"Internal Medicine: Advanced Heart Failure and Transplant Cardiology-207RA0001X"},null,{"$f":"IFERROR(VLOOKUP(ROWS($U$1:U295),$R$2:$S$918,2,FALSE),\"\")","v":""}]
["207RA0201X",{"$f":"Table1[[#This Row],[Code]]&\" \"&Table1[[#This Row],[Portico_Specialty]]","v":"207RA0201X Internal Medicine: Allergy & Immunology"},{"$f":"CLEAN(Table1[[#This Row],[Code]])","v":"207RA0201X"},"Internal Medicine: Allergy & Immunology",null,"Medical taxonomy","Y","03",null,"03","03","03","03","03","03",null,null,{"$f":"IF(ISNUMBER(SEARCH(INDIRECT(CELL(\"address\")),S297)),MAX($R$1:R296)+1,0)","v":0},{"$f":"Table1[[#This Row],[Portico_Specialty]]&\"-\"&Table1[[#This Row],[Code]]","v":"Internal Medicine: Allergy & Immunology-207RA0201X"},null,{"$f":"IFERROR(VLOOKUP(ROWS($U$1:U296),$R$2:$S$918,2,FALSE),\"\")","v":""}]
["207RC0000X",{"$f":"Table1[[#This Row],[Code]]&\" \"&Table1[[#This Row],[Portico_Specialty]]","v":"207RC0000X Internal Medicine: Cardiovascular Disease"},{"$f":"CLEAN(Table1[[#This Row],[Code]])","v":"207RC0000X"},"Internal Medicine: Cardiovascular Disease",null,"Medical taxonomy","Y","06",null,"06","06","06","06","06","06",null,null,{"$f":"IF(ISNUMBER(SEARCH(INDIRECT(CELL(\"address\")),S298)),MAX($R$1:R297)+1,0)","v":0},{"$f":"Table1[[#This Row],[Portico_Specialty]]&\"-\"&Table1[[#This Row],[Code]]","v":"Internal Medicine: Cardiovascular Disease-207RC0000X"},null,{"$f":"IFERROR(VLOOKUP(ROWS($U$1:U297),$R$2:$S$918,2,FALSE),\"\")","v":""}]
["207RI0001X",{"$f":"Table1[[#This Row],[Code]]&\" \"&Table1[[#This Row],[Portico_Specialty]]","v":"207RI0001X Internal Medicine: Clinical & Laboratory Immunology"},{"$f":"CLEAN(Table1[[#This Row],[Code]])","v":"207RI0001X"},"Internal Medicine: Clinical & Laboratory Immunology",null,"Medical taxonomy","Y","03",null,"03","11","03","03","03","11",null,null,{"$f":"IF(ISNUMBER(SEARCH(INDIRECT(CELL(\"address\")),S299)),MAX($R$1:R298)+1,0)","v":0},{"$f":"Table1[[#This Row],[Portico_Specialty]]&\"-\"&Table1[[#This Row],[Code]]","v":"Internal Medicine: Clinical & Laboratory Immunology-207RI0001X"},null,{"$f":"IFERROR(VLOOKUP(ROWS($U$1:U298),$R$2:$S$918,2,FALSE),\"\")","v":""}]
["207RC0001X",{"$f":"Table1[[#This Row],[Code]]&\" \"&Table1[[#This Row],[Portico_Specialty]]","v":"207RC0001X Internal Medicine: Clinical Cardiac Electrophysiology"},{"$f":"CLEAN(Table1[[#This Row],[Code]])","v":"207RC0001X"},"Internal Medicine: Clinical Cardiac Electrophysiology",null,"Medical taxonomy","Y","06",null,"06","11","06","06","21","11",null,null,{"$f":"IF(ISNUMBER(SEARCH(INDIRECT(CELL(\"address\")),S300)),MAX($R$1:R299)+1,0)","v":0},{"$f":"Table1[[#This Row],[Portico_Specialty]]&\"-\"&Table1[[#This Row],[Code]]","v":"Internal Medicine: Clinical Cardiac Electrophysiology-207RC0001X"},null,{"$f":"IFERROR(VLOOKUP(ROWS($U$1:U299),$R$2:$S$918,2,FALSE),\"\")","v":""}]
["207RC0200X",{"$f":"Table1[[#This Row],[Code]]&\" \"&Table1[[#This Row],[Portico_Specialty]]","v":"207RC0200X Internal Medicine: Critical Care Medicine"},{"$f":"CLEAN(Table1[[#This Row],[Code]])","v":"207RC0200X"},"Internal Medicine: Critical Care Medicine",null,"Medical taxonomy","Y","81",null,"81","11","81","81","81","11",null,null,{"$f":"IF(ISNUMBER(SEARCH(INDIRECT(CELL(\"address\")),S301)),MAX($R$1:R300)+1,0)","v":0},{"$f":"Table1[[#This Row],[Portico_Specialty]]&\"-\"&Table1[[#This Row],[Code]]","v":"Internal Medicine: Critical Care Medicine-207RC0200X"},null,{"$f":"IFERROR(VLOOKUP(ROWS($U$1:U300),$R$2:$S$918,2,FALSE),\"\")","v":""}]
["207RE0101X",{"$f":"Table1[[#This Row],[Code]]&\" \"&Table1[[#This Row],[Portico_Specialty]]","v":"207RE0101X Internal Medicine: Endocrinology, Diabetes & Metabolism"},{"$f":"CLEAN(Table1[[#This Row],[Code]])","v":"207RE0101X"},"Internal Medicine: Endocrinology, Diabetes & Metabolism",null,"Medical taxonomy","Y","46",null,"46","46","46","46","46","46",null,null,{"$f":"IF(ISNUMBER(SEARCH(INDIRECT(CELL(\"address\")),S302)),MAX($R$1:R301)+1,0)","v":0},{"$f":"Table1[[#This Row],[Portico_Specialty]]&\"-\"&Table1[[#This Row],[Code]]","v":"Internal Medicine: Endocrinology, Diabetes & Metabolism-207RE0101X"},null,{"$f":"IFERROR(VLOOKUP(ROWS($U$1:U301),$R$2:$S$918,2,FALSE),\"\")","v":""}]
["207RG0100X",{"$f":"Table1[[#This Row],[Code]]&\" \"&Table1[[#This Row],[Portico_Specialty]]","v":"207RG0100X Internal Medicine: Gastroenterology"},{"$f":"CLEAN(Table1[[#This Row],[Code]])","v":"207RG0100X"},"Internal Medicine: Gastroenterology",null,"Medical taxonomy","Y","10",null,"10","10","10","10","10","10",null,null,{"$f":"IF(ISNUMBER(SEARCH(INDIRECT(CELL(\"address\")),S303)),MAX($R$1:R302)+1,0)","v":0},{"$f":"Table1[[#This Row],[Portico_Specialty]]&\"-\"&Table1[[#This Row],[Code]]","v":"Internal Medicine: Gastroenterology-207RG0100X"},null,{"$f":"IFERROR(VLOOKUP(ROWS($U$1:U302),$R$2:$S$918,2,FALSE),\"\")","v":""}]
["207RG0300X",{"$f":"Table1[[#This Row],[Code]]&\" \"&Table1[[#This Row],[Portico_Specialty]]","v":"207RG0300X Internal Medicine: Geriatric Medicine"},{"$f":"CLEAN(Table1[[#This Row],[Code]])","v":"207RG0300X"},"Internal Medicine: Geriatric Medicine",null,"Medical taxonomy","Y","38",null,"38","38","38","38","38","38",null,null,{"$f":"IF(ISNUMBER(SEARCH(INDIRECT(CELL(\"address\")),S304)),MAX($R$1:R303)+1,0)","v":0},{"$f":"Table1[[#This Row],[Portico_Specialty]]&\"-\"&Table1[[#This Row],[Code]]","v":"Internal Medicine: Geriatric Medicine-207RG0300X"},null,{"$f":"IFERROR(VLOOKUP(ROWS($U$1:U303),$R$2:$S$918,2,FALSE),\"\")","v":""}]
["207RH0000X",{"$f":"Table1[[#This Row],[Code]]&\" \"&Table1[[#This Row],[Portico_Specialty]]","v":"207RH0000X Internal Medicine: Hematology"},{"$f":"CLEAN(Table1[[#This Row],[Code]])","v":"207RH0000X"},"Internal Medicine: Hematology",null,"Medical taxonomy","Y","82",null,"82","82","82","82","82","82",null,null,{"$f":"IF(ISNUMBER(SEARCH(INDIRECT(CELL(\"address\")),S305)),MAX($R$1:R304)+1,0)","v":0},{"$f":"Table1[[#This Row],[Portico_Specialty]]&\"-\"&Table1[[#This Row],[Code]]","v":"Internal Medicine: Hematology-207RH0000X"},null,{"$f":"IFERROR(VLOOKUP(ROWS($U$1:U304),$R$2:$S$918,2,FALSE),\"\")","v":""}]
["207RH0003X",{"$f":"Table1[[#This Row],[Code]]&\" \"&Table1[[#This Row],[Portico_Specialty]]","v":"207RH0003X Internal Medicine: Hematology & Oncology"},{"$f":"CLEAN(Table1[[#This Row],[Code]])","v":"207RH0003X"},"Internal Medicine: Hematology & Oncology",null,"Medical taxonomy","Y","83",null,"83","83","83","83","83","83",null,null,{"$f":"IF(ISNUMBER(SEARCH(INDIRECT(CELL(\"address\")),S306)),MAX($R$1:R305)+1,0)","v":0},{"$f":"Table1[[#This Row],[Portico_Specialty]]&\"-\"&Table1[[#This Row],[Code]]","v":"Internal Medicine: Hematology & Oncology-207RH0003X"},null,{"$f":"IFERROR(VLOOKUP(ROWS($U$1:U305),$R$2:$S$918,2,FALSE),\"\")","v":""}]
["207RI0008X",{"$f":"Table1[[#This Row],[Code]]&\" \"&Table1[[#This Row],[Portico_Specialty]]","v":"207RI0008X Internal Medicine: Hepatology"},{"$f":"CLEAN(Table1[[#This Row],[Code]])","v":"207RI0008X"},"Internal Medicine: Hepatology",null,"Medical taxonomy","Y","10",null,"10","11","10","10","10","11",null,null,{"$f":"IF(ISNUMBER(SEARCH(INDIRECT(CELL(\"address\")),S307)),MAX($R$1:R306)+1,0)","v":0},{"$f":"Table1[[#This Row],[Portico_Specialty]]&\"-\"&Table1[[#This Row],[Code]]","v":"Internal Medicine: Hepatology-207RI0008X"},null,{"$f":"IFERROR(VLOOKUP(ROWS($U$1:U306),$R$2:$S$918,2,FALSE),\"\")","v":""}]
["207RI0200X",{"$f":"Table1[[#This Row],[Code]]&\" \"&Table1[[#This Row],[Portico_Specialty]]","v":"207RI0200X Internal Medicine: Infectious Disease"},{"$f":"CLEAN(Table1[[#This Row],[Code]])","v":"207RI0200X"},"Internal Medicine: Infectious Disease",null,"Medical taxonomy","Y","44",null,"44","44","44","44","44","44",null,null,{"$f":"IF(ISNUMBER(SEARCH(INDIRECT(CELL(\"address\")),S308)),MAX($R$1:R307)+1,0)","v":0},{"$f":"Table1[[#This Row],[Portico_Specialty]]&\"-\"&Table1[[#This Row],[Code]]","v":"Internal Medicine: Infectious Disease-207RI0200X"},null,{"$f":"IFERROR(VLOOKUP(ROWS($U$1:U307),$R$2:$S$918,2,FALSE),\"\")","v":""}]
["207RI0011X",{"$f":"Table1[[#This Row],[Code]]&\" \"&Table1[[#This Row],[Portico_Specialty]]","v":"207RI0011X Internal Medicine: Interventional Cardiology"},{"$f":"CLEAN(Table1[[#This Row],[Code]])","v":"207RI0011X"},"Internal Medicine: Interventional Cardiology",null,"Medical taxonomy","Y","06",null,"06","06","06","06","06","06",null,null,{"$f":"IF(ISNUMBER(SEARCH(INDIRECT(CELL(\"address\")),S309)),MAX($R$1:R308)+1,0)","v":0},{"$f":"Table1[[#This Row],[Portico_Specialty]]&\"-\"&Table1[[#This Row],[Code]]","v":"Internal Medicine: Interventional Cardiology-207RI0011X"},null,{"$f":"IFERROR(VLOOKUP(ROWS($U$1:U308),$R$2:$S$918,2,FALSE),\"\")","v":""}]
["207RM1200X",{"$f":"Table1[[#This Row],[Code]]&\" \"&Table1[[#This Row],[Portico_Specialty]]","v":"207RM1200X Internal Medicine: Magnetic Resonance Imaging (MRI)"},{"$f":"CLEAN(Table1[[#This Row],[Code]])","v":"207RM1200X"},"Internal Medicine: Magnetic Resonance Imaging (MRI)",null,"Medical taxonomy","Y","30",null,"30","11","30","30","30","11",null,null,{"$f":"IF(ISNUMBER(SEARCH(INDIRECT(CELL(\"address\")),S310)),MAX($R$1:R309)+1,0)","v":0},{"$f":"Table1[[#This Row],[Portico_Specialty]]&\"-\"&Table1[[#This Row],[Code]]","v":"Internal Medicine: Magnetic Resonance Imaging (MRI)-207RM1200X"},null,{"$f":"IFERROR(VLOOKUP(ROWS($U$1:U309),$R$2:$S$918,2,FALSE),\"\")","v":""}]
["207RX0202X",{"$f":"Table1[[#This Row],[Code]]&\" \"&Table1[[#This Row],[Portico_Specialty]]","v":"207RX0202X Internal Medicine: Medical Oncology"},{"$f":"CLEAN(Table1[[#This Row],[Code]])","v":"207RX0202X"},"Internal Medicine: Medical Oncology",null,"Medical taxonomy","Y","90",null,"90","90","90","90","90","90",null,null,{"$f":"IF(ISNUMBER(SEARCH(INDIRECT(CELL(\"address\")),S311)),MAX($R$1:R310)+1,0)","v":0},{"$f":"Table1[[#This Row],[Portico_Specialty]]&\"-\"&Table1[[#This Row],[Code]]","v":"Internal Medicine: Medical Oncology-207RX0202X"},null,{"$f":"IFERROR(VLOOKUP(ROWS($U$1:U310),$R$2:$S$918,2,FALSE),\"\")","v":""}]
["207RN0300X",{"$f":"Table1[[#This Row],[Code]]&\" \"&Table1[[#This Row],[Portico_Specialty]]","v":"207RN0300X Internal Medicine: Nephrology"},{"$f":"CLEAN(Table1[[#This Row],[Code]])","v":"207RN0300X"},"Internal Medicine: Nephrology",null,"Medical taxonomy","Y","39",null,"39","39","39","39","39","39",null,null,{"$f":"IF(ISNUMBER(SEARCH(INDIRECT(CELL(\"address\")),S312)),MAX($R$1:R311)+1,0)","v":0},{"$f":"Table1[[#This Row],[Portico_Specialty]]&\"-\"&Table1[[#This Row],[Code]]","v":"Internal Medicine: Nephrology-207RN0300X"},null,{"$f":"IFERROR(VLOOKUP(ROWS($U$1:U311),$R$2:$S$918,2,FALSE),\"\")","v":""}]
["207RB0002X",{"$f":"Table1[[#This Row],[Code]]&\" \"&Table1[[#This Row],[Portico_Specialty]]","v":"207RB0002X Internal Medicine: Obesity Medicine"},{"$f":"CLEAN(Table1[[#This Row],[Code]])","v":"207RB0002X"},"Internal Medicine: Obesity Medicine",null,"Medical taxonomy","Y","11",null,"11","11","11","11","11","11",null,null,{"$f":"IF(ISNUMBER(SEARCH(INDIRECT(CELL(\"address\")),S313)),MAX($R$1:R312)+1,0)","v":0},{"$f":"Table1[[#This Row],[Portico_Specialty]]&\"-\"&Table1[[#This Row],[Code]]","v":"Internal Medicine: Obesity Medicine-207RB0002X"},null,{"$f":"IFERROR(VLOOKUP(ROWS($U$1:U312),$R$2:$S$918,2,FALSE),\"\")","v":""}]
["207RP1001X",{"$f":"Table1[[#This Row],[Code]]&\" \"&Table1[[#This Row],[Portico_Specialty]]","v":"207RP1001X Internal Medicine: Pulmonary Disease"},{"$f":"CLEAN(Table1[[#This Row],[Code]])","v":"207RP1001X"},"Internal Medicine: Pulmonary Disease",null,"Medical taxonomy","Y","29",null,"29","29","29","29","29","29",null,null,{"$f":"IF(ISNUMBER(SEARCH(INDIRECT(CELL(\"address\")),S314)),MAX($R$1:R313)+1,0)","v":0},{"$f":"Table1[[#This Row],[Portico_Specialty]]&\"-\"&Table1[[#This Row],[Code]]","v":"Internal Medicine: Pulmonary Disease-207RP1001X"},null,{"$f":"IFERROR(VLOOKUP(ROWS($U$1:U313),$R$2:$S$918,2,FALSE),\"\")","v":""}]
["207RR0500X",{"$f":"Table1[[#This Row],[Code]]&\" \"&Table1[[#This Row],[Portico_Specialty]]","v":"207RR0500X Internal Medicine: Rheumatology"},{"$f":"CLEAN(Table1[[#This Row],[Code]])","v":"207RR0500X"},"Internal Medicine: Rheumatology",null,"Medical taxonomy","Y","66",null,"66","66","66","66","66","66",null,null,{"$f":"IF(ISNUMBER(SEARCH(INDIRECT(CELL(\"address\")),S315)),MAX($R$1:R314)+1,0)","v":0},{"$f":"Table1[[#This Row],[Portico_Specialty]]&\"-\"&Table1[[#This Row],[Code]]","v":"Internal Medicine: Rheumatology-207RR0500X"},null,{"$f":"IFERROR(VLOOKUP(ROWS($U$1:U314),$R$2:$S$918,2,FALSE),\"\")","v":""}]
["207RS0012X",{"$f":"Table1[[#This Row],[Code]]&\" \"&Table1[[#This Row],[Portico_Specialty]]","v":"207RS0012X Internal Medicine: Sleep Medicine"},{"$f":"CLEAN(Table1[[#This Row],[Code]])","v":"207RS0012X"},"Internal Medicine: Sleep Medicine",null,"Medical taxonomy","Y","11",null,"11","11","C0","11","11","11",null,null,{"$f":"IF(ISNUMBER(SEARCH(INDIRECT(CELL(\"address\")),S316)),MAX($R$1:R315)+1,0)","v":0},{"$f":"Table1[[#This Row],[Portico_Specialty]]&\"-\"&Table1[[#This Row],[Code]]","v":"Internal Medicine: Sleep Medicine-207RS0012X"},null,{"$f":"IFERROR(VLOOKUP(ROWS($U$1:U315),$R$2:$S$918,2,FALSE),\"\")","v":""}]
["207RS0010X",{"$f":"Table1[[#This Row],[Code]]&\" \"&Table1[[#This Row],[Portico_Specialty]]","v":"207RS0010X Internal Medicine: Sports Medicine"},{"$f":"CLEAN(Table1[[#This Row],[Code]])","v":"207RS0010X"},"Internal Medicine: Sports Medicine",null,"Medical taxonomy","Y","11",null,"11","11","11","11","23","11",null,null,{"$f":"IF(ISNUMBER(SEARCH(INDIRECT(CELL(\"address\")),S317)),MAX($R$1:R316)+1,0)","v":0},{"$f":"Table1[[#This Row],[Portico_Specialty]]&\"-\"&Table1[[#This Row],[Code]]","v":"Internal Medicine: Sports Medicine-207RS0010X"},null,{"$f":"IFERROR(VLOOKUP(ROWS($U$1:U316),$R$2:$S$918,2,FALSE),\"\")","v":""}]
["207RT0003X",{"$f":"Table1[[#This Row],[Code]]&\" \"&Table1[[#This Row],[Portico_Specialty]]","v":"207RT0003X Internal Medicine: Transplant Hepatology"},{"$f":"CLEAN(Table1[[#This Row],[Code]])","v":"207RT0003X"},"Internal Medicine: Transplant Hepatology",null,"Medical taxonomy","Y","10",null,"10","11","10","10","10","11",null,null,{"$f":"IF(ISNUMBER(SEARCH(INDIRECT(CELL(\"address\")),S318)),MAX($R$1:R317)+1,0)","v":0},{"$f":"Table1[[#This Row],[Portico_Specialty]]&\"-\"&Table1[[#This Row],[Code]]","v":"Internal Medicine: Transplant Hepatology-207RT0003X"},null,{"$f":"IFERROR(VLOOKUP(ROWS($U$1:U317),$R$2:$S$918,2,FALSE),\"\")","v":""}]
["171R00000X",{"$f":"Table1[[#This Row],[Code]]&\" \"&Table1[[#This Row],[Portico_Specialty]]","v":"171R00000X Interpreter"},{"$f":"CLEAN(Table1[[#This Row],[Code]])","v":"171R00000X"},"Interpreter",null,"Medical taxonomy","N","HH",null,"99","99",null,null,null,"99",null,null,{"$f":"IF(ISNUMBER(SEARCH(INDIRECT(CELL(\"address\")),S319)),MAX($R$1:R318)+1,0)","v":0},{"$f":"Table1[[#This Row],[Portico_Specialty]]&\"-\"&Table1[[#This Row],[Code]]","v":"Interpreter-171R00000X"},null,{"$f":"IFERROR(VLOOKUP(ROWS($U$1:U318),$R$2:$S$918,2,FALSE),\"\")","v":""}]
["226300000X",{"$f":"Table1[[#This Row],[Code]]&\" \"&Table1[[#This Row],[Portico_Specialty]]","v":"226300000X Kinesiotherapist"},{"$f":"CLEAN(Table1[[#This Row],[Code]])","v":"226300000X"},"Kinesiotherapist",null,"Medical taxonomy","N","65",null,"99","65","65",null,null,"65",null,null,{"$f":"IF(ISNUMBER(SEARCH(INDIRECT(CELL(\"address\")),S320)),MAX($R$1:R319)+1,0)","v":0},{"$f":"Table1[[#This Row],[Portico_Specialty]]&\"-\"&Table1[[#This Row],[Code]]","v":"Kinesiotherapist-226300000X"},null,{"$f":"IFERROR(VLOOKUP(ROWS($U$1:U319),$R$2:$S$918,2,FALSE),\"\")","v":""}]
["174N00000X",{"$f":"Table1[[#This Row],[Code]]&\" \"&Table1[[#This Row],[Portico_Specialty]]","v":"174N00000X Lactation Consultant, Non-RN"},{"$f":"CLEAN(Table1[[#This Row],[Code]])","v":"174N00000X"},"Lactation Consultant, Non-RN",null,"Medical taxonomy","N",null,null,"99","PP",null,null,null,"PP",null,null,{"$f":"IF(ISNUMBER(SEARCH(INDIRECT(CELL(\"address\")),S321)),MAX($R$1:R320)+1,0)","v":0},{"$f":"Table1[[#This Row],[Portico_Specialty]]&\"-\"&Table1[[#This Row],[Code]]","v":"Lactation Consultant, Non-RN-174N00000X"},null,{"$f":"IFERROR(VLOOKUP(ROWS($U$1:U320),$R$2:$S$918,2,FALSE),\"\")","v":""}]
["209800000X",{"$f":"Table1[[#This Row],[Code]]&\" \"&Table1[[#This Row],[Portico_Specialty]]","v":"209800000X Legal Medicine (Allopathic & Osteopathic)"},{"$f":"CLEAN(Table1[[#This Row],[Code]])","v":"209800000X"},"Legal Medicine (Allopathic & Osteopathic)",null,"Medical taxonomy","N",null,null,"99","01",null,null,null,"01",null,null,{"$f":"IF(ISNUMBER(SEARCH(INDIRECT(CELL(\"address\")),S322)),MAX($R$1:R321)+1,0)","v":0},{"$f":"Table1[[#This Row],[Portico_Specialty]]&\"-\"&Table1[[#This Row],[Code]]","v":"Legal Medicine (Allopathic & Osteopathic)-209800000X"},null,{"$f":"IFERROR(VLOOKUP(ROWS($U$1:U321),$R$2:$S$918,2,FALSE),\"\")","v":""}]
["173000000X",{"$f":"Table1[[#This Row],[Code]]&\" \"&Table1[[#This Row],[Portico_Specialty]]","v":"173000000X Legal Medicine (Other Service Providers)"},{"$f":"CLEAN(Table1[[#This Row],[Code]])","v":"173000000X"},"Legal Medicine (Other Service Providers)",null,"Medical taxonomy","N",null,null,"99","99",null,"87","81","99",null,null,{"$f":"IF(ISNUMBER(SEARCH(INDIRECT(CELL(\"address\")),S323)),MAX($R$1:R322)+1,0)","v":0},{"$f":"Table1[[#This Row],[Portico_Specialty]]&\"-\"&Table1[[#This Row],[Code]]","v":"Legal Medicine (Other Service Providers)-173000000X"},null,{"$f":"IFERROR(VLOOKUP(ROWS($U$1:U322),$R$2:$S$918,2,FALSE),\"\")","v":""}]
["AltSpec1",{"$f":"Table1[[#This Row],[Code]]&\" \"&Table1[[#This Row],[Portico_Specialty]]","v":"AltSpec1 Licensed Chemical Dependency Counselor II Dual 399"},{"$f":"CLEAN(Table1[[#This Row],[Code]])","v":"AltSpec1"},"Licensed Chemical Dependency Counselor II Dual 399",null,"Medical taxonomy","N",null,null,null,"ZH",null,null,null,null,null,null,{"$f":"IF(ISNUMBER(SEARCH(INDIRECT(CELL(\"address\")),S324)),MAX($R$1:R323)+1,0)","v":0},{"$f":"Table1[[#This Row],[Portico_Specialty]]&\"-\"&Table1[[#This Row],[Code]]","v":"Licensed Chemical Dependency Counselor II Dual 399-AltSpec1"},null,{"$f":"IFERROR(VLOOKUP(ROWS($U$1:U323),$R$2:$S$918,2,FALSE),\"\")","v":""}]
["AltSpec1",{"$f":"Table1[[#This Row],[Code]]&\" \"&Table1[[#This Row],[Portico_Specialty]]","v":"AltSpec1 Licensed Chemical Dependency Counselor II Dual 699"},{"$f":"CLEAN(Table1[[#This Row],[Code]])","v":"AltSpec1"},"Licensed Chemical Dependency Counselor II Dual 699",null,"Medical taxonomy","N",null,null,null,"YH",null,null,null,null,null,null,{"$f":"IF(ISNUMBER(SEARCH(INDIRECT(CELL(\"address\")),S325)),MAX($R$1:R324)+1,0)","v":0},{"$f":"Table1[[#This Row],[Portico_Specialty]]&\"-\"&Table1[[#This Row],[Code]]","v":"Licensed Chemical Dependency Counselor II Dual 699-AltSpec1"},null,{"$f":"IFERROR(VLOOKUP(ROWS($U$1:U324),$R$2:$S$918,2,FALSE),\"\")","v":""}]
["AltSpec1",{"$f":"Table1[[#This Row],[Code]]&\" \"&Table1[[#This Row],[Portico_Specialty]]","v":"AltSpec1 Licensed Chemical Dependency Counselor III Dual 399"},{"$f":"CLEAN(Table1[[#This Row],[Code]])","v":"AltSpec1"},"Licensed Chemical Dependency Counselor III Dual 399",null,"Medical taxonomy","N",null,null,null,"ZG",null,null,null,null,null,null,{"$f":"IF(ISNUMBER(SEARCH(INDIRECT(CELL(\"address\")),S326)),MAX($R$1:R325)+1,0)","v":0},{"$f":"Table1[[#This Row],[Portico_Specialty]]&\"-\"&Table1[[#This Row],[Code]]","v":"Licensed Chemical Dependency Counselor III Dual 399-AltSpec1"},null,{"$f":"IFERROR(VLOOKUP(ROWS($U$1:U325),$R$2:$S$918,2,FALSE),\"\")","v":""}]
["AltSpec1",{"$f":"Table1[[#This Row],[Code]]&\" \"&Table1[[#This Row],[Portico_Specialty]]","v":"AltSpec1 Licensed Chemical Dependency Counselor III Dual 699"},{"$f":"CLEAN(Table1[[#This Row],[Code]])","v":"AltSpec1"},"Licensed Chemical Dependency Counselor III Dual 699",null,"Medical taxonomy","N",null,null,null,"YG",null,null,null,null,null,null,{"$f":"IF(ISNUMBER(SEARCH(INDIRECT(CELL(\"address\")),S327)),MAX($R$1:R326)+1,0)","v":0},{"$f":"Table1[[#This Row],[Portico_Specialty]]&\"-\"&Table1[[#This Row],[Code]]","v":"Licensed Chemical Dependency Counselor III Dual 699-AltSpec1"},null,{"$f":"IFERROR(VLOOKUP(ROWS($U$1:U326),$R$2:$S$918,2,FALSE),\"\")","v":""}]
["AltSpec1",{"$f":"Table1[[#This Row],[Code]]&\" \"&Table1[[#This Row],[Portico_Specialty]]","v":"AltSpec1 Licensed Independent Chemical Dependency Counselor Dual 399"},{"$f":"CLEAN(Table1[[#This Row],[Code]])","v":"AltSpec1"},"Licensed Independent Chemical Dependency Counselor Dual 399",null,"Medical taxonomy","N",null,null,null,"ZF",null,null,null,null,null,null,{"$f":"IF(ISNUMBER(SEARCH(INDIRECT(CELL(\"address\")),S328)),MAX($R$1:R327)+1,0)","v":0},{"$f":"Table1[[#This Row],[Portico_Specialty]]&\"-\"&Table1[[#This Row],[Code]]","v":"Licensed Independent Chemical Dependency Counselor Dual 399-AltSpec1"},null,{"$f":"IFERROR(VLOOKUP(ROWS($U$1:U327),$R$2:$S$918,2,FALSE),\"\")","v":""}]
["AltSpec1",{"$f":"Table1[[#This Row],[Code]]&\" \"&Table1[[#This Row],[Portico_Specialty]]","v":"AltSpec1 Licensed Independent Chemical Dependency Counselor Dual 699"},{"$f":"CLEAN(Table1[[#This Row],[Code]])","v":"AltSpec1"},"Licensed Independent Chemical Dependency Counselor Dual 699",null,"Medical taxonomy","N",null,null,null,"YF",null,null,null,null,null,null,{"$f":"IF(ISNUMBER(SEARCH(INDIRECT(CELL(\"address\")),S329)),MAX($R$1:R328)+1,0)","v":0},{"$f":"Table1[[#This Row],[Portico_Specialty]]&\"-\"&Table1[[#This Row],[Code]]","v":"Licensed Independent Chemical Dependency Counselor Dual 699-AltSpec1"},null,{"$f":"IFERROR(VLOOKUP(ROWS($U$1:U328),$R$2:$S$918,2,FALSE),\"\")","v":""}]
["AltSpec1",{"$f":"Table1[[#This Row],[Code]]&\" \"&Table1[[#This Row],[Portico_Specialty]]","v":"AltSpec1 Licensed Independent Marriage and Family Therapist Dual 399"},{"$f":"CLEAN(Table1[[#This Row],[Code]])","v":"AltSpec1"},"Licensed Independent Marriage and Family Therapist Dual 399",null,"Medical taxonomy","N",null,null,null,"ZN",null,null,null,null,null,null,{"$f":"IF(ISNUMBER(SEARCH(INDIRECT(CELL(\"address\")),S330)),MAX($R$1:R329)+1,0)","v":0},{"$f":"Table1[[#This Row],[Portico_Specialty]]&\"-\"&Table1[[#This Row],[Code]]","v":"Licensed Independent Marriage and Family Therapist Dual 399-AltSpec1"},null,{"$f":"IFERROR(VLOOKUP(ROWS($U$1:U329),$R$2:$S$918,2,FALSE),\"\")","v":""}]
["AltSpec1",{"$f":"Table1[[#This Row],[Code]]&\" \"&Table1[[#This Row],[Portico_Specialty]]","v":"AltSpec1 Licensed Independent Marriage and Family Therapist Dual 699"},{"$f":"CLEAN(Table1[[#This Row],[Code]])","v":"AltSpec1"},"Licensed Independent Marriage and Family Therapist Dual 699",null,"Medical taxonomy","N",null,null,null,"YN",null,null,null,null,null,null,{"$f":"IF(ISNUMBER(SEARCH(INDIRECT(CELL(\"address\")),S331)),MAX($R$1:R330)+1,0)","v":0},{"$f":"Table1[[#This Row],[Portico_Specialty]]&\"-\"&Table1[[#This Row],[Code]]","v":"Licensed Independent Marriage and Family Therapist Dual 699-AltSpec1"},null,{"$f":"IFERROR(VLOOKUP(ROWS($U$1:U330),$R$2:$S$918,2,FALSE),\"\")","v":""}]
["AltSpec1",{"$f":"Table1[[#This Row],[Code]]&\" \"&Table1[[#This Row],[Portico_Specialty]]","v":"AltSpec1 Licensed Independent Social Worker Dual 399"},{"$f":"CLEAN(Table1[[#This Row],[Code]])","v":"AltSpec1"},"Licensed Independent Social Worker Dual 399",null,"Medical taxonomy","N",null,null,null,"ZJ",null,null,null,null,null,null,{"$f":"IF(ISNUMBER(SEARCH(INDIRECT(CELL(\"address\")),S332)),MAX($R$1:R331)+1,0)","v":0},{"$f":"Table1[[#This Row],[Portico_Specialty]]&\"-\"&Table1[[#This Row],[Code]]","v":"Licensed Independent Social Worker Dual 399-AltSpec1"},null,{"$f":"IFERROR(VLOOKUP(ROWS($U$1:U331),$R$2:$S$918,2,FALSE),\"\")","v":""}]
["AltSpec1",{"$f":"Table1[[#This Row],[Code]]&\" \"&Table1[[#This Row],[Portico_Specialty]]","v":"AltSpec1 Licensed Independent Social Worker Dual 699"},{"$f":"CLEAN(Table1[[#This Row],[Code]])","v":"AltSpec1"},"Licensed Independent Social Worker Dual 699",null,"Medical taxonomy","N",null,null,null,"YJ",null,null,null,null,null,null,{"$f":"IF(ISNUMBER(SEARCH(INDIRECT(CELL(\"address\")),S333)),MAX($R$1:R332)+1,0)","v":0},{"$f":"Table1[[#This Row],[Portico_Specialty]]&\"-\"&Table1[[#This Row],[Code]]","v":"Licensed Independent Social Worker Dual 699-AltSpec1"},null,{"$f":"IFERROR(VLOOKUP(ROWS($U$1:U332),$R$2:$S$918,2,FALSE),\"\")","v":""}]
["AltSpec1",{"$f":"Table1[[#This Row],[Code]]&\" \"&Table1[[#This Row],[Portico_Specialty]]","v":"AltSpec1 Licensed Marriage and Family Therapist Dual 399"},{"$f":"CLEAN(Table1[[#This Row],[Code]])","v":"AltSpec1"},"Licensed Marriage and Family Therapist Dual 399",null,"Medical taxonomy","N",null,null,null,"ZO",null,null,null,null,null,null,{"$f":"IF(ISNUMBER(SEARCH(INDIRECT(CELL(\"address\")),S334)),MAX($R$1:R333)+1,0)","v":0},{"$f":"Table1[[#This Row],[Portico_Specialty]]&\"-\"&Table1[[#This Row],[Code]]","v":"Licensed Marriage and Family Therapist Dual 399-AltSpec1"},null,{"$f":"IFERROR(VLOOKUP(ROWS($U$1:U333),$R$2:$S$918,2,FALSE),\"\")","v":""}]
["AltSpec1",{"$f":"Table1[[#This Row],[Code]]&\" \"&Table1[[#This Row],[Portico_Specialty]]","v":"AltSpec1 Licensed Marriage and Family Therapist Dual 699"},{"$f":"CLEAN(Table1[[#This Row],[Code]])","v":"AltSpec1"},"Licensed Marriage and Family Therapist Dual 699",null,"Medical taxonomy","N",null,null,null,"YO",null,null,null,null,null,null,{"$f":"IF(ISNUMBER(SEARCH(INDIRECT(CELL(\"address\")),S335)),MAX($R$1:R334)+1,0)","v":0},{"$f":"Table1[[#This Row],[Portico_Specialty]]&\"-\"&Table1[[#This Row],[Code]]","v":"Licensed Marriage and Family Therapist Dual 699-AltSpec1"},null,{"$f":"IFERROR(VLOOKUP(ROWS($U$1:U334),$R$2:$S$918,2,FALSE),\"\")","v":""}]
["AltSpec1",{"$f":"Table1[[#This Row],[Code]]&\" \"&Table1[[#This Row],[Portico_Specialty]]","v":"AltSpec1 Licensed Marriage/Family Counselor - HCBS"},{"$f":"CLEAN(Table1[[#This Row],[Code]])","v":"AltSpec1"},"Licensed Marriage/Family Counselor - HCBS",null,"Medical taxonomy","N",null,null,null,"Y9",null,null,null,null,null,null,{"$f":"IF(ISNUMBER(SEARCH(INDIRECT(CELL(\"address\")),S336)),MAX($R$1:R335)+1,0)","v":0},{"$f":"Table1[[#This Row],[Portico_Specialty]]&\"-\"&Table1[[#This Row],[Code]]","v":"Licensed Marriage/Family Counselor - HCBS-AltSpec1"},null,{"$f":"IFERROR(VLOOKUP(ROWS($U$1:U335),$R$2:$S$918,2,FALSE),\"\")","v":""}]
["164W00000X",{"$f":"Table1[[#This Row],[Code]]&\" \"&Table1[[#This Row],[Portico_Specialty]]","v":"164W00000X Licensed Practical Nurse"},{"$f":"CLEAN(Table1[[#This Row],[Code]])","v":"164W00000X"},"Licensed Practical Nurse",null,"Shared Taxonomy","N","50",null,"50","LN","50","50","50","LN",null,null,{"$f":"IF(ISNUMBER(SEARCH(INDIRECT(CELL(\"address\")),S337)),MAX($R$1:R336)+1,0)","v":0},{"$f":"Table1[[#This Row],[Portico_Specialty]]&\"-\"&Table1[[#This Row],[Code]]","v":"Licensed Practical Nurse-164W00000X"},null,{"$f":"IFERROR(VLOOKUP(ROWS($U$1:U336),$R$2:$S$918,2,FALSE),\"\")","v":""}]
["AltSpec1",{"$f":"Table1[[#This Row],[Code]]&\" \"&Table1[[#This Row],[Portico_Specialty]]","v":"AltSpec1 Licensed Practical Nurse Dual 399"},{"$f":"CLEAN(Table1[[#This Row],[Code]])","v":"AltSpec1"},"Licensed Practical Nurse Dual 399",null,"Medical taxonomy","N",null,null,null,"ZB",null,null,null,null,null,null,{"$f":"IF(ISNUMBER(SEARCH(INDIRECT(CELL(\"address\")),S338)),MAX($R$1:R337)+1,0)","v":0},{"$f":"Table1[[#This Row],[Portico_Specialty]]&\"-\"&Table1[[#This Row],[Code]]","v":"Licensed Practical Nurse Dual 399-AltSpec1"},null,{"$f":"IFERROR(VLOOKUP(ROWS($U$1:U337),$R$2:$S$918,2,FALSE),\"\")","v":""}]
["AltSpec1",{"$f":"Table1[[#This Row],[Code]]&\" \"&Table1[[#This Row],[Portico_Specialty]]","v":"AltSpec1 Licensed Practical Nurse Dual 699"},{"$f":"CLEAN(Table1[[#This Row],[Code]])","v":"AltSpec1"},"Licensed Practical Nurse Dual 699",null,"Medical taxonomy","N",null,null,null,"YB",null,null,null,null,null,null,{"$f":"IF(ISNUMBER(SEARCH(INDIRECT(CELL(\"address\")),S339)),MAX($R$1:R338)+1,0)","v":0},{"$f":"Table1[[#This Row],[Portico_Specialty]]&\"-\"&Table1[[#This Row],[Code]]","v":"Licensed Practical Nurse Dual 699-AltSpec1"},null,{"$f":"IFERROR(VLOOKUP(ROWS($U$1:U338),$R$2:$S$918,2,FALSE),\"\")","v":""}]
["AltSpec1",{"$f":"Table1[[#This Row],[Code]]&\" \"&Table1[[#This Row],[Portico_Specialty]]","v":"AltSpec1 Licensed Professional Clinical Counselor Dual 399"},{"$f":"CLEAN(Table1[[#This Row],[Code]])","v":"AltSpec1"},"Licensed Professional Clinical Counselor Dual 399",null,"Medical taxonomy","N",null,null,null,"ZC",null,null,null,null,null,null,{"$f":"IF(ISNUMBER(SEARCH(INDIRECT(CELL(\"address\")),S340)),MAX($R$1:R339)+1,0)","v":0},{"$f":"Table1[[#This Row],[Portico_Specialty]]&\"-\"&Table1[[#This Row],[Code]]","v":"Licensed Professional Clinical Counselor Dual 399-AltSpec1"},null,{"$f":"IFERROR(VLOOKUP(ROWS($U$1:U339),$R$2:$S$918,2,FALSE),\"\")","v":""}]
["AltSpec1",{"$f":"Table1[[#This Row],[Code]]&\" \"&Table1[[#This Row],[Portico_Specialty]]","v":"AltSpec1 Licensed Professional Clinical Counselor Dual 699"},{"$f":"CLEAN(Table1[[#This Row],[Code]])","v":"AltSpec1"},"Licensed Professional Clinical Counselor Dual 699",null,"Medical taxonomy","N",null,null,null,"YC",null,null,null,null,null,null,{"$f":"IF(ISNUMBER(SEARCH(INDIRECT(CELL(\"address\")),S341)),MAX($R$1:R340)+1,0)","v":0},{"$f":"Table1[[#This Row],[Portico_Specialty]]&\"-\"&Table1[[#This Row],[Code]]","v":"Licensed Professional Clinical Counselor Dual 699-AltSpec1"},null,{"$f":"IFERROR(VLOOKUP(ROWS($U$1:U340),$R$2:$S$918,2,FALSE),\"\")","v":""}]
["AltSpec1",{"$f":"Table1[[#This Row],[Code]]&\" \"&Table1[[#This Row],[Portico_Specialty]]","v":"AltSpec1 Licensed Professional Counselor - HCBS"},{"$f":"CLEAN(Table1[[#This Row],[Code]])","v":"AltSpec1"},"Licensed Professional Counselor - HCBS",null,"Medical taxonomy","N",null,null,null,"Y0",null,null,null,null,null,null,{"$f":"IF(ISNUMBER(SEARCH(INDIRECT(CELL(\"address\")),S342)),MAX($R$1:R341)+1,0)","v":0},{"$f":"Table1[[#This Row],[Portico_Specialty]]&\"-\"&Table1[[#This Row],[Code]]","v":"Licensed Professional Counselor - HCBS-AltSpec1"},null,{"$f":"IFERROR(VLOOKUP(ROWS($U$1:U341),$R$2:$S$918,2,FALSE),\"\")","v":""}]
["AltSpec1",{"$f":"Table1[[#This Row],[Code]]&\" \"&Table1[[#This Row],[Portico_Specialty]]","v":"AltSpec1 Licensed Professional Counselor Dual 399"},{"$f":"CLEAN(Table1[[#This Row],[Code]])","v":"AltSpec1"},"Licensed Professional Counselor Dual 399",null,"Medical taxonomy","N",null,null,null,"ZD",null,null,null,null,null,null,{"$f":"IF(ISNUMBER(SEARCH(INDIRECT(CELL(\"address\")),S343)),MAX($R$1:R342)+1,0)","v":0},{"$f":"Table1[[#This Row],[Portico_Specialty]]&\"-\"&Table1[[#This Row],[Code]]","v":"Licensed Professional Counselor Dual 399-AltSpec1"},null,{"$f":"IFERROR(VLOOKUP(ROWS($U$1:U342),$R$2:$S$918,2,FALSE),\"\")","v":""}]
["AltSpec1",{"$f":"Table1[[#This Row],[Code]]&\" \"&Table1[[#This Row],[Portico_Specialty]]","v":"AltSpec1 Licensed Professional Counselor Dual 699"},{"$f":"CLEAN(Table1[[#This Row],[Code]])","v":"AltSpec1"},"Licensed Professional Counselor Dual 699",null,"Medical taxonomy","N",null,null,null,"YD",null,null,null,null,null,null,{"$f":"IF(ISNUMBER(SEARCH(INDIRECT(CELL(\"address\")),S344)),MAX($R$1:R343)+1,0)","v":0},{"$f":"Table1[[#This Row],[Portico_Specialty]]&\"-\"&Table1[[#This Row],[Code]]","v":"Licensed Professional Counselor Dual 699-AltSpec1"},null,{"$f":"IFERROR(VLOOKUP(ROWS($U$1:U343),$R$2:$S$918,2,FALSE),\"\")","v":""}]
["167G00000X",{"$f":"Table1[[#This Row],[Code]]&\" \"&Table1[[#This Row],[Portico_Specialty]]","v":"167G00000X Licensed Psychiatric Technician"},{"$f":"CLEAN(Table1[[#This Row],[Code]])","v":"167G00000X"},"Licensed Psychiatric Technician",null,"BH Only Taxonomy","N","50",null,"50","LN","50","50","50","LN",null,null,{"$f":"IF(ISNUMBER(SEARCH(INDIRECT(CELL(\"address\")),S345)),MAX($R$1:R344)+1,0)","v":0},{"$f":"Table1[[#This Row],[Portico_Specialty]]&\"-\"&Table1[[#This Row],[Code]]","v":"Licensed Psychiatric Technician-167G00000X"},null,{"$f":"IFERROR(VLOOKUP(ROWS($U$1:U344),$R$2:$S$918,2,FALSE),\"\")","v":""}]
["AltSpec1",{"$f":"Table1[[#This Row],[Code]]&\" \"&Table1[[#This Row],[Portico_Specialty]]","v":"AltSpec1 Licensed Social Worker - HCBS"},{"$f":"CLEAN(Table1[[#This Row],[Code]])","v":"AltSpec1"},"Licensed Social Worker - HCBS",null,"Medical taxonomy","N",null,null,null,"Z1",null,null,null,null,null,null,{"$f":"IF(ISNUMBER(SEARCH(INDIRECT(CELL(\"address\")),S346)),MAX($R$1:R345)+1,0)","v":0},{"$f":"Table1[[#This Row],[Portico_Specialty]]&\"-\"&Table1[[#This Row],[Code]]","v":"Licensed Social Worker - HCBS-AltSpec1"},null,{"$f":"IFERROR(VLOOKUP(ROWS($U$1:U345),$R$2:$S$918,2,FALSE),\"\")","v":""}]
["AltSpec1",{"$f":"Table1[[#This Row],[Code]]&\" \"&Table1[[#This Row],[Portico_Specialty]]","v":"AltSpec1 Licensed Social Worker Dual 399"},{"$f":"CLEAN(Table1[[#This Row],[Code]])","v":"AltSpec1"},"Licensed Social Worker Dual 399",null,"Medical taxonomy","N",null,null,null,"ZK",null,null,null,null,null,null,{"$f":"IF(ISNUMBER(SEARCH(INDIRECT(CELL(\"address\")),S347)),MAX($R$1:R346)+1,0)","v":0},{"$f":"Table1[[#This Row],[Portico_Specialty]]&\"-\"&Table1[[#This Row],[Code]]","v":"Licensed Social Worker Dual 399-AltSpec1"},null,{"$f":"IFERROR(VLOOKUP(ROWS($U$1:U346),$R$2:$S$918,2,FALSE),\"\")","v":""}]
["AltSpec1",{"$f":"Table1[[#This Row],[Code]]&\" \"&Table1[[#This Row],[Portico_Specialty]]","v":"AltSpec1 Licensed Social Worker Dual 699"},{"$f":"CLEAN(Table1[[#This Row],[Code]])","v":"AltSpec1"},"Licensed Social Worker Dual 699",null,"Medical taxonomy","N",null,null,null,"YK",null,null,null,null,null,null,{"$f":"IF(ISNUMBER(SEARCH(INDIRECT(CELL(\"address\")),S348)),MAX($R$1:R347)+1,0)","v":0},{"$f":"Table1[[#This Row],[Portico_Specialty]]&\"-\"&Table1[[#This Row],[Code]]","v":"Licensed Social Worker Dual 699-AltSpec1"},null,{"$f":"IFERROR(VLOOKUP(ROWS($U$1:U347),$R$2:$S$918,2,FALSE),\"\")","v":""}]
["164X00000X",{"$f":"Table1[[#This Row],[Code]]&\" \"&Table1[[#This Row],[Portico_Specialty]]","v":"164X00000X Licensed Vocational Nurse"},{"$f":"CLEAN(Table1[[#This Row],[Code]])","v":"164X00000X"},"Licensed Vocational Nurse",null,"Medical taxonomy","N","50",null,"50","LN","50","50","50","LN",null,null,{"$f":"IF(ISNUMBER(SEARCH(INDIRECT(CELL(\"address\")),S349)),MAX($R$1:R348)+1,0)","v":0},{"$f":"Table1[[#This Row],[Portico_Specialty]]&\"-\"&Table1[[#This Row],[Code]]","v":"Licensed Vocational Nurse-164X00000X"},null,{"$f":"IFERROR(VLOOKUP(ROWS($U$1:U348),$R$2:$S$918,2,FALSE),\"\")","v":""}]
["251300000X",{"$f":"Table1[[#This Row],[Code]]&\" \"&Table1[[#This Row],[Portico_Specialty]]","v":"251300000X Local Education Agency (LEA)"},{"$f":"CLEAN(Table1[[#This Row],[Code]])","v":"251300000X"},"Local Education Agency (LEA)",null,"Medical taxonomy","N","HH",null,"99","70",null,null,null,"70",null,null,{"$f":"IF(ISNUMBER(SEARCH(INDIRECT(CELL(\"address\")),S350)),MAX($R$1:R349)+1,0)","v":0},{"$f":"Table1[[#This Row],[Portico_Specialty]]&\"-\"&Table1[[#This Row],[Code]]","v":"Local Education Agency (LEA)-251300000X"},null,{"$f":"IFERROR(VLOOKUP(ROWS($U$1:U349),$R$2:$S$918,2,FALSE),\"\")","v":""}]
["177F00000X",{"$f":"Table1[[#This Row],[Code]]&\" \"&Table1[[#This Row],[Portico_Specialty]]","v":"177F00000X Lodging"},{"$f":"CLEAN(Table1[[#This Row],[Code]])","v":"177F00000X"},"Lodging",null,"Medical taxonomy","N","70",null,"TL","99","70","TL",null,"99",null,null,{"$f":"IF(ISNUMBER(SEARCH(INDIRECT(CELL(\"address\")),S351)),MAX($R$1:R350)+1,0)","v":0},{"$f":"Table1[[#This Row],[Portico_Specialty]]&\"-\"&Table1[[#This Row],[Code]]","v":"Lodging-177F00000X"},null,{"$f":"IFERROR(VLOOKUP(ROWS($U$1:U350),$R$2:$S$918,2,FALSE),\"\")","v":""}]
["282E00000X",{"$f":"Table1[[#This Row],[Code]]&\" \"&Table1[[#This Row],[Portico_Specialty]]","v":"282E00000X Long Term Care Hospital"},{"$f":"CLEAN(Table1[[#This Row],[Code]])","v":"282E00000X"},"Long Term Care Hospital",null,"Medical taxonomy","Y","HO",null,"HO","HO","HO","HO","A0","HO",null,null,{"$f":"IF(ISNUMBER(SEARCH(INDIRECT(CELL(\"address\")),S352)),MAX($R$1:R351)+1,0)","v":0},{"$f":"Table1[[#This Row],[Portico_Specialty]]&\"-\"&Table1[[#This Row],[Code]]","v":"Long Term Care Hospital-282E00000X"},null,{"$f":"IFERROR(VLOOKUP(ROWS($U$1:U351),$R$2:$S$918,2,FALSE),\"\")","v":""}]
["106H00000X",{"$f":"Table1[[#This Row],[Code]]&\" \"&Table1[[#This Row],[Portico_Specialty]]","v":"106H00000X Marriage & Family Therapist"},{"$f":"CLEAN(Table1[[#This Row],[Code]])","v":"106H00000X"},"Marriage & Family Therapist","Not valid on FL Medicare","BH Only Taxonomy","N","80",null,"80","80","80","80","80","80",null,null,{"$f":"IF(ISNUMBER(SEARCH(INDIRECT(CELL(\"address\")),S353)),MAX($R$1:R352)+1,0)","v":0},{"$f":"Table1[[#This Row],[Portico_Specialty]]&\"-\"&Table1[[#This Row],[Code]]","v":"Marriage & Family Therapist-106H00000X"},null,{"$f":"IFERROR(VLOOKUP(ROWS($U$1:U352),$R$2:$S$918,2,FALSE),\"\")","v":""}]
["AltSpec1",{"$f":"Table1[[#This Row],[Code]]&\" \"&Table1[[#This Row],[Portico_Specialty]]","v":"AltSpec1 Marriage/Family Counselor Trainee - HCBS"},{"$f":"CLEAN(Table1[[#This Row],[Code]])","v":"AltSpec1"},"Marriage/Family Counselor Trainee - HCBS",null,"Medical taxonomy","N",null,null,null,"Z2",null,null,null,null,null,null,{"$f":"IF(ISNUMBER(SEARCH(INDIRECT(CELL(\"address\")),S354)),MAX($R$1:R353)+1,0)","v":0},{"$f":"Table1[[#This Row],[Portico_Specialty]]&\"-\"&Table1[[#This Row],[Code]]","v":"Marriage/Family Counselor Trainee - HCBS-AltSpec1"},null,{"$f":"IFERROR(VLOOKUP(ROWS($U$1:U353),$R$2:$S$918,2,FALSE),\"\")","v":""}]
["AltSpec1",{"$f":"Table1[[#This Row],[Code]]&\" \"&Table1[[#This Row],[Portico_Specialty]]","v":"AltSpec1 Marriage/Family Counselor Trainee Dual 399"},{"$f":"CLEAN(Table1[[#This Row],[Code]])","v":"AltSpec1"},"Marriage/Family Counselor Trainee Dual 399",null,"Medical taxonomy","N",null,null,null,"ZP",null,null,null,null,null,null,{"$f":"IF(ISNUMBER(SEARCH(INDIRECT(CELL(\"address\")),S355)),MAX($R$1:R354)+1,0)","v":0},{"$f":"Table1[[#This Row],[Portico_Specialty]]&\"-\"&Table1[[#This Row],[Code]]","v":"Marriage/Family Counselor Trainee Dual 399-AltSpec1"},null,{"$f":"IFERROR(VLOOKUP(ROWS($U$1:U354),$R$2:$S$918,2,FALSE),\"\")","v":""}]
["AltSpec1",{"$f":"Table1[[#This Row],[Code]]&\" \"&Table1[[#This Row],[Portico_Specialty]]","v":"AltSpec1 Marriage/Family Counselor Trainee Dual 699"},{"$f":"CLEAN(Table1[[#This Row],[Code]])","v":"AltSpec1"},"Marriage/Family Counselor Trainee Dual 699",null,"Medical taxonomy","N",null,null,null,"YP",null,null,null,null,null,null,{"$f":"IF(ISNUMBER(SEARCH(INDIRECT(CELL(\"address\")),S356)),MAX($R$1:R355)+1,0)","v":0},{"$f":"Table1[[#This Row],[Portico_Specialty]]&\"-\"&Table1[[#This Row],[Code]]","v":"Marriage/Family Counselor Trainee Dual 699-AltSpec1"},null,{"$f":"IFERROR(VLOOKUP(ROWS($U$1:U355),$R$2:$S$918,2,FALSE),\"\")","v":""}]
["225700000X",{"$f":"Table1[[#This Row],[Code]]&\" \"&Table1[[#This Row],[Portico_Specialty]]","v":"225700000X Massage Therapist"},{"$f":"CLEAN(Table1[[#This Row],[Code]])","v":"225700000X"},"Massage Therapist",null,"Medical taxonomy","N","65",null,"MT","65","MT","MT","67","65",null,null,{"$f":"IF(ISNUMBER(SEARCH(INDIRECT(CELL(\"address\")),S357)),MAX($R$1:R356)+1,0)","v":0},{"$f":"Table1[[#This Row],[Portico_Specialty]]&\"-\"&Table1[[#This Row],[Code]]","v":"Massage Therapist-225700000X"},null,{"$f":"IFERROR(VLOOKUP(ROWS($U$1:U356),$R$2:$S$918,2,FALSE),\"\")","v":""}]
["224900000X",{"$f":"Table1[[#This Row],[Code]]&\" \"&Table1[[#This Row],[Portico_Specialty]]","v":"224900000X Mastectomy Fitter"},{"$f":"CLEAN(Table1[[#This Row],[Code]])","v":"224900000X"},"Mastectomy Fitter",null,"Medical taxonomy","N","87",null,"99","45","DM",null,null,"45",null,null,{"$f":"IF(ISNUMBER(SEARCH(INDIRECT(CELL(\"address\")),S358)),MAX($R$1:R357)+1,0)","v":0},{"$f":"Table1[[#This Row],[Portico_Specialty]]&\"-\"&Table1[[#This Row],[Code]]","v":"Mastectomy Fitter-224900000X"},null,{"$f":"IFERROR(VLOOKUP(ROWS($U$1:U357),$R$2:$S$918,2,FALSE),\"\")","v":""}]
["174200000X",{"$f":"Table1[[#This Row],[Code]]&\" \"&Table1[[#This Row],[Portico_Specialty]]","v":"174200000X Meals"},{"$f":"CLEAN(Table1[[#This Row],[Code]])","v":"174200000X"},"Meals",null,"Medical taxonomy","N",null,null,"TF","99","TF","TF",null,"99",null,null,{"$f":"IF(ISNUMBER(SEARCH(INDIRECT(CELL(\"address\")),S359)),MAX($R$1:R358)+1,0)","v":0},{"$f":"Table1[[#This Row],[Portico_Specialty]]&\"-\"&Table1[[#This Row],[Code]]","v":"Meals-174200000X"},null,{"$f":"IFERROR(VLOOKUP(ROWS($U$1:U358),$R$2:$S$918,2,FALSE),\"\")","v":""}]
["172M00000X",{"$f":"Table1[[#This Row],[Code]]&\" \"&Table1[[#This Row],[Portico_Specialty]]","v":"172M00000X Mechanotherapist"},{"$f":"CLEAN(Table1[[#This Row],[Code]])","v":"172M00000X"},"Mechanotherapist",null,"Medical taxonomy","N","87",null,"99","12","87","87",null,"12",null,null,{"$f":"IF(ISNUMBER(SEARCH(INDIRECT(CELL(\"address\")),S360)),MAX($R$1:R359)+1,0)","v":0},{"$f":"Table1[[#This Row],[Portico_Specialty]]&\"-\"&Table1[[#This Row],[Code]]","v":"Mechanotherapist-172M00000X"},null,{"$f":"IFERROR(VLOOKUP(ROWS($U$1:U359),$R$2:$S$918,2,FALSE),\"\")","v":""}]
["335G00000X",{"$f":"Table1[[#This Row],[Code]]&\" \"&Table1[[#This Row],[Portico_Specialty]]","v":"335G00000X Medical Foods Supplier"},{"$f":"CLEAN(Table1[[#This Row],[Code]])","v":"335G00000X"},"Medical Foods Supplier",null,"Medical taxonomy","N",null,null,"99","99",null,null,null,"99",null,null,{"$f":"IF(ISNUMBER(SEARCH(INDIRECT(CELL(\"address\")),S361)),MAX($R$1:R360)+1,0)","v":0},{"$f":"Table1[[#This Row],[Portico_Specialty]]&\"-\"&Table1[[#This Row],[Code]]","v":"Medical Foods Supplier-335G00000X"},null,{"$f":"IFERROR(VLOOKUP(ROWS($U$1:U360),$R$2:$S$918,2,FALSE),\"\")","v":""}]
["170100000X",{"$f":"Table1[[#This Row],[Code]]&\" \"&Table1[[#This Row],[Portico_Specialty]]","v":"170100000X Medical Genetics, Ph.D. Medical Genetics"},{"$f":"CLEAN(Table1[[#This Row],[Code]])","v":"170100000X"},"Medical Genetics, Ph.D. Medical Genetics",null,"Medical taxonomy","N","GN",null,"MG","GN","GN","MG",null,"GN",null,null,{"$f":"IF(ISNUMBER(SEARCH(INDIRECT(CELL(\"address\")),S362)),MAX($R$1:R361)+1,0)","v":0},{"$f":"Table1[[#This Row],[Portico_Specialty]]&\"-\"&Table1[[#This Row],[Code]]","v":"Medical Genetics, Ph.D. Medical Genetics-170100000X"},null,{"$f":"IFERROR(VLOOKUP(ROWS($U$1:U361),$R$2:$S$918,2,FALSE),\"\")","v":""}]
["207SG0202X",{"$f":"Table1[[#This Row],[Code]]&\" \"&Table1[[#This Row],[Portico_Specialty]]","v":"207SG0202X Medical Genetics: Clinical Biochemical Genetics"},{"$f":"CLEAN(Table1[[#This Row],[Code]])","v":"207SG0202X"},"Medical Genetics: Clinical Biochemical Genetics",null,"Medical taxonomy","N","GN",null,"GN","GN","GN","GN","47","GN",null,null,{"$f":"IF(ISNUMBER(SEARCH(INDIRECT(CELL(\"address\")),S363)),MAX($R$1:R362)+1,0)","v":0},{"$f":"Table1[[#This Row],[Portico_Specialty]]&\"-\"&Table1[[#This Row],[Code]]","v":"Medical Genetics: Clinical Biochemical Genetics-207SG0202X"},null,{"$f":"IFERROR(VLOOKUP(ROWS($U$1:U362),$R$2:$S$918,2,FALSE),\"\")","v":""}]
["207SC0300X",{"$f":"Table1[[#This Row],[Code]]&\" \"&Table1[[#This Row],[Portico_Specialty]]","v":"207SC0300X Medical Genetics: Clinical Cytogenetic"},{"$f":"CLEAN(Table1[[#This Row],[Code]])","v":"207SC0300X"},"Medical Genetics: Clinical Cytogenetic",null,"Medical taxonomy","N","GN",null,"GN","GN","GN","GN","47","GN",null,null,{"$f":"IF(ISNUMBER(SEARCH(INDIRECT(CELL(\"address\")),S364)),MAX($R$1:R363)+1,0)","v":0},{"$f":"Table1[[#This Row],[Portico_Specialty]]&\"-\"&Table1[[#This Row],[Code]]","v":"Medical Genetics: Clinical Cytogenetic-207SC0300X"},null,{"$f":"IFERROR(VLOOKUP(ROWS($U$1:U363),$R$2:$S$918,2,FALSE),\"\")","v":""}]
["207SG0201X",{"$f":"Table1[[#This Row],[Code]]&\" \"&Table1[[#This Row],[Portico_Specialty]]","v":"207SG0201X Medical Genetics: Clinical Genetics (M.D.)"},{"$f":"CLEAN(Table1[[#This Row],[Code]])","v":"207SG0201X"},"Medical Genetics: Clinical Genetics (M.D.)",null,"Medical taxonomy","N","GN",null,"GN","GN","GN","GN","47","GN",null,null,{"$f":"IF(ISNUMBER(SEARCH(INDIRECT(CELL(\"address\")),S365)),MAX($R$1:R364)+1,0)","v":0},{"$f":"Table1[[#This Row],[Portico_Specialty]]&\"-\"&Table1[[#This Row],[Code]]","v":"Medical Genetics: Clinical Genetics (M.D.)-207SG0201X"},null,{"$f":"IFERROR(VLOOKUP(ROWS($U$1:U364),$R$2:$S$918,2,FALSE),\"\")","v":""}]
["207SG0203X",{"$f":"Table1[[#This Row],[Code]]&\" \"&Table1[[#This Row],[Portico_Specialty]]","v":"207SG0203X Medical Genetics: Clinical Molecular Genetics"},{"$f":"CLEAN(Table1[[#This Row],[Code]])","v":"207SG0203X"},"Medical Genetics: Clinical Molecular Genetics",null,"Medical taxonomy","N","GN",null,"GN","GN","GN","GN","47","GN",null,null,{"$f":"IF(ISNUMBER(SEARCH(INDIRECT(CELL(\"address\")),S366)),MAX($R$1:R365)+1,0)","v":0},{"$f":"Table1[[#This Row],[Portico_Specialty]]&\"-\"&Table1[[#This Row],[Code]]","v":"Medical Genetics: Clinical Molecular Genetics-207SG0203X"},null,{"$f":"IFERROR(VLOOKUP(ROWS($U$1:U365),$R$2:$S$918,2,FALSE),\"\")","v":""}]
["207SM0001X",{"$f":"Table1[[#This Row],[Code]]&\" \"&Table1[[#This Row],[Portico_Specialty]]","v":"207SM0001X Medical Genetics: Molecular Genetic Pathology"},{"$f":"CLEAN(Table1[[#This Row],[Code]])","v":"207SM0001X"},"Medical Genetics: Molecular Genetic Pathology",null,"Medical taxonomy","N","GN",null,"GN","GN","GN","GN","47","GN",null,null,{"$f":"IF(ISNUMBER(SEARCH(INDIRECT(CELL(\"address\")),S367)),MAX($R$1:R366)+1,0)","v":0},{"$f":"Table1[[#This Row],[Portico_Specialty]]&\"-\"&Table1[[#This Row],[Code]]","v":"Medical Genetics: Molecular Genetic Pathology-207SM0001X"},null,{"$f":"IFERROR(VLOOKUP(ROWS($U$1:U366),$R$2:$S$918,2,FALSE),\"\")","v":""}]
["207SG0205X",{"$f":"Table1[[#This Row],[Code]]&\" \"&Table1[[#This Row],[Portico_Specialty]]","v":"207SG0205X Medical Genetics: Ph.D. Medical Genetics"},{"$f":"CLEAN(Table1[[#This Row],[Code]])","v":"207SG0205X"},"Medical Genetics: Ph.D. Medical Genetics",null,"Medical taxonomy","N","GN",null,"GN","GN","GN","GN","47","GN",null,null,{"$f":"IF(ISNUMBER(SEARCH(INDIRECT(CELL(\"address\")),S368)),MAX($R$1:R367)+1,0)","v":0},{"$f":"Table1[[#This Row],[Portico_Specialty]]&\"-\"&Table1[[#This Row],[Code]]","v":"Medical Genetics: Ph.D. Medical Genetics-207SG0205X"},null,{"$f":"IFERROR(VLOOKUP(ROWS($U$1:U367),$R$2:$S$918,2,FALSE),\"\")","v":""}]
["275N00000X",{"$f":"Table1[[#This Row],[Code]]&\" \"&Table1[[#This Row],[Portico_Specialty]]","v":"275N00000X Medicare Defined Swing Bed Unit"},{"$f":"CLEAN(Table1[[#This Row],[Code]])","v":"275N00000X"},"Medicare Defined Swing Bed Unit",null,"Medical taxonomy","Y","HO",null,"HO","HO","HO","HO","A0","HO",null,null,{"$f":"IF(ISNUMBER(SEARCH(INDIRECT(CELL(\"address\")),S369)),MAX($R$1:R368)+1,0)","v":0},{"$f":"Table1[[#This Row],[Portico_Specialty]]&\"-\"&Table1[[#This Row],[Code]]","v":"Medicare Defined Swing Bed Unit-275N00000X"},null,{"$f":"IFERROR(VLOOKUP(ROWS($U$1:U368),$R$2:$S$918,2,FALSE),\"\")","v":""}]
["176B00000X",{"$f":"Table1[[#This Row],[Code]]&\" \"&Table1[[#This Row],[Portico_Specialty]]","v":"176B00000X Midwife"},{"$f":"CLEAN(Table1[[#This Row],[Code]])","v":"176B00000X"},"Midwife",null,"Medical taxonomy","N","42",null,"42","42","42","42","42","42",null,null,{"$f":"IF(ISNUMBER(SEARCH(INDIRECT(CELL(\"address\")),S370)),MAX($R$1:R369)+1,0)","v":0},{"$f":"Table1[[#This Row],[Portico_Specialty]]&\"-\"&Table1[[#This Row],[Code]]","v":"Midwife-176B00000X"},null,{"$f":"IFERROR(VLOOKUP(ROWS($U$1:U369),$R$2:$S$918,2,FALSE),\"\")","v":""}]
["175M00000X",{"$f":"Table1[[#This Row],[Code]]&\" \"&Table1[[#This Row],[Portico_Specialty]]","v":"175M00000X Midwife, Lay"},{"$f":"CLEAN(Table1[[#This Row],[Code]])","v":"175M00000X"},"Midwife, Lay",null,"Medical taxonomy","N","42",null,"42","42","42","42","42","42",null,null,{"$f":"IF(ISNUMBER(SEARCH(INDIRECT(CELL(\"address\")),S371)),MAX($R$1:R370)+1,0)","v":0},{"$f":"Table1[[#This Row],[Portico_Specialty]]&\"-\"&Table1[[#This Row],[Code]]","v":"Midwife, Lay-175M00000X"},null,{"$f":"IFERROR(VLOOKUP(ROWS($U$1:U370),$R$2:$S$918,2,FALSE),\"\")","v":""}]
["291900000X",{"$f":"Table1[[#This Row],[Code]]&\" \"&Table1[[#This Row],[Portico_Specialty]]","v":"291900000X Military Clinical Medical Laboratory"},{"$f":"CLEAN(Table1[[#This Row],[Code]])","v":"291900000X"},"Military Clinical Medical Laboratory",null,"Medical taxonomy","Y","69",null,"69","69","69","69","69","69",null,null,{"$f":"IF(ISNUMBER(SEARCH(INDIRECT(CELL(\"address\")),S372)),MAX($R$1:R371)+1,0)","v":0},{"$f":"Table1[[#This Row],[Portico_Specialty]]&\"-\"&Table1[[#This Row],[Code]]","v":"Military Clinical Medical Laboratory-291900000X"},null,{"$f":"IFERROR(VLOOKUP(ROWS($U$1:U371),$R$2:$S$918,2,FALSE),\"\")","v":""}]
["171000000X",{"$f":"Table1[[#This Row],[Code]]&\" \"&Table1[[#This Row],[Portico_Specialty]]","v":"171000000X Military Health Care Provider"},{"$f":"CLEAN(Table1[[#This Row],[Code]])","v":"171000000X"},"Military Health Care Provider",null,"Medical taxonomy","N","87",null,"99","97",null,null,null,"97",null,null,{"$f":"IF(ISNUMBER(SEARCH(INDIRECT(CELL(\"address\")),S373)),MAX($R$1:R372)+1,0)","v":0},{"$f":"Table1[[#This Row],[Portico_Specialty]]&\"-\"&Table1[[#This Row],[Code]]","v":"Military Health Care Provider-171000000X"},null,{"$f":"IFERROR(VLOOKUP(ROWS($U$1:U372),$R$2:$S$918,2,FALSE),\"\")","v":""}]
["1710I1002X",{"$f":"Table1[[#This Row],[Code]]&\" \"&Table1[[#This Row],[Portico_Specialty]]","v":"1710I1002X Military Health Care Provider: Independent Duty Corpsman"},{"$f":"CLEAN(Table1[[#This Row],[Code]])","v":"1710I1002X"},"Military Health Care Provider: Independent Duty Corpsman",null,"Medical taxonomy","N","87",null,"99","97",null,null,null,"97",null,null,{"$f":"IF(ISNUMBER(SEARCH(INDIRECT(CELL(\"address\")),S374)),MAX($R$1:R373)+1,0)","v":0},{"$f":"Table1[[#This Row],[Portico_Specialty]]&\"-\"&Table1[[#This Row],[Code]]","v":"Military Health Care Provider: Independent Duty Corpsman-1710I1002X"},null,{"$f":"IFERROR(VLOOKUP(ROWS($U$1:U373),$R$2:$S$918,2,FALSE),\"\")","v":""}]
["1710I1003X",{"$f":"Table1[[#This Row],[Code]]&\" \"&Table1[[#This Row],[Portico_Specialty]]","v":"1710I1003X Military Health Care Provider: Independent Duty Medical Technicians"},{"$f":"CLEAN(Table1[[#This Row],[Code]])","v":"1710I1003X"},"Military Health Care Provider: Independent Duty Medical Technicians",null,"Medical taxonomy","N","87",null,"99","97","87","87",null,"97",null,null,{"$f":"IF(ISNUMBER(SEARCH(INDIRECT(CELL(\"address\")),S375)),MAX($R$1:R374)+1,0)","v":0},{"$f":"Table1[[#This Row],[Portico_Specialty]]&\"-\"&Table1[[#This Row],[Code]]","v":"Military Health Care Provider: Independent Duty Medical Technicians-1710I1003X"},null,{"$f":"IFERROR(VLOOKUP(ROWS($U$1:U374),$R$2:$S$918,2,FALSE),\"\")","v":""}]
["286500000X",{"$f":"Table1[[#This Row],[Code]]&\" \"&Table1[[#This Row],[Portico_Specialty]]","v":"286500000X Military Hospital"},{"$f":"CLEAN(Table1[[#This Row],[Code]])","v":"286500000X"},"Military Hospital",null,"Medical taxonomy","N","HO",null,"HO","HO","HO","HO","A0","HO",null,null,{"$f":"IF(ISNUMBER(SEARCH(INDIRECT(CELL(\"address\")),S376)),MAX($R$1:R375)+1,0)","v":0},{"$f":"Table1[[#This Row],[Portico_Specialty]]&\"-\"&Table1[[#This Row],[Code]]","v":"Military Hospital-286500000X"},null,{"$f":"IFERROR(VLOOKUP(ROWS($U$1:U375),$R$2:$S$918,2,FALSE),\"\")","v":""}]
["2865C1500X",{"$f":"Table1[[#This Row],[Code]]&\" \"&Table1[[#This Row],[Portico_Specialty]]","v":"2865C1500X Military Hospital: Community Health"},{"$f":"CLEAN(Table1[[#This Row],[Code]])","v":"2865C1500X"},"Military Hospital: Community Health",null,"Medical taxonomy","N","HO",null,"HO","HO","HO","HO","A0","HO",null,null,{"$f":"IF(ISNUMBER(SEARCH(INDIRECT(CELL(\"address\")),S377)),MAX($R$1:R376)+1,0)","v":0},{"$f":"Table1[[#This Row],[Portico_Specialty]]&\"-\"&Table1[[#This Row],[Code]]","v":"Military Hospital: Community Health-2865C1500X"},null,{"$f":"IFERROR(VLOOKUP(ROWS($U$1:U376),$R$2:$S$918,2,FALSE),\"\")","v":""}]
["2865M2000X",{"$f":"Table1[[#This Row],[Code]]&\" \"&Table1[[#This Row],[Portico_Specialty]]","v":"2865M2000X Military Hospital: Military General Acute Care Hospital"},{"$f":"CLEAN(Table1[[#This Row],[Code]])","v":"2865M2000X"},"Military Hospital: Military General Acute Care Hospital",null,"Medical taxonomy","N","HO",null,"HO","HO","HO","HO","A0","HO",null,null,{"$f":"IF(ISNUMBER(SEARCH(INDIRECT(CELL(\"address\")),S378)),MAX($R$1:R377)+1,0)","v":0},{"$f":"Table1[[#This Row],[Portico_Specialty]]&\"-\"&Table1[[#This Row],[Code]]","v":"Military Hospital: Military General Acute Care Hospital-2865M2000X"},null,{"$f":"IFERROR(VLOOKUP(ROWS($U$1:U377),$R$2:$S$918,2,FALSE),\"\")","v":""}]
["2865X1600X",{"$f":"Table1[[#This Row],[Code]]&\" \"&Table1[[#This Row],[Portico_Specialty]]","v":"2865X1600X Military Hospital: Military General Acute Care Hospital. Operational (Transportable)"},{"$f":"CLEAN(Table1[[#This Row],[Code]])","v":"2865X1600X"},"Military Hospital: Military General Acute Care Hospital. Operational (Transportable)",null,"Medical taxonomy","N","HO",null,"HO","HO","HO","HO","A0","HO",null,null,{"$f":"IF(ISNUMBER(SEARCH(INDIRECT(CELL(\"address\")),S379)),MAX($R$1:R378)+1,0)","v":0},{"$f":"Table1[[#This Row],[Portico_Specialty]]&\"-\"&Table1[[#This Row],[Code]]","v":"Military Hospital: Military General Acute Care Hospital. Operational (Transportable)-2865X1600X"},null,{"$f":"IFERROR(VLOOKUP(ROWS($U$1:U378),$R$2:$S$918,2,FALSE),\"\")","v":""}]
["332000000X",{"$f":"Table1[[#This Row],[Code]]&\" \"&Table1[[#This Row],[Portico_Specialty]]","v":"332000000X Military/U.S. Coast Guard Pharmacy"},{"$f":"CLEAN(Table1[[#This Row],[Code]])","v":"332000000X"},"Military/U.S. Coast Guard Pharmacy",null,"Medical taxonomy","N","PH",null,"PH","PD","PH","PH","A5","PD",null,null,{"$f":"IF(ISNUMBER(SEARCH(INDIRECT(CELL(\"address\")),S380)),MAX($R$1:R379)+1,0)","v":0},{"$f":"Table1[[#This Row],[Portico_Specialty]]&\"-\"&Table1[[#This Row],[Code]]","v":"Military/U.S. Coast Guard Pharmacy-332000000X"},null,{"$f":"IFERROR(VLOOKUP(ROWS($U$1:U379),$R$2:$S$918,2,FALSE),\"\")","v":""}]
["341800000X",{"$f":"Table1[[#This Row],[Code]]&\" \"&Table1[[#This Row],[Portico_Specialty]]","v":"341800000X Military/U.S. Coast Guard Transport"},{"$f":"CLEAN(Table1[[#This Row],[Code]])","v":"341800000X"},"Military/U.S. Coast Guard Transport",null,"Medical taxonomy","N","TR",null,"TR","59","TR","TR",null,"59",null,null,{"$f":"IF(ISNUMBER(SEARCH(INDIRECT(CELL(\"address\")),S381)),MAX($R$1:R380)+1,0)","v":0},{"$f":"Table1[[#This Row],[Portico_Specialty]]&\"-\"&Table1[[#This Row],[Code]]","v":"Military/U.S. Coast Guard Transport-341800000X"},null,{"$f":"IFERROR(VLOOKUP(ROWS($U$1:U380),$R$2:$S$918,2,FALSE),\"\")","v":""}]
["3418M1120X",{"$f":"Table1[[#This Row],[Code]]&\" \"&Table1[[#This Row],[Portico_Specialty]]","v":"3418M1120X Military/U.S. Coast Guard Transport: Military or U.S. Coast Guard Ambulance, Air Transport"},{"$f":"CLEAN(Table1[[#This Row],[Code]])","v":"3418M1120X"},"Military/U.S. Coast Guard Transport: Military or U.S. Coast Guard Ambulance, Air Transport",null,"Medical taxonomy","N","TR",null,"TR","59","TR","TR",null,"59",null,null,{"$f":"IF(ISNUMBER(SEARCH(INDIRECT(CELL(\"address\")),S382)),MAX($R$1:R381)+1,0)","v":0},{"$f":"Table1[[#This Row],[Portico_Specialty]]&\"-\"&Table1[[#This Row],[Code]]","v":"Military/U.S. Coast Guard Transport: Military or U.S. Coast Guard Ambulance, Air Transport-3418M1120X"},null,{"$f":"IFERROR(VLOOKUP(ROWS($U$1:U381),$R$2:$S$918,2,FALSE),\"\")","v":""}]
["3418M1110X",{"$f":"Table1[[#This Row],[Code]]&\" \"&Table1[[#This Row],[Portico_Specialty]]","v":"3418M1110X Military/U.S. Coast Guard Transport: Military or U.S. Coast Guard Ambulance, Ground Transport"},{"$f":"CLEAN(Table1[[#This Row],[Code]])","v":"3418M1110X"},"Military/U.S. Coast Guard Transport: Military or U.S. Coast Guard Ambulance, Ground Transport",null,"Medical taxonomy","N","TR",null,"TR","59","TR","TR",null,"59",null,null,{"$f":"IF(ISNUMBER(SEARCH(INDIRECT(CELL(\"address\")),S383)),MAX($R$1:R382)+1,0)","v":0},{"$f":"Table1[[#This Row],[Portico_Specialty]]&\"-\"&Table1[[#This Row],[Code]]","v":"Military/U.S. Coast Guard Transport: Military or U.S. Coast Guard Ambulance, Ground Transport-3418M1110X"},null,{"$f":"IFERROR(VLOOKUP(ROWS($U$1:U382),$R$2:$S$918,2,FALSE),\"\")","v":""}]
["3418M1130X",{"$f":"Table1[[#This Row],[Code]]&\" \"&Table1[[#This Row],[Portico_Specialty]]","v":"3418M1130X Military/U.S. Coast Guard Transport: Military or U.S. Coast Guard Ambulance, Water Transport"},{"$f":"CLEAN(Table1[[#This Row],[Code]])","v":"3418M1130X"},"Military/U.S. Coast Guard Transport: Military or U.S. Coast Guard Ambulance, Water Transport",null,"Medical taxonomy","N","TR",null,"TR","59","TR","TR",null,"59",null,null,{"$f":"IF(ISNUMBER(SEARCH(INDIRECT(CELL(\"address\")),S384)),MAX($R$1:R383)+1,0)","v":0},{"$f":"Table1[[#This Row],[Portico_Specialty]]&\"-\"&Table1[[#This Row],[Code]]","v":"Military/U.S. Coast Guard Transport: Military or U.S. Coast Guard Ambulance, Water Transport-3418M1130X"},null,{"$f":"IFERROR(VLOOKUP(ROWS($U$1:U383),$R$2:$S$918,2,FALSE),\"\")","v":""}]
["193200000X",{"$f":"Table1[[#This Row],[Code]]&\" \"&Table1[[#This Row],[Portico_Specialty]]","v":"193200000X Multi-Specialty"},{"$f":"CLEAN(Table1[[#This Row],[Code]])","v":"193200000X"},"Multi-Specialty",null,"Shared Taxonomy","Y",null,null,"MS","MS",null,"MS","70","MS",null,null,{"$f":"IF(ISNUMBER(SEARCH(INDIRECT(CELL(\"address\")),S385)),MAX($R$1:R384)+1,0)","v":0},{"$f":"Table1[[#This Row],[Portico_Specialty]]&\"-\"&Table1[[#This Row],[Code]]","v":"Multi-Specialty-193200000X"},null,{"$f":"IFERROR(VLOOKUP(ROWS($U$1:U384),$R$2:$S$918,2,FALSE),\"\")","v":""}]
["225A00000X",{"$f":"Table1[[#This Row],[Code]]&\" \"&Table1[[#This Row],[Portico_Specialty]]","v":"225A00000X Music Therapist"},{"$f":"CLEAN(Table1[[#This Row],[Code]])","v":"225A00000X"},"Music Therapist",null,"Medical taxonomy","N","65",null,"99","65","65",null,null,"65",null,null,{"$f":"IF(ISNUMBER(SEARCH(INDIRECT(CELL(\"address\")),S386)),MAX($R$1:R385)+1,0)","v":0},{"$f":"Table1[[#This Row],[Portico_Specialty]]&\"-\"&Table1[[#This Row],[Code]]","v":"Music Therapist-225A00000X"},null,{"$f":"IFERROR(VLOOKUP(ROWS($U$1:U385),$R$2:$S$918,2,FALSE),\"\")","v":""}]
["172P00000X",{"$f":"Table1[[#This Row],[Code]]&\" \"&Table1[[#This Row],[Portico_Specialty]]","v":"172P00000X Naprapath"},{"$f":"CLEAN(Table1[[#This Row],[Code]])","v":"172P00000X"},"Naprapath",null,"Medical taxonomy","N","87",null,"NP","99",null,"NP","35","99",null,null,{"$f":"IF(ISNUMBER(SEARCH(INDIRECT(CELL(\"address\")),S387)),MAX($R$1:R386)+1,0)","v":0},{"$f":"Table1[[#This Row],[Portico_Specialty]]&\"-\"&Table1[[#This Row],[Code]]","v":"Naprapath-172P00000X"},null,{"$f":"IFERROR(VLOOKUP(ROWS($U$1:U386),$R$2:$S$918,2,FALSE),\"\")","v":""}]
["175F00000X",{"$f":"Table1[[#This Row],[Code]]&\" \"&Table1[[#This Row],[Portico_Specialty]]","v":"175F00000X Naturopath"},{"$f":"CLEAN(Table1[[#This Row],[Code]])","v":"175F00000X"},"Naturopath",null,"Medical taxonomy","N","87",null,"NA","99","NA","NA","NA","99",null,null,{"$f":"IF(ISNUMBER(SEARCH(INDIRECT(CELL(\"address\")),S388)),MAX($R$1:R387)+1,0)","v":0},{"$f":"Table1[[#This Row],[Portico_Specialty]]&\"-\"&Table1[[#This Row],[Code]]","v":"Naturopath-175F00000X"},null,{"$f":"IFERROR(VLOOKUP(ROWS($U$1:U387),$R$2:$S$918,2,FALSE),\"\")","v":""}]
["207T00000X",{"$f":"Table1[[#This Row],[Code]]&\" \"&Table1[[#This Row],[Portico_Specialty]]","v":"207T00000X Neurological Surgery"},{"$f":"CLEAN(Table1[[#This Row],[Code]])","v":"207T00000X"},"Neurological Surgery",null,"Medical taxonomy","Y","14",null,"14","14","14","14","14","14",null,null,{"$f":"IF(ISNUMBER(SEARCH(INDIRECT(CELL(\"address\")),S389)),MAX($R$1:R388)+1,0)","v":0},{"$f":"Table1[[#This Row],[Portico_Specialty]]&\"-\"&Table1[[#This Row],[Code]]","v":"Neurological Surgery-207T00000X"},null,{"$f":"IFERROR(VLOOKUP(ROWS($U$1:U388),$R$2:$S$918,2,FALSE),\"\")","v":""}]
["204D00000X",{"$f":"Table1[[#This Row],[Code]]&\" \"&Table1[[#This Row],[Portico_Specialty]]","v":"204D00000X Neuromusculoskeletal Medicine & OMM"},{"$f":"CLEAN(Table1[[#This Row],[Code]])","v":"204D00000X"},"Neuromusculoskeletal Medicine & OMM",null,"Medical taxonomy","Y","12",null,"12","12","12","12","12","12",null,null,{"$f":"IF(ISNUMBER(SEARCH(INDIRECT(CELL(\"address\")),S390)),MAX($R$1:R389)+1,0)","v":0},{"$f":"Table1[[#This Row],[Portico_Specialty]]&\"-\"&Table1[[#This Row],[Code]]","v":"Neuromusculoskeletal Medicine & OMM-204D00000X"},null,{"$f":"IFERROR(VLOOKUP(ROWS($U$1:U389),$R$2:$S$918,2,FALSE),\"\")","v":""}]
["204C00000X",{"$f":"Table1[[#This Row],[Code]]&\" \"&Table1[[#This Row],[Portico_Specialty]]","v":"204C00000X Neuromusculoskeletal Medicine, Sports Medicine"},{"$f":"CLEAN(Table1[[#This Row],[Code]])","v":"204C00000X"},"Neuromusculoskeletal Medicine, Sports Medicine",null,"Medical taxonomy","Y","12",null,"12","12","12","12","12","12",null,null,{"$f":"IF(ISNUMBER(SEARCH(INDIRECT(CELL(\"address\")),S391)),MAX($R$1:R390)+1,0)","v":0},{"$f":"Table1[[#This Row],[Portico_Specialty]]&\"-\"&Table1[[#This Row],[Code]]","v":"Neuromusculoskeletal Medicine, Sports Medicine-204C00000X"},null,{"$f":"IFERROR(VLOOKUP(ROWS($U$1:U390),$R$2:$S$918,2,FALSE),\"\")","v":""}]
["343900000X",{"$f":"Table1[[#This Row],[Code]]&\" \"&Table1[[#This Row],[Portico_Specialty]]","v":"343900000X Non-emergency Medical Transport (VAN)"},{"$f":"CLEAN(Table1[[#This Row],[Code]])","v":"343900000X"},"Non-emergency Medical Transport (VAN)",null,"Medical taxonomy","N","TR",null,"TR","59","TR","TR","59","59",null,null,{"$f":"IF(ISNUMBER(SEARCH(INDIRECT(CELL(\"address\")),S392)),MAX($R$1:R391)+1,0)","v":0},{"$f":"Table1[[#This Row],[Portico_Specialty]]&\"-\"&Table1[[#This Row],[Code]]","v":"Non-emergency Medical Transport (VAN)-343900000X"},null,{"$f":"IFERROR(VLOOKUP(ROWS($U$1:U391),$R$2:$S$918,2,FALSE),\"\")","v":""}]
["332900000X",{"$f":"Table1[[#This Row],[Code]]&\" \"&Table1[[#This Row],[Portico_Specialty]]","v":"332900000X Non-Pharmacy Dispensing Site"},{"$f":"CLEAN(Table1[[#This Row],[Code]])","v":"332900000X"},"Non-Pharmacy Dispensing Site",null,"Medical taxonomy","N","87",null,"99","99","87","87",null,"99",null,null,{"$f":"IF(ISNUMBER(SEARCH(INDIRECT(CELL(\"address\")),S393)),MAX($R$1:R392)+1,0)","v":0},{"$f":"Table1[[#This Row],[Portico_Specialty]]&\"-\"&Table1[[#This Row],[Code]]","v":"Non-Pharmacy Dispensing Site-332900000X"},null,{"$f":"IFERROR(VLOOKUP(ROWS($U$1:U392),$R$2:$S$918,2,FALSE),\"\")","v":""}]
["207U00000X",{"$f":"Table1[[#This Row],[Code]]&\" \"&Table1[[#This Row],[Portico_Specialty]]","v":"207U00000X Nuclear Medicine"},{"$f":"CLEAN(Table1[[#This Row],[Code]])","v":"207U00000X"},"Nuclear Medicine",null,"Medical taxonomy","Y","36",null,"36","36","36","36","36","36",null,null,{"$f":"IF(ISNUMBER(SEARCH(INDIRECT(CELL(\"address\")),S394)),MAX($R$1:R393)+1,0)","v":0},{"$f":"Table1[[#This Row],[Portico_Specialty]]&\"-\"&Table1[[#This Row],[Code]]","v":"Nuclear Medicine-207U00000X"},null,{"$f":"IFERROR(VLOOKUP(ROWS($U$1:U393),$R$2:$S$918,2,FALSE),\"\")","v":""}]
["207UN0903X",{"$f":"Table1[[#This Row],[Code]]&\" \"&Table1[[#This Row],[Portico_Specialty]]","v":"207UN0903X Nuclear Medicine: In Vivo & In Vitro Nuclear Medicine"},{"$f":"CLEAN(Table1[[#This Row],[Code]])","v":"207UN0903X"},"Nuclear Medicine: In Vivo & In Vitro Nuclear Medicine",null,"Medical taxonomy","Y","36",null,"36","36","36","36","36","36",null,null,{"$f":"IF(ISNUMBER(SEARCH(INDIRECT(CELL(\"address\")),S395)),MAX($R$1:R394)+1,0)","v":0},{"$f":"Table1[[#This Row],[Portico_Specialty]]&\"-\"&Table1[[#This Row],[Code]]","v":"Nuclear Medicine: In Vivo & In Vitro Nuclear Medicine-207UN0903X"},null,{"$f":"IFERROR(VLOOKUP(ROWS($U$1:U394),$R$2:$S$918,2,FALSE),\"\")","v":""}]
["207UN0901X",{"$f":"Table1[[#This Row],[Code]]&\" \"&Table1[[#This Row],[Portico_Specialty]]","v":"207UN0901X Nuclear Medicine: Nuclear Cardiology"},{"$f":"CLEAN(Table1[[#This Row],[Code]])","v":"207UN0901X"},"Nuclear Medicine: Nuclear Cardiology",null,"Medical taxonomy","Y","36",null,"36","06","36","36","36","06",null,null,{"$f":"IF(ISNUMBER(SEARCH(INDIRECT(CELL(\"address\")),S396)),MAX($R$1:R395)+1,0)","v":0},{"$f":"Table1[[#This Row],[Portico_Specialty]]&\"-\"&Table1[[#This Row],[Code]]","v":"Nuclear Medicine: Nuclear Cardiology-207UN0901X"},null,{"$f":"IFERROR(VLOOKUP(ROWS($U$1:U395),$R$2:$S$918,2,FALSE),\"\")","v":""}]
["207UN0902X",{"$f":"Table1[[#This Row],[Code]]&\" \"&Table1[[#This Row],[Portico_Specialty]]","v":"207UN0902X Nuclear Medicine: Nuclear Imaging & Therapy"},{"$f":"CLEAN(Table1[[#This Row],[Code]])","v":"207UN0902X"},"Nuclear Medicine: Nuclear Imaging & Therapy",null,"Medical taxonomy","Y","36",null,"36","36","36","36","36","36",null,null,{"$f":"IF(ISNUMBER(SEARCH(INDIRECT(CELL(\"address\")),S397)),MAX($R$1:R396)+1,0)","v":0},{"$f":"Table1[[#This Row],[Portico_Specialty]]&\"-\"&Table1[[#This Row],[Code]]","v":"Nuclear Medicine: Nuclear Imaging & Therapy-207UN0902X"},null,{"$f":"IFERROR(VLOOKUP(ROWS($U$1:U396),$R$2:$S$918,2,FALSE),\"\")","v":""}]
["367500000X",{"$f":"Table1[[#This Row],[Code]]&\" \"&Table1[[#This Row],[Portico_Specialty]]","v":"367500000X Nurse Anesthetist, Certified Registered"},{"$f":"CLEAN(Table1[[#This Row],[Code]])","v":"367500000X"},"Nurse Anesthetist, Certified Registered",null,"Medical taxonomy","Y","43",null,"43","43","43","43","43","43",null,null,{"$f":"IF(ISNUMBER(SEARCH(INDIRECT(CELL(\"address\")),S398)),MAX($R$1:R397)+1,0)","v":0},{"$f":"Table1[[#This Row],[Portico_Specialty]]&\"-\"&Table1[[#This Row],[Code]]","v":"Nurse Anesthetist, Certified Registered-367500000X"},null,{"$f":"IFERROR(VLOOKUP(ROWS($U$1:U397),$R$2:$S$918,2,FALSE),\"\")","v":""}]
["363L00000X",{"$f":"Table1[[#This Row],[Code]]&\" \"&Table1[[#This Row],[Portico_Specialty]]","v":"363L00000X Nurse Practitioner"},{"$f":"CLEAN(Table1[[#This Row],[Code]])","v":"363L00000X"},"Nurse Practitioner",null,"Shared Taxonomy","Y","50",null,"50","50","50","50","50","50",null,null,{"$f":"IF(ISNUMBER(SEARCH(INDIRECT(CELL(\"address\")),S399)),MAX($R$1:R398)+1,0)","v":0},{"$f":"Table1[[#This Row],[Portico_Specialty]]&\"-\"&Table1[[#This Row],[Code]]","v":"Nurse Practitioner-363L00000X"},null,{"$f":"IFERROR(VLOOKUP(ROWS($U$1:U398),$R$2:$S$918,2,FALSE),\"\")","v":""}]
["363LA2100X",{"$f":"Table1[[#This Row],[Code]]&\" \"&Table1[[#This Row],[Portico_Specialty]]","v":"363LA2100X Nurse Practitioner: Acute Care"},{"$f":"CLEAN(Table1[[#This Row],[Code]])","v":"363LA2100X"},"Nurse Practitioner: Acute Care",null,"Shared Taxonomy","Y","50",null,"50","50","50","50","50","50",null,null,{"$f":"IF(ISNUMBER(SEARCH(INDIRECT(CELL(\"address\")),S400)),MAX($R$1:R399)+1,0)","v":0},{"$f":"Table1[[#This Row],[Portico_Specialty]]&\"-\"&Table1[[#This Row],[Code]]","v":"Nurse Practitioner: Acute Care-363LA2100X"},null,{"$f":"IFERROR(VLOOKUP(ROWS($U$1:U399),$R$2:$S$918,2,FALSE),\"\")","v":""}]
["363LA2200X",{"$f":"Table1[[#This Row],[Code]]&\" \"&Table1[[#This Row],[Portico_Specialty]]","v":"363LA2200X Nurse Practitioner: Adult Health"},{"$f":"CLEAN(Table1[[#This Row],[Code]])","v":"363LA2200X"},"Nurse Practitioner: Adult Health",null,"Medical taxonomy","Y","50",null,"50","50","50","50","50","50",null,null,{"$f":"IF(ISNUMBER(SEARCH(INDIRECT(CELL(\"address\")),S401)),MAX($R$1:R400)+1,0)","v":0},{"$f":"Table1[[#This Row],[Portico_Specialty]]&\"-\"&Table1[[#This Row],[Code]]","v":"Nurse Practitioner: Adult Health-363LA2200X"},null,{"$f":"IFERROR(VLOOKUP(ROWS($U$1:U400),$R$2:$S$918,2,FALSE),\"\")","v":""}]
["363LC1500X",{"$f":"Table1[[#This Row],[Code]]&\" \"&Table1[[#This Row],[Portico_Specialty]]","v":"363LC1500X Nurse Practitioner: Community Health"},{"$f":"CLEAN(Table1[[#This Row],[Code]])","v":"363LC1500X"},"Nurse Practitioner: Community Health",null,"Medical taxonomy","Y","50",null,"50","50","50","50","50","50",null,null,{"$f":"IF(ISNUMBER(SEARCH(INDIRECT(CELL(\"address\")),S402)),MAX($R$1:R401)+1,0)","v":0},{"$f":"Table1[[#This Row],[Portico_Specialty]]&\"-\"&Table1[[#This Row],[Code]]","v":"Nurse Practitioner: Community Health-363LC1500X"},null,{"$f":"IFERROR(VLOOKUP(ROWS($U$1:U401),$R$2:$S$918,2,FALSE),\"\")","v":""}]
["363LC0200X",{"$f":"Table1[[#This Row],[Code]]&\" \"&Table1[[#This Row],[Portico_Specialty]]","v":"363LC0200X Nurse Practitioner: Critical Care Medicine"},{"$f":"CLEAN(Table1[[#This Row],[Code]])","v":"363LC0200X"},"Nurse Practitioner: Critical Care Medicine",null,"Medical taxonomy","Y","50",null,"50","50","50","50","50","50",null,null,{"$f":"IF(ISNUMBER(SEARCH(INDIRECT(CELL(\"address\")),S403)),MAX($R$1:R402)+1,0)","v":0},{"$f":"Table1[[#This Row],[Portico_Specialty]]&\"-\"&Table1[[#This Row],[Code]]","v":"Nurse Practitioner: Critical Care Medicine-363LC0200X"},null,{"$f":"IFERROR(VLOOKUP(ROWS($U$1:U402),$R$2:$S$918,2,FALSE),\"\")","v":""}]
["363LF0000X",{"$f":"Table1[[#This Row],[Code]]&\" \"&Table1[[#This Row],[Portico_Specialty]]","v":"363LF0000X Nurse Practitioner: Family"},{"$f":"CLEAN(Table1[[#This Row],[Code]])","v":"363LF0000X"},"Nurse Practitioner: Family",null,"Medical taxonomy","Y","50",null,"50","50","50","50","50","50",null,null,{"$f":"IF(ISNUMBER(SEARCH(INDIRECT(CELL(\"address\")),S404)),MAX($R$1:R403)+1,0)","v":0},{"$f":"Table1[[#This Row],[Portico_Specialty]]&\"-\"&Table1[[#This Row],[Code]]","v":"Nurse Practitioner: Family-363LF0000X"},null,{"$f":"IFERROR(VLOOKUP(ROWS($U$1:U403),$R$2:$S$918,2,FALSE),\"\")","v":""}]
["363LG0600X",{"$f":"Table1[[#This Row],[Code]]&\" \"&Table1[[#This Row],[Portico_Specialty]]","v":"363LG0600X Nurse Practitioner: Gerontology"},{"$f":"CLEAN(Table1[[#This Row],[Code]])","v":"363LG0600X"},"Nurse Practitioner: Gerontology",null,"Medical taxonomy","Y","50",null,"50","50","50","50","50","50",null,null,{"$f":"IF(ISNUMBER(SEARCH(INDIRECT(CELL(\"address\")),S405)),MAX($R$1:R404)+1,0)","v":0},{"$f":"Table1[[#This Row],[Portico_Specialty]]&\"-\"&Table1[[#This Row],[Code]]","v":"Nurse Practitioner: Gerontology-363LG0600X"},null,{"$f":"IFERROR(VLOOKUP(ROWS($U$1:U404),$R$2:$S$918,2,FALSE),\"\")","v":""}]
["363LN0000X",{"$f":"Table1[[#This Row],[Code]]&\" \"&Table1[[#This Row],[Portico_Specialty]]","v":"363LN0000X Nurse Practitioner: Neonatal"},{"$f":"CLEAN(Table1[[#This Row],[Code]])","v":"363LN0000X"},"Nurse Practitioner: Neonatal",null,"Medical taxonomy","Y","50",null,"50","50","50","50","50","50",null,null,{"$f":"IF(ISNUMBER(SEARCH(INDIRECT(CELL(\"address\")),S406)),MAX($R$1:R405)+1,0)","v":0},{"$f":"Table1[[#This Row],[Portico_Specialty]]&\"-\"&Table1[[#This Row],[Code]]","v":"Nurse Practitioner: Neonatal-363LN0000X"},null,{"$f":"IFERROR(VLOOKUP(ROWS($U$1:U405),$R$2:$S$918,2,FALSE),\"\")","v":""}]
["363LN0005X",{"$f":"Table1[[#This Row],[Code]]&\" \"&Table1[[#This Row],[Portico_Specialty]]","v":"363LN0005X Nurse Practitioner: Neonatal, Critical Care"},{"$f":"CLEAN(Table1[[#This Row],[Code]])","v":"363LN0005X"},"Nurse Practitioner: Neonatal, Critical Care",null,"Medical taxonomy","Y","50",null,"NC","50","50","NC","50","50",null,null,{"$f":"IF(ISNUMBER(SEARCH(INDIRECT(CELL(\"address\")),S407)),MAX($R$1:R406)+1,0)","v":0},{"$f":"Table1[[#This Row],[Portico_Specialty]]&\"-\"&Table1[[#This Row],[Code]]","v":"Nurse Practitioner: Neonatal, Critical Care-363LN0005X"},null,{"$f":"IFERROR(VLOOKUP(ROWS($U$1:U406),$R$2:$S$918,2,FALSE),\"\")","v":""}]
["363LX0001X",{"$f":"Table1[[#This Row],[Code]]&\" \"&Table1[[#This Row],[Portico_Specialty]]","v":"363LX0001X Nurse Practitioner: Obstetrics & Gynecology"},{"$f":"CLEAN(Table1[[#This Row],[Code]])","v":"363LX0001X"},"Nurse Practitioner: Obstetrics & Gynecology",null,"Medical taxonomy","Y","50",null,"50","50","50","50","50","50",null,null,{"$f":"IF(ISNUMBER(SEARCH(INDIRECT(CELL(\"address\")),S408)),MAX($R$1:R407)+1,0)","v":0},{"$f":"Table1[[#This Row],[Portico_Specialty]]&\"-\"&Table1[[#This Row],[Code]]","v":"Nurse Practitioner: Obstetrics & Gynecology-363LX0001X"},null,{"$f":"IFERROR(VLOOKUP(ROWS($U$1:U407),$R$2:$S$918,2,FALSE),\"\")","v":""}]
["363LX0106X",{"$f":"Table1[[#This Row],[Code]]&\" \"&Table1[[#This Row],[Portico_Specialty]]","v":"363LX0106X Nurse Practitioner: Occupational Health"},{"$f":"CLEAN(Table1[[#This Row],[Code]])","v":"363LX0106X"},"Nurse Practitioner: Occupational Health",null,"Medical taxonomy","Y","50",null,"50","50","50","50","50","50",null,null,{"$f":"IF(ISNUMBER(SEARCH(INDIRECT(CELL(\"address\")),S409)),MAX($R$1:R408)+1,0)","v":0},{"$f":"Table1[[#This Row],[Portico_Specialty]]&\"-\"&Table1[[#This Row],[Code]]","v":"Nurse Practitioner: Occupational Health-363LX0106X"},null,{"$f":"IFERROR(VLOOKUP(ROWS($U$1:U408),$R$2:$S$918,2,FALSE),\"\")","v":""}]
["363LP0200X",{"$f":"Table1[[#This Row],[Code]]&\" \"&Table1[[#This Row],[Portico_Specialty]]","v":"363LP0200X Nurse Practitioner: Pediatrics"},{"$f":"CLEAN(Table1[[#This Row],[Code]])","v":"363LP0200X"},"Nurse Practitioner: Pediatrics",null,"Medical taxonomy","Y","50",null,"50","50","50","50","50","50",null,null,{"$f":"IF(ISNUMBER(SEARCH(INDIRECT(CELL(\"address\")),S410)),MAX($R$1:R409)+1,0)","v":0},{"$f":"Table1[[#This Row],[Portico_Specialty]]&\"-\"&Table1[[#This Row],[Code]]","v":"Nurse Practitioner: Pediatrics-363LP0200X"},null,{"$f":"IFERROR(VLOOKUP(ROWS($U$1:U409),$R$2:$S$918,2,FALSE),\"\")","v":""}]
["363LP0222X",{"$f":"Table1[[#This Row],[Code]]&\" \"&Table1[[#This Row],[Portico_Specialty]]","v":"363LP0222X Nurse Practitioner: Pediatrics, Critical Care"},{"$f":"CLEAN(Table1[[#This Row],[Code]])","v":"363LP0222X"},"Nurse Practitioner: Pediatrics, Critical Care",null,"Medical taxonomy","Y","50",null,"50","50","50","50","50","50",null,null,{"$f":"IF(ISNUMBER(SEARCH(INDIRECT(CELL(\"address\")),S411)),MAX($R$1:R410)+1,0)","v":0},{"$f":"Table1[[#This Row],[Portico_Specialty]]&\"-\"&Table1[[#This Row],[Code]]","v":"Nurse Practitioner: Pediatrics, Critical Care-363LP0222X"},null,{"$f":"IFERROR(VLOOKUP(ROWS($U$1:U410),$R$2:$S$918,2,FALSE),\"\")","v":""}]
["363LP1700X",{"$f":"Table1[[#This Row],[Code]]&\" \"&Table1[[#This Row],[Portico_Specialty]]","v":"363LP1700X Nurse Practitioner: Perinatal"},{"$f":"CLEAN(Table1[[#This Row],[Code]])","v":"363LP1700X"},"Nurse Practitioner: Perinatal",null,"Medical taxonomy","Y","50",null,"50","50","50","50","50","50",null,null,{"$f":"IF(ISNUMBER(SEARCH(INDIRECT(CELL(\"address\")),S412)),MAX($R$1:R411)+1,0)","v":0},{"$f":"Table1[[#This Row],[Portico_Specialty]]&\"-\"&Table1[[#This Row],[Code]]","v":"Nurse Practitioner: Perinatal-363LP1700X"},null,{"$f":"IFERROR(VLOOKUP(ROWS($U$1:U411),$R$2:$S$918,2,FALSE),\"\")","v":""}]
["363LP2300X",{"$f":"Table1[[#This Row],[Code]]&\" \"&Table1[[#This Row],[Portico_Specialty]]","v":"363LP2300X Nurse Practitioner: Primary Care"},{"$f":"CLEAN(Table1[[#This Row],[Code]])","v":"363LP2300X"},"Nurse Practitioner: Primary Care",null,"Medical taxonomy","Y","50",null,"50","50","50","50","50","50",null,null,{"$f":"IF(ISNUMBER(SEARCH(INDIRECT(CELL(\"address\")),S413)),MAX($R$1:R412)+1,0)","v":0},{"$f":"Table1[[#This Row],[Portico_Specialty]]&\"-\"&Table1[[#This Row],[Code]]","v":"Nurse Practitioner: Primary Care-363LP2300X"},null,{"$f":"IFERROR(VLOOKUP(ROWS($U$1:U412),$R$2:$S$918,2,FALSE),\"\")","v":""}]
["363LP0808X",{"$f":"Table1[[#This Row],[Code]]&\" \"&Table1[[#This Row],[Portico_Specialty]]","v":"363LP0808X Nurse Practitioner: Psych/Mental Health"},{"$f":"CLEAN(Table1[[#This Row],[Code]])","v":"363LP0808X"},"Nurse Practitioner: Psych/Mental Health",null,"BH Only Taxonomy","Y","50",null,"50","50","50","50","50","50",null,null,{"$f":"IF(ISNUMBER(SEARCH(INDIRECT(CELL(\"address\")),S414)),MAX($R$1:R413)+1,0)","v":0},{"$f":"Table1[[#This Row],[Portico_Specialty]]&\"-\"&Table1[[#This Row],[Code]]","v":"Nurse Practitioner: Psych/Mental Health-363LP0808X"},null,{"$f":"IFERROR(VLOOKUP(ROWS($U$1:U413),$R$2:$S$918,2,FALSE),\"\")","v":""}]
["363LS0200X",{"$f":"Table1[[#This Row],[Code]]&\" \"&Table1[[#This Row],[Portico_Specialty]]","v":"363LS0200X Nurse Practitioner: School"},{"$f":"CLEAN(Table1[[#This Row],[Code]])","v":"363LS0200X"},"Nurse Practitioner: School",null,"Medical taxonomy","Y","50",null,"50","50","50","50","50","50",null,null,{"$f":"IF(ISNUMBER(SEARCH(INDIRECT(CELL(\"address\")),S415)),MAX($R$1:R414)+1,0)","v":0},{"$f":"Table1[[#This Row],[Portico_Specialty]]&\"-\"&Table1[[#This Row],[Code]]","v":"Nurse Practitioner: School-363LS0200X"},null,{"$f":"IFERROR(VLOOKUP(ROWS($U$1:U414),$R$2:$S$918,2,FALSE),\"\")","v":""}]
["363LW0102X",{"$f":"Table1[[#This Row],[Code]]&\" \"&Table1[[#This Row],[Portico_Specialty]]","v":"363LW0102X Nurse Practitioner: Womens Health"},{"$f":"CLEAN(Table1[[#This Row],[Code]])","v":"363LW0102X"},"Nurse Practitioner: Womens Health",null,"Medical taxonomy","Y","50",null,"50","50","50","50","50","50",null,null,{"$f":"IF(ISNUMBER(SEARCH(INDIRECT(CELL(\"address\")),S416)),MAX($R$1:R415)+1,0)","v":0},{"$f":"Table1[[#This Row],[Portico_Specialty]]&\"-\"&Table1[[#This Row],[Code]]","v":"Nurse Practitioner: Womens Health-363LW0102X"},null,{"$f":"IFERROR(VLOOKUP(ROWS($U$1:U415),$R$2:$S$918,2,FALSE),\"\")","v":""}]
["376K00000X",{"$f":"Table1[[#This Row],[Code]]&\" \"&Table1[[#This Row],[Portico_Specialty]]","v":"376K00000X Nurses  Aide"},{"$f":"CLEAN(Table1[[#This Row],[Code]])","v":"376K00000X"},"Nurses  Aide",null,"Medical taxonomy","N",null,null,"99","PP",null,null,null,"PP",null,null,{"$f":"IF(ISNUMBER(SEARCH(INDIRECT(CELL(\"address\")),S417)),MAX($R$1:R416)+1,0)","v":0},{"$f":"Table1[[#This Row],[Portico_Specialty]]&\"-\"&Table1[[#This Row],[Code]]","v":"Nurses  Aide-376K00000X"},null,{"$f":"IFERROR(VLOOKUP(ROWS($U$1:U416),$R$2:$S$918,2,FALSE),\"\")","v":""}]
["251J00000X",{"$f":"Table1[[#This Row],[Code]]&\" \"&Table1[[#This Row],[Portico_Specialty]]","v":"251J00000X Nursing Care"},{"$f":"CLEAN(Table1[[#This Row],[Code]])","v":"251J00000X"},"Nursing Care",null,"Medical taxonomy","N","HH",null,"HH","HH","HH","HH","99","HH",null,null,{"$f":"IF(ISNUMBER(SEARCH(INDIRECT(CELL(\"address\")),S418)),MAX($R$1:R417)+1,0)","v":0},{"$f":"Table1[[#This Row],[Portico_Specialty]]&\"-\"&Table1[[#This Row],[Code]]","v":"Nursing Care-251J00000X"},null,{"$f":"IFERROR(VLOOKUP(ROWS($U$1:U417),$R$2:$S$918,2,FALSE),\"\")","v":""}]
["313M00000X",{"$f":"Table1[[#This Row],[Code]]&\" \"&Table1[[#This Row],[Portico_Specialty]]","v":"313M00000X Nursing Facility/Intermediate Care Facility"},{"$f":"CLEAN(Table1[[#This Row],[Code]])","v":"313M00000X"},"Nursing Facility/Intermediate Care Facility",null,"Medical taxonomy","Y","SN",null,"SN","SN","SN","SN","A1","SN",null,null,{"$f":"IF(ISNUMBER(SEARCH(INDIRECT(CELL(\"address\")),S419)),MAX($R$1:R418)+1,0)","v":0},{"$f":"Table1[[#This Row],[Portico_Specialty]]&\"-\"&Table1[[#This Row],[Code]]","v":"Nursing Facility/Intermediate Care Facility-313M00000X"},null,{"$f":"IFERROR(VLOOKUP(ROWS($U$1:U418),$R$2:$S$918,2,FALSE),\"\")","v":""}]
["376G00000X",{"$f":"Table1[[#This Row],[Code]]&\" \"&Table1[[#This Row],[Portico_Specialty]]","v":"376G00000X Nursing Home Administrator"},{"$f":"CLEAN(Table1[[#This Row],[Code]])","v":"376G00000X"},"Nursing Home Administrator",null,"Medical taxonomy","N","SN",null,"99","99","SN",null,"A4","99",null,null,{"$f":"IF(ISNUMBER(SEARCH(INDIRECT(CELL(\"address\")),S420)),MAX($R$1:R419)+1,0)","v":0},{"$f":"Table1[[#This Row],[Portico_Specialty]]&\"-\"&Table1[[#This Row],[Code]]","v":"Nursing Home Administrator-376G00000X"},null,{"$f":"IFERROR(VLOOKUP(ROWS($U$1:U419),$R$2:$S$918,2,FALSE),\"\")","v":""}]
["133N00000X",{"$f":"Table1[[#This Row],[Code]]&\" \"&Table1[[#This Row],[Portico_Specialty]]","v":"133N00000X Nutritionist"},{"$f":"CLEAN(Table1[[#This Row],[Code]])","v":"133N00000X"},"Nutritionist",null,"Medical taxonomy","N","NT",null,"NT","NT","NT","NT","71","NT",null,null,{"$f":"IF(ISNUMBER(SEARCH(INDIRECT(CELL(\"address\")),S421)),MAX($R$1:R420)+1,0)","v":0},{"$f":"Table1[[#This Row],[Portico_Specialty]]&\"-\"&Table1[[#This Row],[Code]]","v":"Nutritionist-133N00000X"},null,{"$f":"IFERROR(VLOOKUP(ROWS($U$1:U420),$R$2:$S$918,2,FALSE),\"\")","v":""}]
["133NN1002X",{"$f":"Table1[[#This Row],[Code]]&\" \"&Table1[[#This Row],[Portico_Specialty]]","v":"133NN1002X Nutritionist: Nutrition, Education"},{"$f":"CLEAN(Table1[[#This Row],[Code]])","v":"133NN1002X"},"Nutritionist: Nutrition, Education",null,"Medical taxonomy","N","NT",null,"NT","NT","NT","NT","71","NT",null,null,{"$f":"IF(ISNUMBER(SEARCH(INDIRECT(CELL(\"address\")),S422)),MAX($R$1:R421)+1,0)","v":0},{"$f":"Table1[[#This Row],[Portico_Specialty]]&\"-\"&Table1[[#This Row],[Code]]","v":"Nutritionist: Nutrition, Education-133NN1002X"},null,{"$f":"IFERROR(VLOOKUP(ROWS($U$1:U421),$R$2:$S$918,2,FALSE),\"\")","v":""}]
["207V00000X",{"$f":"Table1[[#This Row],[Code]]&\" \"&Table1[[#This Row],[Portico_Specialty]]","v":"207V00000X Obstetrics & Gynecology"},{"$f":"CLEAN(Table1[[#This Row],[Code]])","v":"207V00000X"},"Obstetrics & Gynecology",null,"Medical taxonomy","Y","16",null,"16","16","16","16","16","16",null,null,{"$f":"IF(ISNUMBER(SEARCH(INDIRECT(CELL(\"address\")),S423)),MAX($R$1:R422)+1,0)","v":0},{"$f":"Table1[[#This Row],[Portico_Specialty]]&\"-\"&Table1[[#This Row],[Code]]","v":"Obstetrics & Gynecology-207V00000X"},null,{"$f":"IFERROR(VLOOKUP(ROWS($U$1:U422),$R$2:$S$918,2,FALSE),\"\")","v":""}]
["207VC0200X",{"$f":"Table1[[#This Row],[Code]]&\" \"&Table1[[#This Row],[Portico_Specialty]]","v":"207VC0200X Obstetrics & Gynecology: Critical Care Medicine"},{"$f":"CLEAN(Table1[[#This Row],[Code]])","v":"207VC0200X"},"Obstetrics & Gynecology: Critical Care Medicine",null,"Medical taxonomy","Y","16",null,"16","16","16","16","16","16",null,null,{"$f":"IF(ISNUMBER(SEARCH(INDIRECT(CELL(\"address\")),S424)),MAX($R$1:R423)+1,0)","v":0},{"$f":"Table1[[#This Row],[Portico_Specialty]]&\"-\"&Table1[[#This Row],[Code]]","v":"Obstetrics & Gynecology: Critical Care Medicine-207VC0200X"},null,{"$f":"IFERROR(VLOOKUP(ROWS($U$1:U423),$R$2:$S$918,2,FALSE),\"\")","v":""}]
["207VX0201X",{"$f":"Table1[[#This Row],[Code]]&\" \"&Table1[[#This Row],[Portico_Specialty]]","v":"207VX0201X Obstetrics & Gynecology: Gynecologic Oncology"},{"$f":"CLEAN(Table1[[#This Row],[Code]])","v":"207VX0201X"},"Obstetrics & Gynecology: Gynecologic Oncology",null,"Medical taxonomy","Y","98",null,"98","98","98","98","98","98",null,null,{"$f":"IF(ISNUMBER(SEARCH(INDIRECT(CELL(\"address\")),S425)),MAX($R$1:R424)+1,0)","v":0},{"$f":"Table1[[#This Row],[Portico_Specialty]]&\"-\"&Table1[[#This Row],[Code]]","v":"Obstetrics & Gynecology: Gynecologic Oncology-207VX0201X"},null,{"$f":"IFERROR(VLOOKUP(ROWS($U$1:U424),$R$2:$S$918,2,FALSE),\"\")","v":""}]
["207VG0400X",{"$f":"Table1[[#This Row],[Code]]&\" \"&Table1[[#This Row],[Portico_Specialty]]","v":"207VG0400X Obstetrics & Gynecology: Gynecology"},{"$f":"CLEAN(Table1[[#This Row],[Code]])","v":"207VG0400X"},"Obstetrics & Gynecology: Gynecology",null,"Medical taxonomy","Y","16",null,"17","16","16","17","16","16",null,null,{"$f":"IF(ISNUMBER(SEARCH(INDIRECT(CELL(\"address\")),S426)),MAX($R$1:R425)+1,0)","v":0},{"$f":"Table1[[#This Row],[Portico_Specialty]]&\"-\"&Table1[[#This Row],[Code]]","v":"Obstetrics & Gynecology: Gynecology-207VG0400X"},null,{"$f":"IFERROR(VLOOKUP(ROWS($U$1:U425),$R$2:$S$918,2,FALSE),\"\")","v":""}]
["207VH0002X",{"$f":"Table1[[#This Row],[Code]]&\" \"&Table1[[#This Row],[Portico_Specialty]]","v":"207VH0002X Obstetrics & Gynecology: Hospice and Palliative Medicine"},{"$f":"CLEAN(Table1[[#This Row],[Code]])","v":"207VH0002X"},"Obstetrics & Gynecology: Hospice and Palliative Medicine",null,"Medical taxonomy","Y","16",null,"16","16","16","16","16","16",null,null,{"$f":"IF(ISNUMBER(SEARCH(INDIRECT(CELL(\"address\")),S427)),MAX($R$1:R426)+1,0)","v":0},{"$f":"Table1[[#This Row],[Portico_Specialty]]&\"-\"&Table1[[#This Row],[Code]]","v":"Obstetrics & Gynecology: Hospice and Palliative Medicine-207VH0002X"},null,{"$f":"IFERROR(VLOOKUP(ROWS($U$1:U426),$R$2:$S$918,2,FALSE),\"\")","v":""}]
["207VM0101X",{"$f":"Table1[[#This Row],[Code]]&\" \"&Table1[[#This Row],[Portico_Specialty]]","v":"207VM0101X Obstetrics & Gynecology: Maternal & Fetal Medicine"},{"$f":"CLEAN(Table1[[#This Row],[Code]])","v":"207VM0101X"},"Obstetrics & Gynecology: Maternal & Fetal Medicine",null,"Medical taxonomy","Y","PN",null,"PN","16","PN","PN","16","16",null,null,{"$f":"IF(ISNUMBER(SEARCH(INDIRECT(CELL(\"address\")),S428)),MAX($R$1:R427)+1,0)","v":0},{"$f":"Table1[[#This Row],[Portico_Specialty]]&\"-\"&Table1[[#This Row],[Code]]","v":"Obstetrics & Gynecology: Maternal & Fetal Medicine-207VM0101X"},null,{"$f":"IFERROR(VLOOKUP(ROWS($U$1:U427),$R$2:$S$918,2,FALSE),\"\")","v":""}]
["207VB0002X",{"$f":"Table1[[#This Row],[Code]]&\" \"&Table1[[#This Row],[Portico_Specialty]]","v":"207VB0002X Obstetrics & Gynecology: Obesity Medicine"},{"$f":"CLEAN(Table1[[#This Row],[Code]])","v":"207VB0002X"},"Obstetrics & Gynecology: Obesity Medicine",null,"Medical taxonomy","Y","16",null,"16","16","16","16","16","16",null,null,{"$f":"IF(ISNUMBER(SEARCH(INDIRECT(CELL(\"address\")),S429)),MAX($R$1:R428)+1,0)","v":0},{"$f":"Table1[[#This Row],[Portico_Specialty]]&\"-\"&Table1[[#This Row],[Code]]","v":"Obstetrics & Gynecology: Obesity Medicine-207VB0002X"},null,{"$f":"IFERROR(VLOOKUP(ROWS($U$1:U428),$R$2:$S$918,2,FALSE),\"\")","v":""}]
["207VX0000X",{"$f":"Table1[[#This Row],[Code]]&\" \"&Table1[[#This Row],[Portico_Specialty]]","v":"207VX0000X Obstetrics & Gynecology: Obstetrics"},{"$f":"CLEAN(Table1[[#This Row],[Code]])","v":"207VX0000X"},"Obstetrics & Gynecology: Obstetrics",null,"Medical taxonomy","Y","16",null,"16","16","16","16","16","16",null,null,{"$f":"IF(ISNUMBER(SEARCH(INDIRECT(CELL(\"address\")),S430)),MAX($R$1:R429)+1,0)","v":0},{"$f":"Table1[[#This Row],[Portico_Specialty]]&\"-\"&Table1[[#This Row],[Code]]","v":"Obstetrics & Gynecology: Obstetrics-207VX0000X"},null,{"$f":"IFERROR(VLOOKUP(ROWS($U$1:U429),$R$2:$S$918,2,FALSE),\"\")","v":""}]
["207VE0102X",{"$f":"Table1[[#This Row],[Code]]&\" \"&Table1[[#This Row],[Portico_Specialty]]","v":"207VE0102X Obstetrics & Gynecology: Reproductive Endocrinology"},{"$f":"CLEAN(Table1[[#This Row],[Code]])","v":"207VE0102X"},"Obstetrics & Gynecology: Reproductive Endocrinology",null,"Medical taxonomy","Y","16",null,"16","46","16","16","16","46",null,null,{"$f":"IF(ISNUMBER(SEARCH(INDIRECT(CELL(\"address\")),S431)),MAX($R$1:R430)+1,0)","v":0},{"$f":"Table1[[#This Row],[Portico_Specialty]]&\"-\"&Table1[[#This Row],[Code]]","v":"Obstetrics & Gynecology: Reproductive Endocrinology-207VE0102X"},null,{"$f":"IFERROR(VLOOKUP(ROWS($U$1:U430),$R$2:$S$918,2,FALSE),\"\")","v":""}]
["225X00000X",{"$f":"Table1[[#This Row],[Code]]&\" \"&Table1[[#This Row],[Portico_Specialty]]","v":"225X00000X Occupational Therapist"},{"$f":"CLEAN(Table1[[#This Row],[Code]])","v":"225X00000X"},"Occupational Therapist",null,"Medical taxonomy","Y","67",null,"67","67","67","67","67","67",null,null,{"$f":"IF(ISNUMBER(SEARCH(INDIRECT(CELL(\"address\")),S432)),MAX($R$1:R431)+1,0)","v":0},{"$f":"Table1[[#This Row],[Portico_Specialty]]&\"-\"&Table1[[#This Row],[Code]]","v":"Occupational Therapist-225X00000X"},null,{"$f":"IFERROR(VLOOKUP(ROWS($U$1:U431),$R$2:$S$918,2,FALSE),\"\")","v":""}]
["225XR0403X",{"$f":"Table1[[#This Row],[Code]]&\" \"&Table1[[#This Row],[Portico_Specialty]]","v":"225XR0403X Occupational Therapist: Driving and Community Mobility"},{"$f":"CLEAN(Table1[[#This Row],[Code]])","v":"225XR0403X"},"Occupational Therapist: Driving and Community Mobility",null,"Medical taxonomy","Y","67",null,"67","67","67","67","67","67",null,null,{"$f":"IF(ISNUMBER(SEARCH(INDIRECT(CELL(\"address\")),S433)),MAX($R$1:R432)+1,0)","v":0},{"$f":"Table1[[#This Row],[Portico_Specialty]]&\"-\"&Table1[[#This Row],[Code]]","v":"Occupational Therapist: Driving and Community Mobility-225XR0403X"},null,{"$f":"IFERROR(VLOOKUP(ROWS($U$1:U432),$R$2:$S$918,2,FALSE),\"\")","v":""}]
["225XE0001X",{"$f":"Table1[[#This Row],[Code]]&\" \"&Table1[[#This Row],[Portico_Specialty]]","v":"225XE0001X Occupational Therapist: Environmental Modification"},{"$f":"CLEAN(Table1[[#This Row],[Code]])","v":"225XE0001X"},"Occupational Therapist: Environmental Modification",null,"Medical taxonomy","Y","67",null,"67","67","67","67","67","67",null,null,{"$f":"IF(ISNUMBER(SEARCH(INDIRECT(CELL(\"address\")),S434)),MAX($R$1:R433)+1,0)","v":0},{"$f":"Table1[[#This Row],[Portico_Specialty]]&\"-\"&Table1[[#This Row],[Code]]","v":"Occupational Therapist: Environmental Modification-225XE0001X"},null,{"$f":"IFERROR(VLOOKUP(ROWS($U$1:U433),$R$2:$S$918,2,FALSE),\"\")","v":""}]
["225XE1200X",{"$f":"Table1[[#This Row],[Code]]&\" \"&Table1[[#This Row],[Portico_Specialty]]","v":"225XE1200X Occupational Therapist: Ergonomics"},{"$f":"CLEAN(Table1[[#This Row],[Code]])","v":"225XE1200X"},"Occupational Therapist: Ergonomics",null,"Medical taxonomy","Y","67",null,"67","67","67","67","67","67",null,null,{"$f":"IF(ISNUMBER(SEARCH(INDIRECT(CELL(\"address\")),S435)),MAX($R$1:R434)+1,0)","v":0},{"$f":"Table1[[#This Row],[Portico_Specialty]]&\"-\"&Table1[[#This Row],[Code]]","v":"Occupational Therapist: Ergonomics-225XE1200X"},null,{"$f":"IFERROR(VLOOKUP(ROWS($U$1:U434),$R$2:$S$918,2,FALSE),\"\")","v":""}]
["225XF0002X",{"$f":"Table1[[#This Row],[Code]]&\" \"&Table1[[#This Row],[Portico_Specialty]]","v":"225XF0002X Occupational Therapist: Feeding, Eating & Swallowing"},{"$f":"CLEAN(Table1[[#This Row],[Code]])","v":"225XF0002X"},"Occupational Therapist: Feeding, Eating & Swallowing",null,"Medical taxonomy","Y","67",null,"67","67","67","67","67","67",null,null,{"$f":"IF(ISNUMBER(SEARCH(INDIRECT(CELL(\"address\")),S436)),MAX($R$1:R435)+1,0)","v":0},{"$f":"Table1[[#This Row],[Portico_Specialty]]&\"-\"&Table1[[#This Row],[Code]]","v":"Occupational Therapist: Feeding, Eating & Swallowing-225XF0002X"},null,{"$f":"IFERROR(VLOOKUP(ROWS($U$1:U435),$R$2:$S$918,2,FALSE),\"\")","v":""}]
["225XG0600X",{"$f":"Table1[[#This Row],[Code]]&\" \"&Table1[[#This Row],[Portico_Specialty]]","v":"225XG0600X Occupational Therapist: Gerontology"},{"$f":"CLEAN(Table1[[#This Row],[Code]])","v":"225XG0600X"},"Occupational Therapist: Gerontology",null,"Medical taxonomy","Y","67",null,"67","67","67","67","67","67",null,null,{"$f":"IF(ISNUMBER(SEARCH(INDIRECT(CELL(\"address\")),S437)),MAX($R$1:R436)+1,0)","v":0},{"$f":"Table1[[#This Row],[Portico_Specialty]]&\"-\"&Table1[[#This Row],[Code]]","v":"Occupational Therapist: Gerontology-225XG0600X"},null,{"$f":"IFERROR(VLOOKUP(ROWS($U$1:U436),$R$2:$S$918,2,FALSE),\"\")","v":""}]
["225XH1200X",{"$f":"Table1[[#This Row],[Code]]&\" \"&Table1[[#This Row],[Portico_Specialty]]","v":"225XH1200X Occupational Therapist: Hand"},{"$f":"CLEAN(Table1[[#This Row],[Code]])","v":"225XH1200X"},"Occupational Therapist: Hand",null,"Medical taxonomy","Y","67",null,"67","67","67","67","67","67",null,null,{"$f":"IF(ISNUMBER(SEARCH(INDIRECT(CELL(\"address\")),S438)),MAX($R$1:R437)+1,0)","v":0},{"$f":"Table1[[#This Row],[Portico_Specialty]]&\"-\"&Table1[[#This Row],[Code]]","v":"Occupational Therapist: Hand-225XH1200X"},null,{"$f":"IFERROR(VLOOKUP(ROWS($U$1:U437),$R$2:$S$918,2,FALSE),\"\")","v":""}]
["225XH1300X",{"$f":"Table1[[#This Row],[Code]]&\" \"&Table1[[#This Row],[Portico_Specialty]]","v":"225XH1300X Occupational Therapist: Human Factors"},{"$f":"CLEAN(Table1[[#This Row],[Code]])","v":"225XH1300X"},"Occupational Therapist: Human Factors",null,"Medical taxonomy","Y","67",null,"67","67","67","67","67","67",null,null,{"$f":"IF(ISNUMBER(SEARCH(INDIRECT(CELL(\"address\")),S439)),MAX($R$1:R438)+1,0)","v":0},{"$f":"Table1[[#This Row],[Portico_Specialty]]&\"-\"&Table1[[#This Row],[Code]]","v":"Occupational Therapist: Human Factors-225XH1300X"},null,{"$f":"IFERROR(VLOOKUP(ROWS($U$1:U438),$R$2:$S$918,2,FALSE),\"\")","v":""}]
["225XL0004X",{"$f":"Table1[[#This Row],[Code]]&\" \"&Table1[[#This Row],[Portico_Specialty]]","v":"225XL0004X Occupational Therapist: Low Vision"},{"$f":"CLEAN(Table1[[#This Row],[Code]])","v":"225XL0004X"},"Occupational Therapist: Low Vision",null,"Medical taxonomy","Y","67",null,"67","67","67","67","67","67",null,null,{"$f":"IF(ISNUMBER(SEARCH(INDIRECT(CELL(\"address\")),S440)),MAX($R$1:R439)+1,0)","v":0},{"$f":"Table1[[#This Row],[Portico_Specialty]]&\"-\"&Table1[[#This Row],[Code]]","v":"Occupational Therapist: Low Vision-225XL0004X"},null,{"$f":"IFERROR(VLOOKUP(ROWS($U$1:U439),$R$2:$S$918,2,FALSE),\"\")","v":""}]
["225XM0800X",{"$f":"Table1[[#This Row],[Code]]&\" \"&Table1[[#This Row],[Portico_Specialty]]","v":"225XM0800X Occupational Therapist: Mental Health"},{"$f":"CLEAN(Table1[[#This Row],[Code]])","v":"225XM0800X"},"Occupational Therapist: Mental Health",null,"Medical taxonomy","Y","67",null,"67","67","67","67","67","67",null,null,{"$f":"IF(ISNUMBER(SEARCH(INDIRECT(CELL(\"address\")),S441)),MAX($R$1:R440)+1,0)","v":0},{"$f":"Table1[[#This Row],[Portico_Specialty]]&\"-\"&Table1[[#This Row],[Code]]","v":"Occupational Therapist: Mental Health-225XM0800X"},null,{"$f":"IFERROR(VLOOKUP(ROWS($U$1:U440),$R$2:$S$918,2,FALSE),\"\")","v":""}]
["225XN1300X",{"$f":"Table1[[#This Row],[Code]]&\" \"&Table1[[#This Row],[Portico_Specialty]]","v":"225XN1300X Occupational Therapist: Neurorehabilitation"},{"$f":"CLEAN(Table1[[#This Row],[Code]])","v":"225XN1300X"},"Occupational Therapist: Neurorehabilitation",null,"Medical taxonomy","Y","67",null,"67","67","67","67","67","67",null,null,{"$f":"IF(ISNUMBER(SEARCH(INDIRECT(CELL(\"address\")),S442)),MAX($R$1:R441)+1,0)","v":0},{"$f":"Table1[[#This Row],[Portico_Specialty]]&\"-\"&Table1[[#This Row],[Code]]","v":"Occupational Therapist: Neurorehabilitation-225XN1300X"},null,{"$f":"IFERROR(VLOOKUP(ROWS($U$1:U441),$R$2:$S$918,2,FALSE),\"\")","v":""}]
["225XP0200X",{"$f":"Table1[[#This Row],[Code]]&\" \"&Table1[[#This Row],[Portico_Specialty]]","v":"225XP0200X Occupational Therapist: Pediatrics"},{"$f":"CLEAN(Table1[[#This Row],[Code]])","v":"225XP0200X"},"Occupational Therapist: Pediatrics",null,"Medical taxonomy","Y","67",null,"67","67","67","67","67","67",null,null,{"$f":"IF(ISNUMBER(SEARCH(INDIRECT(CELL(\"address\")),S443)),MAX($R$1:R442)+1,0)","v":0},{"$f":"Table1[[#This Row],[Portico_Specialty]]&\"-\"&Table1[[#This Row],[Code]]","v":"Occupational Therapist: Pediatrics-225XP0200X"},null,{"$f":"IFERROR(VLOOKUP(ROWS($U$1:U442),$R$2:$S$918,2,FALSE),\"\")","v":""}]
["225XP0019X",{"$f":"Table1[[#This Row],[Code]]&\" \"&Table1[[#This Row],[Portico_Specialty]]","v":"225XP0019X Occupational Therapist: Physical Rehabilitation"},{"$f":"CLEAN(Table1[[#This Row],[Code]])","v":"225XP0019X"},"Occupational Therapist: Physical Rehabilitation",null,"Medical taxonomy","Y","67",null,"67","67","67","67","67","67",null,null,{"$f":"IF(ISNUMBER(SEARCH(INDIRECT(CELL(\"address\")),S444)),MAX($R$1:R443)+1,0)","v":0},{"$f":"Table1[[#This Row],[Portico_Specialty]]&\"-\"&Table1[[#This Row],[Code]]","v":"Occupational Therapist: Physical Rehabilitation-225XP0019X"},null,{"$f":"IFERROR(VLOOKUP(ROWS($U$1:U443),$R$2:$S$918,2,FALSE),\"\")","v":""}]
["224Z00000X",{"$f":"Table1[[#This Row],[Code]]&\" \"&Table1[[#This Row],[Portico_Specialty]]","v":"224Z00000X Occupational Therapy Assistant"},{"$f":"CLEAN(Table1[[#This Row],[Code]])","v":"224Z00000X"},"Occupational Therapy Assistant",null,"Medical taxonomy","N","67",null,"99","67","65",null,null,"67",null,null,{"$f":"IF(ISNUMBER(SEARCH(INDIRECT(CELL(\"address\")),S445)),MAX($R$1:R444)+1,0)","v":0},{"$f":"Table1[[#This Row],[Portico_Specialty]]&\"-\"&Table1[[#This Row],[Code]]","v":"Occupational Therapy Assistant-224Z00000X"},null,{"$f":"IFERROR(VLOOKUP(ROWS($U$1:U444),$R$2:$S$918,2,FALSE),\"\")","v":""}]
["224ZR0403X",{"$f":"Table1[[#This Row],[Code]]&\" \"&Table1[[#This Row],[Portico_Specialty]]","v":"224ZR0403X Occupational Therapy Assistant: Driving and Community Mobility"},{"$f":"CLEAN(Table1[[#This Row],[Code]])","v":"224ZR0403X"},"Occupational Therapy Assistant: Driving and Community Mobility",null,"Medical taxonomy","N","67",null,"99","67",null,null,null,"67",null,null,{"$f":"IF(ISNUMBER(SEARCH(INDIRECT(CELL(\"address\")),S446)),MAX($R$1:R445)+1,0)","v":0},{"$f":"Table1[[#This Row],[Portico_Specialty]]&\"-\"&Table1[[#This Row],[Code]]","v":"Occupational Therapy Assistant: Driving and Community Mobility-224ZR0403X"},null,{"$f":"IFERROR(VLOOKUP(ROWS($U$1:U445),$R$2:$S$918,2,FALSE),\"\")","v":""}]
["224ZE0001X",{"$f":"Table1[[#This Row],[Code]]&\" \"&Table1[[#This Row],[Portico_Specialty]]","v":"224ZE0001X Occupational Therapy Assistant: Environmental Modification"},{"$f":"CLEAN(Table1[[#This Row],[Code]])","v":"224ZE0001X"},"Occupational Therapy Assistant: Environmental Modification",null,"Medical taxonomy","N","67",null,"99","67",null,null,null,"67",null,null,{"$f":"IF(ISNUMBER(SEARCH(INDIRECT(CELL(\"address\")),S447)),MAX($R$1:R446)+1,0)","v":0},{"$f":"Table1[[#This Row],[Portico_Specialty]]&\"-\"&Table1[[#This Row],[Code]]","v":"Occupational Therapy Assistant: Environmental Modification-224ZE0001X"},null,{"$f":"IFERROR(VLOOKUP(ROWS($U$1:U446),$R$2:$S$918,2,FALSE),\"\")","v":""}]
["224ZF0002X",{"$f":"Table1[[#This Row],[Code]]&\" \"&Table1[[#This Row],[Portico_Specialty]]","v":"224ZF0002X Occupational Therapy Assistant: Feeding, Eating & Swallowing"},{"$f":"CLEAN(Table1[[#This Row],[Code]])","v":"224ZF0002X"},"Occupational Therapy Assistant: Feeding, Eating & Swallowing",null,"Medical taxonomy","N","67",null,"99","67",null,null,null,"67",null,null,{"$f":"IF(ISNUMBER(SEARCH(INDIRECT(CELL(\"address\")),S448)),MAX($R$1:R447)+1,0)","v":0},{"$f":"Table1[[#This Row],[Portico_Specialty]]&\"-\"&Table1[[#This Row],[Code]]","v":"Occupational Therapy Assistant: Feeding, Eating & Swallowing-224ZF0002X"},null,{"$f":"IFERROR(VLOOKUP(ROWS($U$1:U447),$R$2:$S$918,2,FALSE),\"\")","v":""}]
["224ZL0004X",{"$f":"Table1[[#This Row],[Code]]&\" \"&Table1[[#This Row],[Portico_Specialty]]","v":"224ZL0004X Occupational Therapy Assistant: Low Vision"},{"$f":"CLEAN(Table1[[#This Row],[Code]])","v":"224ZL0004X"},"Occupational Therapy Assistant: Low Vision",null,"Medical taxonomy","N",null,null,"99","67",null,null,null,"67",null,null,{"$f":"IF(ISNUMBER(SEARCH(INDIRECT(CELL(\"address\")),S449)),MAX($R$1:R448)+1,0)","v":0},{"$f":"Table1[[#This Row],[Portico_Specialty]]&\"-\"&Table1[[#This Row],[Code]]","v":"Occupational Therapy Assistant: Low Vision-224ZL0004X"},null,{"$f":"IFERROR(VLOOKUP(ROWS($U$1:U448),$R$2:$S$918,2,FALSE),\"\")","v":""}]
["207W00000X",{"$f":"Table1[[#This Row],[Code]]&\" \"&Table1[[#This Row],[Portico_Specialty]]","v":"207W00000X Ophthalmology"},{"$f":"CLEAN(Table1[[#This Row],[Code]])","v":"207W00000X"},"Ophthalmology",null,"Medical taxonomy","Y","18",null,"18","18","18","18","18","18",null,null,{"$f":"IF(ISNUMBER(SEARCH(INDIRECT(CELL(\"address\")),S450)),MAX($R$1:R449)+1,0)","v":0},{"$f":"Table1[[#This Row],[Portico_Specialty]]&\"-\"&Table1[[#This Row],[Code]]","v":"Ophthalmology-207W00000X"},null,{"$f":"IFERROR(VLOOKUP(ROWS($U$1:U449),$R$2:$S$918,2,FALSE),\"\")","v":""}]
["207WX0200X",{"$f":"Table1[[#This Row],[Code]]&\" \"&Table1[[#This Row],[Portico_Specialty]]","v":"207WX0200X Ophthalmology:  Ophthalmic Plastic and Reconstructive Surgery"},{"$f":"CLEAN(Table1[[#This Row],[Code]])","v":"207WX0200X"},"Ophthalmology:  Ophthalmic Plastic and Reconstructive Surgery",null,"Medical taxonomy","Y",null,null,"18","18",null,null,null,"18",null,null,{"$f":"IF(ISNUMBER(SEARCH(INDIRECT(CELL(\"address\")),S451)),MAX($R$1:R450)+1,0)","v":0},{"$f":"Table1[[#This Row],[Portico_Specialty]]&\"-\"&Table1[[#This Row],[Code]]","v":"Ophthalmology:  Ophthalmic Plastic and Reconstructive Surgery-207WX0200X"},null,{"$f":"IFERROR(VLOOKUP(ROWS($U$1:U450),$R$2:$S$918,2,FALSE),\"\")","v":""}]
["207WX0120X",{"$f":"Table1[[#This Row],[Code]]&\" \"&Table1[[#This Row],[Portico_Specialty]]","v":"207WX0120X Ophthalmology: Cornea and External Diseases Specialist"},{"$f":"CLEAN(Table1[[#This Row],[Code]])","v":"207WX0120X"},"Ophthalmology: Cornea and External Diseases Specialist",null,"Medical taxonomy","Y","18",null,"18","18","18","18","18","18",null,null,{"$f":"IF(ISNUMBER(SEARCH(INDIRECT(CELL(\"address\")),S452)),MAX($R$1:R451)+1,0)","v":0},{"$f":"Table1[[#This Row],[Portico_Specialty]]&\"-\"&Table1[[#This Row],[Code]]","v":"Ophthalmology: Cornea and External Diseases Specialist-207WX0120X"},null,{"$f":"IFERROR(VLOOKUP(ROWS($U$1:U451),$R$2:$S$918,2,FALSE),\"\")","v":""}]
["207WX0009X",{"$f":"Table1[[#This Row],[Code]]&\" \"&Table1[[#This Row],[Portico_Specialty]]","v":"207WX0009X Ophthalmology: Glaucoma Specialist"},{"$f":"CLEAN(Table1[[#This Row],[Code]])","v":"207WX0009X"},"Ophthalmology: Glaucoma Specialist",null,"Medical taxonomy","N","18",null,"18","18","18","18","18","18",null,null,{"$f":"IF(ISNUMBER(SEARCH(INDIRECT(CELL(\"address\")),S453)),MAX($R$1:R452)+1,0)","v":0},{"$f":"Table1[[#This Row],[Portico_Specialty]]&\"-\"&Table1[[#This Row],[Code]]","v":"Ophthalmology: Glaucoma Specialist-207WX0009X"},null,{"$f":"IFERROR(VLOOKUP(ROWS($U$1:U452),$R$2:$S$918,2,FALSE),\"\")","v":""}]
["207WX0109X",{"$f":"Table1[[#This Row],[Code]]&\" \"&Table1[[#This Row],[Portico_Specialty]]","v":"207WX0109X Ophthalmology: Neuro-ophthalmology"},{"$f":"CLEAN(Table1[[#This Row],[Code]])","v":"207WX0109X"},"Ophthalmology: Neuro-ophthalmology",null,"Medical taxonomy","Y","18",null,"18","18","18","18","18","18",null,null,{"$f":"IF(ISNUMBER(SEARCH(INDIRECT(CELL(\"address\")),S454)),MAX($R$1:R453)+1,0)","v":0},{"$f":"Table1[[#This Row],[Portico_Specialty]]&\"-\"&Table1[[#This Row],[Code]]","v":"Ophthalmology: Neuro-ophthalmology-207WX0109X"},null,{"$f":"IFERROR(VLOOKUP(ROWS($U$1:U453),$R$2:$S$918,2,FALSE),\"\")","v":""}]
["207WX0110X",{"$f":"Table1[[#This Row],[Code]]&\" \"&Table1[[#This Row],[Portico_Specialty]]","v":"207WX0110X Ophthalmology: Pediatric Ophthalmology and Strabismus Specialist"},{"$f":"CLEAN(Table1[[#This Row],[Code]])","v":"207WX0110X"},"Ophthalmology: Pediatric Ophthalmology and Strabismus Specialist",null,"Medical taxonomy","Y","18",null,"18","18","18","18","18","18",null,null,{"$f":"IF(ISNUMBER(SEARCH(INDIRECT(CELL(\"address\")),S455)),MAX($R$1:R454)+1,0)","v":0},{"$f":"Table1[[#This Row],[Portico_Specialty]]&\"-\"&Table1[[#This Row],[Code]]","v":"Ophthalmology: Pediatric Ophthalmology and Strabismus Specialist-207WX0110X"},null,{"$f":"IFERROR(VLOOKUP(ROWS($U$1:U454),$R$2:$S$918,2,FALSE),\"\")","v":""}]
["207WX0107X",{"$f":"Table1[[#This Row],[Code]]&\" \"&Table1[[#This Row],[Portico_Specialty]]","v":"207WX0107X Ophthalmology: Retina Specialist"},{"$f":"CLEAN(Table1[[#This Row],[Code]])","v":"207WX0107X"},"Ophthalmology: Retina Specialist",null,"Medical taxonomy","N","18",null,"18","18","18","18","18","18",null,null,{"$f":"IF(ISNUMBER(SEARCH(INDIRECT(CELL(\"address\")),S456)),MAX($R$1:R455)+1,0)","v":0},{"$f":"Table1[[#This Row],[Portico_Specialty]]&\"-\"&Table1[[#This Row],[Code]]","v":"Ophthalmology: Retina Specialist-207WX0107X"},null,{"$f":"IFERROR(VLOOKUP(ROWS($U$1:U455),$R$2:$S$918,2,FALSE),\"\")","v":""}]
["207WX0108X",{"$f":"Table1[[#This Row],[Code]]&\" \"&Table1[[#This Row],[Portico_Specialty]]","v":"207WX0108X Ophthalmology: Uveitis and Ocular Inflammatory Disease"},{"$f":"CLEAN(Table1[[#This Row],[Code]])","v":"207WX0108X"},"Ophthalmology: Uveitis and Ocular Inflammatory Disease",null,"Medical taxonomy","N","18",null,"18","18","18","18","18","18",null,null,{"$f":"IF(ISNUMBER(SEARCH(INDIRECT(CELL(\"address\")),S457)),MAX($R$1:R456)+1,0)","v":0},{"$f":"Table1[[#This Row],[Portico_Specialty]]&\"-\"&Table1[[#This Row],[Code]]","v":"Ophthalmology: Uveitis and Ocular Inflammatory Disease-207WX0108X"},null,{"$f":"IFERROR(VLOOKUP(ROWS($U$1:U456),$R$2:$S$918,2,FALSE),\"\")","v":""}]
["152W00000X",{"$f":"Table1[[#This Row],[Code]]&\" \"&Table1[[#This Row],[Portico_Specialty]]","v":"152W00000X Optometrist"},{"$f":"CLEAN(Table1[[#This Row],[Code]])","v":"152W00000X"},"Optometrist",null,"Medical taxonomy","Y","41",null,"41","41","41","41","41","41",null,null,{"$f":"IF(ISNUMBER(SEARCH(INDIRECT(CELL(\"address\")),S458)),MAX($R$1:R457)+1,0)","v":0},{"$f":"Table1[[#This Row],[Portico_Specialty]]&\"-\"&Table1[[#This Row],[Code]]","v":"Optometrist-152W00000X"},null,{"$f":"IFERROR(VLOOKUP(ROWS($U$1:U457),$R$2:$S$918,2,FALSE),\"\")","v":""}]
["152WC0802X",{"$f":"Table1[[#This Row],[Code]]&\" \"&Table1[[#This Row],[Portico_Specialty]]","v":"152WC0802X Optometrist: Corneal and Contact Management"},{"$f":"CLEAN(Table1[[#This Row],[Code]])","v":"152WC0802X"},"Optometrist: Corneal and Contact Management",null,"Medical taxonomy","Y","41",null,"41","41","41","41","41","41",null,null,{"$f":"IF(ISNUMBER(SEARCH(INDIRECT(CELL(\"address\")),S459)),MAX($R$1:R458)+1,0)","v":0},{"$f":"Table1[[#This Row],[Portico_Specialty]]&\"-\"&Table1[[#This Row],[Code]]","v":"Optometrist: Corneal and Contact Management-152WC0802X"},null,{"$f":"IFERROR(VLOOKUP(ROWS($U$1:U458),$R$2:$S$918,2,FALSE),\"\")","v":""}]
["152WL0500X",{"$f":"Table1[[#This Row],[Code]]&\" \"&Table1[[#This Row],[Portico_Specialty]]","v":"152WL0500X Optometrist: Low Vision Rehabilitation"},{"$f":"CLEAN(Table1[[#This Row],[Code]])","v":"152WL0500X"},"Optometrist: Low Vision Rehabilitation",null,"Medical taxonomy","Y","41",null,"41","41","41","41","41","41",null,null,{"$f":"IF(ISNUMBER(SEARCH(INDIRECT(CELL(\"address\")),S460)),MAX($R$1:R459)+1,0)","v":0},{"$f":"Table1[[#This Row],[Portico_Specialty]]&\"-\"&Table1[[#This Row],[Code]]","v":"Optometrist: Low Vision Rehabilitation-152WL0500X"},null,{"$f":"IFERROR(VLOOKUP(ROWS($U$1:U459),$R$2:$S$918,2,FALSE),\"\")","v":""}]
["152WX0102X",{"$f":"Table1[[#This Row],[Code]]&\" \"&Table1[[#This Row],[Portico_Specialty]]","v":"152WX0102X Optometrist: Occupational Vision"},{"$f":"CLEAN(Table1[[#This Row],[Code]])","v":"152WX0102X"},"Optometrist: Occupational Vision",null,"Medical taxonomy","Y","41",null,"41","41","41","41","41","41",null,null,{"$f":"IF(ISNUMBER(SEARCH(INDIRECT(CELL(\"address\")),S461)),MAX($R$1:R460)+1,0)","v":0},{"$f":"Table1[[#This Row],[Portico_Specialty]]&\"-\"&Table1[[#This Row],[Code]]","v":"Optometrist: Occupational Vision-152WX0102X"},null,{"$f":"IFERROR(VLOOKUP(ROWS($U$1:U460),$R$2:$S$918,2,FALSE),\"\")","v":""}]
["152WP0200X",{"$f":"Table1[[#This Row],[Code]]&\" \"&Table1[[#This Row],[Portico_Specialty]]","v":"152WP0200X Optometrist: Pediatrics"},{"$f":"CLEAN(Table1[[#This Row],[Code]])","v":"152WP0200X"},"Optometrist: Pediatrics",null,"Medical taxonomy","Y","41",null,"41","41","41","41","41","41",null,null,{"$f":"IF(ISNUMBER(SEARCH(INDIRECT(CELL(\"address\")),S462)),MAX($R$1:R461)+1,0)","v":0},{"$f":"Table1[[#This Row],[Portico_Specialty]]&\"-\"&Table1[[#This Row],[Code]]","v":"Optometrist: Pediatrics-152WP0200X"},null,{"$f":"IFERROR(VLOOKUP(ROWS($U$1:U461),$R$2:$S$918,2,FALSE),\"\")","v":""}]
["152WS0006X",{"$f":"Table1[[#This Row],[Code]]&\" \"&Table1[[#This Row],[Portico_Specialty]]","v":"152WS0006X Optometrist: Sports Vision"},{"$f":"CLEAN(Table1[[#This Row],[Code]])","v":"152WS0006X"},"Optometrist: Sports Vision",null,"Medical taxonomy","Y","41",null,"41","41","41","41","41","41",null,null,{"$f":"IF(ISNUMBER(SEARCH(INDIRECT(CELL(\"address\")),S463)),MAX($R$1:R462)+1,0)","v":0},{"$f":"Table1[[#This Row],[Portico_Specialty]]&\"-\"&Table1[[#This Row],[Code]]","v":"Optometrist: Sports Vision-152WS0006X"},null,{"$f":"IFERROR(VLOOKUP(ROWS($U$1:U462),$R$2:$S$918,2,FALSE),\"\")","v":""}]
["152WV0400X",{"$f":"Table1[[#This Row],[Code]]&\" \"&Table1[[#This Row],[Portico_Specialty]]","v":"152WV0400X Optometrist: Vision Therapy"},{"$f":"CLEAN(Table1[[#This Row],[Code]])","v":"152WV0400X"},"Optometrist: Vision Therapy",null,"Medical taxonomy","Y","41",null,"41","41","41","41","41","41",null,null,{"$f":"IF(ISNUMBER(SEARCH(INDIRECT(CELL(\"address\")),S464)),MAX($R$1:R463)+1,0)","v":0},{"$f":"Table1[[#This Row],[Portico_Specialty]]&\"-\"&Table1[[#This Row],[Code]]","v":"Optometrist: Vision Therapy-152WV0400X"},null,{"$f":"IFERROR(VLOOKUP(ROWS($U$1:U463),$R$2:$S$918,2,FALSE),\"\")","v":""}]
["204E00000X",{"$f":"Table1[[#This Row],[Code]]&\" \"&Table1[[#This Row],[Portico_Specialty]]","v":"204E00000X Oral & Maxillofacial Surgery"},{"$f":"CLEAN(Table1[[#This Row],[Code]])","v":"204E00000X"},"Oral & Maxillofacial Surgery",null,"Medical taxonomy","Y","85",null,"85","19","85","85","85","19",null,null,{"$f":"IF(ISNUMBER(SEARCH(INDIRECT(CELL(\"address\")),S465)),MAX($R$1:R464)+1,0)","v":0},{"$f":"Table1[[#This Row],[Portico_Specialty]]&\"-\"&Table1[[#This Row],[Code]]","v":"Oral & Maxillofacial Surgery-204E00000X"},null,{"$f":"IFERROR(VLOOKUP(ROWS($U$1:U464),$R$2:$S$918,2,FALSE),\"\")","v":""}]
["125Q00000X",{"$f":"Table1[[#This Row],[Code]]&\" \"&Table1[[#This Row],[Portico_Specialty]]","v":"125Q00000X Oral Medicinist: Dental Providers"},{"$f":"CLEAN(Table1[[#This Row],[Code]])","v":"125Q00000X"},"Oral Medicinist: Dental Providers",null,"Medical taxonomy","N",null,null,"99","DT",null,null,null,"DT",null,null,{"$f":"IF(ISNUMBER(SEARCH(INDIRECT(CELL(\"address\")),S466)),MAX($R$1:R465)+1,0)","v":0},{"$f":"Table1[[#This Row],[Portico_Specialty]]&\"-\"&Table1[[#This Row],[Code]]","v":"Oral Medicinist: Dental Providers-125Q00000X"},null,{"$f":"IFERROR(VLOOKUP(ROWS($U$1:U465),$R$2:$S$918,2,FALSE),\"\")","v":""}]
["335U00000X",{"$f":"Table1[[#This Row],[Code]]&\" \"&Table1[[#This Row],[Portico_Specialty]]","v":"335U00000X Organ Procurement Organization"},{"$f":"CLEAN(Table1[[#This Row],[Code]])","v":"335U00000X"},"Organ Procurement Organization",null,"Medical taxonomy","Y","87",null,"99","99","87","87",null,"99",null,null,{"$f":"IF(ISNUMBER(SEARCH(INDIRECT(CELL(\"address\")),S467)),MAX($R$1:R466)+1,0)","v":0},{"$f":"Table1[[#This Row],[Portico_Specialty]]&\"-\"&Table1[[#This Row],[Code]]","v":"Organ Procurement Organization-335U00000X"},null,{"$f":"IFERROR(VLOOKUP(ROWS($U$1:U466),$R$2:$S$918,2,FALSE),\"\")","v":""}]
["207X00000X",{"$f":"Table1[[#This Row],[Code]]&\" \"&Table1[[#This Row],[Portico_Specialty]]","v":"207X00000X Orthopaedic Surgery"},{"$f":"CLEAN(Table1[[#This Row],[Code]])","v":"207X00000X"},"Orthopaedic Surgery",null,"Medical taxonomy","Y","20",null,"20","20","20","20","20","20",null,null,{"$f":"IF(ISNUMBER(SEARCH(INDIRECT(CELL(\"address\")),S468)),MAX($R$1:R467)+1,0)","v":0},{"$f":"Table1[[#This Row],[Portico_Specialty]]&\"-\"&Table1[[#This Row],[Code]]","v":"Orthopaedic Surgery-207X00000X"},null,{"$f":"IFERROR(VLOOKUP(ROWS($U$1:U467),$R$2:$S$918,2,FALSE),\"\")","v":""}]
["207XS0114X",{"$f":"Table1[[#This Row],[Code]]&\" \"&Table1[[#This Row],[Portico_Specialty]]","v":"207XS0114X Orthopaedic Surgery: Adult Reconstructive Orthopaedic Surgery"},{"$f":"CLEAN(Table1[[#This Row],[Code]])","v":"207XS0114X"},"Orthopaedic Surgery: Adult Reconstructive Orthopaedic Surgery",null,"Medical taxonomy","Y","20",null,"20","20","20","20","20","20",null,null,{"$f":"IF(ISNUMBER(SEARCH(INDIRECT(CELL(\"address\")),S469)),MAX($R$1:R468)+1,0)","v":0},{"$f":"Table1[[#This Row],[Portico_Specialty]]&\"-\"&Table1[[#This Row],[Code]]","v":"Orthopaedic Surgery: Adult Reconstructive Orthopaedic Surgery-207XS0114X"},null,{"$f":"IFERROR(VLOOKUP(ROWS($U$1:U468),$R$2:$S$918,2,FALSE),\"\")","v":""}]
["207XX0004X",{"$f":"Table1[[#This Row],[Code]]&\" \"&Table1[[#This Row],[Portico_Specialty]]","v":"207XX0004X Orthopaedic Surgery: Foot and Ankle Surgery"},{"$f":"CLEAN(Table1[[#This Row],[Code]])","v":"207XX0004X"},"Orthopaedic Surgery: Foot and Ankle Surgery",null,"Medical taxonomy","Y","20",null,"20","20","20","20","20","20",null,null,{"$f":"IF(ISNUMBER(SEARCH(INDIRECT(CELL(\"address\")),S470)),MAX($R$1:R469)+1,0)","v":0},{"$f":"Table1[[#This Row],[Portico_Specialty]]&\"-\"&Table1[[#This Row],[Code]]","v":"Orthopaedic Surgery: Foot and Ankle Surgery-207XX0004X"},null,{"$f":"IFERROR(VLOOKUP(ROWS($U$1:U469),$R$2:$S$918,2,FALSE),\"\")","v":""}]
["207XS0106X",{"$f":"Table1[[#This Row],[Code]]&\" \"&Table1[[#This Row],[Portico_Specialty]]","v":"207XS0106X Orthopaedic Surgery: Hand Surgery"},{"$f":"CLEAN(Table1[[#This Row],[Code]])","v":"207XS0106X"},"Orthopaedic Surgery: Hand Surgery",null,"Medical taxonomy","Y","20",null,"40","20","20","20","40","20",null,null,{"$f":"IF(ISNUMBER(SEARCH(INDIRECT(CELL(\"address\")),S471)),MAX($R$1:R470)+1,0)","v":0},{"$f":"Table1[[#This Row],[Portico_Specialty]]&\"-\"&Table1[[#This Row],[Code]]","v":"Orthopaedic Surgery: Hand Surgery-207XS0106X"},null,{"$f":"IFERROR(VLOOKUP(ROWS($U$1:U470),$R$2:$S$918,2,FALSE),\"\")","v":""}]
["207XS0117X",{"$f":"Table1[[#This Row],[Code]]&\" \"&Table1[[#This Row],[Portico_Specialty]]","v":"207XS0117X Orthopaedic Surgery: Orthopaedic Surgery of the Spine"},{"$f":"CLEAN(Table1[[#This Row],[Code]])","v":"207XS0117X"},"Orthopaedic Surgery: Orthopaedic Surgery of the Spine",null,"Medical taxonomy","Y","20",null,"20","20","20","20","20","20",null,null,{"$f":"IF(ISNUMBER(SEARCH(INDIRECT(CELL(\"address\")),S472)),MAX($R$1:R471)+1,0)","v":0},{"$f":"Table1[[#This Row],[Portico_Specialty]]&\"-\"&Table1[[#This Row],[Code]]","v":"Orthopaedic Surgery: Orthopaedic Surgery of the Spine-207XS0117X"},null,{"$f":"IFERROR(VLOOKUP(ROWS($U$1:U471),$R$2:$S$918,2,FALSE),\"\")","v":""}]
["207XX0801X",{"$f":"Table1[[#This Row],[Code]]&\" \"&Table1[[#This Row],[Portico_Specialty]]","v":"207XX0801X Orthopaedic Surgery: Orthopaedic Trauma"},{"$f":"CLEAN(Table1[[#This Row],[Code]])","v":"207XX0801X"},"Orthopaedic Surgery: Orthopaedic Trauma",null,"Medical taxonomy","Y","20",null,"20","20","20","20","20","20",null,null,{"$f":"IF(ISNUMBER(SEARCH(INDIRECT(CELL(\"address\")),S473)),MAX($R$1:R472)+1,0)","v":0},{"$f":"Table1[[#This Row],[Portico_Specialty]]&\"-\"&Table1[[#This Row],[Code]]","v":"Orthopaedic Surgery: Orthopaedic Trauma-207XX0801X"},null,{"$f":"IFERROR(VLOOKUP(ROWS($U$1:U472),$R$2:$S$918,2,FALSE),\"\")","v":""}]
["207XP3100X",{"$f":"Table1[[#This Row],[Code]]&\" \"&Table1[[#This Row],[Portico_Specialty]]","v":"207XP3100X Orthopaedic Surgery: Pediatric Orthopaedic Surgery"},{"$f":"CLEAN(Table1[[#This Row],[Code]])","v":"207XP3100X"},"Orthopaedic Surgery: Pediatric Orthopaedic Surgery",null,"Medical taxonomy","Y","20",null,"20","20","20","20","20","20",null,null,{"$f":"IF(ISNUMBER(SEARCH(INDIRECT(CELL(\"address\")),S474)),MAX($R$1:R473)+1,0)","v":0},{"$f":"Table1[[#This Row],[Portico_Specialty]]&\"-\"&Table1[[#This Row],[Code]]","v":"Orthopaedic Surgery: Pediatric Orthopaedic Surgery-207XP3100X"},null,{"$f":"IFERROR(VLOOKUP(ROWS($U$1:U473),$R$2:$S$918,2,FALSE),\"\")","v":""}]
["207XX0005X",{"$f":"Table1[[#This Row],[Code]]&\" \"&Table1[[#This Row],[Portico_Specialty]]","v":"207XX0005X Orthopaedic Surgery: Sports Medicine"},{"$f":"CLEAN(Table1[[#This Row],[Code]])","v":"207XX0005X"},"Orthopaedic Surgery: Sports Medicine",null,"Medical taxonomy","Y","20",null,"20","20","20","20","20","20",null,null,{"$f":"IF(ISNUMBER(SEARCH(INDIRECT(CELL(\"address\")),S475)),MAX($R$1:R474)+1,0)","v":0},{"$f":"Table1[[#This Row],[Portico_Specialty]]&\"-\"&Table1[[#This Row],[Code]]","v":"Orthopaedic Surgery: Sports Medicine-207XX0005X"},null,{"$f":"IFERROR(VLOOKUP(ROWS($U$1:U474),$R$2:$S$918,2,FALSE),\"\")","v":""}]
["225000000X",{"$f":"Table1[[#This Row],[Code]]&\" \"&Table1[[#This Row],[Portico_Specialty]]","v":"225000000X Orthotics/Prosthetics Fitter"},{"$f":"CLEAN(Table1[[#This Row],[Code]])","v":"225000000X"},"Orthotics/Prosthetics Fitter",null,"Medical taxonomy","N","DM",null,"53","53","DM","53","57","53",null,null,{"$f":"IF(ISNUMBER(SEARCH(INDIRECT(CELL(\"address\")),S476)),MAX($R$1:R475)+1,0)","v":0},{"$f":"Table1[[#This Row],[Portico_Specialty]]&\"-\"&Table1[[#This Row],[Code]]","v":"Orthotics/Prosthetics Fitter-225000000X"},null,{"$f":"IFERROR(VLOOKUP(ROWS($U$1:U475),$R$2:$S$918,2,FALSE),\"\")","v":""}]
["222Z00000X",{"$f":"Table1[[#This Row],[Code]]&\" \"&Table1[[#This Row],[Portico_Specialty]]","v":"222Z00000X Orthotist"},{"$f":"CLEAN(Table1[[#This Row],[Code]])","v":"222Z00000X"},"Orthotist",null,"Medical taxonomy","Y","55",null,"55","53","55","55","55","53",null,null,{"$f":"IF(ISNUMBER(SEARCH(INDIRECT(CELL(\"address\")),S477)),MAX($R$1:R476)+1,0)","v":0},{"$f":"Table1[[#This Row],[Portico_Specialty]]&\"-\"&Table1[[#This Row],[Code]]","v":"Orthotist-222Z00000X"},null,{"$f":"IFERROR(VLOOKUP(ROWS($U$1:U476),$R$2:$S$918,2,FALSE),\"\")","v":""}]
["207Y00000X",{"$f":"Table1[[#This Row],[Code]]&\" \"&Table1[[#This Row],[Portico_Specialty]]","v":"207Y00000X Otolaryngology"},{"$f":"CLEAN(Table1[[#This Row],[Code]])","v":"207Y00000X"},"Otolaryngology",null,"Medical taxonomy","Y","04",null,"04","04","04","04","04","04",null,null,{"$f":"IF(ISNUMBER(SEARCH(INDIRECT(CELL(\"address\")),S478)),MAX($R$1:R477)+1,0)","v":0},{"$f":"Table1[[#This Row],[Portico_Specialty]]&\"-\"&Table1[[#This Row],[Code]]","v":"Otolaryngology-207Y00000X"},null,{"$f":"IFERROR(VLOOKUP(ROWS($U$1:U477),$R$2:$S$918,2,FALSE),\"\")","v":""}]
["207YS0123X",{"$f":"Table1[[#This Row],[Code]]&\" \"&Table1[[#This Row],[Portico_Specialty]]","v":"207YS0123X Otolaryngology: Facial Plastic Surgery"},{"$f":"CLEAN(Table1[[#This Row],[Code]])","v":"207YS0123X"},"Otolaryngology: Facial Plastic Surgery",null,"Medical taxonomy","Y","04",null,"24","24","24","24","24","24",null,null,{"$f":"IF(ISNUMBER(SEARCH(INDIRECT(CELL(\"address\")),S479)),MAX($R$1:R478)+1,0)","v":0},{"$f":"Table1[[#This Row],[Portico_Specialty]]&\"-\"&Table1[[#This Row],[Code]]","v":"Otolaryngology: Facial Plastic Surgery-207YS0123X"},null,{"$f":"IFERROR(VLOOKUP(ROWS($U$1:U478),$R$2:$S$918,2,FALSE),\"\")","v":""}]
["207YX0602X",{"$f":"Table1[[#This Row],[Code]]&\" \"&Table1[[#This Row],[Portico_Specialty]]","v":"207YX0602X Otolaryngology: Otolaryngic Allergy"},{"$f":"CLEAN(Table1[[#This Row],[Code]])","v":"207YX0602X"},"Otolaryngology: Otolaryngic Allergy",null,"Medical taxonomy","Y","04",null,"04","04","04","04","04","04",null,null,{"$f":"IF(ISNUMBER(SEARCH(INDIRECT(CELL(\"address\")),S480)),MAX($R$1:R479)+1,0)","v":0},{"$f":"Table1[[#This Row],[Portico_Specialty]]&\"-\"&Table1[[#This Row],[Code]]","v":"Otolaryngology: Otolaryngic Allergy-207YX0602X"},null,{"$f":"IFERROR(VLOOKUP(ROWS($U$1:U479),$R$2:$S$918,2,FALSE),\"\")","v":""}]
["207YX0905X",{"$f":"Table1[[#This Row],[Code]]&\" \"&Table1[[#This Row],[Portico_Specialty]]","v":"207YX0905X Otolaryngology: Otolaryngology/Facial Plastic Surgery"},{"$f":"CLEAN(Table1[[#This Row],[Code]])","v":"207YX0905X"},"Otolaryngology: Otolaryngology/Facial Plastic Surgery",null,"Medical taxonomy","Y","04",null,"24","04","24","24","24","04",null,null,{"$f":"IF(ISNUMBER(SEARCH(INDIRECT(CELL(\"address\")),S481)),MAX($R$1:R480)+1,0)","v":0},{"$f":"Table1[[#This Row],[Portico_Specialty]]&\"-\"&Table1[[#This Row],[Code]]","v":"Otolaryngology: Otolaryngology/Facial Plastic Surgery-207YX0905X"},null,{"$f":"IFERROR(VLOOKUP(ROWS($U$1:U480),$R$2:$S$918,2,FALSE),\"\")","v":""}]
["207YX0901X",{"$f":"Table1[[#This Row],[Code]]&\" \"&Table1[[#This Row],[Portico_Specialty]]","v":"207YX0901X Otolaryngology: Otology & Neurotology"},{"$f":"CLEAN(Table1[[#This Row],[Code]])","v":"207YX0901X"},"Otolaryngology: Otology & Neurotology",null,"Medical taxonomy","Y","04",null,"04","04","04","04","04","04",null,null,{"$f":"IF(ISNUMBER(SEARCH(INDIRECT(CELL(\"address\")),S482)),MAX($R$1:R481)+1,0)","v":0},{"$f":"Table1[[#This Row],[Portico_Specialty]]&\"-\"&Table1[[#This Row],[Code]]","v":"Otolaryngology: Otology & Neurotology-207YX0901X"},null,{"$f":"IFERROR(VLOOKUP(ROWS($U$1:U481),$R$2:$S$918,2,FALSE),\"\")","v":""}]
["207YP0228X",{"$f":"Table1[[#This Row],[Code]]&\" \"&Table1[[#This Row],[Portico_Specialty]]","v":"207YP0228X Otolaryngology: Pediatric Otolaryngology"},{"$f":"CLEAN(Table1[[#This Row],[Code]])","v":"207YP0228X"},"Otolaryngology: Pediatric Otolaryngology",null,"Medical taxonomy","Y","04",null,"04","04","04","04","04","04",null,null,{"$f":"IF(ISNUMBER(SEARCH(INDIRECT(CELL(\"address\")),S483)),MAX($R$1:R482)+1,0)","v":0},{"$f":"Table1[[#This Row],[Portico_Specialty]]&\"-\"&Table1[[#This Row],[Code]]","v":"Otolaryngology: Pediatric Otolaryngology-207YP0228X"},null,{"$f":"IFERROR(VLOOKUP(ROWS($U$1:U482),$R$2:$S$918,2,FALSE),\"\")","v":""}]
["207YX0007X",{"$f":"Table1[[#This Row],[Code]]&\" \"&Table1[[#This Row],[Portico_Specialty]]","v":"207YX0007X Otolaryngology: Plastic Surgery within the Head & Neck"},{"$f":"CLEAN(Table1[[#This Row],[Code]])","v":"207YX0007X"},"Otolaryngology: Plastic Surgery within the Head & Neck",null,"Medical taxonomy","Y","04",null,"24","24","24","24","24","24",null,null,{"$f":"IF(ISNUMBER(SEARCH(INDIRECT(CELL(\"address\")),S484)),MAX($R$1:R483)+1,0)","v":0},{"$f":"Table1[[#This Row],[Portico_Specialty]]&\"-\"&Table1[[#This Row],[Code]]","v":"Otolaryngology: Plastic Surgery within the Head & Neck-207YX0007X"},null,{"$f":"IFERROR(VLOOKUP(ROWS($U$1:U483),$R$2:$S$918,2,FALSE),\"\")","v":""}]
["207YS0012X",{"$f":"Table1[[#This Row],[Code]]&\" \"&Table1[[#This Row],[Portico_Specialty]]","v":"207YS0012X Otolaryngology: Sleep Medicine"},{"$f":"CLEAN(Table1[[#This Row],[Code]])","v":"207YS0012X"},"Otolaryngology: Sleep Medicine",null,"Medical taxonomy","Y","04",null,"04","04","04","04","04","04",null,null,{"$f":"IF(ISNUMBER(SEARCH(INDIRECT(CELL(\"address\")),S485)),MAX($R$1:R484)+1,0)","v":0},{"$f":"Table1[[#This Row],[Portico_Specialty]]&\"-\"&Table1[[#This Row],[Code]]","v":"Otolaryngology: Sleep Medicine-207YS0012X"},null,{"$f":"IFERROR(VLOOKUP(ROWS($U$1:U484),$R$2:$S$918,2,FALSE),\"\")","v":""}]
["251T00000X",{"$f":"Table1[[#This Row],[Code]]&\" \"&Table1[[#This Row],[Portico_Specialty]]","v":"251T00000X PACE Provider Organization"},{"$f":"CLEAN(Table1[[#This Row],[Code]])","v":"251T00000X"},"PACE Provider Organization",null,"Medical taxonomy","N","87",null,"99","70",null,null,null,"70",null,null,{"$f":"IF(ISNUMBER(SEARCH(INDIRECT(CELL(\"address\")),S486)),MAX($R$1:R485)+1,0)","v":0},{"$f":"Table1[[#This Row],[Portico_Specialty]]&\"-\"&Table1[[#This Row],[Code]]","v":"PACE Provider Organization-251T00000X"},null,{"$f":"IFERROR(VLOOKUP(ROWS($U$1:U485),$R$2:$S$918,2,FALSE),\"\")","v":""}]
["208VP0014X",{"$f":"Table1[[#This Row],[Code]]&\" \"&Table1[[#This Row],[Portico_Specialty]]","v":"208VP0014X Pain Medicine: Interventional Pain Medicine"},{"$f":"CLEAN(Table1[[#This Row],[Code]])","v":"208VP0014X"},"Pain Medicine: Interventional Pain Medicine",null,"Medical taxonomy","Y","09",null,"09","72","09","09","09","72",null,null,{"$f":"IF(ISNUMBER(SEARCH(INDIRECT(CELL(\"address\")),S487)),MAX($R$1:R486)+1,0)","v":0},{"$f":"Table1[[#This Row],[Portico_Specialty]]&\"-\"&Table1[[#This Row],[Code]]","v":"Pain Medicine: Interventional Pain Medicine-208VP0014X"},null,{"$f":"IFERROR(VLOOKUP(ROWS($U$1:U486),$R$2:$S$918,2,FALSE),\"\")","v":""}]
["208VP0000X",{"$f":"Table1[[#This Row],[Code]]&\" \"&Table1[[#This Row],[Portico_Specialty]]","v":"208VP0000X Pain Medicine: Pain Medicine"},{"$f":"CLEAN(Table1[[#This Row],[Code]])","v":"208VP0000X"},"Pain Medicine: Pain Medicine",null,"Shared Taxonomy","Y","09",null,"72","72","09","72","72","72",null,null,{"$f":"IF(ISNUMBER(SEARCH(INDIRECT(CELL(\"address\")),S488)),MAX($R$1:R487)+1,0)","v":0},{"$f":"Table1[[#This Row],[Portico_Specialty]]&\"-\"&Table1[[#This Row],[Code]]","v":"Pain Medicine: Pain Medicine-208VP0000X"},null,{"$f":"IFERROR(VLOOKUP(ROWS($U$1:U487),$R$2:$S$918,2,FALSE),\"\")","v":""}]
["207ZP0101X",{"$f":"Table1[[#This Row],[Code]]&\" \"&Table1[[#This Row],[Portico_Specialty]]","v":"207ZP0101X Pathology: Anatomic Pathology"},{"$f":"CLEAN(Table1[[#This Row],[Code]])","v":"207ZP0101X"},"Pathology: Anatomic Pathology",null,"Medical taxonomy","Y","22",null,"22","22","22","22","22","22",null,null,{"$f":"IF(ISNUMBER(SEARCH(INDIRECT(CELL(\"address\")),S489)),MAX($R$1:R488)+1,0)","v":0},{"$f":"Table1[[#This Row],[Portico_Specialty]]&\"-\"&Table1[[#This Row],[Code]]","v":"Pathology: Anatomic Pathology-207ZP0101X"},null,{"$f":"IFERROR(VLOOKUP(ROWS($U$1:U488),$R$2:$S$918,2,FALSE),\"\")","v":""}]
["207ZP0102X",{"$f":"Table1[[#This Row],[Code]]&\" \"&Table1[[#This Row],[Portico_Specialty]]","v":"207ZP0102X Pathology: Anatomic Pathology & Clinical Pathology"},{"$f":"CLEAN(Table1[[#This Row],[Code]])","v":"207ZP0102X"},"Pathology: Anatomic Pathology & Clinical Pathology",null,"Medical taxonomy","Y","22",null,"22","22","22","22","22","22",null,null,{"$f":"IF(ISNUMBER(SEARCH(INDIRECT(CELL(\"address\")),S490)),MAX($R$1:R489)+1,0)","v":0},{"$f":"Table1[[#This Row],[Portico_Specialty]]&\"-\"&Table1[[#This Row],[Code]]","v":"Pathology: Anatomic Pathology & Clinical Pathology-207ZP0102X"},null,{"$f":"IFERROR(VLOOKUP(ROWS($U$1:U489),$R$2:$S$918,2,FALSE),\"\")","v":""}]
["207ZB0001X",{"$f":"Table1[[#This Row],[Code]]&\" \"&Table1[[#This Row],[Portico_Specialty]]","v":"207ZB0001X Pathology: Blood Banking & Transfusion Medicine"},{"$f":"CLEAN(Table1[[#This Row],[Code]])","v":"207ZB0001X"},"Pathology: Blood Banking & Transfusion Medicine",null,"Medical taxonomy","Y","22",null,"22","22","22","22","22","22",null,null,{"$f":"IF(ISNUMBER(SEARCH(INDIRECT(CELL(\"address\")),S491)),MAX($R$1:R490)+1,0)","v":0},{"$f":"Table1[[#This Row],[Portico_Specialty]]&\"-\"&Table1[[#This Row],[Code]]","v":"Pathology: Blood Banking & Transfusion Medicine-207ZB0001X"},null,{"$f":"IFERROR(VLOOKUP(ROWS($U$1:U490),$R$2:$S$918,2,FALSE),\"\")","v":""}]
["207ZP0104X",{"$f":"Table1[[#This Row],[Code]]&\" \"&Table1[[#This Row],[Portico_Specialty]]","v":"207ZP0104X Pathology: Chemical Pathology"},{"$f":"CLEAN(Table1[[#This Row],[Code]])","v":"207ZP0104X"},"Pathology: Chemical Pathology",null,"Medical taxonomy","Y","22",null,"22","22","22","22","22","22",null,null,{"$f":"IF(ISNUMBER(SEARCH(INDIRECT(CELL(\"address\")),S492)),MAX($R$1:R491)+1,0)","v":0},{"$f":"Table1[[#This Row],[Portico_Specialty]]&\"-\"&Table1[[#This Row],[Code]]","v":"Pathology: Chemical Pathology-207ZP0104X"},null,{"$f":"IFERROR(VLOOKUP(ROWS($U$1:U491),$R$2:$S$918,2,FALSE),\"\")","v":""}]
["207ZC0008X",{"$f":"Table1[[#This Row],[Code]]&\" \"&Table1[[#This Row],[Portico_Specialty]]","v":"207ZC0008X Pathology: Clinical Informatics"},{"$f":"CLEAN(Table1[[#This Row],[Code]])","v":"207ZC0008X"},"Pathology: Clinical Informatics",null,"Medical taxonomy","N",null,null,"99","22",null,null,null,"22",null,null,{"$f":"IF(ISNUMBER(SEARCH(INDIRECT(CELL(\"address\")),S493)),MAX($R$1:R492)+1,0)","v":0},{"$f":"Table1[[#This Row],[Portico_Specialty]]&\"-\"&Table1[[#This Row],[Code]]","v":"Pathology: Clinical Informatics-207ZC0008X"},null,{"$f":"IFERROR(VLOOKUP(ROWS($U$1:U492),$R$2:$S$918,2,FALSE),\"\")","v":""}]
["247ZC0005X",{"$f":"Table1[[#This Row],[Code]]&\" \"&Table1[[#This Row],[Portico_Specialty]]","v":"247ZC0005X Pathology: Clinical Laboratory Director, Non-physician"},{"$f":"CLEAN(Table1[[#This Row],[Code]])","v":"247ZC0005X"},"Pathology: Clinical Laboratory Director, Non-physician",null,"Medical taxonomy","N",null,null,"99","22",null,null,null,"22",null,null,{"$f":"IF(ISNUMBER(SEARCH(INDIRECT(CELL(\"address\")),S494)),MAX($R$1:R493)+1,0)","v":0},{"$f":"Table1[[#This Row],[Portico_Specialty]]&\"-\"&Table1[[#This Row],[Code]]","v":"Pathology: Clinical Laboratory Director, Non-physician-247ZC0005X"},null,{"$f":"IFERROR(VLOOKUP(ROWS($U$1:U493),$R$2:$S$918,2,FALSE),\"\")","v":""}]
["207ZC0006X",{"$f":"Table1[[#This Row],[Code]]&\" \"&Table1[[#This Row],[Portico_Specialty]]","v":"207ZC0006X Pathology: Clinical Pathology"},{"$f":"CLEAN(Table1[[#This Row],[Code]])","v":"207ZC0006X"},"Pathology: Clinical Pathology",null,"Medical taxonomy","Y","22",null,"22","22","22","22","22","22",null,null,{"$f":"IF(ISNUMBER(SEARCH(INDIRECT(CELL(\"address\")),S495)),MAX($R$1:R494)+1,0)","v":0},{"$f":"Table1[[#This Row],[Portico_Specialty]]&\"-\"&Table1[[#This Row],[Code]]","v":"Pathology: Clinical Pathology-207ZC0006X"},null,{"$f":"IFERROR(VLOOKUP(ROWS($U$1:U494),$R$2:$S$918,2,FALSE),\"\")","v":""}]
["207ZP0105X",{"$f":"Table1[[#This Row],[Code]]&\" \"&Table1[[#This Row],[Portico_Specialty]]","v":"207ZP0105X Pathology: Clinical Pathology/Laboratory Medicine"},{"$f":"CLEAN(Table1[[#This Row],[Code]])","v":"207ZP0105X"},"Pathology: Clinical Pathology/Laboratory Medicine",null,"Medical taxonomy","Y","22",null,"22","22","22","22","22","22",null,null,{"$f":"IF(ISNUMBER(SEARCH(INDIRECT(CELL(\"address\")),S496)),MAX($R$1:R495)+1,0)","v":0},{"$f":"Table1[[#This Row],[Portico_Specialty]]&\"-\"&Table1[[#This Row],[Code]]","v":"Pathology: Clinical Pathology/Laboratory Medicine-207ZP0105X"},null,{"$f":"IFERROR(VLOOKUP(ROWS($U$1:U495),$R$2:$S$918,2,FALSE),\"\")","v":""}]
["207ZC0500X",{"$f":"Table1[[#This Row],[Code]]&\" \"&Table1[[#This Row],[Portico_Specialty]]","v":"207ZC0500X Pathology: Cytopathology"},{"$f":"CLEAN(Table1[[#This Row],[Code]])","v":"207ZC0500X"},"Pathology: Cytopathology",null,"Medical taxonomy","Y","22",null,"22","22","22","22","22","22",null,null,{"$f":"IF(ISNUMBER(SEARCH(INDIRECT(CELL(\"address\")),S497)),MAX($R$1:R496)+1,0)","v":0},{"$f":"Table1[[#This Row],[Portico_Specialty]]&\"-\"&Table1[[#This Row],[Code]]","v":"Pathology: Cytopathology-207ZC0500X"},null,{"$f":"IFERROR(VLOOKUP(ROWS($U$1:U496),$R$2:$S$918,2,FALSE),\"\")","v":""}]
["207ZD0900X",{"$f":"Table1[[#This Row],[Code]]&\" \"&Table1[[#This Row],[Portico_Specialty]]","v":"207ZD0900X Pathology: Dermatopathology"},{"$f":"CLEAN(Table1[[#This Row],[Code]])","v":"207ZD0900X"},"Pathology: Dermatopathology",null,"Medical taxonomy","Y","22",null,"22","22","22","22","22","22",null,null,{"$f":"IF(ISNUMBER(SEARCH(INDIRECT(CELL(\"address\")),S498)),MAX($R$1:R497)+1,0)","v":0},{"$f":"Table1[[#This Row],[Portico_Specialty]]&\"-\"&Table1[[#This Row],[Code]]","v":"Pathology: Dermatopathology-207ZD0900X"},null,{"$f":"IFERROR(VLOOKUP(ROWS($U$1:U497),$R$2:$S$918,2,FALSE),\"\")","v":""}]
["207ZF0201X",{"$f":"Table1[[#This Row],[Code]]&\" \"&Table1[[#This Row],[Portico_Specialty]]","v":"207ZF0201X Pathology: Forensic Pathology"},{"$f":"CLEAN(Table1[[#This Row],[Code]])","v":"207ZF0201X"},"Pathology: Forensic Pathology",null,"Medical taxonomy","Y","22",null,"22","22","22","22","22","22",null,null,{"$f":"IF(ISNUMBER(SEARCH(INDIRECT(CELL(\"address\")),S499)),MAX($R$1:R498)+1,0)","v":0},{"$f":"Table1[[#This Row],[Portico_Specialty]]&\"-\"&Table1[[#This Row],[Code]]","v":"Pathology: Forensic Pathology-207ZF0201X"},null,{"$f":"IFERROR(VLOOKUP(ROWS($U$1:U498),$R$2:$S$918,2,FALSE),\"\")","v":""}]
["207ZH0000X",{"$f":"Table1[[#This Row],[Code]]&\" \"&Table1[[#This Row],[Portico_Specialty]]","v":"207ZH0000X Pathology: Hematology"},{"$f":"CLEAN(Table1[[#This Row],[Code]])","v":"207ZH0000X"},"Pathology: Hematology",null,"Medical taxonomy","Y","22",null,"22","82","22","22","22","82",null,null,{"$f":"IF(ISNUMBER(SEARCH(INDIRECT(CELL(\"address\")),S500)),MAX($R$1:R499)+1,0)","v":0},{"$f":"Table1[[#This Row],[Portico_Specialty]]&\"-\"&Table1[[#This Row],[Code]]","v":"Pathology: Hematology-207ZH0000X"},null,{"$f":"IFERROR(VLOOKUP(ROWS($U$1:U499),$R$2:$S$918,2,FALSE),\"\")","v":""}]
["207ZI0100X",{"$f":"Table1[[#This Row],[Code]]&\" \"&Table1[[#This Row],[Portico_Specialty]]","v":"207ZI0100X Pathology: Immunopathology"},{"$f":"CLEAN(Table1[[#This Row],[Code]])","v":"207ZI0100X"},"Pathology: Immunopathology",null,"Medical taxonomy","Y","22",null,"22","22","22","22","22","22",null,null,{"$f":"IF(ISNUMBER(SEARCH(INDIRECT(CELL(\"address\")),S501)),MAX($R$1:R500)+1,0)","v":0},{"$f":"Table1[[#This Row],[Portico_Specialty]]&\"-\"&Table1[[#This Row],[Code]]","v":"Pathology: Immunopathology-207ZI0100X"},null,{"$f":"IFERROR(VLOOKUP(ROWS($U$1:U500),$R$2:$S$918,2,FALSE),\"\")","v":""}]
["207ZM0300X",{"$f":"Table1[[#This Row],[Code]]&\" \"&Table1[[#This Row],[Portico_Specialty]]","v":"207ZM0300X Pathology: Medical Microbiology"},{"$f":"CLEAN(Table1[[#This Row],[Code]])","v":"207ZM0300X"},"Pathology: Medical Microbiology",null,"Medical taxonomy","Y","22",null,"22","22","22","22","22","22",null,null,{"$f":"IF(ISNUMBER(SEARCH(INDIRECT(CELL(\"address\")),S502)),MAX($R$1:R501)+1,0)","v":0},{"$f":"Table1[[#This Row],[Portico_Specialty]]&\"-\"&Table1[[#This Row],[Code]]","v":"Pathology: Medical Microbiology-207ZM0300X"},null,{"$f":"IFERROR(VLOOKUP(ROWS($U$1:U501),$R$2:$S$918,2,FALSE),\"\")","v":""}]
["207ZP0007X",{"$f":"Table1[[#This Row],[Code]]&\" \"&Table1[[#This Row],[Portico_Specialty]]","v":"207ZP0007X Pathology: Molecular Genetic Pathology"},{"$f":"CLEAN(Table1[[#This Row],[Code]])","v":"207ZP0007X"},"Pathology: Molecular Genetic Pathology",null,"Medical taxonomy","Y","22",null,"22","22","22","22","22","22",null,null,{"$f":"IF(ISNUMBER(SEARCH(INDIRECT(CELL(\"address\")),S503)),MAX($R$1:R502)+1,0)","v":0},{"$f":"Table1[[#This Row],[Portico_Specialty]]&\"-\"&Table1[[#This Row],[Code]]","v":"Pathology: Molecular Genetic Pathology-207ZP0007X"},null,{"$f":"IFERROR(VLOOKUP(ROWS($U$1:U502),$R$2:$S$918,2,FALSE),\"\")","v":""}]
["207ZN0500X",{"$f":"Table1[[#This Row],[Code]]&\" \"&Table1[[#This Row],[Portico_Specialty]]","v":"207ZN0500X Pathology: Neuropathology"},{"$f":"CLEAN(Table1[[#This Row],[Code]])","v":"207ZN0500X"},"Pathology: Neuropathology",null,"Medical taxonomy","Y","22",null,"22","22","22","22","22","22",null,null,{"$f":"IF(ISNUMBER(SEARCH(INDIRECT(CELL(\"address\")),S504)),MAX($R$1:R503)+1,0)","v":0},{"$f":"Table1[[#This Row],[Portico_Specialty]]&\"-\"&Table1[[#This Row],[Code]]","v":"Pathology: Neuropathology-207ZN0500X"},null,{"$f":"IFERROR(VLOOKUP(ROWS($U$1:U503),$R$2:$S$918,2,FALSE),\"\")","v":""}]
["207ZP0213X",{"$f":"Table1[[#This Row],[Code]]&\" \"&Table1[[#This Row],[Portico_Specialty]]","v":"207ZP0213X Pathology: Pediatric Pathology"},{"$f":"CLEAN(Table1[[#This Row],[Code]])","v":"207ZP0213X"},"Pathology: Pediatric Pathology",null,"Medical taxonomy","Y","22",null,"22","22","22","22","22","22",null,null,{"$f":"IF(ISNUMBER(SEARCH(INDIRECT(CELL(\"address\")),S505)),MAX($R$1:R504)+1,0)","v":0},{"$f":"Table1[[#This Row],[Portico_Specialty]]&\"-\"&Table1[[#This Row],[Code]]","v":"Pathology: Pediatric Pathology-207ZP0213X"},null,{"$f":"IFERROR(VLOOKUP(ROWS($U$1:U504),$R$2:$S$918,2,FALSE),\"\")","v":""}]
["208000000X",{"$f":"Table1[[#This Row],[Code]]&\" \"&Table1[[#This Row],[Portico_Specialty]]","v":"208000000X Pediatrics"},{"$f":"CLEAN(Table1[[#This Row],[Code]])","v":"208000000X"},"Pediatrics",null,"Medical taxonomy","Y","37",null,"37","37","37","37","37","37",null,null,{"$f":"IF(ISNUMBER(SEARCH(INDIRECT(CELL(\"address\")),S506)),MAX($R$1:R505)+1,0)","v":0},{"$f":"Table1[[#This Row],[Portico_Specialty]]&\"-\"&Table1[[#This Row],[Code]]","v":"Pediatrics-208000000X"},null,{"$f":"IFERROR(VLOOKUP(ROWS($U$1:U505),$R$2:$S$918,2,FALSE),\"\")","v":""}]
["2080A0000X",{"$f":"Table1[[#This Row],[Code]]&\" \"&Table1[[#This Row],[Portico_Specialty]]","v":"2080A0000X Pediatrics: Adolescent Medicine"},{"$f":"CLEAN(Table1[[#This Row],[Code]])","v":"2080A0000X"},"Pediatrics: Adolescent Medicine",null,"Medical taxonomy","Y","37",null,"37","37","37","37","37","37",null,null,{"$f":"IF(ISNUMBER(SEARCH(INDIRECT(CELL(\"address\")),S507)),MAX($R$1:R506)+1,0)","v":0},{"$f":"Table1[[#This Row],[Portico_Specialty]]&\"-\"&Table1[[#This Row],[Code]]","v":"Pediatrics: Adolescent Medicine-2080A0000X"},null,{"$f":"IFERROR(VLOOKUP(ROWS($U$1:U506),$R$2:$S$918,2,FALSE),\"\")","v":""}]
["2080C0008X",{"$f":"Table1[[#This Row],[Code]]&\" \"&Table1[[#This Row],[Portico_Specialty]]","v":"2080C0008X Pediatrics: Child Abuse Pediatrics"},{"$f":"CLEAN(Table1[[#This Row],[Code]])","v":"2080C0008X"},"Pediatrics: Child Abuse Pediatrics",null,"Medical taxonomy","N","37",null,"37","37","37","37","37","37",null,null,{"$f":"IF(ISNUMBER(SEARCH(INDIRECT(CELL(\"address\")),S508)),MAX($R$1:R507)+1,0)","v":0},{"$f":"Table1[[#This Row],[Portico_Specialty]]&\"-\"&Table1[[#This Row],[Code]]","v":"Pediatrics: Child Abuse Pediatrics-2080C0008X"},null,{"$f":"IFERROR(VLOOKUP(ROWS($U$1:U507),$R$2:$S$918,2,FALSE),\"\")","v":""}]
["2080I0007X",{"$f":"Table1[[#This Row],[Code]]&\" \"&Table1[[#This Row],[Portico_Specialty]]","v":"2080I0007X Pediatrics: Clinical & Laboratory Immunology"},{"$f":"CLEAN(Table1[[#This Row],[Code]])","v":"2080I0007X"},"Pediatrics: Clinical & Laboratory Immunology",null,"Medical taxonomy","Y","03",null,"03","37","03","03","03","37",null,null,{"$f":"IF(ISNUMBER(SEARCH(INDIRECT(CELL(\"address\")),S509)),MAX($R$1:R508)+1,0)","v":0},{"$f":"Table1[[#This Row],[Portico_Specialty]]&\"-\"&Table1[[#This Row],[Code]]","v":"Pediatrics: Clinical & Laboratory Immunology-2080I0007X"},null,{"$f":"IFERROR(VLOOKUP(ROWS($U$1:U508),$R$2:$S$918,2,FALSE),\"\")","v":""}]
["2080P0006X",{"$f":"Table1[[#This Row],[Code]]&\" \"&Table1[[#This Row],[Portico_Specialty]]","v":"2080P0006X Pediatrics: Developmental - Behavioral Pediatrics"},{"$f":"CLEAN(Table1[[#This Row],[Code]])","v":"2080P0006X"},"Pediatrics: Developmental - Behavioral Pediatrics",null,"Medical taxonomy","Y","37",null,"37","26","37","37","37","26",null,null,{"$f":"IF(ISNUMBER(SEARCH(INDIRECT(CELL(\"address\")),S510)),MAX($R$1:R509)+1,0)","v":0},{"$f":"Table1[[#This Row],[Portico_Specialty]]&\"-\"&Table1[[#This Row],[Code]]","v":"Pediatrics: Developmental - Behavioral Pediatrics-2080P0006X"},null,{"$f":"IFERROR(VLOOKUP(ROWS($U$1:U509),$R$2:$S$918,2,FALSE),\"\")","v":""}]
["2080H0002X",{"$f":"Table1[[#This Row],[Code]]&\" \"&Table1[[#This Row],[Portico_Specialty]]","v":"2080H0002X Pediatrics: Hospice and Palliative Medicine"},{"$f":"CLEAN(Table1[[#This Row],[Code]])","v":"2080H0002X"},"Pediatrics: Hospice and Palliative Medicine",null,"Medical taxonomy","Y","37",null,"PM","37","37","PM","37","37",null,null,{"$f":"IF(ISNUMBER(SEARCH(INDIRECT(CELL(\"address\")),S511)),MAX($R$1:R510)+1,0)","v":0},{"$f":"Table1[[#This Row],[Portico_Specialty]]&\"-\"&Table1[[#This Row],[Code]]","v":"Pediatrics: Hospice and Palliative Medicine-2080H0002X"},null,{"$f":"IFERROR(VLOOKUP(ROWS($U$1:U510),$R$2:$S$918,2,FALSE),\"\")","v":""}]
["2080T0002X",{"$f":"Table1[[#This Row],[Code]]&\" \"&Table1[[#This Row],[Portico_Specialty]]","v":"2080T0002X Pediatrics: Medical Toxicology"},{"$f":"CLEAN(Table1[[#This Row],[Code]])","v":"2080T0002X"},"Pediatrics: Medical Toxicology",null,"Medical taxonomy","Y","37",null,"37","37","37","37","37","37",null,null,{"$f":"IF(ISNUMBER(SEARCH(INDIRECT(CELL(\"address\")),S512)),MAX($R$1:R511)+1,0)","v":0},{"$f":"Table1[[#This Row],[Portico_Specialty]]&\"-\"&Table1[[#This Row],[Code]]","v":"Pediatrics: Medical Toxicology-2080T0002X"},null,{"$f":"IFERROR(VLOOKUP(ROWS($U$1:U511),$R$2:$S$918,2,FALSE),\"\")","v":""}]
["2080N0001X",{"$f":"Table1[[#This Row],[Code]]&\" \"&Table1[[#This Row],[Portico_Specialty]]","v":"2080N0001X Pediatrics: Neonatal-Perinatal Medicine"},{"$f":"CLEAN(Table1[[#This Row],[Code]])","v":"2080N0001X"},"Pediatrics: Neonatal-Perinatal Medicine",null,"Medical taxonomy","Y","NN",null,"PN","NN","NN","NN","16","NN",null,null,{"$f":"IF(ISNUMBER(SEARCH(INDIRECT(CELL(\"address\")),S513)),MAX($R$1:R512)+1,0)","v":0},{"$f":"Table1[[#This Row],[Portico_Specialty]]&\"-\"&Table1[[#This Row],[Code]]","v":"Pediatrics: Neonatal-Perinatal Medicine-2080N0001X"},null,{"$f":"IFERROR(VLOOKUP(ROWS($U$1:U512),$R$2:$S$918,2,FALSE),\"\")","v":""}]
["2080P0008X",{"$f":"Table1[[#This Row],[Code]]&\" \"&Table1[[#This Row],[Portico_Specialty]]","v":"2080P0008X Pediatrics: Neurodevelopmental Disabilities"},{"$f":"CLEAN(Table1[[#This Row],[Code]])","v":"2080P0008X"},"Pediatrics: Neurodevelopmental Disabilities",null,"Medical taxonomy","Y","37",null,"37","37","37","37","37","37",null,null,{"$f":"IF(ISNUMBER(SEARCH(INDIRECT(CELL(\"address\")),S514)),MAX($R$1:R513)+1,0)","v":0},{"$f":"Table1[[#This Row],[Portico_Specialty]]&\"-\"&Table1[[#This Row],[Code]]","v":"Pediatrics: Neurodevelopmental Disabilities-2080P0008X"},null,{"$f":"IFERROR(VLOOKUP(ROWS($U$1:U513),$R$2:$S$918,2,FALSE),\"\")","v":""}]
["2080B0002X",{"$f":"Table1[[#This Row],[Code]]&\" \"&Table1[[#This Row],[Portico_Specialty]]","v":"2080B0002X Pediatrics: Obesity Medicine"},{"$f":"CLEAN(Table1[[#This Row],[Code]])","v":"2080B0002X"},"Pediatrics: Obesity Medicine",null,"Medical taxonomy","N",null,null,"37","37",null,null,null,"37",null,null,{"$f":"IF(ISNUMBER(SEARCH(INDIRECT(CELL(\"address\")),S515)),MAX($R$1:R514)+1,0)","v":0},{"$f":"Table1[[#This Row],[Portico_Specialty]]&\"-\"&Table1[[#This Row],[Code]]","v":"Pediatrics: Obesity Medicine-2080B0002X"},null,{"$f":"IFERROR(VLOOKUP(ROWS($U$1:U514),$R$2:$S$918,2,FALSE),\"\")","v":""}]
["2080P0201X",{"$f":"Table1[[#This Row],[Code]]&\" \"&Table1[[#This Row],[Portico_Specialty]]","v":"2080P0201X Pediatrics: Pediatric Allergy & Immunology"},{"$f":"CLEAN(Table1[[#This Row],[Code]])","v":"2080P0201X"},"Pediatrics: Pediatric Allergy & Immunology",null,"Medical taxonomy","Y","37",null,"03","03","03","03","03","03",null,null,{"$f":"IF(ISNUMBER(SEARCH(INDIRECT(CELL(\"address\")),S516)),MAX($R$1:R515)+1,0)","v":0},{"$f":"Table1[[#This Row],[Portico_Specialty]]&\"-\"&Table1[[#This Row],[Code]]","v":"Pediatrics: Pediatric Allergy & Immunology-2080P0201X"},null,{"$f":"IFERROR(VLOOKUP(ROWS($U$1:U515),$R$2:$S$918,2,FALSE),\"\")","v":""}]
["2080P0202X",{"$f":"Table1[[#This Row],[Code]]&\" \"&Table1[[#This Row],[Portico_Specialty]]","v":"2080P0202X Pediatrics: Pediatric Cardiology"},{"$f":"CLEAN(Table1[[#This Row],[Code]])","v":"2080P0202X"},"Pediatrics: Pediatric Cardiology",null,"Medical taxonomy","Y","37",null,"06","06","06","06","06","06",null,null,{"$f":"IF(ISNUMBER(SEARCH(INDIRECT(CELL(\"address\")),S517)),MAX($R$1:R516)+1,0)","v":0},{"$f":"Table1[[#This Row],[Portico_Specialty]]&\"-\"&Table1[[#This Row],[Code]]","v":"Pediatrics: Pediatric Cardiology-2080P0202X"},null,{"$f":"IFERROR(VLOOKUP(ROWS($U$1:U516),$R$2:$S$918,2,FALSE),\"\")","v":""}]
["2080P0203X",{"$f":"Table1[[#This Row],[Code]]&\" \"&Table1[[#This Row],[Portico_Specialty]]","v":"2080P0203X Pediatrics: Pediatric Critical Care Medicine"},{"$f":"CLEAN(Table1[[#This Row],[Code]])","v":"2080P0203X"},"Pediatrics: Pediatric Critical Care Medicine",null,"Medical taxonomy","Y","37",null,"81","81","81","81","81","81",null,null,{"$f":"IF(ISNUMBER(SEARCH(INDIRECT(CELL(\"address\")),S518)),MAX($R$1:R517)+1,0)","v":0},{"$f":"Table1[[#This Row],[Portico_Specialty]]&\"-\"&Table1[[#This Row],[Code]]","v":"Pediatrics: Pediatric Critical Care Medicine-2080P0203X"},null,{"$f":"IFERROR(VLOOKUP(ROWS($U$1:U517),$R$2:$S$918,2,FALSE),\"\")","v":""}]
["2080P0204X",{"$f":"Table1[[#This Row],[Code]]&\" \"&Table1[[#This Row],[Portico_Specialty]]","v":"2080P0204X Pediatrics: Pediatric Emergency Medicine"},{"$f":"CLEAN(Table1[[#This Row],[Code]])","v":"2080P0204X"},"Pediatrics: Pediatric Emergency Medicine",null,"Medical taxonomy","Y","93",null,"93","93","93","93","93","93",null,null,{"$f":"IF(ISNUMBER(SEARCH(INDIRECT(CELL(\"address\")),S519)),MAX($R$1:R518)+1,0)","v":0},{"$f":"Table1[[#This Row],[Portico_Specialty]]&\"-\"&Table1[[#This Row],[Code]]","v":"Pediatrics: Pediatric Emergency Medicine-2080P0204X"},null,{"$f":"IFERROR(VLOOKUP(ROWS($U$1:U518),$R$2:$S$918,2,FALSE),\"\")","v":""}]
["2080P0205X",{"$f":"Table1[[#This Row],[Code]]&\" \"&Table1[[#This Row],[Portico_Specialty]]","v":"2080P0205X Pediatrics: Pediatric Endocrinology"},{"$f":"CLEAN(Table1[[#This Row],[Code]])","v":"2080P0205X"},"Pediatrics: Pediatric Endocrinology",null,"Medical taxonomy","Y","37",null,"46","46","46","46","46","46",null,null,{"$f":"IF(ISNUMBER(SEARCH(INDIRECT(CELL(\"address\")),S520)),MAX($R$1:R519)+1,0)","v":0},{"$f":"Table1[[#This Row],[Portico_Specialty]]&\"-\"&Table1[[#This Row],[Code]]","v":"Pediatrics: Pediatric Endocrinology-2080P0205X"},null,{"$f":"IFERROR(VLOOKUP(ROWS($U$1:U519),$R$2:$S$918,2,FALSE),\"\")","v":""}]
["2080P0206X",{"$f":"Table1[[#This Row],[Code]]&\" \"&Table1[[#This Row],[Portico_Specialty]]","v":"2080P0206X Pediatrics: Pediatric Gastroenterology"},{"$f":"CLEAN(Table1[[#This Row],[Code]])","v":"2080P0206X"},"Pediatrics: Pediatric Gastroenterology",null,"Medical taxonomy","Y","37",null,"10","10","10","10","11","10",null,null,{"$f":"IF(ISNUMBER(SEARCH(INDIRECT(CELL(\"address\")),S521)),MAX($R$1:R520)+1,0)","v":0},{"$f":"Table1[[#This Row],[Portico_Specialty]]&\"-\"&Table1[[#This Row],[Code]]","v":"Pediatrics: Pediatric Gastroenterology-2080P0206X"},null,{"$f":"IFERROR(VLOOKUP(ROWS($U$1:U520),$R$2:$S$918,2,FALSE),\"\")","v":""}]
["2080P0207X",{"$f":"Table1[[#This Row],[Code]]&\" \"&Table1[[#This Row],[Portico_Specialty]]","v":"2080P0207X Pediatrics: Pediatric Hematology-Oncology"},{"$f":"CLEAN(Table1[[#This Row],[Code]])","v":"2080P0207X"},"Pediatrics: Pediatric Hematology-Oncology",null,"Medical taxonomy","Y","37",null,"83","83","83","83","83","83",null,null,{"$f":"IF(ISNUMBER(SEARCH(INDIRECT(CELL(\"address\")),S522)),MAX($R$1:R521)+1,0)","v":0},{"$f":"Table1[[#This Row],[Portico_Specialty]]&\"-\"&Table1[[#This Row],[Code]]","v":"Pediatrics: Pediatric Hematology-Oncology-2080P0207X"},null,{"$f":"IFERROR(VLOOKUP(ROWS($U$1:U521),$R$2:$S$918,2,FALSE),\"\")","v":""}]
["2080P0208X",{"$f":"Table1[[#This Row],[Code]]&\" \"&Table1[[#This Row],[Portico_Specialty]]","v":"2080P0208X Pediatrics: Pediatric Infectious Diseases"},{"$f":"CLEAN(Table1[[#This Row],[Code]])","v":"2080P0208X"},"Pediatrics: Pediatric Infectious Diseases",null,"Medical taxonomy","Y","37",null,"44","44","44","44","44","44",null,null,{"$f":"IF(ISNUMBER(SEARCH(INDIRECT(CELL(\"address\")),S523)),MAX($R$1:R522)+1,0)","v":0},{"$f":"Table1[[#This Row],[Portico_Specialty]]&\"-\"&Table1[[#This Row],[Code]]","v":"Pediatrics: Pediatric Infectious Diseases-2080P0208X"},null,{"$f":"IFERROR(VLOOKUP(ROWS($U$1:U522),$R$2:$S$918,2,FALSE),\"\")","v":""}]
["2080P0210X",{"$f":"Table1[[#This Row],[Code]]&\" \"&Table1[[#This Row],[Portico_Specialty]]","v":"2080P0210X Pediatrics: Pediatric Nephrology"},{"$f":"CLEAN(Table1[[#This Row],[Code]])","v":"2080P0210X"},"Pediatrics: Pediatric Nephrology",null,"Medical taxonomy","Y","37",null,"39","39","39","39","39","39",null,null,{"$f":"IF(ISNUMBER(SEARCH(INDIRECT(CELL(\"address\")),S524)),MAX($R$1:R523)+1,0)","v":0},{"$f":"Table1[[#This Row],[Portico_Specialty]]&\"-\"&Table1[[#This Row],[Code]]","v":"Pediatrics: Pediatric Nephrology-2080P0210X"},null,{"$f":"IFERROR(VLOOKUP(ROWS($U$1:U523),$R$2:$S$918,2,FALSE),\"\")","v":""}]
["2080P0214X",{"$f":"Table1[[#This Row],[Code]]&\" \"&Table1[[#This Row],[Portico_Specialty]]","v":"2080P0214X Pediatrics: Pediatric Pulmonology"},{"$f":"CLEAN(Table1[[#This Row],[Code]])","v":"2080P0214X"},"Pediatrics: Pediatric Pulmonology",null,"Medical taxonomy","Y","37",null,"29","29","29","29","29","29",null,null,{"$f":"IF(ISNUMBER(SEARCH(INDIRECT(CELL(\"address\")),S525)),MAX($R$1:R524)+1,0)","v":0},{"$f":"Table1[[#This Row],[Portico_Specialty]]&\"-\"&Table1[[#This Row],[Code]]","v":"Pediatrics: Pediatric Pulmonology-2080P0214X"},null,{"$f":"IFERROR(VLOOKUP(ROWS($U$1:U524),$R$2:$S$918,2,FALSE),\"\")","v":""}]
["2080P0216X",{"$f":"Table1[[#This Row],[Code]]&\" \"&Table1[[#This Row],[Portico_Specialty]]","v":"2080P0216X Pediatrics: Pediatric Rheumatology"},{"$f":"CLEAN(Table1[[#This Row],[Code]])","v":"2080P0216X"},"Pediatrics: Pediatric Rheumatology",null,"Medical taxonomy","Y","37",null,"66","66","66","66","66","66",null,null,{"$f":"IF(ISNUMBER(SEARCH(INDIRECT(CELL(\"address\")),S526)),MAX($R$1:R525)+1,0)","v":0},{"$f":"Table1[[#This Row],[Portico_Specialty]]&\"-\"&Table1[[#This Row],[Code]]","v":"Pediatrics: Pediatric Rheumatology-2080P0216X"},null,{"$f":"IFERROR(VLOOKUP(ROWS($U$1:U525),$R$2:$S$918,2,FALSE),\"\")","v":""}]
["2080T0004X",{"$f":"Table1[[#This Row],[Code]]&\" \"&Table1[[#This Row],[Portico_Specialty]]","v":"2080T0004X Pediatrics: Pediatric Transplant Hepatology"},{"$f":"CLEAN(Table1[[#This Row],[Code]])","v":"2080T0004X"},"Pediatrics: Pediatric Transplant Hepatology",null,"Medical taxonomy","Y","10",null,"10","37","10","10",null,"37",null,null,{"$f":"IF(ISNUMBER(SEARCH(INDIRECT(CELL(\"address\")),S527)),MAX($R$1:R526)+1,0)","v":0},{"$f":"Table1[[#This Row],[Portico_Specialty]]&\"-\"&Table1[[#This Row],[Code]]","v":"Pediatrics: Pediatric Transplant Hepatology-2080T0004X"},null,{"$f":"IFERROR(VLOOKUP(ROWS($U$1:U526),$R$2:$S$918,2,FALSE),\"\")","v":""}]
["2080S0012X",{"$f":"Table1[[#This Row],[Code]]&\" \"&Table1[[#This Row],[Portico_Specialty]]","v":"2080S0012X Pediatrics: Sleep Medicine"},{"$f":"CLEAN(Table1[[#This Row],[Code]])","v":"2080S0012X"},"Pediatrics: Sleep Medicine",null,"Medical taxonomy","Y","37",null,"37","37","C0","37","37","37",null,null,{"$f":"IF(ISNUMBER(SEARCH(INDIRECT(CELL(\"address\")),S528)),MAX($R$1:R527)+1,0)","v":0},{"$f":"Table1[[#This Row],[Portico_Specialty]]&\"-\"&Table1[[#This Row],[Code]]","v":"Pediatrics: Sleep Medicine-2080S0012X"},null,{"$f":"IFERROR(VLOOKUP(ROWS($U$1:U527),$R$2:$S$918,2,FALSE),\"\")","v":""}]
["2080S0010X",{"$f":"Table1[[#This Row],[Code]]&\" \"&Table1[[#This Row],[Portico_Specialty]]","v":"2080S0010X Pediatrics: Sports Medicine"},{"$f":"CLEAN(Table1[[#This Row],[Code]])","v":"2080S0010X"},"Pediatrics: Sports Medicine",null,"Medical taxonomy","Y","37",null,"37","37","37","37","37","37",null,null,{"$f":"IF(ISNUMBER(SEARCH(INDIRECT(CELL(\"address\")),S529)),MAX($R$1:R528)+1,0)","v":0},{"$f":"Table1[[#This Row],[Portico_Specialty]]&\"-\"&Table1[[#This Row],[Code]]","v":"Pediatrics: Sports Medicine-2080S0010X"},null,{"$f":"IFERROR(VLOOKUP(ROWS($U$1:U528),$R$2:$S$918,2,FALSE),\"\")","v":""}]
["224L00000X",{"$f":"Table1[[#This Row],[Code]]&\" \"&Table1[[#This Row],[Portico_Specialty]]","v":"224L00000X Pedorthist"},{"$f":"CLEAN(Table1[[#This Row],[Code]])","v":"224L00000X"},"Pedorthist",null,"Medical taxonomy","N",null,null,"99","48",null,null,"B2","48",null,null,{"$f":"IF(ISNUMBER(SEARCH(INDIRECT(CELL(\"address\")),S530)),MAX($R$1:R529)+1,0)","v":0},{"$f":"Table1[[#This Row],[Portico_Specialty]]&\"-\"&Table1[[#This Row],[Code]]","v":"Pedorthist-224L00000X"},null,{"$f":"IFERROR(VLOOKUP(ROWS($U$1:U529),$R$2:$S$918,2,FALSE),\"\")","v":""}]
["AltSpec1",{"$f":"Table1[[#This Row],[Code]]&\" \"&Table1[[#This Row],[Portico_Specialty]]","v":"AltSpec1 Peer Recovery Supporter - HCBS"},{"$f":"CLEAN(Table1[[#This Row],[Code]])","v":"AltSpec1"},"Peer Recovery Supporter - HCBS",null,"Medical taxonomy","N",null,null,null,"Z3",null,null,null,null,null,null,{"$f":"IF(ISNUMBER(SEARCH(INDIRECT(CELL(\"address\")),S531)),MAX($R$1:R530)+1,0)","v":0},{"$f":"Table1[[#This Row],[Portico_Specialty]]&\"-\"&Table1[[#This Row],[Code]]","v":"Peer Recovery Supporter - HCBS-AltSpec1"},null,{"$f":"IFERROR(VLOOKUP(ROWS($U$1:U530),$R$2:$S$918,2,FALSE),\"\")","v":""}]
["175T00000X",{"$f":"Table1[[#This Row],[Code]]&\" \"&Table1[[#This Row],[Portico_Specialty]]","v":"175T00000X Peer Specialist (Other Service Providers)"},{"$f":"CLEAN(Table1[[#This Row],[Code]])","v":"175T00000X"},"Peer Specialist (Other Service Providers)",null,"Medical taxonomy","N",null,null,"99","80",null,null,"PS","80",null,null,{"$f":"IF(ISNUMBER(SEARCH(INDIRECT(CELL(\"address\")),S532)),MAX($R$1:R531)+1,0)","v":0},{"$f":"Table1[[#This Row],[Portico_Specialty]]&\"-\"&Table1[[#This Row],[Code]]","v":"Peer Specialist (Other Service Providers)-175T00000X"},null,{"$f":"IFERROR(VLOOKUP(ROWS($U$1:U531),$R$2:$S$918,2,FALSE),\"\")","v":""}]
["242T00000X",{"$f":"Table1[[#This Row],[Code]]&\" \"&Table1[[#This Row],[Portico_Specialty]]","v":"242T00000X Perfusionist"},{"$f":"CLEAN(Table1[[#This Row],[Code]])","v":"242T00000X"},"Perfusionist",null,"Medical taxonomy","N","87",null,"99","82","96",null,"87","82",null,null,{"$f":"IF(ISNUMBER(SEARCH(INDIRECT(CELL(\"address\")),S533)),MAX($R$1:R532)+1,0)","v":0},{"$f":"Table1[[#This Row],[Portico_Specialty]]&\"-\"&Table1[[#This Row],[Code]]","v":"Perfusionist-242T00000X"},null,{"$f":"IFERROR(VLOOKUP(ROWS($U$1:U532),$R$2:$S$918,2,FALSE),\"\")","v":""}]
["146D00000X",{"$f":"Table1[[#This Row],[Code]]&\" \"&Table1[[#This Row],[Portico_Specialty]]","v":"146D00000X Personal Emergency Response Attendant"},{"$f":"CLEAN(Table1[[#This Row],[Code]])","v":"146D00000X"},"Personal Emergency Response Attendant",null,"Medical taxonomy","N","87",null,"99","93","80","87","93","93",null,null,{"$f":"IF(ISNUMBER(SEARCH(INDIRECT(CELL(\"address\")),S534)),MAX($R$1:R533)+1,0)","v":0},{"$f":"Table1[[#This Row],[Portico_Specialty]]&\"-\"&Table1[[#This Row],[Code]]","v":"Personal Emergency Response Attendant-146D00000X"},null,{"$f":"IFERROR(VLOOKUP(ROWS($U$1:U533),$R$2:$S$918,2,FALSE),\"\")","v":""}]
["183500000X",{"$f":"Table1[[#This Row],[Code]]&\" \"&Table1[[#This Row],[Portico_Specialty]]","v":"183500000X Pharmacist"},{"$f":"CLEAN(Table1[[#This Row],[Code]])","v":"183500000X"},"Pharmacist",null,"Medical taxonomy","N","PH",null,"PH","PD","PH","PH","A5","PD",null,null,{"$f":"IF(ISNUMBER(SEARCH(INDIRECT(CELL(\"address\")),S535)),MAX($R$1:R534)+1,0)","v":0},{"$f":"Table1[[#This Row],[Portico_Specialty]]&\"-\"&Table1[[#This Row],[Code]]","v":"Pharmacist-183500000X"},null,{"$f":"IFERROR(VLOOKUP(ROWS($U$1:U534),$R$2:$S$918,2,FALSE),\"\")","v":""}]
["1835P2201X",{"$f":"Table1[[#This Row],[Code]]&\" \"&Table1[[#This Row],[Portico_Specialty]]","v":"1835P2201X Pharmacist: Ambulatory Care"},{"$f":"CLEAN(Table1[[#This Row],[Code]])","v":"1835P2201X"},"Pharmacist: Ambulatory Care",null,"Medical taxonomy","N",null,null,"PD","PD",null,null,null,"PD",null,null,{"$f":"IF(ISNUMBER(SEARCH(INDIRECT(CELL(\"address\")),S536)),MAX($R$1:R535)+1,0)","v":0},{"$f":"Table1[[#This Row],[Portico_Specialty]]&\"-\"&Table1[[#This Row],[Code]]","v":"Pharmacist: Ambulatory Care-1835P2201X"},null,{"$f":"IFERROR(VLOOKUP(ROWS($U$1:U535),$R$2:$S$918,2,FALSE),\"\")","v":""}]
["1835C0205X",{"$f":"Table1[[#This Row],[Code]]&\" \"&Table1[[#This Row],[Portico_Specialty]]","v":"1835C0205X Pharmacist: Critical Care "},{"$f":"CLEAN(Table1[[#This Row],[Code]])","v":"1835C0205X"},"Pharmacist: Critical Care ",null,"Medical taxonomy","Y",null,null,"PD","PD",null,null,null,"PD",null,null,{"$f":"IF(ISNUMBER(SEARCH(INDIRECT(CELL(\"address\")),S537)),MAX($R$1:R536)+1,0)","v":0},{"$f":"Table1[[#This Row],[Portico_Specialty]]&\"-\"&Table1[[#This Row],[Code]]","v":"Pharmacist: Critical Care -1835C0205X"},null,{"$f":"IFERROR(VLOOKUP(ROWS($U$1:U536),$R$2:$S$918,2,FALSE),\"\")","v":""}]
["1835G0000X",{"$f":"Table1[[#This Row],[Code]]&\" \"&Table1[[#This Row],[Portico_Specialty]]","v":"1835G0000X Pharmacist: General Practice"},{"$f":"CLEAN(Table1[[#This Row],[Code]])","v":"1835G0000X"},"Pharmacist: General Practice",null,"Medical taxonomy","N","PH",null,"PH","PD","PH","PH","A5","PD",null,null,{"$f":"IF(ISNUMBER(SEARCH(INDIRECT(CELL(\"address\")),S538)),MAX($R$1:R537)+1,0)","v":0},{"$f":"Table1[[#This Row],[Portico_Specialty]]&\"-\"&Table1[[#This Row],[Code]]","v":"Pharmacist: General Practice-1835G0000X"},null,{"$f":"IFERROR(VLOOKUP(ROWS($U$1:U537),$R$2:$S$918,2,FALSE),\"\")","v":""}]
["1835G0303X",{"$f":"Table1[[#This Row],[Code]]&\" \"&Table1[[#This Row],[Portico_Specialty]]","v":"1835G0303X Pharmacist: Geriatric"},{"$f":"CLEAN(Table1[[#This Row],[Code]])","v":"1835G0303X"},"Pharmacist: Geriatric",null,"Medical taxonomy","N","PH",null,"PH","PD","PH","PH","A5","PD",null,null,{"$f":"IF(ISNUMBER(SEARCH(INDIRECT(CELL(\"address\")),S539)),MAX($R$1:R538)+1,0)","v":0},{"$f":"Table1[[#This Row],[Portico_Specialty]]&\"-\"&Table1[[#This Row],[Code]]","v":"Pharmacist: Geriatric-1835G0303X"},null,{"$f":"IFERROR(VLOOKUP(ROWS($U$1:U538),$R$2:$S$918,2,FALSE),\"\")","v":""}]
["1835N0905X",{"$f":"Table1[[#This Row],[Code]]&\" \"&Table1[[#This Row],[Portico_Specialty]]","v":"1835N0905X Pharmacist: Nuclear"},{"$f":"CLEAN(Table1[[#This Row],[Code]])","v":"1835N0905X"},"Pharmacist: Nuclear",null,"Medical taxonomy","N","PH",null,"PH","PD","PH","PH","A5","PD",null,null,{"$f":"IF(ISNUMBER(SEARCH(INDIRECT(CELL(\"address\")),S540)),MAX($R$1:R539)+1,0)","v":0},{"$f":"Table1[[#This Row],[Portico_Specialty]]&\"-\"&Table1[[#This Row],[Code]]","v":"Pharmacist: Nuclear-1835N0905X"},null,{"$f":"IFERROR(VLOOKUP(ROWS($U$1:U539),$R$2:$S$918,2,FALSE),\"\")","v":""}]
["1835N1003X",{"$f":"Table1[[#This Row],[Code]]&\" \"&Table1[[#This Row],[Portico_Specialty]]","v":"1835N1003X Pharmacist: Nutrition Support"},{"$f":"CLEAN(Table1[[#This Row],[Code]])","v":"1835N1003X"},"Pharmacist: Nutrition Support",null,"Medical taxonomy","N","PH",null,"PH","PD","PH","PH","A5","PD",null,null,{"$f":"IF(ISNUMBER(SEARCH(INDIRECT(CELL(\"address\")),S541)),MAX($R$1:R540)+1,0)","v":0},{"$f":"Table1[[#This Row],[Portico_Specialty]]&\"-\"&Table1[[#This Row],[Code]]","v":"Pharmacist: Nutrition Support-1835N1003X"},null,{"$f":"IFERROR(VLOOKUP(ROWS($U$1:U540),$R$2:$S$918,2,FALSE),\"\")","v":""}]
["1835X0200X",{"$f":"Table1[[#This Row],[Code]]&\" \"&Table1[[#This Row],[Portico_Specialty]]","v":"1835X0200X Pharmacist: Oncology"},{"$f":"CLEAN(Table1[[#This Row],[Code]])","v":"1835X0200X"},"Pharmacist: Oncology",null,"Medical taxonomy","N","PH",null,"PH","PD","PH","PH","A5","PD",null,null,{"$f":"IF(ISNUMBER(SEARCH(INDIRECT(CELL(\"address\")),S542)),MAX($R$1:R541)+1,0)","v":0},{"$f":"Table1[[#This Row],[Portico_Specialty]]&\"-\"&Table1[[#This Row],[Code]]","v":"Pharmacist: Oncology-1835X0200X"},null,{"$f":"IFERROR(VLOOKUP(ROWS($U$1:U541),$R$2:$S$918,2,FALSE),\"\")","v":""}]
["1835P0200X",{"$f":"Table1[[#This Row],[Code]]&\" \"&Table1[[#This Row],[Portico_Specialty]]","v":"1835P0200X Pharmacist: Pediatrics"},{"$f":"CLEAN(Table1[[#This Row],[Code]])","v":"1835P0200X"},"Pharmacist: Pediatrics",null,"Medical taxonomy","Y",null,null,"PD","PD",null,null,null,"PD",null,null,{"$f":"IF(ISNUMBER(SEARCH(INDIRECT(CELL(\"address\")),S543)),MAX($R$1:R542)+1,0)","v":0},{"$f":"Table1[[#This Row],[Portico_Specialty]]&\"-\"&Table1[[#This Row],[Code]]","v":"Pharmacist: Pediatrics-1835P0200X"},null,{"$f":"IFERROR(VLOOKUP(ROWS($U$1:U542),$R$2:$S$918,2,FALSE),\"\")","v":""}]
["1835P0018X",{"$f":"Table1[[#This Row],[Code]]&\" \"&Table1[[#This Row],[Portico_Specialty]]","v":"1835P0018X Pharmacist: Pharmacist Clinician (PhC)/ Clinical Pharmacy Specialist"},{"$f":"CLEAN(Table1[[#This Row],[Code]])","v":"1835P0018X"},"Pharmacist: Pharmacist Clinician (PhC)/ Clinical Pharmacy Specialist",null,"Medical taxonomy","N","PH",null,"PH","PD","PH","PH","A5","PD",null,null,{"$f":"IF(ISNUMBER(SEARCH(INDIRECT(CELL(\"address\")),S544)),MAX($R$1:R543)+1,0)","v":0},{"$f":"Table1[[#This Row],[Portico_Specialty]]&\"-\"&Table1[[#This Row],[Code]]","v":"Pharmacist: Pharmacist Clinician (PhC)/ Clinical Pharmacy Specialist-1835P0018X"},null,{"$f":"IFERROR(VLOOKUP(ROWS($U$1:U543),$R$2:$S$918,2,FALSE),\"\")","v":""}]
["1835P1200X",{"$f":"Table1[[#This Row],[Code]]&\" \"&Table1[[#This Row],[Portico_Specialty]]","v":"1835P1200X Pharmacist: Pharmacotherapy"},{"$f":"CLEAN(Table1[[#This Row],[Code]])","v":"1835P1200X"},"Pharmacist: Pharmacotherapy",null,"Medical taxonomy","N","PH",null,"PH","PD","PH","PH","A5","PD",null,null,{"$f":"IF(ISNUMBER(SEARCH(INDIRECT(CELL(\"address\")),S545)),MAX($R$1:R544)+1,0)","v":0},{"$f":"Table1[[#This Row],[Portico_Specialty]]&\"-\"&Table1[[#This Row],[Code]]","v":"Pharmacist: Pharmacotherapy-1835P1200X"},null,{"$f":"IFERROR(VLOOKUP(ROWS($U$1:U544),$R$2:$S$918,2,FALSE),\"\")","v":""}]
["1835P1300X",{"$f":"Table1[[#This Row],[Code]]&\" \"&Table1[[#This Row],[Portico_Specialty]]","v":"1835P1300X Pharmacist: Psychiatric"},{"$f":"CLEAN(Table1[[#This Row],[Code]])","v":"1835P1300X"},"Pharmacist: Psychiatric",null,"Medical taxonomy","N","PH",null,"PH","PD","PH","PH","A5","PD",null,null,{"$f":"IF(ISNUMBER(SEARCH(INDIRECT(CELL(\"address\")),S546)),MAX($R$1:R545)+1,0)","v":0},{"$f":"Table1[[#This Row],[Portico_Specialty]]&\"-\"&Table1[[#This Row],[Code]]","v":"Pharmacist: Psychiatric-1835P1300X"},null,{"$f":"IFERROR(VLOOKUP(ROWS($U$1:U545),$R$2:$S$918,2,FALSE),\"\")","v":""}]
["333600000X",{"$f":"Table1[[#This Row],[Code]]&\" \"&Table1[[#This Row],[Portico_Specialty]]","v":"333600000X Pharmacy"},{"$f":"CLEAN(Table1[[#This Row],[Code]])","v":"333600000X"},"Pharmacy",null,"Medical taxonomy","Y","PH",null,"PH","PD","PH","PH","A5","PD",null,null,{"$f":"IF(ISNUMBER(SEARCH(INDIRECT(CELL(\"address\")),S547)),MAX($R$1:R546)+1,0)","v":0},{"$f":"Table1[[#This Row],[Portico_Specialty]]&\"-\"&Table1[[#This Row],[Code]]","v":"Pharmacy-333600000X"},null,{"$f":"IFERROR(VLOOKUP(ROWS($U$1:U546),$R$2:$S$918,2,FALSE),\"\")","v":""}]
["183700000X",{"$f":"Table1[[#This Row],[Code]]&\" \"&Table1[[#This Row],[Portico_Specialty]]","v":"183700000X Pharmacy Technician"},{"$f":"CLEAN(Table1[[#This Row],[Code]])","v":"183700000X"},"Pharmacy Technician",null,"Medical taxonomy","N","PH",null,"PH","PD","PH","PH","A5","PD",null,null,{"$f":"IF(ISNUMBER(SEARCH(INDIRECT(CELL(\"address\")),S548)),MAX($R$1:R547)+1,0)","v":0},{"$f":"Table1[[#This Row],[Portico_Specialty]]&\"-\"&Table1[[#This Row],[Code]]","v":"Pharmacy Technician-183700000X"},null,{"$f":"IFERROR(VLOOKUP(ROWS($U$1:U547),$R$2:$S$918,2,FALSE),\"\")","v":""}]
["3336C0002X",{"$f":"Table1[[#This Row],[Code]]&\" \"&Table1[[#This Row],[Portico_Specialty]]","v":"3336C0002X Pharmacy: Clinic Pharmacy"},{"$f":"CLEAN(Table1[[#This Row],[Code]])","v":"3336C0002X"},"Pharmacy: Clinic Pharmacy",null,"Medical taxonomy","Y","PH",null,"PH","PD","PH","PH","A5","PD",null,null,{"$f":"IF(ISNUMBER(SEARCH(INDIRECT(CELL(\"address\")),S549)),MAX($R$1:R548)+1,0)","v":0},{"$f":"Table1[[#This Row],[Portico_Specialty]]&\"-\"&Table1[[#This Row],[Code]]","v":"Pharmacy: Clinic Pharmacy-3336C0002X"},null,{"$f":"IFERROR(VLOOKUP(ROWS($U$1:U548),$R$2:$S$918,2,FALSE),\"\")","v":""}]
["3336C0003X",{"$f":"Table1[[#This Row],[Code]]&\" \"&Table1[[#This Row],[Portico_Specialty]]","v":"3336C0003X Pharmacy: Community/Retail Pharmacy"},{"$f":"CLEAN(Table1[[#This Row],[Code]])","v":"3336C0003X"},"Pharmacy: Community/Retail Pharmacy",null,"Medical taxonomy","Y","PH",null,"PH","PD","PH","70","70","PD",null,null,{"$f":"IF(ISNUMBER(SEARCH(INDIRECT(CELL(\"address\")),S550)),MAX($R$1:R549)+1,0)","v":0},{"$f":"Table1[[#This Row],[Portico_Specialty]]&\"-\"&Table1[[#This Row],[Code]]","v":"Pharmacy: Community/Retail Pharmacy-3336C0003X"},null,{"$f":"IFERROR(VLOOKUP(ROWS($U$1:U549),$R$2:$S$918,2,FALSE),\"\")","v":""}]
["3336C0004X",{"$f":"Table1[[#This Row],[Code]]&\" \"&Table1[[#This Row],[Portico_Specialty]]","v":"3336C0004X Pharmacy: Compounding Pharmacy"},{"$f":"CLEAN(Table1[[#This Row],[Code]])","v":"3336C0004X"},"Pharmacy: Compounding Pharmacy",null,"Medical taxonomy","Y","PH",null,"PH","PD","PH","PH","A5","PD",null,null,{"$f":"IF(ISNUMBER(SEARCH(INDIRECT(CELL(\"address\")),S551)),MAX($R$1:R550)+1,0)","v":0},{"$f":"Table1[[#This Row],[Portico_Specialty]]&\"-\"&Table1[[#This Row],[Code]]","v":"Pharmacy: Compounding Pharmacy-3336C0004X"},null,{"$f":"IFERROR(VLOOKUP(ROWS($U$1:U550),$R$2:$S$918,2,FALSE),\"\")","v":""}]
["3336H0001X",{"$f":"Table1[[#This Row],[Code]]&\" \"&Table1[[#This Row],[Portico_Specialty]]","v":"3336H0001X Pharmacy: Home Infusion Therapy Pharmacy"},{"$f":"CLEAN(Table1[[#This Row],[Code]])","v":"3336H0001X"},"Pharmacy: Home Infusion Therapy Pharmacy",null,"Medical taxonomy","Y","PH",null,"PH","PD","PH","PH","A5","PD",null,null,{"$f":"IF(ISNUMBER(SEARCH(INDIRECT(CELL(\"address\")),S552)),MAX($R$1:R551)+1,0)","v":0},{"$f":"Table1[[#This Row],[Portico_Specialty]]&\"-\"&Table1[[#This Row],[Code]]","v":"Pharmacy: Home Infusion Therapy Pharmacy-3336H0001X"},null,{"$f":"IFERROR(VLOOKUP(ROWS($U$1:U551),$R$2:$S$918,2,FALSE),\"\")","v":""}]
["3336I0012X",{"$f":"Table1[[#This Row],[Code]]&\" \"&Table1[[#This Row],[Portico_Specialty]]","v":"3336I0012X Pharmacy: Institutional Pharmacy"},{"$f":"CLEAN(Table1[[#This Row],[Code]])","v":"3336I0012X"},"Pharmacy: Institutional Pharmacy",null,"Medical taxonomy","Y","PH",null,"PH","PD","PH","PH","A5","PD",null,null,{"$f":"IF(ISNUMBER(SEARCH(INDIRECT(CELL(\"address\")),S553)),MAX($R$1:R552)+1,0)","v":0},{"$f":"Table1[[#This Row],[Portico_Specialty]]&\"-\"&Table1[[#This Row],[Code]]","v":"Pharmacy: Institutional Pharmacy-3336I0012X"},null,{"$f":"IFERROR(VLOOKUP(ROWS($U$1:U552),$R$2:$S$918,2,FALSE),\"\")","v":""}]
["3336L0003X",{"$f":"Table1[[#This Row],[Code]]&\" \"&Table1[[#This Row],[Portico_Specialty]]","v":"3336L0003X Pharmacy: Long Term Care Pharmacy"},{"$f":"CLEAN(Table1[[#This Row],[Code]])","v":"3336L0003X"},"Pharmacy: Long Term Care Pharmacy",null,"Medical taxonomy","Y","PH",null,"PH","PD","PH","PH","A5","PD",null,null,{"$f":"IF(ISNUMBER(SEARCH(INDIRECT(CELL(\"address\")),S554)),MAX($R$1:R553)+1,0)","v":0},{"$f":"Table1[[#This Row],[Portico_Specialty]]&\"-\"&Table1[[#This Row],[Code]]","v":"Pharmacy: Long Term Care Pharmacy-3336L0003X"},null,{"$f":"IFERROR(VLOOKUP(ROWS($U$1:U553),$R$2:$S$918,2,FALSE),\"\")","v":""}]
["3336M0002X",{"$f":"Table1[[#This Row],[Code]]&\" \"&Table1[[#This Row],[Portico_Specialty]]","v":"3336M0002X Pharmacy: Mail Order Pharmacy"},{"$f":"CLEAN(Table1[[#This Row],[Code]])","v":"3336M0002X"},"Pharmacy: Mail Order Pharmacy",null,"Medical taxonomy","Y","PH",null,"PH","PD","PH","PH","A5","PD",null,null,{"$f":"IF(ISNUMBER(SEARCH(INDIRECT(CELL(\"address\")),S555)),MAX($R$1:R554)+1,0)","v":0},{"$f":"Table1[[#This Row],[Portico_Specialty]]&\"-\"&Table1[[#This Row],[Code]]","v":"Pharmacy: Mail Order Pharmacy-3336M0002X"},null,{"$f":"IFERROR(VLOOKUP(ROWS($U$1:U554),$R$2:$S$918,2,FALSE),\"\")","v":""}]
["3336M0003X",{"$f":"Table1[[#This Row],[Code]]&\" \"&Table1[[#This Row],[Portico_Specialty]]","v":"3336M0003X Pharmacy: Managed Care Organization Pharmacy"},{"$f":"CLEAN(Table1[[#This Row],[Code]])","v":"3336M0003X"},"Pharmacy: Managed Care Organization Pharmacy",null,"Medical taxonomy","Y","PH",null,"PH","PD","PH","PH","A5","PD",null,null,{"$f":"IF(ISNUMBER(SEARCH(INDIRECT(CELL(\"address\")),S556)),MAX($R$1:R555)+1,0)","v":0},{"$f":"Table1[[#This Row],[Portico_Specialty]]&\"-\"&Table1[[#This Row],[Code]]","v":"Pharmacy: Managed Care Organization Pharmacy-3336M0003X"},null,{"$f":"IFERROR(VLOOKUP(ROWS($U$1:U555),$R$2:$S$918,2,FALSE),\"\")","v":""}]
["3336N0007X",{"$f":"Table1[[#This Row],[Code]]&\" \"&Table1[[#This Row],[Portico_Specialty]]","v":"3336N0007X Pharmacy: Nuclear Pharmacy"},{"$f":"CLEAN(Table1[[#This Row],[Code]])","v":"3336N0007X"},"Pharmacy: Nuclear Pharmacy",null,"Medical taxonomy","Y","PH",null,"PH","PD","PH","PH","A5","PD",null,null,{"$f":"IF(ISNUMBER(SEARCH(INDIRECT(CELL(\"address\")),S557)),MAX($R$1:R556)+1,0)","v":0},{"$f":"Table1[[#This Row],[Portico_Specialty]]&\"-\"&Table1[[#This Row],[Code]]","v":"Pharmacy: Nuclear Pharmacy-3336N0007X"},null,{"$f":"IFERROR(VLOOKUP(ROWS($U$1:U556),$R$2:$S$918,2,FALSE),\"\")","v":""}]
["3336S0011X",{"$f":"Table1[[#This Row],[Code]]&\" \"&Table1[[#This Row],[Portico_Specialty]]","v":"3336S0011X Pharmacy: Specialty Pharmacy"},{"$f":"CLEAN(Table1[[#This Row],[Code]])","v":"3336S0011X"},"Pharmacy: Specialty Pharmacy",null,"Medical taxonomy","Y","PH",null,"PH","PD","PH","PH","A5","PD",null,null,{"$f":"IF(ISNUMBER(SEARCH(INDIRECT(CELL(\"address\")),S558)),MAX($R$1:R557)+1,0)","v":0},{"$f":"Table1[[#This Row],[Portico_Specialty]]&\"-\"&Table1[[#This Row],[Code]]","v":"Pharmacy: Specialty Pharmacy-3336S0011X"},null,{"$f":"IFERROR(VLOOKUP(ROWS($U$1:U557),$R$2:$S$918,2,FALSE),\"\")","v":""}]
["202K00000X",{"$f":"Table1[[#This Row],[Code]]&\" \"&Table1[[#This Row],[Portico_Specialty]]","v":"202K00000X Phlebology"},{"$f":"CLEAN(Table1[[#This Row],[Code]])","v":"202K00000X"},"Phlebology",null,"Medical taxonomy","N","87",null,"99","69",null,"87",null,"69",null,null,{"$f":"IF(ISNUMBER(SEARCH(INDIRECT(CELL(\"address\")),S559)),MAX($R$1:R558)+1,0)","v":0},{"$f":"Table1[[#This Row],[Portico_Specialty]]&\"-\"&Table1[[#This Row],[Code]]","v":"Phlebology-202K00000X"},null,{"$f":"IFERROR(VLOOKUP(ROWS($U$1:U558),$R$2:$S$918,2,FALSE),\"\")","v":""}]
["208100000X",{"$f":"Table1[[#This Row],[Code]]&\" \"&Table1[[#This Row],[Portico_Specialty]]","v":"208100000X Physical Medicine & Rehabilitation"},{"$f":"CLEAN(Table1[[#This Row],[Code]])","v":"208100000X"},"Physical Medicine & Rehabilitation",null,"Medical taxonomy","Y","25",null,"25","25","25","25","25","25",null,null,{"$f":"IF(ISNUMBER(SEARCH(INDIRECT(CELL(\"address\")),S560)),MAX($R$1:R559)+1,0)","v":0},{"$f":"Table1[[#This Row],[Portico_Specialty]]&\"-\"&Table1[[#This Row],[Code]]","v":"Physical Medicine & Rehabilitation-208100000X"},null,{"$f":"IFERROR(VLOOKUP(ROWS($U$1:U559),$R$2:$S$918,2,FALSE),\"\")","v":""}]
["2081P0301X",{"$f":"Table1[[#This Row],[Code]]&\" \"&Table1[[#This Row],[Portico_Specialty]]","v":"2081P0301X Physical Medicine & Rehabilitation: Brain Injury Medicine"},{"$f":"CLEAN(Table1[[#This Row],[Code]])","v":"2081P0301X"},"Physical Medicine & Rehabilitation: Brain Injury Medicine",null,"Medical taxonomy","Y",null,null,"26","26",null,null,null,"26",null,null,{"$f":"IF(ISNUMBER(SEARCH(INDIRECT(CELL(\"address\")),S561)),MAX($R$1:R560)+1,0)","v":0},{"$f":"Table1[[#This Row],[Portico_Specialty]]&\"-\"&Table1[[#This Row],[Code]]","v":"Physical Medicine & Rehabilitation: Brain Injury Medicine-2081P0301X"},null,{"$f":"IFERROR(VLOOKUP(ROWS($U$1:U560),$R$2:$S$918,2,FALSE),\"\")","v":""}]
["2081H0002X",{"$f":"Table1[[#This Row],[Code]]&\" \"&Table1[[#This Row],[Portico_Specialty]]","v":"2081H0002X Physical Medicine & Rehabilitation: Hospice and Palliative Medicine"},{"$f":"CLEAN(Table1[[#This Row],[Code]])","v":"2081H0002X"},"Physical Medicine & Rehabilitation: Hospice and Palliative Medicine",null,"Medical taxonomy","Y","25",null,"25","25","25","25","25","25",null,null,{"$f":"IF(ISNUMBER(SEARCH(INDIRECT(CELL(\"address\")),S562)),MAX($R$1:R561)+1,0)","v":0},{"$f":"Table1[[#This Row],[Portico_Specialty]]&\"-\"&Table1[[#This Row],[Code]]","v":"Physical Medicine & Rehabilitation: Hospice and Palliative Medicine-2081H0002X"},null,{"$f":"IFERROR(VLOOKUP(ROWS($U$1:U561),$R$2:$S$918,2,FALSE),\"\")","v":""}]
["2081N0008X",{"$f":"Table1[[#This Row],[Code]]&\" \"&Table1[[#This Row],[Portico_Specialty]]","v":"2081N0008X Physical Medicine & Rehabilitation: Neuromuscular Medicine"},{"$f":"CLEAN(Table1[[#This Row],[Code]])","v":"2081N0008X"},"Physical Medicine & Rehabilitation: Neuromuscular Medicine",null,"Medical taxonomy","Y","25",null,"25","25","25","25","25","25",null,null,{"$f":"IF(ISNUMBER(SEARCH(INDIRECT(CELL(\"address\")),S563)),MAX($R$1:R562)+1,0)","v":0},{"$f":"Table1[[#This Row],[Portico_Specialty]]&\"-\"&Table1[[#This Row],[Code]]","v":"Physical Medicine & Rehabilitation: Neuromuscular Medicine-2081N0008X"},null,{"$f":"IFERROR(VLOOKUP(ROWS($U$1:U562),$R$2:$S$918,2,FALSE),\"\")","v":""}]
["2081P2900X",{"$f":"Table1[[#This Row],[Code]]&\" \"&Table1[[#This Row],[Portico_Specialty]]","v":"2081P2900X Physical Medicine & Rehabilitation: Pain Medicine"},{"$f":"CLEAN(Table1[[#This Row],[Code]])","v":"2081P2900X"},"Physical Medicine & Rehabilitation: Pain Medicine",null,"Medical taxonomy","Y","25",null,"25","25","25","25","25","25",null,null,{"$f":"IF(ISNUMBER(SEARCH(INDIRECT(CELL(\"address\")),S564)),MAX($R$1:R563)+1,0)","v":0},{"$f":"Table1[[#This Row],[Portico_Specialty]]&\"-\"&Table1[[#This Row],[Code]]","v":"Physical Medicine & Rehabilitation: Pain Medicine-2081P2900X"},null,{"$f":"IFERROR(VLOOKUP(ROWS($U$1:U563),$R$2:$S$918,2,FALSE),\"\")","v":""}]
["2081P0010X",{"$f":"Table1[[#This Row],[Code]]&\" \"&Table1[[#This Row],[Portico_Specialty]]","v":"2081P0010X Physical Medicine & Rehabilitation: Pediatric Rehabilitation Medicine"},{"$f":"CLEAN(Table1[[#This Row],[Code]])","v":"2081P0010X"},"Physical Medicine & Rehabilitation: Pediatric Rehabilitation Medicine",null,"Medical taxonomy","Y","25",null,"25","25","25","25","25","25",null,null,{"$f":"IF(ISNUMBER(SEARCH(INDIRECT(CELL(\"address\")),S565)),MAX($R$1:R564)+1,0)","v":0},{"$f":"Table1[[#This Row],[Portico_Specialty]]&\"-\"&Table1[[#This Row],[Code]]","v":"Physical Medicine & Rehabilitation: Pediatric Rehabilitation Medicine-2081P0010X"},null,{"$f":"IFERROR(VLOOKUP(ROWS($U$1:U564),$R$2:$S$918,2,FALSE),\"\")","v":""}]
["2081P0004X",{"$f":"Table1[[#This Row],[Code]]&\" \"&Table1[[#This Row],[Portico_Specialty]]","v":"2081P0004X Physical Medicine & Rehabilitation: Spinal Cord Injury Medicine"},{"$f":"CLEAN(Table1[[#This Row],[Code]])","v":"2081P0004X"},"Physical Medicine & Rehabilitation: Spinal Cord Injury Medicine",null,"Medical taxonomy","Y","25",null,"25","25","25","25","25","25",null,null,{"$f":"IF(ISNUMBER(SEARCH(INDIRECT(CELL(\"address\")),S566)),MAX($R$1:R565)+1,0)","v":0},{"$f":"Table1[[#This Row],[Portico_Specialty]]&\"-\"&Table1[[#This Row],[Code]]","v":"Physical Medicine & Rehabilitation: Spinal Cord Injury Medicine-2081P0004X"},null,{"$f":"IFERROR(VLOOKUP(ROWS($U$1:U565),$R$2:$S$918,2,FALSE),\"\")","v":""}]
["2081S0010X",{"$f":"Table1[[#This Row],[Code]]&\" \"&Table1[[#This Row],[Portico_Specialty]]","v":"2081S0010X Physical Medicine & Rehabilitation: Sports Medicine"},{"$f":"CLEAN(Table1[[#This Row],[Code]])","v":"2081S0010X"},"Physical Medicine & Rehabilitation: Sports Medicine",null,"Medical taxonomy","Y","25",null,"25","25","25","25","25","25",null,null,{"$f":"IF(ISNUMBER(SEARCH(INDIRECT(CELL(\"address\")),S567)),MAX($R$1:R566)+1,0)","v":0},{"$f":"Table1[[#This Row],[Portico_Specialty]]&\"-\"&Table1[[#This Row],[Code]]","v":"Physical Medicine & Rehabilitation: Sports Medicine-2081S0010X"},null,{"$f":"IFERROR(VLOOKUP(ROWS($U$1:U566),$R$2:$S$918,2,FALSE),\"\")","v":""}]
["225100000X",{"$f":"Table1[[#This Row],[Code]]&\" \"&Table1[[#This Row],[Portico_Specialty]]","v":"225100000X Physical Therapist"},{"$f":"CLEAN(Table1[[#This Row],[Code]])","v":"225100000X"},"Physical Therapist",null,"Medical taxonomy","Y","65",null,"65","65","65","65","65","65",null,null,{"$f":"IF(ISNUMBER(SEARCH(INDIRECT(CELL(\"address\")),S568)),MAX($R$1:R567)+1,0)","v":0},{"$f":"Table1[[#This Row],[Portico_Specialty]]&\"-\"&Table1[[#This Row],[Code]]","v":"Physical Therapist-225100000X"},null,{"$f":"IFERROR(VLOOKUP(ROWS($U$1:U567),$R$2:$S$918,2,FALSE),\"\")","v":""}]
["2251C2600X",{"$f":"Table1[[#This Row],[Code]]&\" \"&Table1[[#This Row],[Portico_Specialty]]","v":"2251C2600X Physical Therapist: Cardiopulmonary"},{"$f":"CLEAN(Table1[[#This Row],[Code]])","v":"2251C2600X"},"Physical Therapist: Cardiopulmonary",null,"Medical taxonomy","Y","65",null,"65","65","65","65","65","65",null,null,{"$f":"IF(ISNUMBER(SEARCH(INDIRECT(CELL(\"address\")),S569)),MAX($R$1:R568)+1,0)","v":0},{"$f":"Table1[[#This Row],[Portico_Specialty]]&\"-\"&Table1[[#This Row],[Code]]","v":"Physical Therapist: Cardiopulmonary-2251C2600X"},null,{"$f":"IFERROR(VLOOKUP(ROWS($U$1:U568),$R$2:$S$918,2,FALSE),\"\")","v":""}]
["2251E1300X",{"$f":"Table1[[#This Row],[Code]]&\" \"&Table1[[#This Row],[Portico_Specialty]]","v":"2251E1300X Physical Therapist: Electrophysiology, Clinical"},{"$f":"CLEAN(Table1[[#This Row],[Code]])","v":"2251E1300X"},"Physical Therapist: Electrophysiology, Clinical",null,"Medical taxonomy","Y","65",null,"65","65","65","65","65","65",null,null,{"$f":"IF(ISNUMBER(SEARCH(INDIRECT(CELL(\"address\")),S570)),MAX($R$1:R569)+1,0)","v":0},{"$f":"Table1[[#This Row],[Portico_Specialty]]&\"-\"&Table1[[#This Row],[Code]]","v":"Physical Therapist: Electrophysiology, Clinical-2251E1300X"},null,{"$f":"IFERROR(VLOOKUP(ROWS($U$1:U569),$R$2:$S$918,2,FALSE),\"\")","v":""}]
["2251E1200X",{"$f":"Table1[[#This Row],[Code]]&\" \"&Table1[[#This Row],[Portico_Specialty]]","v":"2251E1200X Physical Therapist: Ergonomics"},{"$f":"CLEAN(Table1[[#This Row],[Code]])","v":"2251E1200X"},"Physical Therapist: Ergonomics",null,"Medical taxonomy","Y","65",null,"65","65","65","65","65","65",null,null,{"$f":"IF(ISNUMBER(SEARCH(INDIRECT(CELL(\"address\")),S571)),MAX($R$1:R570)+1,0)","v":0},{"$f":"Table1[[#This Row],[Portico_Specialty]]&\"-\"&Table1[[#This Row],[Code]]","v":"Physical Therapist: Ergonomics-2251E1200X"},null,{"$f":"IFERROR(VLOOKUP(ROWS($U$1:U570),$R$2:$S$918,2,FALSE),\"\")","v":""}]
["2251G0304X",{"$f":"Table1[[#This Row],[Code]]&\" \"&Table1[[#This Row],[Portico_Specialty]]","v":"2251G0304X Physical Therapist: Geriatrics"},{"$f":"CLEAN(Table1[[#This Row],[Code]])","v":"2251G0304X"},"Physical Therapist: Geriatrics",null,"Medical taxonomy","Y","65",null,"65","65","65","65","65","65",null,null,{"$f":"IF(ISNUMBER(SEARCH(INDIRECT(CELL(\"address\")),S572)),MAX($R$1:R571)+1,0)","v":0},{"$f":"Table1[[#This Row],[Portico_Specialty]]&\"-\"&Table1[[#This Row],[Code]]","v":"Physical Therapist: Geriatrics-2251G0304X"},null,{"$f":"IFERROR(VLOOKUP(ROWS($U$1:U571),$R$2:$S$918,2,FALSE),\"\")","v":""}]
["2251H1200X",{"$f":"Table1[[#This Row],[Code]]&\" \"&Table1[[#This Row],[Portico_Specialty]]","v":"2251H1200X Physical Therapist: Hand"},{"$f":"CLEAN(Table1[[#This Row],[Code]])","v":"2251H1200X"},"Physical Therapist: Hand",null,"Medical taxonomy","Y","65",null,"65","65","65","65","65","65",null,null,{"$f":"IF(ISNUMBER(SEARCH(INDIRECT(CELL(\"address\")),S573)),MAX($R$1:R572)+1,0)","v":0},{"$f":"Table1[[#This Row],[Portico_Specialty]]&\"-\"&Table1[[#This Row],[Code]]","v":"Physical Therapist: Hand-2251H1200X"},null,{"$f":"IFERROR(VLOOKUP(ROWS($U$1:U572),$R$2:$S$918,2,FALSE),\"\")","v":""}]
["2251H1300X",{"$f":"Table1[[#This Row],[Code]]&\" \"&Table1[[#This Row],[Portico_Specialty]]","v":"2251H1300X Physical Therapist: Human Factors"},{"$f":"CLEAN(Table1[[#This Row],[Code]])","v":"2251H1300X"},"Physical Therapist: Human Factors",null,"Medical taxonomy","Y","65",null,"65","65","65","65","65","65",null,null,{"$f":"IF(ISNUMBER(SEARCH(INDIRECT(CELL(\"address\")),S574)),MAX($R$1:R573)+1,0)","v":0},{"$f":"Table1[[#This Row],[Portico_Specialty]]&\"-\"&Table1[[#This Row],[Code]]","v":"Physical Therapist: Human Factors-2251H1300X"},null,{"$f":"IFERROR(VLOOKUP(ROWS($U$1:U573),$R$2:$S$918,2,FALSE),\"\")","v":""}]
["2251N0400X",{"$f":"Table1[[#This Row],[Code]]&\" \"&Table1[[#This Row],[Portico_Specialty]]","v":"2251N0400X Physical Therapist: Neurology"},{"$f":"CLEAN(Table1[[#This Row],[Code]])","v":"2251N0400X"},"Physical Therapist: Neurology",null,"Medical taxonomy","Y","65",null,"65","65","65","65","13","65",null,null,{"$f":"IF(ISNUMBER(SEARCH(INDIRECT(CELL(\"address\")),S575)),MAX($R$1:R574)+1,0)","v":0},{"$f":"Table1[[#This Row],[Portico_Specialty]]&\"-\"&Table1[[#This Row],[Code]]","v":"Physical Therapist: Neurology-2251N0400X"},null,{"$f":"IFERROR(VLOOKUP(ROWS($U$1:U574),$R$2:$S$918,2,FALSE),\"\")","v":""}]
["2251X0800X",{"$f":"Table1[[#This Row],[Code]]&\" \"&Table1[[#This Row],[Portico_Specialty]]","v":"2251X0800X Physical Therapist: Orthopedic"},{"$f":"CLEAN(Table1[[#This Row],[Code]])","v":"2251X0800X"},"Physical Therapist: Orthopedic",null,"Medical taxonomy","Y","65",null,"65","65","65","65","B3","65",null,null,{"$f":"IF(ISNUMBER(SEARCH(INDIRECT(CELL(\"address\")),S576)),MAX($R$1:R575)+1,0)","v":0},{"$f":"Table1[[#This Row],[Portico_Specialty]]&\"-\"&Table1[[#This Row],[Code]]","v":"Physical Therapist: Orthopedic-2251X0800X"},null,{"$f":"IFERROR(VLOOKUP(ROWS($U$1:U575),$R$2:$S$918,2,FALSE),\"\")","v":""}]
["2251P0200X",{"$f":"Table1[[#This Row],[Code]]&\" \"&Table1[[#This Row],[Portico_Specialty]]","v":"2251P0200X Physical Therapist: Pediatrics"},{"$f":"CLEAN(Table1[[#This Row],[Code]])","v":"2251P0200X"},"Physical Therapist: Pediatrics",null,"Medical taxonomy","Y","65",null,"65","65","65","65","65","65",null,null,{"$f":"IF(ISNUMBER(SEARCH(INDIRECT(CELL(\"address\")),S577)),MAX($R$1:R576)+1,0)","v":0},{"$f":"Table1[[#This Row],[Portico_Specialty]]&\"-\"&Table1[[#This Row],[Code]]","v":"Physical Therapist: Pediatrics-2251P0200X"},null,{"$f":"IFERROR(VLOOKUP(ROWS($U$1:U576),$R$2:$S$918,2,FALSE),\"\")","v":""}]
["2251S0007X",{"$f":"Table1[[#This Row],[Code]]&\" \"&Table1[[#This Row],[Portico_Specialty]]","v":"2251S0007X Physical Therapist: Sports"},{"$f":"CLEAN(Table1[[#This Row],[Code]])","v":"2251S0007X"},"Physical Therapist: Sports",null,"Medical taxonomy","Y","65",null,"65","65","65","65","65","65",null,null,{"$f":"IF(ISNUMBER(SEARCH(INDIRECT(CELL(\"address\")),S578)),MAX($R$1:R577)+1,0)","v":0},{"$f":"Table1[[#This Row],[Portico_Specialty]]&\"-\"&Table1[[#This Row],[Code]]","v":"Physical Therapist: Sports-2251S0007X"},null,{"$f":"IFERROR(VLOOKUP(ROWS($U$1:U577),$R$2:$S$918,2,FALSE),\"\")","v":""}]
["225200000X",{"$f":"Table1[[#This Row],[Code]]&\" \"&Table1[[#This Row],[Portico_Specialty]]","v":"225200000X Physical Therapy Assistant"},{"$f":"CLEAN(Table1[[#This Row],[Code]])","v":"225200000X"},"Physical Therapy Assistant",null,"Medical taxonomy","N","65",null,"99","65","65","65",null,"65",null,null,{"$f":"IF(ISNUMBER(SEARCH(INDIRECT(CELL(\"address\")),S579)),MAX($R$1:R578)+1,0)","v":0},{"$f":"Table1[[#This Row],[Portico_Specialty]]&\"-\"&Table1[[#This Row],[Code]]","v":"Physical Therapy Assistant-225200000X"},null,{"$f":"IFERROR(VLOOKUP(ROWS($U$1:U578),$R$2:$S$918,2,FALSE),\"\")","v":""}]
["363A00000X",{"$f":"Table1[[#This Row],[Code]]&\" \"&Table1[[#This Row],[Portico_Specialty]]","v":"363A00000X Physician Assistant"},{"$f":"CLEAN(Table1[[#This Row],[Code]])","v":"363A00000X"},"Physician Assistant",null,"Shared Taxonomy","Y","97",null,"97","97","97","97","97","97",null,null,{"$f":"IF(ISNUMBER(SEARCH(INDIRECT(CELL(\"address\")),S580)),MAX($R$1:R579)+1,0)","v":0},{"$f":"Table1[[#This Row],[Portico_Specialty]]&\"-\"&Table1[[#This Row],[Code]]","v":"Physician Assistant-363A00000X"},null,{"$f":"IFERROR(VLOOKUP(ROWS($U$1:U579),$R$2:$S$918,2,FALSE),\"\")","v":""}]
["AltSpec1",{"$f":"Table1[[#This Row],[Code]]&\" \"&Table1[[#This Row],[Portico_Specialty]]","v":"AltSpec1 Physician Assistant Dual 399"},{"$f":"CLEAN(Table1[[#This Row],[Code]])","v":"AltSpec1"},"Physician Assistant Dual 399",null,"Medical taxonomy","N",null,null,null,"ZU",null,null,null,null,null,null,{"$f":"IF(ISNUMBER(SEARCH(INDIRECT(CELL(\"address\")),S581)),MAX($R$1:R580)+1,0)","v":0},{"$f":"Table1[[#This Row],[Portico_Specialty]]&\"-\"&Table1[[#This Row],[Code]]","v":"Physician Assistant Dual 399-AltSpec1"},null,{"$f":"IFERROR(VLOOKUP(ROWS($U$1:U580),$R$2:$S$918,2,FALSE),\"\")","v":""}]
["AltSpec1",{"$f":"Table1[[#This Row],[Code]]&\" \"&Table1[[#This Row],[Portico_Specialty]]","v":"AltSpec1 Physician Assistant Dual 699"},{"$f":"CLEAN(Table1[[#This Row],[Code]])","v":"AltSpec1"},"Physician Assistant Dual 699",null,"Medical taxonomy","N",null,null,null,"YU",null,null,null,null,null,null,{"$f":"IF(ISNUMBER(SEARCH(INDIRECT(CELL(\"address\")),S582)),MAX($R$1:R581)+1,0)","v":0},{"$f":"Table1[[#This Row],[Portico_Specialty]]&\"-\"&Table1[[#This Row],[Code]]","v":"Physician Assistant Dual 699-AltSpec1"},null,{"$f":"IFERROR(VLOOKUP(ROWS($U$1:U581),$R$2:$S$918,2,FALSE),\"\")","v":""}]
["363AM0700X",{"$f":"Table1[[#This Row],[Code]]&\" \"&Table1[[#This Row],[Portico_Specialty]]","v":"363AM0700X Physician Assistant: Medical"},{"$f":"CLEAN(Table1[[#This Row],[Code]])","v":"363AM0700X"},"Physician Assistant: Medical",null,"Medical taxonomy","Y","97",null,"97","97","97","97","97","97",null,null,{"$f":"IF(ISNUMBER(SEARCH(INDIRECT(CELL(\"address\")),S583)),MAX($R$1:R582)+1,0)","v":0},{"$f":"Table1[[#This Row],[Portico_Specialty]]&\"-\"&Table1[[#This Row],[Code]]","v":"Physician Assistant: Medical-363AM0700X"},null,{"$f":"IFERROR(VLOOKUP(ROWS($U$1:U582),$R$2:$S$918,2,FALSE),\"\")","v":""}]
["363AS0400X",{"$f":"Table1[[#This Row],[Code]]&\" \"&Table1[[#This Row],[Portico_Specialty]]","v":"363AS0400X Physician Assistant: Surgical"},{"$f":"CLEAN(Table1[[#This Row],[Code]])","v":"363AS0400X"},"Physician Assistant: Surgical",null,"Medical taxonomy","Y","97",null,"97","97","97","97","97","97",null,null,{"$f":"IF(ISNUMBER(SEARCH(INDIRECT(CELL(\"address\")),S584)),MAX($R$1:R583)+1,0)","v":0},{"$f":"Table1[[#This Row],[Portico_Specialty]]&\"-\"&Table1[[#This Row],[Code]]","v":"Physician Assistant: Surgical-363AS0400X"},null,{"$f":"IFERROR(VLOOKUP(ROWS($U$1:U583),$R$2:$S$918,2,FALSE),\"\")","v":""}]
["293D00000X",{"$f":"Table1[[#This Row],[Code]]&\" \"&Table1[[#This Row],[Portico_Specialty]]","v":"293D00000X Physiological Laboratory"},{"$f":"CLEAN(Table1[[#This Row],[Code]])","v":"293D00000X"},"Physiological Laboratory",null,"Medical taxonomy","Y","69",null,"69","69","69","69","47","69",null,null,{"$f":"IF(ISNUMBER(SEARCH(INDIRECT(CELL(\"address\")),S585)),MAX($R$1:R584)+1,0)","v":0},{"$f":"Table1[[#This Row],[Portico_Specialty]]&\"-\"&Table1[[#This Row],[Code]]","v":"Physiological Laboratory-293D00000X"},null,{"$f":"IFERROR(VLOOKUP(ROWS($U$1:U584),$R$2:$S$918,2,FALSE),\"\")","v":""}]
["208200000X",{"$f":"Table1[[#This Row],[Code]]&\" \"&Table1[[#This Row],[Portico_Specialty]]","v":"208200000X Plastic Surgery"},{"$f":"CLEAN(Table1[[#This Row],[Code]])","v":"208200000X"},"Plastic Surgery",null,"Medical taxonomy","Y","24",null,"24","24","24","24","24","24",null,null,{"$f":"IF(ISNUMBER(SEARCH(INDIRECT(CELL(\"address\")),S586)),MAX($R$1:R585)+1,0)","v":0},{"$f":"Table1[[#This Row],[Portico_Specialty]]&\"-\"&Table1[[#This Row],[Code]]","v":"Plastic Surgery-208200000X"},null,{"$f":"IFERROR(VLOOKUP(ROWS($U$1:U585),$R$2:$S$918,2,FALSE),\"\")","v":""}]
["2082S0099X",{"$f":"Table1[[#This Row],[Code]]&\" \"&Table1[[#This Row],[Portico_Specialty]]","v":"2082S0099X Plastic Surgery: Plastic Surgery Within the Head and Neck"},{"$f":"CLEAN(Table1[[#This Row],[Code]])","v":"2082S0099X"},"Plastic Surgery: Plastic Surgery Within the Head and Neck",null,"Medical taxonomy","Y","24",null,"24","24","24","24","24","24",null,null,{"$f":"IF(ISNUMBER(SEARCH(INDIRECT(CELL(\"address\")),S587)),MAX($R$1:R586)+1,0)","v":0},{"$f":"Table1[[#This Row],[Portico_Specialty]]&\"-\"&Table1[[#This Row],[Code]]","v":"Plastic Surgery: Plastic Surgery Within the Head and Neck-2082S0099X"},null,{"$f":"IFERROR(VLOOKUP(ROWS($U$1:U586),$R$2:$S$918,2,FALSE),\"\")","v":""}]
["2082S0105X",{"$f":"Table1[[#This Row],[Code]]&\" \"&Table1[[#This Row],[Portico_Specialty]]","v":"2082S0105X Plastic Surgery: Surgery of the Hand"},{"$f":"CLEAN(Table1[[#This Row],[Code]])","v":"2082S0105X"},"Plastic Surgery: Surgery of the Hand",null,"Medical taxonomy","Y","40",null,"24","24","24","24","40","24",null,null,{"$f":"IF(ISNUMBER(SEARCH(INDIRECT(CELL(\"address\")),S588)),MAX($R$1:R587)+1,0)","v":0},{"$f":"Table1[[#This Row],[Portico_Specialty]]&\"-\"&Table1[[#This Row],[Code]]","v":"Plastic Surgery: Surgery of the Hand-2082S0105X"},null,{"$f":"IFERROR(VLOOKUP(ROWS($U$1:U587),$R$2:$S$918,2,FALSE),\"\")","v":""}]
["213E00000X",{"$f":"Table1[[#This Row],[Code]]&\" \"&Table1[[#This Row],[Portico_Specialty]]","v":"213E00000X Podiatrist"},{"$f":"CLEAN(Table1[[#This Row],[Code]])","v":"213E00000X"},"Podiatrist",null,"Medical taxonomy","Y","48",null,"48","48","48","48","48","48",null,null,{"$f":"IF(ISNUMBER(SEARCH(INDIRECT(CELL(\"address\")),S589)),MAX($R$1:R588)+1,0)","v":0},{"$f":"Table1[[#This Row],[Portico_Specialty]]&\"-\"&Table1[[#This Row],[Code]]","v":"Podiatrist-213E00000X"},null,{"$f":"IFERROR(VLOOKUP(ROWS($U$1:U588),$R$2:$S$918,2,FALSE),\"\")","v":""}]
["213ES0103X",{"$f":"Table1[[#This Row],[Code]]&\" \"&Table1[[#This Row],[Portico_Specialty]]","v":"213ES0103X Podiatrist: Foot & Ankle Surgery"},{"$f":"CLEAN(Table1[[#This Row],[Code]])","v":"213ES0103X"},"Podiatrist: Foot & Ankle Surgery",null,"Medical taxonomy","Y","48",null,"48","48","48","48","48","48",null,null,{"$f":"IF(ISNUMBER(SEARCH(INDIRECT(CELL(\"address\")),S590)),MAX($R$1:R589)+1,0)","v":0},{"$f":"Table1[[#This Row],[Portico_Specialty]]&\"-\"&Table1[[#This Row],[Code]]","v":"Podiatrist: Foot & Ankle Surgery-213ES0103X"},null,{"$f":"IFERROR(VLOOKUP(ROWS($U$1:U589),$R$2:$S$918,2,FALSE),\"\")","v":""}]
["213ES0131X",{"$f":"Table1[[#This Row],[Code]]&\" \"&Table1[[#This Row],[Portico_Specialty]]","v":"213ES0131X Podiatrist: Foot Surgery"},{"$f":"CLEAN(Table1[[#This Row],[Code]])","v":"213ES0131X"},"Podiatrist: Foot Surgery",null,"Medical taxonomy","Y","48",null,"48","48","48","48","48","48",null,null,{"$f":"IF(ISNUMBER(SEARCH(INDIRECT(CELL(\"address\")),S591)),MAX($R$1:R590)+1,0)","v":0},{"$f":"Table1[[#This Row],[Portico_Specialty]]&\"-\"&Table1[[#This Row],[Code]]","v":"Podiatrist: Foot Surgery-213ES0131X"},null,{"$f":"IFERROR(VLOOKUP(ROWS($U$1:U590),$R$2:$S$918,2,FALSE),\"\")","v":""}]
["213EG0000X",{"$f":"Table1[[#This Row],[Code]]&\" \"&Table1[[#This Row],[Portico_Specialty]]","v":"213EG0000X Podiatrist: General Practice"},{"$f":"CLEAN(Table1[[#This Row],[Code]])","v":"213EG0000X"},"Podiatrist: General Practice",null,"Medical taxonomy","Y","48",null,"48","48","48","48","48","48",null,null,{"$f":"IF(ISNUMBER(SEARCH(INDIRECT(CELL(\"address\")),S592)),MAX($R$1:R591)+1,0)","v":0},{"$f":"Table1[[#This Row],[Portico_Specialty]]&\"-\"&Table1[[#This Row],[Code]]","v":"Podiatrist: General Practice-213EG0000X"},null,{"$f":"IFERROR(VLOOKUP(ROWS($U$1:U591),$R$2:$S$918,2,FALSE),\"\")","v":""}]
["213EP1101X",{"$f":"Table1[[#This Row],[Code]]&\" \"&Table1[[#This Row],[Portico_Specialty]]","v":"213EP1101X Podiatrist: Primary Podiatric Medicine"},{"$f":"CLEAN(Table1[[#This Row],[Code]])","v":"213EP1101X"},"Podiatrist: Primary Podiatric Medicine",null,"Medical taxonomy","Y","48",null,"48","48","48","48","48","48",null,null,{"$f":"IF(ISNUMBER(SEARCH(INDIRECT(CELL(\"address\")),S593)),MAX($R$1:R592)+1,0)","v":0},{"$f":"Table1[[#This Row],[Portico_Specialty]]&\"-\"&Table1[[#This Row],[Code]]","v":"Podiatrist: Primary Podiatric Medicine-213EP1101X"},null,{"$f":"IFERROR(VLOOKUP(ROWS($U$1:U592),$R$2:$S$918,2,FALSE),\"\")","v":""}]
["213EP0504X",{"$f":"Table1[[#This Row],[Code]]&\" \"&Table1[[#This Row],[Portico_Specialty]]","v":"213EP0504X Podiatrist: Public Medicine"},{"$f":"CLEAN(Table1[[#This Row],[Code]])","v":"213EP0504X"},"Podiatrist: Public Medicine",null,"Medical taxonomy","Y","48",null,"48","48","48","48","48","48",null,null,{"$f":"IF(ISNUMBER(SEARCH(INDIRECT(CELL(\"address\")),S594)),MAX($R$1:R593)+1,0)","v":0},{"$f":"Table1[[#This Row],[Portico_Specialty]]&\"-\"&Table1[[#This Row],[Code]]","v":"Podiatrist: Public Medicine-213EP0504X"},null,{"$f":"IFERROR(VLOOKUP(ROWS($U$1:U593),$R$2:$S$918,2,FALSE),\"\")","v":""}]
["213ER0200X",{"$f":"Table1[[#This Row],[Code]]&\" \"&Table1[[#This Row],[Portico_Specialty]]","v":"213ER0200X Podiatrist: Radiology"},{"$f":"CLEAN(Table1[[#This Row],[Code]])","v":"213ER0200X"},"Podiatrist: Radiology",null,"Medical taxonomy","Y","48",null,"48","48","48","48","48","48",null,null,{"$f":"IF(ISNUMBER(SEARCH(INDIRECT(CELL(\"address\")),S595)),MAX($R$1:R594)+1,0)","v":0},{"$f":"Table1[[#This Row],[Portico_Specialty]]&\"-\"&Table1[[#This Row],[Code]]","v":"Podiatrist: Radiology-213ER0200X"},null,{"$f":"IFERROR(VLOOKUP(ROWS($U$1:U594),$R$2:$S$918,2,FALSE),\"\")","v":""}]
["213ES0000X",{"$f":"Table1[[#This Row],[Code]]&\" \"&Table1[[#This Row],[Portico_Specialty]]","v":"213ES0000X Podiatrist: Sports Medicine"},{"$f":"CLEAN(Table1[[#This Row],[Code]])","v":"213ES0000X"},"Podiatrist: Sports Medicine",null,"Medical taxonomy","Y","48",null,"48","48","48","48","48","48",null,null,{"$f":"IF(ISNUMBER(SEARCH(INDIRECT(CELL(\"address\")),S596)),MAX($R$1:R595)+1,0)","v":0},{"$f":"Table1[[#This Row],[Portico_Specialty]]&\"-\"&Table1[[#This Row],[Code]]","v":"Podiatrist: Sports Medicine-213ES0000X"},null,{"$f":"IFERROR(VLOOKUP(ROWS($U$1:U595),$R$2:$S$918,2,FALSE),\"\")","v":""}]
["102X00000X",{"$f":"Table1[[#This Row],[Code]]&\" \"&Table1[[#This Row],[Portico_Specialty]]","v":"102X00000X Poetry Therapist"},{"$f":"CLEAN(Table1[[#This Row],[Code]])","v":"102X00000X"},"Poetry Therapist",null,"BH Only Taxonomy","N","87",null,"80","80",null,"80",null,"80",null,null,{"$f":"IF(ISNUMBER(SEARCH(INDIRECT(CELL(\"address\")),S597)),MAX($R$1:R596)+1,0)","v":0},{"$f":"Table1[[#This Row],[Portico_Specialty]]&\"-\"&Table1[[#This Row],[Code]]","v":"Poetry Therapist-102X00000X"},null,{"$f":"IFERROR(VLOOKUP(ROWS($U$1:U596),$R$2:$S$918,2,FALSE),\"\")","v":""}]
["305S00000X",{"$f":"Table1[[#This Row],[Code]]&\" \"&Table1[[#This Row],[Portico_Specialty]]","v":"305S00000X Point of Service"},{"$f":"CLEAN(Table1[[#This Row],[Code]])","v":"305S00000X"},"Point of Service",null,"Medical taxonomy","N","99",null,"99","99","99","87","99","99",null,null,{"$f":"IF(ISNUMBER(SEARCH(INDIRECT(CELL(\"address\")),S598)),MAX($R$1:R597)+1,0)","v":0},{"$f":"Table1[[#This Row],[Portico_Specialty]]&\"-\"&Table1[[#This Row],[Code]]","v":"Point of Service-305S00000X"},null,{"$f":"IFERROR(VLOOKUP(ROWS($U$1:U597),$R$2:$S$918,2,FALSE),\"\")","v":""}]
["335V00000X",{"$f":"Table1[[#This Row],[Code]]&\" \"&Table1[[#This Row],[Portico_Specialty]]","v":"335V00000X Portable X-ray and/or Other Portable Diagnostic Imaging Supplier"},{"$f":"CLEAN(Table1[[#This Row],[Code]])","v":"335V00000X"},"Portable X-ray and/or Other Portable Diagnostic Imaging Supplier",null,"Medical taxonomy","Y","63",null,"63","63","63","63","63","63",null,null,{"$f":"IF(ISNUMBER(SEARCH(INDIRECT(CELL(\"address\")),S599)),MAX($R$1:R598)+1,0)","v":0},{"$f":"Table1[[#This Row],[Portico_Specialty]]&\"-\"&Table1[[#This Row],[Code]]","v":"Portable X-ray and/or Other Portable Diagnostic Imaging Supplier-335V00000X"},null,{"$f":"IFERROR(VLOOKUP(ROWS($U$1:U598),$R$2:$S$918,2,FALSE),\"\")","v":""}]
["305R00000X",{"$f":"Table1[[#This Row],[Code]]&\" \"&Table1[[#This Row],[Portico_Specialty]]","v":"305R00000X Preferred Provider Organization"},{"$f":"CLEAN(Table1[[#This Row],[Code]])","v":"305R00000X"},"Preferred Provider Organization",null,"Medical taxonomy","N","99",null,"99","60","99","87","99","60",null,null,{"$f":"IF(ISNUMBER(SEARCH(INDIRECT(CELL(\"address\")),S600)),MAX($R$1:R599)+1,0)","v":0},{"$f":"Table1[[#This Row],[Portico_Specialty]]&\"-\"&Table1[[#This Row],[Code]]","v":"Preferred Provider Organization-305R00000X"},null,{"$f":"IFERROR(VLOOKUP(ROWS($U$1:U599),$R$2:$S$918,2,FALSE),\"\")","v":""}]
["405300000X",{"$f":"Table1[[#This Row],[Code]]&\" \"&Table1[[#This Row],[Portico_Specialty]]","v":"405300000X Prevention Professional"},{"$f":"CLEAN(Table1[[#This Row],[Code]])","v":"405300000X"},"Prevention Professional",null,"BH Only Taxonomy","N",null,null,"80","80",null,null,null,"80",null,null,{"$f":"IF(ISNUMBER(SEARCH(INDIRECT(CELL(\"address\")),S601)),MAX($R$1:R600)+1,0)","v":0},{"$f":"Table1[[#This Row],[Portico_Specialty]]&\"-\"&Table1[[#This Row],[Code]]","v":"Prevention Professional-405300000X"},null,{"$f":"IFERROR(VLOOKUP(ROWS($U$1:U600),$R$2:$S$918,2,FALSE),\"\")","v":""}]
["2083A0100X",{"$f":"Table1[[#This Row],[Code]]&\" \"&Table1[[#This Row],[Portico_Specialty]]","v":"2083A0100X Preventive Medicine: Aerospace Medicine"},{"$f":"CLEAN(Table1[[#This Row],[Code]])","v":"2083A0100X"},"Preventive Medicine: Aerospace Medicine",null,"Medical taxonomy","Y","84",null,"84","84","84","84","84","84",null,null,{"$f":"IF(ISNUMBER(SEARCH(INDIRECT(CELL(\"address\")),S602)),MAX($R$1:R601)+1,0)","v":0},{"$f":"Table1[[#This Row],[Portico_Specialty]]&\"-\"&Table1[[#This Row],[Code]]","v":"Preventive Medicine: Aerospace Medicine-2083A0100X"},null,{"$f":"IFERROR(VLOOKUP(ROWS($U$1:U601),$R$2:$S$918,2,FALSE),\"\")","v":""}]
["2083C0008X",{"$f":"Table1[[#This Row],[Code]]&\" \"&Table1[[#This Row],[Portico_Specialty]]","v":"2083C0008X Preventive Medicine: Clinical Informatics"},{"$f":"CLEAN(Table1[[#This Row],[Code]])","v":"2083C0008X"},"Preventive Medicine: Clinical Informatics",null,"Medical taxonomy","N",null,null,"99","84",null,null,null,"84",null,null,{"$f":"IF(ISNUMBER(SEARCH(INDIRECT(CELL(\"address\")),S603)),MAX($R$1:R602)+1,0)","v":0},{"$f":"Table1[[#This Row],[Portico_Specialty]]&\"-\"&Table1[[#This Row],[Code]]","v":"Preventive Medicine: Clinical Informatics-2083C0008X"},null,{"$f":"IFERROR(VLOOKUP(ROWS($U$1:U602),$R$2:$S$918,2,FALSE),\"\")","v":""}]
["2083T0002X",{"$f":"Table1[[#This Row],[Code]]&\" \"&Table1[[#This Row],[Portico_Specialty]]","v":"2083T0002X Preventive Medicine: Medical Toxicology"},{"$f":"CLEAN(Table1[[#This Row],[Code]])","v":"2083T0002X"},"Preventive Medicine: Medical Toxicology",null,"Medical taxonomy","Y","84",null,"84","84","84","84","84","84",null,null,{"$f":"IF(ISNUMBER(SEARCH(INDIRECT(CELL(\"address\")),S604)),MAX($R$1:R603)+1,0)","v":0},{"$f":"Table1[[#This Row],[Portico_Specialty]]&\"-\"&Table1[[#This Row],[Code]]","v":"Preventive Medicine: Medical Toxicology-2083T0002X"},null,{"$f":"IFERROR(VLOOKUP(ROWS($U$1:U603),$R$2:$S$918,2,FALSE),\"\")","v":""}]
["2083B0002X",{"$f":"Table1[[#This Row],[Code]]&\" \"&Table1[[#This Row],[Portico_Specialty]]","v":"2083B0002X Preventive Medicine: Obesity Medicine"},{"$f":"CLEAN(Table1[[#This Row],[Code]])","v":"2083B0002X"},"Preventive Medicine: Obesity Medicine",null,"Medical taxonomy","N",null,null,"84","84",null,null,null,"84",null,null,{"$f":"IF(ISNUMBER(SEARCH(INDIRECT(CELL(\"address\")),S605)),MAX($R$1:R604)+1,0)","v":0},{"$f":"Table1[[#This Row],[Portico_Specialty]]&\"-\"&Table1[[#This Row],[Code]]","v":"Preventive Medicine: Obesity Medicine-2083B0002X"},null,{"$f":"IFERROR(VLOOKUP(ROWS($U$1:U604),$R$2:$S$918,2,FALSE),\"\")","v":""}]
["2083X0100X",{"$f":"Table1[[#This Row],[Code]]&\" \"&Table1[[#This Row],[Portico_Specialty]]","v":"2083X0100X Preventive Medicine: Occupational Medicine"},{"$f":"CLEAN(Table1[[#This Row],[Code]])","v":"2083X0100X"},"Preventive Medicine: Occupational Medicine",null,"Medical taxonomy","Y","84",null,"84","84","84","84","84","84",null,null,{"$f":"IF(ISNUMBER(SEARCH(INDIRECT(CELL(\"address\")),S606)),MAX($R$1:R605)+1,0)","v":0},{"$f":"Table1[[#This Row],[Portico_Specialty]]&\"-\"&Table1[[#This Row],[Code]]","v":"Preventive Medicine: Occupational Medicine-2083X0100X"},null,{"$f":"IFERROR(VLOOKUP(ROWS($U$1:U605),$R$2:$S$918,2,FALSE),\"\")","v":""}]
["2083P0500X",{"$f":"Table1[[#This Row],[Code]]&\" \"&Table1[[#This Row],[Portico_Specialty]]","v":"2083P0500X Preventive Medicine: Preventive Medicine/Occupational Environmental Medicine"},{"$f":"CLEAN(Table1[[#This Row],[Code]])","v":"2083P0500X"},"Preventive Medicine: Preventive Medicine/Occupational Environmental Medicine",null,"Medical taxonomy","Y","84",null,"84","84","84","84","84","84",null,null,{"$f":"IF(ISNUMBER(SEARCH(INDIRECT(CELL(\"address\")),S607)),MAX($R$1:R606)+1,0)","v":0},{"$f":"Table1[[#This Row],[Portico_Specialty]]&\"-\"&Table1[[#This Row],[Code]]","v":"Preventive Medicine: Preventive Medicine/Occupational Environmental Medicine-2083P0500X"},null,{"$f":"IFERROR(VLOOKUP(ROWS($U$1:U606),$R$2:$S$918,2,FALSE),\"\")","v":""}]
["2083P0901X",{"$f":"Table1[[#This Row],[Code]]&\" \"&Table1[[#This Row],[Portico_Specialty]]","v":"2083P0901X Preventive Medicine: Public Health & General Preventive Medicine"},{"$f":"CLEAN(Table1[[#This Row],[Code]])","v":"2083P0901X"},"Preventive Medicine: Public Health & General Preventive Medicine",null,"Medical taxonomy","Y","84",null,"84","60","84","84","84","60",null,null,{"$f":"IF(ISNUMBER(SEARCH(INDIRECT(CELL(\"address\")),S608)),MAX($R$1:R607)+1,0)","v":0},{"$f":"Table1[[#This Row],[Portico_Specialty]]&\"-\"&Table1[[#This Row],[Code]]","v":"Preventive Medicine: Public Health & General Preventive Medicine-2083P0901X"},null,{"$f":"IFERROR(VLOOKUP(ROWS($U$1:U607),$R$2:$S$918,2,FALSE),\"\")","v":""}]
["2083S0010X",{"$f":"Table1[[#This Row],[Code]]&\" \"&Table1[[#This Row],[Portico_Specialty]]","v":"2083S0010X Preventive Medicine: Sports Medicine"},{"$f":"CLEAN(Table1[[#This Row],[Code]])","v":"2083S0010X"},"Preventive Medicine: Sports Medicine",null,"Medical taxonomy","Y","84",null,"84","84","84","84","84","84",null,null,{"$f":"IF(ISNUMBER(SEARCH(INDIRECT(CELL(\"address\")),S609)),MAX($R$1:R608)+1,0)","v":0},{"$f":"Table1[[#This Row],[Portico_Specialty]]&\"-\"&Table1[[#This Row],[Code]]","v":"Preventive Medicine: Sports Medicine-2083S0010X"},null,{"$f":"IFERROR(VLOOKUP(ROWS($U$1:U608),$R$2:$S$918,2,FALSE),\"\")","v":""}]
["2083P0011X",{"$f":"Table1[[#This Row],[Code]]&\" \"&Table1[[#This Row],[Portico_Specialty]]","v":"2083P0011X Preventive Medicine: Undersea and Hyperbaric Medicine"},{"$f":"CLEAN(Table1[[#This Row],[Code]])","v":"2083P0011X"},"Preventive Medicine: Undersea and Hyperbaric Medicine",null,"Medical taxonomy","Y","84",null,"84","84","84","84","84","84",null,null,{"$f":"IF(ISNUMBER(SEARCH(INDIRECT(CELL(\"address\")),S610)),MAX($R$1:R609)+1,0)","v":0},{"$f":"Table1[[#This Row],[Portico_Specialty]]&\"-\"&Table1[[#This Row],[Code]]","v":"Preventive Medicine: Undersea and Hyperbaric Medicine-2083P0011X"},null,{"$f":"IFERROR(VLOOKUP(ROWS($U$1:U609),$R$2:$S$918,2,FALSE),\"\")","v":""}]
["347C00000X",{"$f":"Table1[[#This Row],[Code]]&\" \"&Table1[[#This Row],[Portico_Specialty]]","v":"347C00000X Private Vehicle"},{"$f":"CLEAN(Table1[[#This Row],[Code]])","v":"347C00000X"},"Private Vehicle",null,"Medical taxonomy","N","TR",null,"TR","59","TR","TR",null,"59",null,null,{"$f":"IF(ISNUMBER(SEARCH(INDIRECT(CELL(\"address\")),S611)),MAX($R$1:R610)+1,0)","v":0},{"$f":"Table1[[#This Row],[Portico_Specialty]]&\"-\"&Table1[[#This Row],[Code]]","v":"Private Vehicle-347C00000X"},null,{"$f":"IFERROR(VLOOKUP(ROWS($U$1:U610),$R$2:$S$918,2,FALSE),\"\")","v":""}]
["335E00000X",{"$f":"Table1[[#This Row],[Code]]&\" \"&Table1[[#This Row],[Portico_Specialty]]","v":"335E00000X Prosthetic/Orthotic Supplier"},{"$f":"CLEAN(Table1[[#This Row],[Code]])","v":"335E00000X"},"Prosthetic/Orthotic Supplier",null,"Medical taxonomy","Y","53",null,"53","53","53","53","53","53",null,null,{"$f":"IF(ISNUMBER(SEARCH(INDIRECT(CELL(\"address\")),S612)),MAX($R$1:R611)+1,0)","v":0},{"$f":"Table1[[#This Row],[Portico_Specialty]]&\"-\"&Table1[[#This Row],[Code]]","v":"Prosthetic/Orthotic Supplier-335E00000X"},null,{"$f":"IFERROR(VLOOKUP(ROWS($U$1:U611),$R$2:$S$918,2,FALSE),\"\")","v":""}]
["224P00000X",{"$f":"Table1[[#This Row],[Code]]&\" \"&Table1[[#This Row],[Portico_Specialty]]","v":"224P00000X Prosthetist"},{"$f":"CLEAN(Table1[[#This Row],[Code]])","v":"224P00000X"},"Prosthetist",null,"Medical taxonomy","Y","56",null,"56","53","56","56","56","53",null,null,{"$f":"IF(ISNUMBER(SEARCH(INDIRECT(CELL(\"address\")),S613)),MAX($R$1:R612)+1,0)","v":0},{"$f":"Table1[[#This Row],[Portico_Specialty]]&\"-\"&Table1[[#This Row],[Code]]","v":"Prosthetist-224P00000X"},null,{"$f":"IFERROR(VLOOKUP(ROWS($U$1:U612),$R$2:$S$918,2,FALSE),\"\")","v":""}]
["283Q00000X",{"$f":"Table1[[#This Row],[Code]]&\" \"&Table1[[#This Row],[Portico_Specialty]]","v":"283Q00000X Psychiatric Hospital"},{"$f":"CLEAN(Table1[[#This Row],[Code]])","v":"283Q00000X"},"Psychiatric Hospital","REQUIRED: Both an M & H Claim_Type build for BH.","BH Only Taxonomy","Y","HO",null,"HO","HO","HO","HO","A0","HO",null,null,{"$f":"IF(ISNUMBER(SEARCH(INDIRECT(CELL(\"address\")),S614)),MAX($R$1:R613)+1,0)","v":0},{"$f":"Table1[[#This Row],[Portico_Specialty]]&\"-\"&Table1[[#This Row],[Code]]","v":"Psychiatric Hospital-283Q00000X"},null,{"$f":"IFERROR(VLOOKUP(ROWS($U$1:U613),$R$2:$S$918,2,FALSE),\"\")","v":""}]
["323P00000X",{"$f":"Table1[[#This Row],[Code]]&\" \"&Table1[[#This Row],[Portico_Specialty]]","v":"323P00000X Psychiatric Residential Treatment Facility"},{"$f":"CLEAN(Table1[[#This Row],[Code]])","v":"323P00000X"},"Psychiatric Residential Treatment Facility","REQUIRED: Both an M & H Claim_Type build for BH.","BH Only Taxonomy","N","70",null,"70","70","CM","FR",null,"70",null,null,{"$f":"IF(ISNUMBER(SEARCH(INDIRECT(CELL(\"address\")),S615)),MAX($R$1:R614)+1,0)","v":0},{"$f":"Table1[[#This Row],[Portico_Specialty]]&\"-\"&Table1[[#This Row],[Code]]","v":"Psychiatric Residential Treatment Facility-323P00000X"},null,{"$f":"IFERROR(VLOOKUP(ROWS($U$1:U614),$R$2:$S$918,2,FALSE),\"\")","v":""}]
["273R00000X",{"$f":"Table1[[#This Row],[Code]]&\" \"&Table1[[#This Row],[Portico_Specialty]]","v":"273R00000X Psychiatric Unit"},{"$f":"CLEAN(Table1[[#This Row],[Code]])","v":"273R00000X"},"Psychiatric Unit","REQUIRED: Both an M & H Claim_Type build for BH.","BH Only Taxonomy","Y","HO",null,"HO","HO","HO","HO","A0","HO",null,null,{"$f":"IF(ISNUMBER(SEARCH(INDIRECT(CELL(\"address\")),S616)),MAX($R$1:R615)+1,0)","v":0},{"$f":"Table1[[#This Row],[Portico_Specialty]]&\"-\"&Table1[[#This Row],[Code]]","v":"Psychiatric Unit-273R00000X"},null,{"$f":"IFERROR(VLOOKUP(ROWS($U$1:U615),$R$2:$S$918,2,FALSE),\"\")","v":""}]
["2084A0401X",{"$f":"Table1[[#This Row],[Code]]&\" \"&Table1[[#This Row],[Portico_Specialty]]","v":"2084A0401X Psychiatry & Neurology: Addiction Medicine"},{"$f":"CLEAN(Table1[[#This Row],[Code]])","v":"2084A0401X"},"Psychiatry & Neurology: Addiction Medicine",null,"BH Only Taxonomy","Y","79",null,"26","79","79","26","79","79",null,null,{"$f":"IF(ISNUMBER(SEARCH(INDIRECT(CELL(\"address\")),S617)),MAX($R$1:R616)+1,0)","v":0},{"$f":"Table1[[#This Row],[Portico_Specialty]]&\"-\"&Table1[[#This Row],[Code]]","v":"Psychiatry & Neurology: Addiction Medicine-2084A0401X"},null,{"$f":"IFERROR(VLOOKUP(ROWS($U$1:U616),$R$2:$S$918,2,FALSE),\"\")","v":""}]
["2084P0802X",{"$f":"Table1[[#This Row],[Code]]&\" \"&Table1[[#This Row],[Portico_Specialty]]","v":"2084P0802X Psychiatry & Neurology: Addiction Psychiatry"},{"$f":"CLEAN(Table1[[#This Row],[Code]])","v":"2084P0802X"},"Psychiatry & Neurology: Addiction Psychiatry",null,"BH Only Taxonomy","Y","26",null,"26","26","26","26","26","26",null,null,{"$f":"IF(ISNUMBER(SEARCH(INDIRECT(CELL(\"address\")),S618)),MAX($R$1:R617)+1,0)","v":0},{"$f":"Table1[[#This Row],[Portico_Specialty]]&\"-\"&Table1[[#This Row],[Code]]","v":"Psychiatry & Neurology: Addiction Psychiatry-2084P0802X"},null,{"$f":"IFERROR(VLOOKUP(ROWS($U$1:U617),$R$2:$S$918,2,FALSE),\"\")","v":""}]
["2084P0301X",{"$f":"Table1[[#This Row],[Code]]&\" \"&Table1[[#This Row],[Portico_Specialty]]","v":"2084P0301X Psychiatry & Neurology: Brain Injury Medicine"},{"$f":"CLEAN(Table1[[#This Row],[Code]])","v":"2084P0301X"},"Psychiatry & Neurology: Brain Injury Medicine",null,"Medical taxonomy","Y",null,null,"26","26",null,null,null,"26",null,null,{"$f":"IF(ISNUMBER(SEARCH(INDIRECT(CELL(\"address\")),S619)),MAX($R$1:R618)+1,0)","v":0},{"$f":"Table1[[#This Row],[Portico_Specialty]]&\"-\"&Table1[[#This Row],[Code]]","v":"Psychiatry & Neurology: Brain Injury Medicine-2084P0301X"},null,{"$f":"IFERROR(VLOOKUP(ROWS($U$1:U618),$R$2:$S$918,2,FALSE),\"\")","v":""}]
["2084P0804X",{"$f":"Table1[[#This Row],[Code]]&\" \"&Table1[[#This Row],[Portico_Specialty]]","v":"2084P0804X Psychiatry & Neurology: Child & Adolescent Psychiatry"},{"$f":"CLEAN(Table1[[#This Row],[Code]])","v":"2084P0804X"},"Psychiatry & Neurology: Child & Adolescent Psychiatry",null,"BH Only Taxonomy","Y","37",null,"26","26","26","26","26","26",null,null,{"$f":"IF(ISNUMBER(SEARCH(INDIRECT(CELL(\"address\")),S620)),MAX($R$1:R619)+1,0)","v":0},{"$f":"Table1[[#This Row],[Portico_Specialty]]&\"-\"&Table1[[#This Row],[Code]]","v":"Psychiatry & Neurology: Child & Adolescent Psychiatry-2084P0804X"},null,{"$f":"IFERROR(VLOOKUP(ROWS($U$1:U619),$R$2:$S$918,2,FALSE),\"\")","v":""}]
["2084N0600X",{"$f":"Table1[[#This Row],[Code]]&\" \"&Table1[[#This Row],[Portico_Specialty]]","v":"2084N0600X Psychiatry & Neurology: Clinical Neurophysiology"},{"$f":"CLEAN(Table1[[#This Row],[Code]])","v":"2084N0600X"},"Psychiatry & Neurology: Clinical Neurophysiology",null,"Medical taxonomy","Y","26",null,"13","26","86","13","13","26",null,null,{"$f":"IF(ISNUMBER(SEARCH(INDIRECT(CELL(\"address\")),S621)),MAX($R$1:R620)+1,0)","v":0},{"$f":"Table1[[#This Row],[Portico_Specialty]]&\"-\"&Table1[[#This Row],[Code]]","v":"Psychiatry & Neurology: Clinical Neurophysiology-2084N0600X"},null,{"$f":"IFERROR(VLOOKUP(ROWS($U$1:U620),$R$2:$S$918,2,FALSE),\"\")","v":""}]
["2084D0003X",{"$f":"Table1[[#This Row],[Code]]&\" \"&Table1[[#This Row],[Portico_Specialty]]","v":"2084D0003X Psychiatry & Neurology: Diagnostic Neuroimaging"},{"$f":"CLEAN(Table1[[#This Row],[Code]])","v":"2084D0003X"},"Psychiatry & Neurology: Diagnostic Neuroimaging",null,"Medical taxonomy","Y","13",null,"13","86","13","13","13","86",null,null,{"$f":"IF(ISNUMBER(SEARCH(INDIRECT(CELL(\"address\")),S622)),MAX($R$1:R621)+1,0)","v":0},{"$f":"Table1[[#This Row],[Portico_Specialty]]&\"-\"&Table1[[#This Row],[Code]]","v":"Psychiatry & Neurology: Diagnostic Neuroimaging-2084D0003X"},null,{"$f":"IFERROR(VLOOKUP(ROWS($U$1:U621),$R$2:$S$918,2,FALSE),\"\")","v":""}]
["2084F0202X",{"$f":"Table1[[#This Row],[Code]]&\" \"&Table1[[#This Row],[Portico_Specialty]]","v":"2084F0202X Psychiatry & Neurology: Forensic Psychiatry"},{"$f":"CLEAN(Table1[[#This Row],[Code]])","v":"2084F0202X"},"Psychiatry & Neurology: Forensic Psychiatry",null,"BH Only Taxonomy","Y","26",null,"26","26","26","26","26","26",null,null,{"$f":"IF(ISNUMBER(SEARCH(INDIRECT(CELL(\"address\")),S623)),MAX($R$1:R622)+1,0)","v":0},{"$f":"Table1[[#This Row],[Portico_Specialty]]&\"-\"&Table1[[#This Row],[Code]]","v":"Psychiatry & Neurology: Forensic Psychiatry-2084F0202X"},null,{"$f":"IFERROR(VLOOKUP(ROWS($U$1:U622),$R$2:$S$918,2,FALSE),\"\")","v":""}]
["2084P0805X",{"$f":"Table1[[#This Row],[Code]]&\" \"&Table1[[#This Row],[Portico_Specialty]]","v":"2084P0805X Psychiatry & Neurology: Geriatric Psychiatry"},{"$f":"CLEAN(Table1[[#This Row],[Code]])","v":"2084P0805X"},"Psychiatry & Neurology: Geriatric Psychiatry",null,"BH Only Taxonomy","Y","26",null,"26","26","26","26","27","26",null,null,{"$f":"IF(ISNUMBER(SEARCH(INDIRECT(CELL(\"address\")),S624)),MAX($R$1:R623)+1,0)","v":0},{"$f":"Table1[[#This Row],[Portico_Specialty]]&\"-\"&Table1[[#This Row],[Code]]","v":"Psychiatry & Neurology: Geriatric Psychiatry-2084P0805X"},null,{"$f":"IFERROR(VLOOKUP(ROWS($U$1:U623),$R$2:$S$918,2,FALSE),\"\")","v":""}]
["2084H0002X",{"$f":"Table1[[#This Row],[Code]]&\" \"&Table1[[#This Row],[Portico_Specialty]]","v":"2084H0002X Psychiatry & Neurology: Hospice and Palliative Medicine"},{"$f":"CLEAN(Table1[[#This Row],[Code]])","v":"2084H0002X"},"Psychiatry & Neurology: Hospice and Palliative Medicine",null,"BH Only Taxonomy","Y","26",null,"26","26","26","26","86","26",null,null,{"$f":"IF(ISNUMBER(SEARCH(INDIRECT(CELL(\"address\")),S625)),MAX($R$1:R624)+1,0)","v":0},{"$f":"Table1[[#This Row],[Portico_Specialty]]&\"-\"&Table1[[#This Row],[Code]]","v":"Psychiatry & Neurology: Hospice and Palliative Medicine-2084H0002X"},null,{"$f":"IFERROR(VLOOKUP(ROWS($U$1:U624),$R$2:$S$918,2,FALSE),\"\")","v":""}]
["2084A2900X",{"$f":"Table1[[#This Row],[Code]]&\" \"&Table1[[#This Row],[Portico_Specialty]]","v":"2084A2900X Psychiatry & Neurology: Neurocritical Care"},{"$f":"CLEAN(Table1[[#This Row],[Code]])","v":"2084A2900X"},"Psychiatry & Neurology: Neurocritical Care",null,"Medical taxonomy","Y",null,null,"26","26",null,null,null,"26",null,null,{"$f":"IF(ISNUMBER(SEARCH(INDIRECT(CELL(\"address\")),S626)),MAX($R$1:R625)+1,0)","v":0},{"$f":"Table1[[#This Row],[Portico_Specialty]]&\"-\"&Table1[[#This Row],[Code]]","v":"Psychiatry & Neurology: Neurocritical Care-2084A2900X"},null,{"$f":"IFERROR(VLOOKUP(ROWS($U$1:U625),$R$2:$S$918,2,FALSE),\"\")","v":""}]
["2084P0005X",{"$f":"Table1[[#This Row],[Code]]&\" \"&Table1[[#This Row],[Portico_Specialty]]","v":"2084P0005X Psychiatry & Neurology: Neurodevelopmental Disabilities"},{"$f":"CLEAN(Table1[[#This Row],[Code]])","v":"2084P0005X"},"Psychiatry & Neurology: Neurodevelopmental Disabilities",null,"Medical taxonomy","Y","26",null,"13","86","13","13","86","86",null,null,{"$f":"IF(ISNUMBER(SEARCH(INDIRECT(CELL(\"address\")),S627)),MAX($R$1:R626)+1,0)","v":0},{"$f":"Table1[[#This Row],[Portico_Specialty]]&\"-\"&Table1[[#This Row],[Code]]","v":"Psychiatry & Neurology: Neurodevelopmental Disabilities-2084P0005X"},null,{"$f":"IFERROR(VLOOKUP(ROWS($U$1:U626),$R$2:$S$918,2,FALSE),\"\")","v":""}]
["2084N0400X",{"$f":"Table1[[#This Row],[Code]]&\" \"&Table1[[#This Row],[Portico_Specialty]]","v":"2084N0400X Psychiatry & Neurology: Neurology"},{"$f":"CLEAN(Table1[[#This Row],[Code]])","v":"2084N0400X"},"Psychiatry & Neurology: Neurology",null,"Medical taxonomy","Y","13",null,"13","26","13","13","13","26",null,null,{"$f":"IF(ISNUMBER(SEARCH(INDIRECT(CELL(\"address\")),S628)),MAX($R$1:R627)+1,0)","v":0},{"$f":"Table1[[#This Row],[Portico_Specialty]]&\"-\"&Table1[[#This Row],[Code]]","v":"Psychiatry & Neurology: Neurology-2084N0400X"},null,{"$f":"IFERROR(VLOOKUP(ROWS($U$1:U627),$R$2:$S$918,2,FALSE),\"\")","v":""}]
["2084N0402X",{"$f":"Table1[[#This Row],[Code]]&\" \"&Table1[[#This Row],[Portico_Specialty]]","v":"2084N0402X Psychiatry & Neurology: Neurology with Special Qualifications in Child Neurology"},{"$f":"CLEAN(Table1[[#This Row],[Code]])","v":"2084N0402X"},"Psychiatry & Neurology: Neurology with Special Qualifications in Child Neurology",null,"Medical taxonomy","Y","13",null,"13","26","13","13","13","26",null,null,{"$f":"IF(ISNUMBER(SEARCH(INDIRECT(CELL(\"address\")),S629)),MAX($R$1:R628)+1,0)","v":0},{"$f":"Table1[[#This Row],[Portico_Specialty]]&\"-\"&Table1[[#This Row],[Code]]","v":"Psychiatry & Neurology: Neurology with Special Qualifications in Child Neurology-2084N0402X"},null,{"$f":"IFERROR(VLOOKUP(ROWS($U$1:U628),$R$2:$S$918,2,FALSE),\"\")","v":""}]
["2084N0008X",{"$f":"Table1[[#This Row],[Code]]&\" \"&Table1[[#This Row],[Portico_Specialty]]","v":"2084N0008X Psychiatry & Neurology: Neuromuscular Medicine"},{"$f":"CLEAN(Table1[[#This Row],[Code]])","v":"2084N0008X"},"Psychiatry & Neurology: Neuromuscular Medicine",null,"Medical taxonomy","Y","13",null,"13","86","13","13","13","86",null,null,{"$f":"IF(ISNUMBER(SEARCH(INDIRECT(CELL(\"address\")),S630)),MAX($R$1:R629)+1,0)","v":0},{"$f":"Table1[[#This Row],[Portico_Specialty]]&\"-\"&Table1[[#This Row],[Code]]","v":"Psychiatry & Neurology: Neuromuscular Medicine-2084N0008X"},null,{"$f":"IFERROR(VLOOKUP(ROWS($U$1:U629),$R$2:$S$918,2,FALSE),\"\")","v":""}]
["2084B0002X",{"$f":"Table1[[#This Row],[Code]]&\" \"&Table1[[#This Row],[Portico_Specialty]]","v":"2084B0002X Psychiatry & Neurology: Obesity Medicine"},{"$f":"CLEAN(Table1[[#This Row],[Code]])","v":"2084B0002X"},"Psychiatry & Neurology: Obesity Medicine",null,"BH Only Taxonomy","Y","26",null,"26","26","26",null,"86","26",null,null,{"$f":"IF(ISNUMBER(SEARCH(INDIRECT(CELL(\"address\")),S631)),MAX($R$1:R630)+1,0)","v":0},{"$f":"Table1[[#This Row],[Portico_Specialty]]&\"-\"&Table1[[#This Row],[Code]]","v":"Psychiatry & Neurology: Obesity Medicine-2084B0002X"},null,{"$f":"IFERROR(VLOOKUP(ROWS($U$1:U630),$R$2:$S$918,2,FALSE),\"\")","v":""}]
["2084P2900X",{"$f":"Table1[[#This Row],[Code]]&\" \"&Table1[[#This Row],[Portico_Specialty]]","v":"2084P2900X Psychiatry & Neurology: Pain Medicine"},{"$f":"CLEAN(Table1[[#This Row],[Code]])","v":"2084P2900X"},"Psychiatry & Neurology: Pain Medicine",null,"Medical taxonomy","Y","72",null,"72","86","72","72","86","86",null,null,{"$f":"IF(ISNUMBER(SEARCH(INDIRECT(CELL(\"address\")),S632)),MAX($R$1:R631)+1,0)","v":0},{"$f":"Table1[[#This Row],[Portico_Specialty]]&\"-\"&Table1[[#This Row],[Code]]","v":"Psychiatry & Neurology: Pain Medicine-2084P2900X"},null,{"$f":"IFERROR(VLOOKUP(ROWS($U$1:U631),$R$2:$S$918,2,FALSE),\"\")","v":""}]
["2084P0800X",{"$f":"Table1[[#This Row],[Code]]&\" \"&Table1[[#This Row],[Portico_Specialty]]","v":"2084P0800X Psychiatry & Neurology: Psychiatry"},{"$f":"CLEAN(Table1[[#This Row],[Code]])","v":"2084P0800X"},"Psychiatry & Neurology: Psychiatry",null,"BH Only Taxonomy","Y","26",null,"26","26","26","26","26","26",null,null,{"$f":"IF(ISNUMBER(SEARCH(INDIRECT(CELL(\"address\")),S633)),MAX($R$1:R632)+1,0)","v":0},{"$f":"Table1[[#This Row],[Portico_Specialty]]&\"-\"&Table1[[#This Row],[Code]]","v":"Psychiatry & Neurology: Psychiatry-2084P0800X"},null,{"$f":"IFERROR(VLOOKUP(ROWS($U$1:U632),$R$2:$S$918,2,FALSE),\"\")","v":""}]
["2084P0015X",{"$f":"Table1[[#This Row],[Code]]&\" \"&Table1[[#This Row],[Portico_Specialty]]","v":"2084P0015X Psychiatry & Neurology: Psychosomatic Medicine"},{"$f":"CLEAN(Table1[[#This Row],[Code]])","v":"2084P0015X"},"Psychiatry & Neurology: Psychosomatic Medicine",null,"BH Only Taxonomy","Y","26",null,"26","26","26","26","86","26",null,null,{"$f":"IF(ISNUMBER(SEARCH(INDIRECT(CELL(\"address\")),S634)),MAX($R$1:R633)+1,0)","v":0},{"$f":"Table1[[#This Row],[Portico_Specialty]]&\"-\"&Table1[[#This Row],[Code]]","v":"Psychiatry & Neurology: Psychosomatic Medicine-2084P0015X"},null,{"$f":"IFERROR(VLOOKUP(ROWS($U$1:U633),$R$2:$S$918,2,FALSE),\"\")","v":""}]
["2084S0012X",{"$f":"Table1[[#This Row],[Code]]&\" \"&Table1[[#This Row],[Portico_Specialty]]","v":"2084S0012X Psychiatry & Neurology: Sleep Medicine"},{"$f":"CLEAN(Table1[[#This Row],[Code]])","v":"2084S0012X"},"Psychiatry & Neurology: Sleep Medicine",null,"BH Only Taxonomy","Y","26",null,"26","26","26","26","86","26",null,null,{"$f":"IF(ISNUMBER(SEARCH(INDIRECT(CELL(\"address\")),S635)),MAX($R$1:R634)+1,0)","v":0},{"$f":"Table1[[#This Row],[Portico_Specialty]]&\"-\"&Table1[[#This Row],[Code]]","v":"Psychiatry & Neurology: Sleep Medicine-2084S0012X"},null,{"$f":"IFERROR(VLOOKUP(ROWS($U$1:U634),$R$2:$S$918,2,FALSE),\"\")","v":""}]
["2084S0010X",{"$f":"Table1[[#This Row],[Code]]&\" \"&Table1[[#This Row],[Portico_Specialty]]","v":"2084S0010X Psychiatry & Neurology: Sports Medicine"},{"$f":"CLEAN(Table1[[#This Row],[Code]])","v":"2084S0010X"},"Psychiatry & Neurology: Sports Medicine",null,"BH Only Taxonomy","Y","26",null,"26","26","13","26","86","26",null,null,{"$f":"IF(ISNUMBER(SEARCH(INDIRECT(CELL(\"address\")),S636)),MAX($R$1:R635)+1,0)","v":0},{"$f":"Table1[[#This Row],[Portico_Specialty]]&\"-\"&Table1[[#This Row],[Code]]","v":"Psychiatry & Neurology: Sports Medicine-2084S0010X"},null,{"$f":"IFERROR(VLOOKUP(ROWS($U$1:U635),$R$2:$S$918,2,FALSE),\"\")","v":""}]
["2084V0102X",{"$f":"Table1[[#This Row],[Code]]&\" \"&Table1[[#This Row],[Portico_Specialty]]","v":"2084V0102X Psychiatry & Neurology: Vascular Neurology"},{"$f":"CLEAN(Table1[[#This Row],[Code]])","v":"2084V0102X"},"Psychiatry & Neurology: Vascular Neurology",null,"Medical taxonomy","Y","13",null,"13","86","13","13","13","86",null,null,{"$f":"IF(ISNUMBER(SEARCH(INDIRECT(CELL(\"address\")),S637)),MAX($R$1:R636)+1,0)","v":0},{"$f":"Table1[[#This Row],[Portico_Specialty]]&\"-\"&Table1[[#This Row],[Code]]","v":"Psychiatry & Neurology: Vascular Neurology-2084V0102X"},null,{"$f":"IFERROR(VLOOKUP(ROWS($U$1:U636),$R$2:$S$918,2,FALSE),\"\")","v":""}]
["102L00000X",{"$f":"Table1[[#This Row],[Code]]&\" \"&Table1[[#This Row],[Portico_Specialty]]","v":"102L00000X Psychoanalyst"},{"$f":"CLEAN(Table1[[#This Row],[Code]])","v":"102L00000X"},"Psychoanalyst",null,"BH Only Taxonomy","N","87",null,"85","80","80","80",null,"80",null,null,{"$f":"IF(ISNUMBER(SEARCH(INDIRECT(CELL(\"address\")),S638)),MAX($R$1:R637)+1,0)","v":0},{"$f":"Table1[[#This Row],[Portico_Specialty]]&\"-\"&Table1[[#This Row],[Code]]","v":"Psychoanalyst-102L00000X"},null,{"$f":"IFERROR(VLOOKUP(ROWS($U$1:U637),$R$2:$S$918,2,FALSE),\"\")","v":""}]
["103T00000X",{"$f":"Table1[[#This Row],[Code]]&\" \"&Table1[[#This Row],[Portico_Specialty]]","v":"103T00000X Psychologist"},{"$f":"CLEAN(Table1[[#This Row],[Code]])","v":"103T00000X"},"Psychologist",null,"BH Only Taxonomy","Y","62",null,"62","62","62","62","62","62",null,null,{"$f":"IF(ISNUMBER(SEARCH(INDIRECT(CELL(\"address\")),S639)),MAX($R$1:R638)+1,0)","v":0},{"$f":"Table1[[#This Row],[Portico_Specialty]]&\"-\"&Table1[[#This Row],[Code]]","v":"Psychologist-103T00000X"},null,{"$f":"IFERROR(VLOOKUP(ROWS($U$1:U638),$R$2:$S$918,2,FALSE),\"\")","v":""}]
["AltSpec1",{"$f":"Table1[[#This Row],[Code]]&\" \"&Table1[[#This Row],[Portico_Specialty]]","v":"AltSpec1 Psychologist Dual 399"},{"$f":"CLEAN(Table1[[#This Row],[Code]])","v":"AltSpec1"},"Psychologist Dual 399",null,"Medical taxonomy","N",null,null,null,"ZQ",null,null,null,null,null,null,{"$f":"IF(ISNUMBER(SEARCH(INDIRECT(CELL(\"address\")),S640)),MAX($R$1:R639)+1,0)","v":0},{"$f":"Table1[[#This Row],[Portico_Specialty]]&\"-\"&Table1[[#This Row],[Code]]","v":"Psychologist Dual 399-AltSpec1"},null,{"$f":"IFERROR(VLOOKUP(ROWS($U$1:U639),$R$2:$S$918,2,FALSE),\"\")","v":""}]
["AltSpec1",{"$f":"Table1[[#This Row],[Code]]&\" \"&Table1[[#This Row],[Portico_Specialty]]","v":"AltSpec1 Psychologist Dual 699"},{"$f":"CLEAN(Table1[[#This Row],[Code]])","v":"AltSpec1"},"Psychologist Dual 699",null,"Medical taxonomy","N",null,null,null,"YQ",null,null,null,null,null,null,{"$f":"IF(ISNUMBER(SEARCH(INDIRECT(CELL(\"address\")),S641)),MAX($R$1:R640)+1,0)","v":0},{"$f":"Table1[[#This Row],[Portico_Specialty]]&\"-\"&Table1[[#This Row],[Code]]","v":"Psychologist Dual 699-AltSpec1"},null,{"$f":"IFERROR(VLOOKUP(ROWS($U$1:U640),$R$2:$S$918,2,FALSE),\"\")","v":""}]
["103TA0400X",{"$f":"Table1[[#This Row],[Code]]&\" \"&Table1[[#This Row],[Portico_Specialty]]","v":"103TA0400X Psychologist: Addiction (Substance Use Disorder)"},{"$f":"CLEAN(Table1[[#This Row],[Code]])","v":"103TA0400X"},"Psychologist: Addiction (Substance Use Disorder)",null,"BH Only Taxonomy","Y","62",null,"62","62","62","62","62","62",null,null,{"$f":"IF(ISNUMBER(SEARCH(INDIRECT(CELL(\"address\")),S642)),MAX($R$1:R641)+1,0)","v":0},{"$f":"Table1[[#This Row],[Portico_Specialty]]&\"-\"&Table1[[#This Row],[Code]]","v":"Psychologist: Addiction (Substance Use Disorder)-103TA0400X"},null,{"$f":"IFERROR(VLOOKUP(ROWS($U$1:U641),$R$2:$S$918,2,FALSE),\"\")","v":""}]
["103TA0700X",{"$f":"Table1[[#This Row],[Code]]&\" \"&Table1[[#This Row],[Portico_Specialty]]","v":"103TA0700X Psychologist: Adult Development & Aging"},{"$f":"CLEAN(Table1[[#This Row],[Code]])","v":"103TA0700X"},"Psychologist: Adult Development & Aging",null,"BH Only Taxonomy","Y","62",null,"62","62","62","62","62","62",null,null,{"$f":"IF(ISNUMBER(SEARCH(INDIRECT(CELL(\"address\")),S643)),MAX($R$1:R642)+1,0)","v":0},{"$f":"Table1[[#This Row],[Portico_Specialty]]&\"-\"&Table1[[#This Row],[Code]]","v":"Psychologist: Adult Development & Aging-103TA0700X"},null,{"$f":"IFERROR(VLOOKUP(ROWS($U$1:U642),$R$2:$S$918,2,FALSE),\"\")","v":""}]
["103TC0700X",{"$f":"Table1[[#This Row],[Code]]&\" \"&Table1[[#This Row],[Portico_Specialty]]","v":"103TC0700X Psychologist: Clinical"},{"$f":"CLEAN(Table1[[#This Row],[Code]])","v":"103TC0700X"},"Psychologist: Clinical",null,"BH Only Taxonomy","Y","68",null,"68","68","68","68","62","68",null,null,{"$f":"IF(ISNUMBER(SEARCH(INDIRECT(CELL(\"address\")),S644)),MAX($R$1:R643)+1,0)","v":0},{"$f":"Table1[[#This Row],[Portico_Specialty]]&\"-\"&Table1[[#This Row],[Code]]","v":"Psychologist: Clinical-103TC0700X"},null,{"$f":"IFERROR(VLOOKUP(ROWS($U$1:U643),$R$2:$S$918,2,FALSE),\"\")","v":""}]
["103TC2200X",{"$f":"Table1[[#This Row],[Code]]&\" \"&Table1[[#This Row],[Portico_Specialty]]","v":"103TC2200X Psychologist: Clinical Child & Adolescent"},{"$f":"CLEAN(Table1[[#This Row],[Code]])","v":"103TC2200X"},"Psychologist: Clinical Child & Adolescent",null,"BH Only Taxonomy","Y","68",null,"68","68","68","68","62","68",null,null,{"$f":"IF(ISNUMBER(SEARCH(INDIRECT(CELL(\"address\")),S645)),MAX($R$1:R644)+1,0)","v":0},{"$f":"Table1[[#This Row],[Portico_Specialty]]&\"-\"&Table1[[#This Row],[Code]]","v":"Psychologist: Clinical Child & Adolescent-103TC2200X"},null,{"$f":"IFERROR(VLOOKUP(ROWS($U$1:U644),$R$2:$S$918,2,FALSE),\"\")","v":""}]
["103TB0200X",{"$f":"Table1[[#This Row],[Code]]&\" \"&Table1[[#This Row],[Portico_Specialty]]","v":"103TB0200X Psychologist: Cognitive & Behavioral"},{"$f":"CLEAN(Table1[[#This Row],[Code]])","v":"103TB0200X"},"Psychologist: Cognitive & Behavioral",null,"BH Only Taxonomy","Y","62",null,"62","62","62","62","62","62",null,null,{"$f":"IF(ISNUMBER(SEARCH(INDIRECT(CELL(\"address\")),S646)),MAX($R$1:R645)+1,0)","v":0},{"$f":"Table1[[#This Row],[Portico_Specialty]]&\"-\"&Table1[[#This Row],[Code]]","v":"Psychologist: Cognitive & Behavioral-103TB0200X"},null,{"$f":"IFERROR(VLOOKUP(ROWS($U$1:U645),$R$2:$S$918,2,FALSE),\"\")","v":""}]
["103TC1900X",{"$f":"Table1[[#This Row],[Code]]&\" \"&Table1[[#This Row],[Portico_Specialty]]","v":"103TC1900X Psychologist: Counseling"},{"$f":"CLEAN(Table1[[#This Row],[Code]])","v":"103TC1900X"},"Psychologist: Counseling",null,"BH Only Taxonomy","Y","62",null,"62","62","62","62","62","62",null,null,{"$f":"IF(ISNUMBER(SEARCH(INDIRECT(CELL(\"address\")),S647)),MAX($R$1:R646)+1,0)","v":0},{"$f":"Table1[[#This Row],[Portico_Specialty]]&\"-\"&Table1[[#This Row],[Code]]","v":"Psychologist: Counseling-103TC1900X"},null,{"$f":"IFERROR(VLOOKUP(ROWS($U$1:U646),$R$2:$S$918,2,FALSE),\"\")","v":""}]
["103TE1000X",{"$f":"Table1[[#This Row],[Code]]&\" \"&Table1[[#This Row],[Portico_Specialty]]","v":"103TE1000X Psychologist: Educational"},{"$f":"CLEAN(Table1[[#This Row],[Code]])","v":"103TE1000X"},"Psychologist: Educational",null,"BH Only Taxonomy","Y","62",null,"62","62","62","62","62","62",null,null,{"$f":"IF(ISNUMBER(SEARCH(INDIRECT(CELL(\"address\")),S648)),MAX($R$1:R647)+1,0)","v":0},{"$f":"Table1[[#This Row],[Portico_Specialty]]&\"-\"&Table1[[#This Row],[Code]]","v":"Psychologist: Educational-103TE1000X"},null,{"$f":"IFERROR(VLOOKUP(ROWS($U$1:U647),$R$2:$S$918,2,FALSE),\"\")","v":""}]
["103TE1100X",{"$f":"Table1[[#This Row],[Code]]&\" \"&Table1[[#This Row],[Portico_Specialty]]","v":"103TE1100X Psychologist: Exercise & Sports"},{"$f":"CLEAN(Table1[[#This Row],[Code]])","v":"103TE1100X"},"Psychologist: Exercise & Sports",null,"BH Only Taxonomy","Y","62",null,"62","62","62","62","62","62",null,null,{"$f":"IF(ISNUMBER(SEARCH(INDIRECT(CELL(\"address\")),S649)),MAX($R$1:R648)+1,0)","v":0},{"$f":"Table1[[#This Row],[Portico_Specialty]]&\"-\"&Table1[[#This Row],[Code]]","v":"Psychologist: Exercise & Sports-103TE1100X"},null,{"$f":"IFERROR(VLOOKUP(ROWS($U$1:U648),$R$2:$S$918,2,FALSE),\"\")","v":""}]
["103TF0000X",{"$f":"Table1[[#This Row],[Code]]&\" \"&Table1[[#This Row],[Portico_Specialty]]","v":"103TF0000X Psychologist: Family"},{"$f":"CLEAN(Table1[[#This Row],[Code]])","v":"103TF0000X"},"Psychologist: Family",null,"BH Only Taxonomy","Y","62",null,"62","62","62","62","62","62",null,null,{"$f":"IF(ISNUMBER(SEARCH(INDIRECT(CELL(\"address\")),S650)),MAX($R$1:R649)+1,0)","v":0},{"$f":"Table1[[#This Row],[Portico_Specialty]]&\"-\"&Table1[[#This Row],[Code]]","v":"Psychologist: Family-103TF0000X"},null,{"$f":"IFERROR(VLOOKUP(ROWS($U$1:U649),$R$2:$S$918,2,FALSE),\"\")","v":""}]
["103TF0200X",{"$f":"Table1[[#This Row],[Code]]&\" \"&Table1[[#This Row],[Portico_Specialty]]","v":"103TF0200X Psychologist: Forensic"},{"$f":"CLEAN(Table1[[#This Row],[Code]])","v":"103TF0200X"},"Psychologist: Forensic",null,"BH Only Taxonomy","Y","62",null,"62","62","62","62","62","62",null,null,{"$f":"IF(ISNUMBER(SEARCH(INDIRECT(CELL(\"address\")),S651)),MAX($R$1:R650)+1,0)","v":0},{"$f":"Table1[[#This Row],[Portico_Specialty]]&\"-\"&Table1[[#This Row],[Code]]","v":"Psychologist: Forensic-103TF0200X"},null,{"$f":"IFERROR(VLOOKUP(ROWS($U$1:U650),$R$2:$S$918,2,FALSE),\"\")","v":""}]
["103TP2701X",{"$f":"Table1[[#This Row],[Code]]&\" \"&Table1[[#This Row],[Portico_Specialty]]","v":"103TP2701X Psychologist: Group Psychotherapy"},{"$f":"CLEAN(Table1[[#This Row],[Code]])","v":"103TP2701X"},"Psychologist: Group Psychotherapy",null,"BH Only Taxonomy","Y","62",null,"62","62","62","62","62","62",null,null,{"$f":"IF(ISNUMBER(SEARCH(INDIRECT(CELL(\"address\")),S652)),MAX($R$1:R651)+1,0)","v":0},{"$f":"Table1[[#This Row],[Portico_Specialty]]&\"-\"&Table1[[#This Row],[Code]]","v":"Psychologist: Group Psychotherapy-103TP2701X"},null,{"$f":"IFERROR(VLOOKUP(ROWS($U$1:U651),$R$2:$S$918,2,FALSE),\"\")","v":""}]
["103TH0004X",{"$f":"Table1[[#This Row],[Code]]&\" \"&Table1[[#This Row],[Portico_Specialty]]","v":"103TH0004X Psychologist: Health"},{"$f":"CLEAN(Table1[[#This Row],[Code]])","v":"103TH0004X"},"Psychologist: Health",null,"BH Only Taxonomy","Y","62",null,"62","62","62","62","62","62",null,null,{"$f":"IF(ISNUMBER(SEARCH(INDIRECT(CELL(\"address\")),S653)),MAX($R$1:R652)+1,0)","v":0},{"$f":"Table1[[#This Row],[Portico_Specialty]]&\"-\"&Table1[[#This Row],[Code]]","v":"Psychologist: Health-103TH0004X"},null,{"$f":"IFERROR(VLOOKUP(ROWS($U$1:U652),$R$2:$S$918,2,FALSE),\"\")","v":""}]
["103TH0100X",{"$f":"Table1[[#This Row],[Code]]&\" \"&Table1[[#This Row],[Portico_Specialty]]","v":"103TH0100X Psychologist: Health Service"},{"$f":"CLEAN(Table1[[#This Row],[Code]])","v":"103TH0100X"},"Psychologist: Health Service",null,"BH Only Taxonomy","Y","62",null,"62","62","62","62","62","62",null,null,{"$f":"IF(ISNUMBER(SEARCH(INDIRECT(CELL(\"address\")),S654)),MAX($R$1:R653)+1,0)","v":0},{"$f":"Table1[[#This Row],[Portico_Specialty]]&\"-\"&Table1[[#This Row],[Code]]","v":"Psychologist: Health Service-103TH0100X"},null,{"$f":"IFERROR(VLOOKUP(ROWS($U$1:U653),$R$2:$S$918,2,FALSE),\"\")","v":""}]
["103TM1700X",{"$f":"Table1[[#This Row],[Code]]&\" \"&Table1[[#This Row],[Portico_Specialty]]","v":"103TM1700X Psychologist: Men & Masculinity"},{"$f":"CLEAN(Table1[[#This Row],[Code]])","v":"103TM1700X"},"Psychologist: Men & Masculinity",null,"BH Only Taxonomy","Y","62",null,"62","62","62","62","62","62",null,null,{"$f":"IF(ISNUMBER(SEARCH(INDIRECT(CELL(\"address\")),S655)),MAX($R$1:R654)+1,0)","v":0},{"$f":"Table1[[#This Row],[Portico_Specialty]]&\"-\"&Table1[[#This Row],[Code]]","v":"Psychologist: Men & Masculinity-103TM1700X"},null,{"$f":"IFERROR(VLOOKUP(ROWS($U$1:U654),$R$2:$S$918,2,FALSE),\"\")","v":""}]
["103TM1800X",{"$f":"Table1[[#This Row],[Code]]&\" \"&Table1[[#This Row],[Portico_Specialty]]","v":"103TM1800X Psychologist: Mental Retardation & Developmental Disabilities"},{"$f":"CLEAN(Table1[[#This Row],[Code]])","v":"103TM1800X"},"Psychologist: Mental Retardation & Developmental Disabilities",null,"BH Only Taxonomy","Y","62",null,"62","62","62","62","62","62",null,null,{"$f":"IF(ISNUMBER(SEARCH(INDIRECT(CELL(\"address\")),S656)),MAX($R$1:R655)+1,0)","v":0},{"$f":"Table1[[#This Row],[Portico_Specialty]]&\"-\"&Table1[[#This Row],[Code]]","v":"Psychologist: Mental Retardation & Developmental Disabilities-103TM1800X"},null,{"$f":"IFERROR(VLOOKUP(ROWS($U$1:U655),$R$2:$S$918,2,FALSE),\"\")","v":""}]
["103TP0016X",{"$f":"Table1[[#This Row],[Code]]&\" \"&Table1[[#This Row],[Portico_Specialty]]","v":"103TP0016X Psychologist: Prescribing (Medical)"},{"$f":"CLEAN(Table1[[#This Row],[Code]])","v":"103TP0016X"},"Psychologist: Prescribing (Medical)",null,"BH Only Taxonomy","Y","62",null,"62","62","62","62","62","62",null,null,{"$f":"IF(ISNUMBER(SEARCH(INDIRECT(CELL(\"address\")),S657)),MAX($R$1:R656)+1,0)","v":0},{"$f":"Table1[[#This Row],[Portico_Specialty]]&\"-\"&Table1[[#This Row],[Code]]","v":"Psychologist: Prescribing (Medical)-103TP0016X"},null,{"$f":"IFERROR(VLOOKUP(ROWS($U$1:U656),$R$2:$S$918,2,FALSE),\"\")","v":""}]
["103TP0814X",{"$f":"Table1[[#This Row],[Code]]&\" \"&Table1[[#This Row],[Portico_Specialty]]","v":"103TP0814X Psychologist: Psychoanalysis"},{"$f":"CLEAN(Table1[[#This Row],[Code]])","v":"103TP0814X"},"Psychologist: Psychoanalysis",null,"BH Only Taxonomy","Y","62",null,"62","62","62","62","62","62",null,null,{"$f":"IF(ISNUMBER(SEARCH(INDIRECT(CELL(\"address\")),S658)),MAX($R$1:R657)+1,0)","v":0},{"$f":"Table1[[#This Row],[Portico_Specialty]]&\"-\"&Table1[[#This Row],[Code]]","v":"Psychologist: Psychoanalysis-103TP0814X"},null,{"$f":"IFERROR(VLOOKUP(ROWS($U$1:U657),$R$2:$S$918,2,FALSE),\"\")","v":""}]
["103TP2700X",{"$f":"Table1[[#This Row],[Code]]&\" \"&Table1[[#This Row],[Portico_Specialty]]","v":"103TP2700X Psychologist: Psychotherapy"},{"$f":"CLEAN(Table1[[#This Row],[Code]])","v":"103TP2700X"},"Psychologist: Psychotherapy",null,"BH Only Taxonomy","Y","62",null,"62","62","62","62","62","62",null,null,{"$f":"IF(ISNUMBER(SEARCH(INDIRECT(CELL(\"address\")),S659)),MAX($R$1:R658)+1,0)","v":0},{"$f":"Table1[[#This Row],[Portico_Specialty]]&\"-\"&Table1[[#This Row],[Code]]","v":"Psychologist: Psychotherapy-103TP2700X"},null,{"$f":"IFERROR(VLOOKUP(ROWS($U$1:U658),$R$2:$S$918,2,FALSE),\"\")","v":""}]
["103TR0400X",{"$f":"Table1[[#This Row],[Code]]&\" \"&Table1[[#This Row],[Portico_Specialty]]","v":"103TR0400X Psychologist: Rehabilitation"},{"$f":"CLEAN(Table1[[#This Row],[Code]])","v":"103TR0400X"},"Psychologist: Rehabilitation",null,"BH Only Taxonomy","Y","62",null,"62","62","62","62","62","62",null,null,{"$f":"IF(ISNUMBER(SEARCH(INDIRECT(CELL(\"address\")),S660)),MAX($R$1:R659)+1,0)","v":0},{"$f":"Table1[[#This Row],[Portico_Specialty]]&\"-\"&Table1[[#This Row],[Code]]","v":"Psychologist: Rehabilitation-103TR0400X"},null,{"$f":"IFERROR(VLOOKUP(ROWS($U$1:U659),$R$2:$S$918,2,FALSE),\"\")","v":""}]
["103TS0200X",{"$f":"Table1[[#This Row],[Code]]&\" \"&Table1[[#This Row],[Portico_Specialty]]","v":"103TS0200X Psychologist: School"},{"$f":"CLEAN(Table1[[#This Row],[Code]])","v":"103TS0200X"},"Psychologist: School",null,"BH Only Taxonomy","Y","62",null,"62","62","62","62","62","62",null,null,{"$f":"IF(ISNUMBER(SEARCH(INDIRECT(CELL(\"address\")),S661)),MAX($R$1:R660)+1,0)","v":0},{"$f":"Table1[[#This Row],[Portico_Specialty]]&\"-\"&Table1[[#This Row],[Code]]","v":"Psychologist: School-103TS0200X"},null,{"$f":"IFERROR(VLOOKUP(ROWS($U$1:U660),$R$2:$S$918,2,FALSE),\"\")","v":""}]
["103TW0100X",{"$f":"Table1[[#This Row],[Code]]&\" \"&Table1[[#This Row],[Portico_Specialty]]","v":"103TW0100X Psychologist: Women"},{"$f":"CLEAN(Table1[[#This Row],[Code]])","v":"103TW0100X"},"Psychologist: Women",null,"BH Only Taxonomy","Y","62",null,"62","62","62","62","62","62",null,null,{"$f":"IF(ISNUMBER(SEARCH(INDIRECT(CELL(\"address\")),S662)),MAX($R$1:R661)+1,0)","v":0},{"$f":"Table1[[#This Row],[Portico_Specialty]]&\"-\"&Table1[[#This Row],[Code]]","v":"Psychologist: Women-103TW0100X"},null,{"$f":"IFERROR(VLOOKUP(ROWS($U$1:U661),$R$2:$S$918,2,FALSE),\"\")","v":""}]
["AltSpec1",{"$f":"Table1[[#This Row],[Code]]&\" \"&Table1[[#This Row],[Portico_Specialty]]","v":"AltSpec1 Psychology Assistant - HCBS"},{"$f":"CLEAN(Table1[[#This Row],[Code]])","v":"AltSpec1"},"Psychology Assistant - HCBS",null,"Medical taxonomy","N",null,null,null,"Z4",null,null,null,null,null,null,{"$f":"IF(ISNUMBER(SEARCH(INDIRECT(CELL(\"address\")),S663)),MAX($R$1:R662)+1,0)","v":0},{"$f":"Table1[[#This Row],[Portico_Specialty]]&\"-\"&Table1[[#This Row],[Code]]","v":"Psychology Assistant - HCBS-AltSpec1"},null,{"$f":"IFERROR(VLOOKUP(ROWS($U$1:U662),$R$2:$S$918,2,FALSE),\"\")","v":""}]
["AltSpec1",{"$f":"Table1[[#This Row],[Code]]&\" \"&Table1[[#This Row],[Portico_Specialty]]","v":"AltSpec1 Psychology Assistant Dual 399"},{"$f":"CLEAN(Table1[[#This Row],[Code]])","v":"AltSpec1"},"Psychology Assistant Dual 399",null,"Medical taxonomy","N",null,null,null,"ZR",null,null,null,null,null,null,{"$f":"IF(ISNUMBER(SEARCH(INDIRECT(CELL(\"address\")),S664)),MAX($R$1:R663)+1,0)","v":0},{"$f":"Table1[[#This Row],[Portico_Specialty]]&\"-\"&Table1[[#This Row],[Code]]","v":"Psychology Assistant Dual 399-AltSpec1"},null,{"$f":"IFERROR(VLOOKUP(ROWS($U$1:U663),$R$2:$S$918,2,FALSE),\"\")","v":""}]
["AltSpec1",{"$f":"Table1[[#This Row],[Code]]&\" \"&Table1[[#This Row],[Portico_Specialty]]","v":"AltSpec1 Psychology Assistant Dual 699"},{"$f":"CLEAN(Table1[[#This Row],[Code]])","v":"AltSpec1"},"Psychology Assistant Dual 699",null,"Medical taxonomy","N",null,null,null,"YR",null,null,null,null,null,null,{"$f":"IF(ISNUMBER(SEARCH(INDIRECT(CELL(\"address\")),S665)),MAX($R$1:R664)+1,0)","v":0},{"$f":"Table1[[#This Row],[Portico_Specialty]]&\"-\"&Table1[[#This Row],[Code]]","v":"Psychology Assistant Dual 699-AltSpec1"},null,{"$f":"IFERROR(VLOOKUP(ROWS($U$1:U664),$R$2:$S$918,2,FALSE),\"\")","v":""}]
["AltSpec1",{"$f":"Table1[[#This Row],[Code]]&\" \"&Table1[[#This Row],[Portico_Specialty]]","v":"AltSpec1 Psychology Intern - HCBS"},{"$f":"CLEAN(Table1[[#This Row],[Code]])","v":"AltSpec1"},"Psychology Intern - HCBS",null,"Medical taxonomy","N",null,null,null,"Z5",null,null,null,null,null,null,{"$f":"IF(ISNUMBER(SEARCH(INDIRECT(CELL(\"address\")),S666)),MAX($R$1:R665)+1,0)","v":0},{"$f":"Table1[[#This Row],[Portico_Specialty]]&\"-\"&Table1[[#This Row],[Code]]","v":"Psychology Intern - HCBS-AltSpec1"},null,{"$f":"IFERROR(VLOOKUP(ROWS($U$1:U665),$R$2:$S$918,2,FALSE),\"\")","v":""}]
["AltSpec1",{"$f":"Table1[[#This Row],[Code]]&\" \"&Table1[[#This Row],[Portico_Specialty]]","v":"AltSpec1 Psychology Trainee - HCBS"},{"$f":"CLEAN(Table1[[#This Row],[Code]])","v":"AltSpec1"},"Psychology Trainee - HCBS",null,"Medical taxonomy","N",null,null,null,"Z6",null,null,null,null,null,null,{"$f":"IF(ISNUMBER(SEARCH(INDIRECT(CELL(\"address\")),S667)),MAX($R$1:R666)+1,0)","v":0},{"$f":"Table1[[#This Row],[Portico_Specialty]]&\"-\"&Table1[[#This Row],[Code]]","v":"Psychology Trainee - HCBS-AltSpec1"},null,{"$f":"IFERROR(VLOOKUP(ROWS($U$1:U666),$R$2:$S$918,2,FALSE),\"\")","v":""}]
["251K00000X",{"$f":"Table1[[#This Row],[Code]]&\" \"&Table1[[#This Row],[Portico_Specialty]]","v":"251K00000X Public Health or Welfare"},{"$f":"CLEAN(Table1[[#This Row],[Code]])","v":"251K00000X"},"Public Health or Welfare",null,"Medical taxonomy","Y","60",null,"70","70","60","60","60","70",null,null,{"$f":"IF(ISNUMBER(SEARCH(INDIRECT(CELL(\"address\")),S668)),MAX($R$1:R667)+1,0)","v":0},{"$f":"Table1[[#This Row],[Portico_Specialty]]&\"-\"&Table1[[#This Row],[Code]]","v":"Public Health or Welfare-251K00000X"},null,{"$f":"IFERROR(VLOOKUP(ROWS($U$1:U667),$R$2:$S$918,2,FALSE),\"\")","v":""}]
["225B00000X",{"$f":"Table1[[#This Row],[Code]]&\" \"&Table1[[#This Row],[Portico_Specialty]]","v":"225B00000X Pulmonary Function Technologist"},{"$f":"CLEAN(Table1[[#This Row],[Code]])","v":"225B00000X"},"Pulmonary Function Technologist",null,"Medical taxonomy","N","65",null,"99","29","65",null,null,"29",null,null,{"$f":"IF(ISNUMBER(SEARCH(INDIRECT(CELL(\"address\")),S669)),MAX($R$1:R668)+1,0)","v":0},{"$f":"Table1[[#This Row],[Portico_Specialty]]&\"-\"&Table1[[#This Row],[Code]]","v":"Pulmonary Function Technologist-225B00000X"},null,{"$f":"IFERROR(VLOOKUP(ROWS($U$1:U668),$R$2:$S$918,2,FALSE),\"\")","v":""}]
["AltSpec1",{"$f":"Table1[[#This Row],[Code]]&\" \"&Table1[[#This Row],[Portico_Specialty]]","v":"AltSpec1 Qualified MH Specialist - HCBS"},{"$f":"CLEAN(Table1[[#This Row],[Code]])","v":"AltSpec1"},"Qualified MH Specialist - HCBS",null,"Medical taxonomy","N",null,null,null,"Z7",null,null,null,null,null,null,{"$f":"IF(ISNUMBER(SEARCH(INDIRECT(CELL(\"address\")),S670)),MAX($R$1:R669)+1,0)","v":0},{"$f":"Table1[[#This Row],[Portico_Specialty]]&\"-\"&Table1[[#This Row],[Code]]","v":"Qualified MH Specialist - HCBS-AltSpec1"},null,{"$f":"IFERROR(VLOOKUP(ROWS($U$1:U669),$R$2:$S$918,2,FALSE),\"\")","v":""}]
["AltSpec1",{"$f":"Table1[[#This Row],[Code]]&\" \"&Table1[[#This Row],[Portico_Specialty]]","v":"AltSpec1 Qualified MH Specialist 3 - HCBS"},{"$f":"CLEAN(Table1[[#This Row],[Code]])","v":"AltSpec1"},"Qualified MH Specialist 3 - HCBS",null,"Medical taxonomy","N",null,null,null,"Z8",null,null,null,null,null,null,{"$f":"IF(ISNUMBER(SEARCH(INDIRECT(CELL(\"address\")),S671)),MAX($R$1:R670)+1,0)","v":0},{"$f":"Table1[[#This Row],[Portico_Specialty]]&\"-\"&Table1[[#This Row],[Code]]","v":"Qualified MH Specialist 3 - HCBS-AltSpec1"},null,{"$f":"IFERROR(VLOOKUP(ROWS($U$1:U670),$R$2:$S$918,2,FALSE),\"\")","v":""}]
["247100000X",{"$f":"Table1[[#This Row],[Code]]&\" \"&Table1[[#This Row],[Portico_Specialty]]","v":"247100000X Radiologic Technologist"},{"$f":"CLEAN(Table1[[#This Row],[Code]])","v":"247100000X"},"Radiologic Technologist",null,"Medical taxonomy","N","87",null,"99","30",null,"87",null,"30",null,null,{"$f":"IF(ISNUMBER(SEARCH(INDIRECT(CELL(\"address\")),S672)),MAX($R$1:R671)+1,0)","v":0},{"$f":"Table1[[#This Row],[Portico_Specialty]]&\"-\"&Table1[[#This Row],[Code]]","v":"Radiologic Technologist-247100000X"},null,{"$f":"IFERROR(VLOOKUP(ROWS($U$1:U671),$R$2:$S$918,2,FALSE),\"\")","v":""}]
["2471B0102X",{"$f":"Table1[[#This Row],[Code]]&\" \"&Table1[[#This Row],[Portico_Specialty]]","v":"2471B0102X Radiologic Technologist: Bone Densitometry"},{"$f":"CLEAN(Table1[[#This Row],[Code]])","v":"2471B0102X"},"Radiologic Technologist: Bone Densitometry",null,"Medical taxonomy","N","87",null,"99","30",null,null,null,"30",null,null,{"$f":"IF(ISNUMBER(SEARCH(INDIRECT(CELL(\"address\")),S673)),MAX($R$1:R672)+1,0)","v":0},{"$f":"Table1[[#This Row],[Portico_Specialty]]&\"-\"&Table1[[#This Row],[Code]]","v":"Radiologic Technologist: Bone Densitometry-2471B0102X"},null,{"$f":"IFERROR(VLOOKUP(ROWS($U$1:U672),$R$2:$S$918,2,FALSE),\"\")","v":""}]
["2471C1106X",{"$f":"Table1[[#This Row],[Code]]&\" \"&Table1[[#This Row],[Portico_Specialty]]","v":"2471C1106X Radiologic Technologist: Cardiac-Interventional Technology"},{"$f":"CLEAN(Table1[[#This Row],[Code]])","v":"2471C1106X"},"Radiologic Technologist: Cardiac-Interventional Technology",null,"Medical taxonomy","N","87",null,"99","30",null,null,null,"30",null,null,{"$f":"IF(ISNUMBER(SEARCH(INDIRECT(CELL(\"address\")),S674)),MAX($R$1:R673)+1,0)","v":0},{"$f":"Table1[[#This Row],[Portico_Specialty]]&\"-\"&Table1[[#This Row],[Code]]","v":"Radiologic Technologist: Cardiac-Interventional Technology-2471C1106X"},null,{"$f":"IFERROR(VLOOKUP(ROWS($U$1:U673),$R$2:$S$918,2,FALSE),\"\")","v":""}]
["2471C1101X",{"$f":"Table1[[#This Row],[Code]]&\" \"&Table1[[#This Row],[Portico_Specialty]]","v":"2471C1101X Radiologic Technologist: Cardiovascular-Interventional Technology"},{"$f":"CLEAN(Table1[[#This Row],[Code]])","v":"2471C1101X"},"Radiologic Technologist: Cardiovascular-Interventional Technology",null,"Medical taxonomy","N","87",null,"99","30",null,"87",null,"30",null,null,{"$f":"IF(ISNUMBER(SEARCH(INDIRECT(CELL(\"address\")),S675)),MAX($R$1:R674)+1,0)","v":0},{"$f":"Table1[[#This Row],[Portico_Specialty]]&\"-\"&Table1[[#This Row],[Code]]","v":"Radiologic Technologist: Cardiovascular-Interventional Technology-2471C1101X"},null,{"$f":"IFERROR(VLOOKUP(ROWS($U$1:U674),$R$2:$S$918,2,FALSE),\"\")","v":""}]
["2471C3401X",{"$f":"Table1[[#This Row],[Code]]&\" \"&Table1[[#This Row],[Portico_Specialty]]","v":"2471C3401X Radiologic Technologist: Computed Tomography"},{"$f":"CLEAN(Table1[[#This Row],[Code]])","v":"2471C3401X"},"Radiologic Technologist: Computed Tomography",null,"Medical taxonomy","N","87",null,"99","30",null,null,null,"30",null,null,{"$f":"IF(ISNUMBER(SEARCH(INDIRECT(CELL(\"address\")),S676)),MAX($R$1:R675)+1,0)","v":0},{"$f":"Table1[[#This Row],[Portico_Specialty]]&\"-\"&Table1[[#This Row],[Code]]","v":"Radiologic Technologist: Computed Tomography-2471C3401X"},null,{"$f":"IFERROR(VLOOKUP(ROWS($U$1:U675),$R$2:$S$918,2,FALSE),\"\")","v":""}]
["2471M1202X",{"$f":"Table1[[#This Row],[Code]]&\" \"&Table1[[#This Row],[Portico_Specialty]]","v":"2471M1202X Radiologic Technologist: Magnetic Resonance Imaging"},{"$f":"CLEAN(Table1[[#This Row],[Code]])","v":"2471M1202X"},"Radiologic Technologist: Magnetic Resonance Imaging",null,"Medical taxonomy","N","87",null,"99","30",null,null,null,"30",null,null,{"$f":"IF(ISNUMBER(SEARCH(INDIRECT(CELL(\"address\")),S677)),MAX($R$1:R676)+1,0)","v":0},{"$f":"Table1[[#This Row],[Portico_Specialty]]&\"-\"&Table1[[#This Row],[Code]]","v":"Radiologic Technologist: Magnetic Resonance Imaging-2471M1202X"},null,{"$f":"IFERROR(VLOOKUP(ROWS($U$1:U676),$R$2:$S$918,2,FALSE),\"\")","v":""}]
["2471M2300X",{"$f":"Table1[[#This Row],[Code]]&\" \"&Table1[[#This Row],[Portico_Specialty]]","v":"2471M2300X Radiologic Technologist: Mammography"},{"$f":"CLEAN(Table1[[#This Row],[Code]])","v":"2471M2300X"},"Radiologic Technologist: Mammography",null,"Medical taxonomy","N","87",null,"99","30",null,null,null,"30",null,null,{"$f":"IF(ISNUMBER(SEARCH(INDIRECT(CELL(\"address\")),S678)),MAX($R$1:R677)+1,0)","v":0},{"$f":"Table1[[#This Row],[Portico_Specialty]]&\"-\"&Table1[[#This Row],[Code]]","v":"Radiologic Technologist: Mammography-2471M2300X"},null,{"$f":"IFERROR(VLOOKUP(ROWS($U$1:U677),$R$2:$S$918,2,FALSE),\"\")","v":""}]
["2471N0900X",{"$f":"Table1[[#This Row],[Code]]&\" \"&Table1[[#This Row],[Portico_Specialty]]","v":"2471N0900X Radiologic Technologist: Nuclear Medicine Technology"},{"$f":"CLEAN(Table1[[#This Row],[Code]])","v":"2471N0900X"},"Radiologic Technologist: Nuclear Medicine Technology",null,"Medical taxonomy","N","87",null,"99","30",null,null,null,"30",null,null,{"$f":"IF(ISNUMBER(SEARCH(INDIRECT(CELL(\"address\")),S679)),MAX($R$1:R678)+1,0)","v":0},{"$f":"Table1[[#This Row],[Portico_Specialty]]&\"-\"&Table1[[#This Row],[Code]]","v":"Radiologic Technologist: Nuclear Medicine Technology-2471N0900X"},null,{"$f":"IFERROR(VLOOKUP(ROWS($U$1:U678),$R$2:$S$918,2,FALSE),\"\")","v":""}]
["2471Q0001X",{"$f":"Table1[[#This Row],[Code]]&\" \"&Table1[[#This Row],[Portico_Specialty]]","v":"2471Q0001X Radiologic Technologist: Quality Management"},{"$f":"CLEAN(Table1[[#This Row],[Code]])","v":"2471Q0001X"},"Radiologic Technologist: Quality Management",null,"Medical taxonomy","N","87",null,"99","30",null,null,null,"30",null,null,{"$f":"IF(ISNUMBER(SEARCH(INDIRECT(CELL(\"address\")),S680)),MAX($R$1:R679)+1,0)","v":0},{"$f":"Table1[[#This Row],[Portico_Specialty]]&\"-\"&Table1[[#This Row],[Code]]","v":"Radiologic Technologist: Quality Management-2471Q0001X"},null,{"$f":"IFERROR(VLOOKUP(ROWS($U$1:U679),$R$2:$S$918,2,FALSE),\"\")","v":""}]
["2471R0002X",{"$f":"Table1[[#This Row],[Code]]&\" \"&Table1[[#This Row],[Portico_Specialty]]","v":"2471R0002X Radiologic Technologist: Radiation Therapy"},{"$f":"CLEAN(Table1[[#This Row],[Code]])","v":"2471R0002X"},"Radiologic Technologist: Radiation Therapy",null,"Medical taxonomy","N","87",null,"99","30",null,null,null,"30",null,null,{"$f":"IF(ISNUMBER(SEARCH(INDIRECT(CELL(\"address\")),S681)),MAX($R$1:R680)+1,0)","v":0},{"$f":"Table1[[#This Row],[Portico_Specialty]]&\"-\"&Table1[[#This Row],[Code]]","v":"Radiologic Technologist: Radiation Therapy-2471R0002X"},null,{"$f":"IFERROR(VLOOKUP(ROWS($U$1:U680),$R$2:$S$918,2,FALSE),\"\")","v":""}]
["2471C3402X",{"$f":"Table1[[#This Row],[Code]]&\" \"&Table1[[#This Row],[Portico_Specialty]]","v":"2471C3402X Radiologic Technologist: Radiography"},{"$f":"CLEAN(Table1[[#This Row],[Code]])","v":"2471C3402X"},"Radiologic Technologist: Radiography",null,"Medical taxonomy","N","87",null,"99","30","96",null,null,"30",null,null,{"$f":"IF(ISNUMBER(SEARCH(INDIRECT(CELL(\"address\")),S682)),MAX($R$1:R681)+1,0)","v":0},{"$f":"Table1[[#This Row],[Portico_Specialty]]&\"-\"&Table1[[#This Row],[Code]]","v":"Radiologic Technologist: Radiography-2471C3402X"},null,{"$f":"IFERROR(VLOOKUP(ROWS($U$1:U681),$R$2:$S$918,2,FALSE),\"\")","v":""}]
["2471S1302X",{"$f":"Table1[[#This Row],[Code]]&\" \"&Table1[[#This Row],[Portico_Specialty]]","v":"2471S1302X Radiologic Technologist: Sonography"},{"$f":"CLEAN(Table1[[#This Row],[Code]])","v":"2471S1302X"},"Radiologic Technologist: Sonography",null,"Medical taxonomy","N","RS",null,"RS","30",null,"RS",null,"30",null,null,{"$f":"IF(ISNUMBER(SEARCH(INDIRECT(CELL(\"address\")),S683)),MAX($R$1:R682)+1,0)","v":0},{"$f":"Table1[[#This Row],[Portico_Specialty]]&\"-\"&Table1[[#This Row],[Code]]","v":"Radiologic Technologist: Sonography-2471S1302X"},null,{"$f":"IFERROR(VLOOKUP(ROWS($U$1:U682),$R$2:$S$918,2,FALSE),\"\")","v":""}]
["2471V0105X",{"$f":"Table1[[#This Row],[Code]]&\" \"&Table1[[#This Row],[Portico_Specialty]]","v":"2471V0105X Radiologic Technologist: Vascular Sonography"},{"$f":"CLEAN(Table1[[#This Row],[Code]])","v":"2471V0105X"},"Radiologic Technologist: Vascular Sonography",null,"Medical taxonomy","N",null,null,"99","30",null,null,null,"30",null,null,{"$f":"IF(ISNUMBER(SEARCH(INDIRECT(CELL(\"address\")),S684)),MAX($R$1:R683)+1,0)","v":0},{"$f":"Table1[[#This Row],[Portico_Specialty]]&\"-\"&Table1[[#This Row],[Code]]","v":"Radiologic Technologist: Vascular Sonography-2471V0105X"},null,{"$f":"IFERROR(VLOOKUP(ROWS($U$1:U683),$R$2:$S$918,2,FALSE),\"\")","v":""}]
["2471V0106X",{"$f":"Table1[[#This Row],[Code]]&\" \"&Table1[[#This Row],[Portico_Specialty]]","v":"2471V0106X Radiologic Technologist: Vascular-Interventional Technology"},{"$f":"CLEAN(Table1[[#This Row],[Code]])","v":"2471V0106X"},"Radiologic Technologist: Vascular-Interventional Technology",null,"Medical taxonomy","N","RS",null,"94","30",null,"94",null,"30",null,null,{"$f":"IF(ISNUMBER(SEARCH(INDIRECT(CELL(\"address\")),S685)),MAX($R$1:R684)+1,0)","v":0},{"$f":"Table1[[#This Row],[Portico_Specialty]]&\"-\"&Table1[[#This Row],[Code]]","v":"Radiologic Technologist: Vascular-Interventional Technology-2471V0106X"},null,{"$f":"IFERROR(VLOOKUP(ROWS($U$1:U684),$R$2:$S$918,2,FALSE),\"\")","v":""}]
["243U00000X",{"$f":"Table1[[#This Row],[Code]]&\" \"&Table1[[#This Row],[Portico_Specialty]]","v":"243U00000X Radiology Practitioner Assistant"},{"$f":"CLEAN(Table1[[#This Row],[Code]])","v":"243U00000X"},"Radiology Practitioner Assistant",null,"Medical taxonomy","N",null,null,"99","30",null,null,null,"30",null,null,{"$f":"IF(ISNUMBER(SEARCH(INDIRECT(CELL(\"address\")),S686)),MAX($R$1:R685)+1,0)","v":0},{"$f":"Table1[[#This Row],[Portico_Specialty]]&\"-\"&Table1[[#This Row],[Code]]","v":"Radiology Practitioner Assistant-243U00000X"},null,{"$f":"IFERROR(VLOOKUP(ROWS($U$1:U685),$R$2:$S$918,2,FALSE),\"\")","v":""}]
["2085B0100X",{"$f":"Table1[[#This Row],[Code]]&\" \"&Table1[[#This Row],[Portico_Specialty]]","v":"2085B0100X Radiology: Body Imaging"},{"$f":"CLEAN(Table1[[#This Row],[Code]])","v":"2085B0100X"},"Radiology: Body Imaging",null,"Medical taxonomy","N","30",null,"30","30","30","30","30","30",null,null,{"$f":"IF(ISNUMBER(SEARCH(INDIRECT(CELL(\"address\")),S687)),MAX($R$1:R686)+1,0)","v":0},{"$f":"Table1[[#This Row],[Portico_Specialty]]&\"-\"&Table1[[#This Row],[Code]]","v":"Radiology: Body Imaging-2085B0100X"},null,{"$f":"IFERROR(VLOOKUP(ROWS($U$1:U686),$R$2:$S$918,2,FALSE),\"\")","v":""}]
["2085D0003X",{"$f":"Table1[[#This Row],[Code]]&\" \"&Table1[[#This Row],[Portico_Specialty]]","v":"2085D0003X Radiology: Diagnostic Neuroimaging"},{"$f":"CLEAN(Table1[[#This Row],[Code]])","v":"2085D0003X"},"Radiology: Diagnostic Neuroimaging",null,"Medical taxonomy","N","30",null,"30","30","30","30","30","30",null,null,{"$f":"IF(ISNUMBER(SEARCH(INDIRECT(CELL(\"address\")),S688)),MAX($R$1:R687)+1,0)","v":0},{"$f":"Table1[[#This Row],[Portico_Specialty]]&\"-\"&Table1[[#This Row],[Code]]","v":"Radiology: Diagnostic Neuroimaging-2085D0003X"},null,{"$f":"IFERROR(VLOOKUP(ROWS($U$1:U687),$R$2:$S$918,2,FALSE),\"\")","v":""}]
["2085R0202X",{"$f":"Table1[[#This Row],[Code]]&\" \"&Table1[[#This Row],[Portico_Specialty]]","v":"2085R0202X Radiology: Diagnostic Radiology"},{"$f":"CLEAN(Table1[[#This Row],[Code]])","v":"2085R0202X"},"Radiology: Diagnostic Radiology",null,"Medical taxonomy","Y","30",null,"30","30","30","30","30","30",null,null,{"$f":"IF(ISNUMBER(SEARCH(INDIRECT(CELL(\"address\")),S689)),MAX($R$1:R688)+1,0)","v":0},{"$f":"Table1[[#This Row],[Portico_Specialty]]&\"-\"&Table1[[#This Row],[Code]]","v":"Radiology: Diagnostic Radiology-2085R0202X"},null,{"$f":"IFERROR(VLOOKUP(ROWS($U$1:U688),$R$2:$S$918,2,FALSE),\"\")","v":""}]
["2085U0001X",{"$f":"Table1[[#This Row],[Code]]&\" \"&Table1[[#This Row],[Portico_Specialty]]","v":"2085U0001X Radiology: Diagnostic Ultrasound"},{"$f":"CLEAN(Table1[[#This Row],[Code]])","v":"2085U0001X"},"Radiology: Diagnostic Ultrasound",null,"Medical taxonomy","N","30",null,"30","30","30","30","30","30",null,null,{"$f":"IF(ISNUMBER(SEARCH(INDIRECT(CELL(\"address\")),S690)),MAX($R$1:R689)+1,0)","v":0},{"$f":"Table1[[#This Row],[Portico_Specialty]]&\"-\"&Table1[[#This Row],[Code]]","v":"Radiology: Diagnostic Ultrasound-2085U0001X"},null,{"$f":"IFERROR(VLOOKUP(ROWS($U$1:U689),$R$2:$S$918,2,FALSE),\"\")","v":""}]
["2085H0002X",{"$f":"Table1[[#This Row],[Code]]&\" \"&Table1[[#This Row],[Portico_Specialty]]","v":"2085H0002X Radiology: Hospice and Palliative Medicine"},{"$f":"CLEAN(Table1[[#This Row],[Code]])","v":"2085H0002X"},"Radiology: Hospice and Palliative Medicine",null,"Medical taxonomy","Y","30",null,"30","30","30","30","30","30",null,null,{"$f":"IF(ISNUMBER(SEARCH(INDIRECT(CELL(\"address\")),S691)),MAX($R$1:R690)+1,0)","v":0},{"$f":"Table1[[#This Row],[Portico_Specialty]]&\"-\"&Table1[[#This Row],[Code]]","v":"Radiology: Hospice and Palliative Medicine-2085H0002X"},null,{"$f":"IFERROR(VLOOKUP(ROWS($U$1:U690),$R$2:$S$918,2,FALSE),\"\")","v":""}]
["2085N0700X",{"$f":"Table1[[#This Row],[Code]]&\" \"&Table1[[#This Row],[Portico_Specialty]]","v":"2085N0700X Radiology: Neuroradiology"},{"$f":"CLEAN(Table1[[#This Row],[Code]])","v":"2085N0700X"},"Radiology: Neuroradiology",null,"Medical taxonomy","N","30",null,"30","30","30","30","30","30",null,null,{"$f":"IF(ISNUMBER(SEARCH(INDIRECT(CELL(\"address\")),S692)),MAX($R$1:R691)+1,0)","v":0},{"$f":"Table1[[#This Row],[Portico_Specialty]]&\"-\"&Table1[[#This Row],[Code]]","v":"Radiology: Neuroradiology-2085N0700X"},null,{"$f":"IFERROR(VLOOKUP(ROWS($U$1:U691),$R$2:$S$918,2,FALSE),\"\")","v":""}]
["2085N0904X",{"$f":"Table1[[#This Row],[Code]]&\" \"&Table1[[#This Row],[Portico_Specialty]]","v":"2085N0904X Radiology: Nuclear Radiology"},{"$f":"CLEAN(Table1[[#This Row],[Code]])","v":"2085N0904X"},"Radiology: Nuclear Radiology",null,"Medical taxonomy","N","30",null,"30","30","30","30","30","30",null,null,{"$f":"IF(ISNUMBER(SEARCH(INDIRECT(CELL(\"address\")),S693)),MAX($R$1:R692)+1,0)","v":0},{"$f":"Table1[[#This Row],[Portico_Specialty]]&\"-\"&Table1[[#This Row],[Code]]","v":"Radiology: Nuclear Radiology-2085N0904X"},null,{"$f":"IFERROR(VLOOKUP(ROWS($U$1:U692),$R$2:$S$918,2,FALSE),\"\")","v":""}]
["2085P0229X",{"$f":"Table1[[#This Row],[Code]]&\" \"&Table1[[#This Row],[Portico_Specialty]]","v":"2085P0229X Radiology: Pediatric Radiology"},{"$f":"CLEAN(Table1[[#This Row],[Code]])","v":"2085P0229X"},"Radiology: Pediatric Radiology",null,"Medical taxonomy","N","30",null,"30","30","30","30","30","30",null,null,{"$f":"IF(ISNUMBER(SEARCH(INDIRECT(CELL(\"address\")),S694)),MAX($R$1:R693)+1,0)","v":0},{"$f":"Table1[[#This Row],[Portico_Specialty]]&\"-\"&Table1[[#This Row],[Code]]","v":"Radiology: Pediatric Radiology-2085P0229X"},null,{"$f":"IFERROR(VLOOKUP(ROWS($U$1:U693),$R$2:$S$918,2,FALSE),\"\")","v":""}]
["2085R0001X",{"$f":"Table1[[#This Row],[Code]]&\" \"&Table1[[#This Row],[Portico_Specialty]]","v":"2085R0001X Radiology: Radiation Oncology"},{"$f":"CLEAN(Table1[[#This Row],[Code]])","v":"2085R0001X"},"Radiology: Radiation Oncology",null,"Medical taxonomy","Y","92",null,"92","92","92","92","92","92",null,null,{"$f":"IF(ISNUMBER(SEARCH(INDIRECT(CELL(\"address\")),S695)),MAX($R$1:R694)+1,0)","v":0},{"$f":"Table1[[#This Row],[Portico_Specialty]]&\"-\"&Table1[[#This Row],[Code]]","v":"Radiology: Radiation Oncology-2085R0001X"},null,{"$f":"IFERROR(VLOOKUP(ROWS($U$1:U694),$R$2:$S$918,2,FALSE),\"\")","v":""}]
["2085R0205X",{"$f":"Table1[[#This Row],[Code]]&\" \"&Table1[[#This Row],[Portico_Specialty]]","v":"2085R0205X Radiology: Radiological Physics"},{"$f":"CLEAN(Table1[[#This Row],[Code]])","v":"2085R0205X"},"Radiology: Radiological Physics",null,"Medical taxonomy","N","30",null,"30","30","30","30","30","30",null,null,{"$f":"IF(ISNUMBER(SEARCH(INDIRECT(CELL(\"address\")),S696)),MAX($R$1:R695)+1,0)","v":0},{"$f":"Table1[[#This Row],[Portico_Specialty]]&\"-\"&Table1[[#This Row],[Code]]","v":"Radiology: Radiological Physics-2085R0205X"},null,{"$f":"IFERROR(VLOOKUP(ROWS($U$1:U695),$R$2:$S$918,2,FALSE),\"\")","v":""}]
["2085R0203X",{"$f":"Table1[[#This Row],[Code]]&\" \"&Table1[[#This Row],[Portico_Specialty]]","v":"2085R0203X Radiology: Therapeutic Radiology"},{"$f":"CLEAN(Table1[[#This Row],[Code]])","v":"2085R0203X"},"Radiology: Therapeutic Radiology",null,"Medical taxonomy","N","30",null,"30","30","30","30","30","30",null,null,{"$f":"IF(ISNUMBER(SEARCH(INDIRECT(CELL(\"address\")),S697)),MAX($R$1:R696)+1,0)","v":0},{"$f":"Table1[[#This Row],[Portico_Specialty]]&\"-\"&Table1[[#This Row],[Code]]","v":"Radiology: Therapeutic Radiology-2085R0203X"},null,{"$f":"IFERROR(VLOOKUP(ROWS($U$1:U696),$R$2:$S$918,2,FALSE),\"\")","v":""}]
["2085R0204X",{"$f":"Table1[[#This Row],[Code]]&\" \"&Table1[[#This Row],[Portico_Specialty]]","v":"2085R0204X Radiology: Vascular & Interventional Radiology"},{"$f":"CLEAN(Table1[[#This Row],[Code]])","v":"2085R0204X"},"Radiology: Vascular & Interventional Radiology",null,"Medical taxonomy","Y","94",null,"94","94","94","94","94","94",null,null,{"$f":"IF(ISNUMBER(SEARCH(INDIRECT(CELL(\"address\")),S698)),MAX($R$1:R697)+1,0)","v":0},{"$f":"Table1[[#This Row],[Portico_Specialty]]&\"-\"&Table1[[#This Row],[Code]]","v":"Radiology: Vascular & Interventional Radiology-2085R0204X"},null,{"$f":"IFERROR(VLOOKUP(ROWS($U$1:U697),$R$2:$S$918,2,FALSE),\"\")","v":""}]
["225800000X",{"$f":"Table1[[#This Row],[Code]]&\" \"&Table1[[#This Row],[Portico_Specialty]]","v":"225800000X Recreation Therapist"},{"$f":"CLEAN(Table1[[#This Row],[Code]])","v":"225800000X"},"Recreation Therapist",null,"Medical taxonomy","N","65",null,"99","65","65",null,null,"65",null,null,{"$f":"IF(ISNUMBER(SEARCH(INDIRECT(CELL(\"address\")),S699)),MAX($R$1:R698)+1,0)","v":0},{"$f":"Table1[[#This Row],[Portico_Specialty]]&\"-\"&Table1[[#This Row],[Code]]","v":"Recreation Therapist-225800000X"},null,{"$f":"IFERROR(VLOOKUP(ROWS($U$1:U698),$R$2:$S$918,2,FALSE),\"\")","v":""}]
["226000000X",{"$f":"Table1[[#This Row],[Code]]&\" \"&Table1[[#This Row],[Portico_Specialty]]","v":"226000000X Recreational Therapist Assistant"},{"$f":"CLEAN(Table1[[#This Row],[Code]])","v":"226000000X"},"Recreational Therapist Assistant",null,"Medical taxonomy","N",null,null,"65","65",null,null,null,"65",null,null,{"$f":"IF(ISNUMBER(SEARCH(INDIRECT(CELL(\"address\")),S700)),MAX($R$1:R699)+1,0)","v":0},{"$f":"Table1[[#This Row],[Portico_Specialty]]&\"-\"&Table1[[#This Row],[Code]]","v":"Recreational Therapist Assistant-226000000X"},null,{"$f":"IFERROR(VLOOKUP(ROWS($U$1:U699),$R$2:$S$918,2,FALSE),\"\")","v":""}]
["173C00000X",{"$f":"Table1[[#This Row],[Code]]&\" \"&Table1[[#This Row],[Portico_Specialty]]","v":"173C00000X Reflexologist"},{"$f":"CLEAN(Table1[[#This Row],[Code]])","v":"173C00000X"},"Reflexologist",null,"Medical taxonomy","N","87",null,"99","99",null,null,null,"99",null,null,{"$f":"IF(ISNUMBER(SEARCH(INDIRECT(CELL(\"address\")),S701)),MAX($R$1:R700)+1,0)","v":0},{"$f":"Table1[[#This Row],[Portico_Specialty]]&\"-\"&Table1[[#This Row],[Code]]","v":"Reflexologist-173C00000X"},null,{"$f":"IFERROR(VLOOKUP(ROWS($U$1:U700),$R$2:$S$918,2,FALSE),\"\")","v":""}]
["163W00000X",{"$f":"Table1[[#This Row],[Code]]&\" \"&Table1[[#This Row],[Portico_Specialty]]","v":"163W00000X Registered Nurse"},{"$f":"CLEAN(Table1[[#This Row],[Code]])","v":"163W00000X"},"Registered Nurse",null,"Shared Taxonomy","N","50",null,"50","RN","50","50","50","RN",null,null,{"$f":"IF(ISNUMBER(SEARCH(INDIRECT(CELL(\"address\")),S702)),MAX($R$1:R701)+1,0)","v":0},{"$f":"Table1[[#This Row],[Portico_Specialty]]&\"-\"&Table1[[#This Row],[Code]]","v":"Registered Nurse-163W00000X"},null,{"$f":"IFERROR(VLOOKUP(ROWS($U$1:U701),$R$2:$S$918,2,FALSE),\"\")","v":""}]
["AltSpec1",{"$f":"Table1[[#This Row],[Code]]&\" \"&Table1[[#This Row],[Portico_Specialty]]","v":"AltSpec1 Registered Nurse Dual 399"},{"$f":"CLEAN(Table1[[#This Row],[Code]])","v":"AltSpec1"},"Registered Nurse Dual 399",null,"Medical taxonomy","N",null,null,null,"ZA",null,null,null,null,null,null,{"$f":"IF(ISNUMBER(SEARCH(INDIRECT(CELL(\"address\")),S703)),MAX($R$1:R702)+1,0)","v":0},{"$f":"Table1[[#This Row],[Portico_Specialty]]&\"-\"&Table1[[#This Row],[Code]]","v":"Registered Nurse Dual 399-AltSpec1"},null,{"$f":"IFERROR(VLOOKUP(ROWS($U$1:U702),$R$2:$S$918,2,FALSE),\"\")","v":""}]
["AltSpec1",{"$f":"Table1[[#This Row],[Code]]&\" \"&Table1[[#This Row],[Portico_Specialty]]","v":"AltSpec1 Registered Nurse Dual 699"},{"$f":"CLEAN(Table1[[#This Row],[Code]])","v":"AltSpec1"},"Registered Nurse Dual 699",null,"Medical taxonomy","N",null,null,null,"YA",null,null,null,null,null,null,{"$f":"IF(ISNUMBER(SEARCH(INDIRECT(CELL(\"address\")),S704)),MAX($R$1:R703)+1,0)","v":0},{"$f":"Table1[[#This Row],[Portico_Specialty]]&\"-\"&Table1[[#This Row],[Code]]","v":"Registered Nurse Dual 699-AltSpec1"},null,{"$f":"IFERROR(VLOOKUP(ROWS($U$1:U703),$R$2:$S$918,2,FALSE),\"\")","v":""}]
["163WA0400X",{"$f":"Table1[[#This Row],[Code]]&\" \"&Table1[[#This Row],[Portico_Specialty]]","v":"163WA0400X Registered Nurse: Addiction (Substance Use Disorder)"},{"$f":"CLEAN(Table1[[#This Row],[Code]])","v":"163WA0400X"},"Registered Nurse: Addiction (Substance Use Disorder)",null,"BH Only Taxonomy","N","50",null,"50","RN","50","50","50","RN",null,null,{"$f":"IF(ISNUMBER(SEARCH(INDIRECT(CELL(\"address\")),S705)),MAX($R$1:R704)+1,0)","v":0},{"$f":"Table1[[#This Row],[Portico_Specialty]]&\"-\"&Table1[[#This Row],[Code]]","v":"Registered Nurse: Addiction (Substance Use Disorder)-163WA0400X"},null,{"$f":"IFERROR(VLOOKUP(ROWS($U$1:U704),$R$2:$S$918,2,FALSE),\"\")","v":""}]
["163WA2000X",{"$f":"Table1[[#This Row],[Code]]&\" \"&Table1[[#This Row],[Portico_Specialty]]","v":"163WA2000X Registered Nurse: Administrator"},{"$f":"CLEAN(Table1[[#This Row],[Code]])","v":"163WA2000X"},"Registered Nurse: Administrator",null,"Medical taxonomy","N","50",null,"50","RN","50","50","50","RN",null,null,{"$f":"IF(ISNUMBER(SEARCH(INDIRECT(CELL(\"address\")),S706)),MAX($R$1:R705)+1,0)","v":0},{"$f":"Table1[[#This Row],[Portico_Specialty]]&\"-\"&Table1[[#This Row],[Code]]","v":"Registered Nurse: Administrator-163WA2000X"},null,{"$f":"IFERROR(VLOOKUP(ROWS($U$1:U705),$R$2:$S$918,2,FALSE),\"\")","v":""}]
["163WP2201X",{"$f":"Table1[[#This Row],[Code]]&\" \"&Table1[[#This Row],[Portico_Specialty]]","v":"163WP2201X Registered Nurse: Ambulatory Care"},{"$f":"CLEAN(Table1[[#This Row],[Code]])","v":"163WP2201X"},"Registered Nurse: Ambulatory Care",null,"Medical taxonomy","N","50",null,"50","RN","50","50","50","RN",null,null,{"$f":"IF(ISNUMBER(SEARCH(INDIRECT(CELL(\"address\")),S707)),MAX($R$1:R706)+1,0)","v":0},{"$f":"Table1[[#This Row],[Portico_Specialty]]&\"-\"&Table1[[#This Row],[Code]]","v":"Registered Nurse: Ambulatory Care-163WP2201X"},null,{"$f":"IFERROR(VLOOKUP(ROWS($U$1:U706),$R$2:$S$918,2,FALSE),\"\")","v":""}]
["163WC3500X",{"$f":"Table1[[#This Row],[Code]]&\" \"&Table1[[#This Row],[Portico_Specialty]]","v":"163WC3500X Registered Nurse: Cardiac Rehabilitation"},{"$f":"CLEAN(Table1[[#This Row],[Code]])","v":"163WC3500X"},"Registered Nurse: Cardiac Rehabilitation",null,"Medical taxonomy","N","50",null,"50","RN","50","50",null,"RN",null,null,{"$f":"IF(ISNUMBER(SEARCH(INDIRECT(CELL(\"address\")),S708)),MAX($R$1:R707)+1,0)","v":0},{"$f":"Table1[[#This Row],[Portico_Specialty]]&\"-\"&Table1[[#This Row],[Code]]","v":"Registered Nurse: Cardiac Rehabilitation-163WC3500X"},null,{"$f":"IFERROR(VLOOKUP(ROWS($U$1:U707),$R$2:$S$918,2,FALSE),\"\")","v":""}]
["163WC0400X",{"$f":"Table1[[#This Row],[Code]]&\" \"&Table1[[#This Row],[Portico_Specialty]]","v":"163WC0400X Registered Nurse: Case Management"},{"$f":"CLEAN(Table1[[#This Row],[Code]])","v":"163WC0400X"},"Registered Nurse: Case Management",null,"Medical taxonomy","N","50",null,"50","50","50","50",null,"50",null,null,{"$f":"IF(ISNUMBER(SEARCH(INDIRECT(CELL(\"address\")),S709)),MAX($R$1:R708)+1,0)","v":0},{"$f":"Table1[[#This Row],[Portico_Specialty]]&\"-\"&Table1[[#This Row],[Code]]","v":"Registered Nurse: Case Management-163WC0400X"},null,{"$f":"IFERROR(VLOOKUP(ROWS($U$1:U708),$R$2:$S$918,2,FALSE),\"\")","v":""}]
["163WC1400X",{"$f":"Table1[[#This Row],[Code]]&\" \"&Table1[[#This Row],[Portico_Specialty]]","v":"163WC1400X Registered Nurse: College Health"},{"$f":"CLEAN(Table1[[#This Row],[Code]])","v":"163WC1400X"},"Registered Nurse: College Health",null,"Medical taxonomy","N","50",null,"50","RN","50","50","50","RN",null,null,{"$f":"IF(ISNUMBER(SEARCH(INDIRECT(CELL(\"address\")),S710)),MAX($R$1:R709)+1,0)","v":0},{"$f":"Table1[[#This Row],[Portico_Specialty]]&\"-\"&Table1[[#This Row],[Code]]","v":"Registered Nurse: College Health-163WC1400X"},null,{"$f":"IFERROR(VLOOKUP(ROWS($U$1:U709),$R$2:$S$918,2,FALSE),\"\")","v":""}]
["163WC1500X",{"$f":"Table1[[#This Row],[Code]]&\" \"&Table1[[#This Row],[Portico_Specialty]]","v":"163WC1500X Registered Nurse: Community Health"},{"$f":"CLEAN(Table1[[#This Row],[Code]])","v":"163WC1500X"},"Registered Nurse: Community Health",null,"Medical taxonomy","N","50",null,"50","RN","50","50","50","RN",null,null,{"$f":"IF(ISNUMBER(SEARCH(INDIRECT(CELL(\"address\")),S711)),MAX($R$1:R710)+1,0)","v":0},{"$f":"Table1[[#This Row],[Portico_Specialty]]&\"-\"&Table1[[#This Row],[Code]]","v":"Registered Nurse: Community Health-163WC1500X"},null,{"$f":"IFERROR(VLOOKUP(ROWS($U$1:U710),$R$2:$S$918,2,FALSE),\"\")","v":""}]
["163WC2100X",{"$f":"Table1[[#This Row],[Code]]&\" \"&Table1[[#This Row],[Portico_Specialty]]","v":"163WC2100X Registered Nurse: Continence Care"},{"$f":"CLEAN(Table1[[#This Row],[Code]])","v":"163WC2100X"},"Registered Nurse: Continence Care",null,"Medical taxonomy","N","50",null,"50","RN","50","50","50","RN",null,null,{"$f":"IF(ISNUMBER(SEARCH(INDIRECT(CELL(\"address\")),S712)),MAX($R$1:R711)+1,0)","v":0},{"$f":"Table1[[#This Row],[Portico_Specialty]]&\"-\"&Table1[[#This Row],[Code]]","v":"Registered Nurse: Continence Care-163WC2100X"},null,{"$f":"IFERROR(VLOOKUP(ROWS($U$1:U711),$R$2:$S$918,2,FALSE),\"\")","v":""}]
["163WC1600X",{"$f":"Table1[[#This Row],[Code]]&\" \"&Table1[[#This Row],[Portico_Specialty]]","v":"163WC1600X Registered Nurse: Continuing Education/Staff Development"},{"$f":"CLEAN(Table1[[#This Row],[Code]])","v":"163WC1600X"},"Registered Nurse: Continuing Education/Staff Development",null,"Medical taxonomy","N","50",null,"50","RN","50","50","50","RN",null,null,{"$f":"IF(ISNUMBER(SEARCH(INDIRECT(CELL(\"address\")),S713)),MAX($R$1:R712)+1,0)","v":0},{"$f":"Table1[[#This Row],[Portico_Specialty]]&\"-\"&Table1[[#This Row],[Code]]","v":"Registered Nurse: Continuing Education/Staff Development-163WC1600X"},null,{"$f":"IFERROR(VLOOKUP(ROWS($U$1:U712),$R$2:$S$918,2,FALSE),\"\")","v":""}]
["163WC0200X",{"$f":"Table1[[#This Row],[Code]]&\" \"&Table1[[#This Row],[Portico_Specialty]]","v":"163WC0200X Registered Nurse: Critical Care Medicine"},{"$f":"CLEAN(Table1[[#This Row],[Code]])","v":"163WC0200X"},"Registered Nurse: Critical Care Medicine",null,"Medical taxonomy","N","50",null,"50","RN","50","50","50","RN",null,null,{"$f":"IF(ISNUMBER(SEARCH(INDIRECT(CELL(\"address\")),S714)),MAX($R$1:R713)+1,0)","v":0},{"$f":"Table1[[#This Row],[Portico_Specialty]]&\"-\"&Table1[[#This Row],[Code]]","v":"Registered Nurse: Critical Care Medicine-163WC0200X"},null,{"$f":"IFERROR(VLOOKUP(ROWS($U$1:U713),$R$2:$S$918,2,FALSE),\"\")","v":""}]
["163WD0400X",{"$f":"Table1[[#This Row],[Code]]&\" \"&Table1[[#This Row],[Portico_Specialty]]","v":"163WD0400X Registered Nurse: Diabetes Educator"},{"$f":"CLEAN(Table1[[#This Row],[Code]])","v":"163WD0400X"},"Registered Nurse: Diabetes Educator",null,"Medical taxonomy","N","50",null,"50","RN","50","50","50","RN",null,null,{"$f":"IF(ISNUMBER(SEARCH(INDIRECT(CELL(\"address\")),S715)),MAX($R$1:R714)+1,0)","v":0},{"$f":"Table1[[#This Row],[Portico_Specialty]]&\"-\"&Table1[[#This Row],[Code]]","v":"Registered Nurse: Diabetes Educator-163WD0400X"},null,{"$f":"IFERROR(VLOOKUP(ROWS($U$1:U714),$R$2:$S$918,2,FALSE),\"\")","v":""}]
["163WD1100X",{"$f":"Table1[[#This Row],[Code]]&\" \"&Table1[[#This Row],[Portico_Specialty]]","v":"163WD1100X Registered Nurse: Dialysis, Peritoneal"},{"$f":"CLEAN(Table1[[#This Row],[Code]])","v":"163WD1100X"},"Registered Nurse: Dialysis, Peritoneal",null,"Medical taxonomy","N","50",null,"50","RN","50","50","50","RN",null,null,{"$f":"IF(ISNUMBER(SEARCH(INDIRECT(CELL(\"address\")),S716)),MAX($R$1:R715)+1,0)","v":0},{"$f":"Table1[[#This Row],[Portico_Specialty]]&\"-\"&Table1[[#This Row],[Code]]","v":"Registered Nurse: Dialysis, Peritoneal-163WD1100X"},null,{"$f":"IFERROR(VLOOKUP(ROWS($U$1:U715),$R$2:$S$918,2,FALSE),\"\")","v":""}]
["163WE0003X",{"$f":"Table1[[#This Row],[Code]]&\" \"&Table1[[#This Row],[Portico_Specialty]]","v":"163WE0003X Registered Nurse: Emergency"},{"$f":"CLEAN(Table1[[#This Row],[Code]])","v":"163WE0003X"},"Registered Nurse: Emergency",null,"Medical taxonomy","N","50",null,"50","RN","50","50","50","RN",null,null,{"$f":"IF(ISNUMBER(SEARCH(INDIRECT(CELL(\"address\")),S717)),MAX($R$1:R716)+1,0)","v":0},{"$f":"Table1[[#This Row],[Portico_Specialty]]&\"-\"&Table1[[#This Row],[Code]]","v":"Registered Nurse: Emergency-163WE0003X"},null,{"$f":"IFERROR(VLOOKUP(ROWS($U$1:U716),$R$2:$S$918,2,FALSE),\"\")","v":""}]
["163WE0900X",{"$f":"Table1[[#This Row],[Code]]&\" \"&Table1[[#This Row],[Portico_Specialty]]","v":"163WE0900X Registered Nurse: Enterostomal Therapy"},{"$f":"CLEAN(Table1[[#This Row],[Code]])","v":"163WE0900X"},"Registered Nurse: Enterostomal Therapy",null,"Medical taxonomy","N","50",null,"50","RN","50","50","50","RN",null,null,{"$f":"IF(ISNUMBER(SEARCH(INDIRECT(CELL(\"address\")),S718)),MAX($R$1:R717)+1,0)","v":0},{"$f":"Table1[[#This Row],[Portico_Specialty]]&\"-\"&Table1[[#This Row],[Code]]","v":"Registered Nurse: Enterostomal Therapy-163WE0900X"},null,{"$f":"IFERROR(VLOOKUP(ROWS($U$1:U717),$R$2:$S$918,2,FALSE),\"\")","v":""}]
["163WF0300X",{"$f":"Table1[[#This Row],[Code]]&\" \"&Table1[[#This Row],[Portico_Specialty]]","v":"163WF0300X Registered Nurse: Flight"},{"$f":"CLEAN(Table1[[#This Row],[Code]])","v":"163WF0300X"},"Registered Nurse: Flight",null,"Medical taxonomy","N","50",null,"50","RN","50","50","50","RN",null,null,{"$f":"IF(ISNUMBER(SEARCH(INDIRECT(CELL(\"address\")),S719)),MAX($R$1:R718)+1,0)","v":0},{"$f":"Table1[[#This Row],[Portico_Specialty]]&\"-\"&Table1[[#This Row],[Code]]","v":"Registered Nurse: Flight-163WF0300X"},null,{"$f":"IFERROR(VLOOKUP(ROWS($U$1:U718),$R$2:$S$918,2,FALSE),\"\")","v":""}]
["163WG0100X",{"$f":"Table1[[#This Row],[Code]]&\" \"&Table1[[#This Row],[Portico_Specialty]]","v":"163WG0100X Registered Nurse: Gastroenterology"},{"$f":"CLEAN(Table1[[#This Row],[Code]])","v":"163WG0100X"},"Registered Nurse: Gastroenterology",null,"Medical taxonomy","N","50",null,"50","RN","50","50","50","RN",null,null,{"$f":"IF(ISNUMBER(SEARCH(INDIRECT(CELL(\"address\")),S720)),MAX($R$1:R719)+1,0)","v":0},{"$f":"Table1[[#This Row],[Portico_Specialty]]&\"-\"&Table1[[#This Row],[Code]]","v":"Registered Nurse: Gastroenterology-163WG0100X"},null,{"$f":"IFERROR(VLOOKUP(ROWS($U$1:U719),$R$2:$S$918,2,FALSE),\"\")","v":""}]
["163WG0000X",{"$f":"Table1[[#This Row],[Code]]&\" \"&Table1[[#This Row],[Portico_Specialty]]","v":"163WG0000X Registered Nurse: General Practice"},{"$f":"CLEAN(Table1[[#This Row],[Code]])","v":"163WG0000X"},"Registered Nurse: General Practice",null,"Medical taxonomy","N","50",null,"50","RN","50","50","50","RN",null,null,{"$f":"IF(ISNUMBER(SEARCH(INDIRECT(CELL(\"address\")),S721)),MAX($R$1:R720)+1,0)","v":0},{"$f":"Table1[[#This Row],[Portico_Specialty]]&\"-\"&Table1[[#This Row],[Code]]","v":"Registered Nurse: General Practice-163WG0000X"},null,{"$f":"IFERROR(VLOOKUP(ROWS($U$1:U720),$R$2:$S$918,2,FALSE),\"\")","v":""}]
["163WG0600X",{"$f":"Table1[[#This Row],[Code]]&\" \"&Table1[[#This Row],[Portico_Specialty]]","v":"163WG0600X Registered Nurse: Gerontology"},{"$f":"CLEAN(Table1[[#This Row],[Code]])","v":"163WG0600X"},"Registered Nurse: Gerontology",null,"Medical taxonomy","N","50",null,"50","RN","50","50","50","RN",null,null,{"$f":"IF(ISNUMBER(SEARCH(INDIRECT(CELL(\"address\")),S722)),MAX($R$1:R721)+1,0)","v":0},{"$f":"Table1[[#This Row],[Portico_Specialty]]&\"-\"&Table1[[#This Row],[Code]]","v":"Registered Nurse: Gerontology-163WG0600X"},null,{"$f":"IFERROR(VLOOKUP(ROWS($U$1:U721),$R$2:$S$918,2,FALSE),\"\")","v":""}]
["163WH0500X",{"$f":"Table1[[#This Row],[Code]]&\" \"&Table1[[#This Row],[Portico_Specialty]]","v":"163WH0500X Registered Nurse: Hemodialysis"},{"$f":"CLEAN(Table1[[#This Row],[Code]])","v":"163WH0500X"},"Registered Nurse: Hemodialysis",null,"Medical taxonomy","N","50",null,"50","RN","50","50","50","RN",null,null,{"$f":"IF(ISNUMBER(SEARCH(INDIRECT(CELL(\"address\")),S723)),MAX($R$1:R722)+1,0)","v":0},{"$f":"Table1[[#This Row],[Portico_Specialty]]&\"-\"&Table1[[#This Row],[Code]]","v":"Registered Nurse: Hemodialysis-163WH0500X"},null,{"$f":"IFERROR(VLOOKUP(ROWS($U$1:U722),$R$2:$S$918,2,FALSE),\"\")","v":""}]
["163WH0200X",{"$f":"Table1[[#This Row],[Code]]&\" \"&Table1[[#This Row],[Portico_Specialty]]","v":"163WH0200X Registered Nurse: Home Health"},{"$f":"CLEAN(Table1[[#This Row],[Code]])","v":"163WH0200X"},"Registered Nurse: Home Health",null,"Medical taxonomy","N","50",null,"50","RN","50","50","50","RN",null,null,{"$f":"IF(ISNUMBER(SEARCH(INDIRECT(CELL(\"address\")),S724)),MAX($R$1:R723)+1,0)","v":0},{"$f":"Table1[[#This Row],[Portico_Specialty]]&\"-\"&Table1[[#This Row],[Code]]","v":"Registered Nurse: Home Health-163WH0200X"},null,{"$f":"IFERROR(VLOOKUP(ROWS($U$1:U723),$R$2:$S$918,2,FALSE),\"\")","v":""}]
["163WH1000X",{"$f":"Table1[[#This Row],[Code]]&\" \"&Table1[[#This Row],[Portico_Specialty]]","v":"163WH1000X Registered Nurse: Hospice"},{"$f":"CLEAN(Table1[[#This Row],[Code]])","v":"163WH1000X"},"Registered Nurse: Hospice",null,"Medical taxonomy","N","50",null,"50","RN","50","50","50","RN",null,null,{"$f":"IF(ISNUMBER(SEARCH(INDIRECT(CELL(\"address\")),S725)),MAX($R$1:R724)+1,0)","v":0},{"$f":"Table1[[#This Row],[Portico_Specialty]]&\"-\"&Table1[[#This Row],[Code]]","v":"Registered Nurse: Hospice-163WH1000X"},null,{"$f":"IFERROR(VLOOKUP(ROWS($U$1:U724),$R$2:$S$918,2,FALSE),\"\")","v":""}]
["163WI0600X",{"$f":"Table1[[#This Row],[Code]]&\" \"&Table1[[#This Row],[Portico_Specialty]]","v":"163WI0600X Registered Nurse: Infection Control"},{"$f":"CLEAN(Table1[[#This Row],[Code]])","v":"163WI0600X"},"Registered Nurse: Infection Control",null,"Medical taxonomy","N","50",null,"50","RN","50","50","50","RN",null,null,{"$f":"IF(ISNUMBER(SEARCH(INDIRECT(CELL(\"address\")),S726)),MAX($R$1:R725)+1,0)","v":0},{"$f":"Table1[[#This Row],[Portico_Specialty]]&\"-\"&Table1[[#This Row],[Code]]","v":"Registered Nurse: Infection Control-163WI0600X"},null,{"$f":"IFERROR(VLOOKUP(ROWS($U$1:U725),$R$2:$S$918,2,FALSE),\"\")","v":""}]
["163WI0500X",{"$f":"Table1[[#This Row],[Code]]&\" \"&Table1[[#This Row],[Portico_Specialty]]","v":"163WI0500X Registered Nurse: Infusion Therapy"},{"$f":"CLEAN(Table1[[#This Row],[Code]])","v":"163WI0500X"},"Registered Nurse: Infusion Therapy",null,"Medical taxonomy","N","50",null,"50","RN","50","50","50","RN",null,null,{"$f":"IF(ISNUMBER(SEARCH(INDIRECT(CELL(\"address\")),S727)),MAX($R$1:R726)+1,0)","v":0},{"$f":"Table1[[#This Row],[Portico_Specialty]]&\"-\"&Table1[[#This Row],[Code]]","v":"Registered Nurse: Infusion Therapy-163WI0500X"},null,{"$f":"IFERROR(VLOOKUP(ROWS($U$1:U726),$R$2:$S$918,2,FALSE),\"\")","v":""}]
["163WL0100X",{"$f":"Table1[[#This Row],[Code]]&\" \"&Table1[[#This Row],[Portico_Specialty]]","v":"163WL0100X Registered Nurse: Lactation Consultant"},{"$f":"CLEAN(Table1[[#This Row],[Code]])","v":"163WL0100X"},"Registered Nurse: Lactation Consultant",null,"Medical taxonomy","N","50",null,"50","RN","50","50","50","RN",null,null,{"$f":"IF(ISNUMBER(SEARCH(INDIRECT(CELL(\"address\")),S728)),MAX($R$1:R727)+1,0)","v":0},{"$f":"Table1[[#This Row],[Portico_Specialty]]&\"-\"&Table1[[#This Row],[Code]]","v":"Registered Nurse: Lactation Consultant-163WL0100X"},null,{"$f":"IFERROR(VLOOKUP(ROWS($U$1:U727),$R$2:$S$918,2,FALSE),\"\")","v":""}]
["163WM0102X",{"$f":"Table1[[#This Row],[Code]]&\" \"&Table1[[#This Row],[Portico_Specialty]]","v":"163WM0102X Registered Nurse: Maternal Newborn"},{"$f":"CLEAN(Table1[[#This Row],[Code]])","v":"163WM0102X"},"Registered Nurse: Maternal Newborn",null,"Medical taxonomy","N","50",null,"50","RN","50","50","50","RN",null,null,{"$f":"IF(ISNUMBER(SEARCH(INDIRECT(CELL(\"address\")),S729)),MAX($R$1:R728)+1,0)","v":0},{"$f":"Table1[[#This Row],[Portico_Specialty]]&\"-\"&Table1[[#This Row],[Code]]","v":"Registered Nurse: Maternal Newborn-163WM0102X"},null,{"$f":"IFERROR(VLOOKUP(ROWS($U$1:U728),$R$2:$S$918,2,FALSE),\"\")","v":""}]
["163WM0705X",{"$f":"Table1[[#This Row],[Code]]&\" \"&Table1[[#This Row],[Portico_Specialty]]","v":"163WM0705X Registered Nurse: Medical-Surgical"},{"$f":"CLEAN(Table1[[#This Row],[Code]])","v":"163WM0705X"},"Registered Nurse: Medical-Surgical",null,"Medical taxonomy","N","50",null,"50","RN","50","50","50","RN",null,null,{"$f":"IF(ISNUMBER(SEARCH(INDIRECT(CELL(\"address\")),S730)),MAX($R$1:R729)+1,0)","v":0},{"$f":"Table1[[#This Row],[Portico_Specialty]]&\"-\"&Table1[[#This Row],[Code]]","v":"Registered Nurse: Medical-Surgical-163WM0705X"},null,{"$f":"IFERROR(VLOOKUP(ROWS($U$1:U729),$R$2:$S$918,2,FALSE),\"\")","v":""}]
["163WN0002X",{"$f":"Table1[[#This Row],[Code]]&\" \"&Table1[[#This Row],[Portico_Specialty]]","v":"163WN0002X Registered Nurse: Neonatal Intensive Care"},{"$f":"CLEAN(Table1[[#This Row],[Code]])","v":"163WN0002X"},"Registered Nurse: Neonatal Intensive Care",null,"Medical taxonomy","N","50",null,"50","RN","50","50","50","RN",null,null,{"$f":"IF(ISNUMBER(SEARCH(INDIRECT(CELL(\"address\")),S731)),MAX($R$1:R730)+1,0)","v":0},{"$f":"Table1[[#This Row],[Portico_Specialty]]&\"-\"&Table1[[#This Row],[Code]]","v":"Registered Nurse: Neonatal Intensive Care-163WN0002X"},null,{"$f":"IFERROR(VLOOKUP(ROWS($U$1:U730),$R$2:$S$918,2,FALSE),\"\")","v":""}]
["163WN0003X",{"$f":"Table1[[#This Row],[Code]]&\" \"&Table1[[#This Row],[Portico_Specialty]]","v":"163WN0003X Registered Nurse: Neonatal, Low-Risk"},{"$f":"CLEAN(Table1[[#This Row],[Code]])","v":"163WN0003X"},"Registered Nurse: Neonatal, Low-Risk",null,"Medical taxonomy","N","50",null,"50","RN","50","50","50","RN",null,null,{"$f":"IF(ISNUMBER(SEARCH(INDIRECT(CELL(\"address\")),S732)),MAX($R$1:R731)+1,0)","v":0},{"$f":"Table1[[#This Row],[Portico_Specialty]]&\"-\"&Table1[[#This Row],[Code]]","v":"Registered Nurse: Neonatal, Low-Risk-163WN0003X"},null,{"$f":"IFERROR(VLOOKUP(ROWS($U$1:U731),$R$2:$S$918,2,FALSE),\"\")","v":""}]
["163WN0300X",{"$f":"Table1[[#This Row],[Code]]&\" \"&Table1[[#This Row],[Portico_Specialty]]","v":"163WN0300X Registered Nurse: Nephrology"},{"$f":"CLEAN(Table1[[#This Row],[Code]])","v":"163WN0300X"},"Registered Nurse: Nephrology",null,"Medical taxonomy","N","50",null,"50","RN","50","50","50","RN",null,null,{"$f":"IF(ISNUMBER(SEARCH(INDIRECT(CELL(\"address\")),S733)),MAX($R$1:R732)+1,0)","v":0},{"$f":"Table1[[#This Row],[Portico_Specialty]]&\"-\"&Table1[[#This Row],[Code]]","v":"Registered Nurse: Nephrology-163WN0300X"},null,{"$f":"IFERROR(VLOOKUP(ROWS($U$1:U732),$R$2:$S$918,2,FALSE),\"\")","v":""}]
["163WN0800X",{"$f":"Table1[[#This Row],[Code]]&\" \"&Table1[[#This Row],[Portico_Specialty]]","v":"163WN0800X Registered Nurse: Neuroscience"},{"$f":"CLEAN(Table1[[#This Row],[Code]])","v":"163WN0800X"},"Registered Nurse: Neuroscience",null,"Medical taxonomy","N","50",null,"50","RN","50","50","50","RN",null,null,{"$f":"IF(ISNUMBER(SEARCH(INDIRECT(CELL(\"address\")),S734)),MAX($R$1:R733)+1,0)","v":0},{"$f":"Table1[[#This Row],[Portico_Specialty]]&\"-\"&Table1[[#This Row],[Code]]","v":"Registered Nurse: Neuroscience-163WN0800X"},null,{"$f":"IFERROR(VLOOKUP(ROWS($U$1:U733),$R$2:$S$918,2,FALSE),\"\")","v":""}]
["163WM1400X",{"$f":"Table1[[#This Row],[Code]]&\" \"&Table1[[#This Row],[Portico_Specialty]]","v":"163WM1400X Registered Nurse: Nurse Massage Therapist (NMT)"},{"$f":"CLEAN(Table1[[#This Row],[Code]])","v":"163WM1400X"},"Registered Nurse: Nurse Massage Therapist (NMT)",null,"Medical taxonomy","N","50",null,"50","RN","50","50","50","RN",null,null,{"$f":"IF(ISNUMBER(SEARCH(INDIRECT(CELL(\"address\")),S735)),MAX($R$1:R734)+1,0)","v":0},{"$f":"Table1[[#This Row],[Portico_Specialty]]&\"-\"&Table1[[#This Row],[Code]]","v":"Registered Nurse: Nurse Massage Therapist (NMT)-163WM1400X"},null,{"$f":"IFERROR(VLOOKUP(ROWS($U$1:U734),$R$2:$S$918,2,FALSE),\"\")","v":""}]
["163WN1003X",{"$f":"Table1[[#This Row],[Code]]&\" \"&Table1[[#This Row],[Portico_Specialty]]","v":"163WN1003X Registered Nurse: Nutrition Support"},{"$f":"CLEAN(Table1[[#This Row],[Code]])","v":"163WN1003X"},"Registered Nurse: Nutrition Support",null,"Medical taxonomy","N","50",null,"50","RN","50","50","50","RN",null,null,{"$f":"IF(ISNUMBER(SEARCH(INDIRECT(CELL(\"address\")),S736)),MAX($R$1:R735)+1,0)","v":0},{"$f":"Table1[[#This Row],[Portico_Specialty]]&\"-\"&Table1[[#This Row],[Code]]","v":"Registered Nurse: Nutrition Support-163WN1003X"},null,{"$f":"IFERROR(VLOOKUP(ROWS($U$1:U735),$R$2:$S$918,2,FALSE),\"\")","v":""}]
["163WX0002X",{"$f":"Table1[[#This Row],[Code]]&\" \"&Table1[[#This Row],[Portico_Specialty]]","v":"163WX0002X Registered Nurse: Obstetric, High-Risk"},{"$f":"CLEAN(Table1[[#This Row],[Code]])","v":"163WX0002X"},"Registered Nurse: Obstetric, High-Risk",null,"Medical taxonomy","N","50",null,"50","RN","50","50","50","RN",null,null,{"$f":"IF(ISNUMBER(SEARCH(INDIRECT(CELL(\"address\")),S737)),MAX($R$1:R736)+1,0)","v":0},{"$f":"Table1[[#This Row],[Portico_Specialty]]&\"-\"&Table1[[#This Row],[Code]]","v":"Registered Nurse: Obstetric, High-Risk-163WX0002X"},null,{"$f":"IFERROR(VLOOKUP(ROWS($U$1:U736),$R$2:$S$918,2,FALSE),\"\")","v":""}]
["163WX0003X",{"$f":"Table1[[#This Row],[Code]]&\" \"&Table1[[#This Row],[Portico_Specialty]]","v":"163WX0003X Registered Nurse: Obstetric, Inpatient"},{"$f":"CLEAN(Table1[[#This Row],[Code]])","v":"163WX0003X"},"Registered Nurse: Obstetric, Inpatient",null,"Medical taxonomy","N","50",null,"50","RN","50","50","50","RN",null,null,{"$f":"IF(ISNUMBER(SEARCH(INDIRECT(CELL(\"address\")),S738)),MAX($R$1:R737)+1,0)","v":0},{"$f":"Table1[[#This Row],[Portico_Specialty]]&\"-\"&Table1[[#This Row],[Code]]","v":"Registered Nurse: Obstetric, Inpatient-163WX0003X"},null,{"$f":"IFERROR(VLOOKUP(ROWS($U$1:U737),$R$2:$S$918,2,FALSE),\"\")","v":""}]
["163WX0106X",{"$f":"Table1[[#This Row],[Code]]&\" \"&Table1[[#This Row],[Portico_Specialty]]","v":"163WX0106X Registered Nurse: Occupational Health"},{"$f":"CLEAN(Table1[[#This Row],[Code]])","v":"163WX0106X"},"Registered Nurse: Occupational Health",null,"Medical taxonomy","N","50",null,"50","RN","50","50","50","RN",null,null,{"$f":"IF(ISNUMBER(SEARCH(INDIRECT(CELL(\"address\")),S739)),MAX($R$1:R738)+1,0)","v":0},{"$f":"Table1[[#This Row],[Portico_Specialty]]&\"-\"&Table1[[#This Row],[Code]]","v":"Registered Nurse: Occupational Health-163WX0106X"},null,{"$f":"IFERROR(VLOOKUP(ROWS($U$1:U738),$R$2:$S$918,2,FALSE),\"\")","v":""}]
["163WX0200X",{"$f":"Table1[[#This Row],[Code]]&\" \"&Table1[[#This Row],[Portico_Specialty]]","v":"163WX0200X Registered Nurse: Oncology"},{"$f":"CLEAN(Table1[[#This Row],[Code]])","v":"163WX0200X"},"Registered Nurse: Oncology",null,"Medical taxonomy","N","50",null,"50","RN","50","50","50","RN",null,null,{"$f":"IF(ISNUMBER(SEARCH(INDIRECT(CELL(\"address\")),S740)),MAX($R$1:R739)+1,0)","v":0},{"$f":"Table1[[#This Row],[Portico_Specialty]]&\"-\"&Table1[[#This Row],[Code]]","v":"Registered Nurse: Oncology-163WX0200X"},null,{"$f":"IFERROR(VLOOKUP(ROWS($U$1:U739),$R$2:$S$918,2,FALSE),\"\")","v":""}]
["163WX1100X",{"$f":"Table1[[#This Row],[Code]]&\" \"&Table1[[#This Row],[Portico_Specialty]]","v":"163WX1100X Registered Nurse: Ophthalmic"},{"$f":"CLEAN(Table1[[#This Row],[Code]])","v":"163WX1100X"},"Registered Nurse: Ophthalmic",null,"Medical taxonomy","N","50",null,"50","RN","50","50","50","RN",null,null,{"$f":"IF(ISNUMBER(SEARCH(INDIRECT(CELL(\"address\")),S741)),MAX($R$1:R740)+1,0)","v":0},{"$f":"Table1[[#This Row],[Portico_Specialty]]&\"-\"&Table1[[#This Row],[Code]]","v":"Registered Nurse: Ophthalmic-163WX1100X"},null,{"$f":"IFERROR(VLOOKUP(ROWS($U$1:U740),$R$2:$S$918,2,FALSE),\"\")","v":""}]
["163WX0800X",{"$f":"Table1[[#This Row],[Code]]&\" \"&Table1[[#This Row],[Portico_Specialty]]","v":"163WX0800X Registered Nurse: Orthopedic"},{"$f":"CLEAN(Table1[[#This Row],[Code]])","v":"163WX0800X"},"Registered Nurse: Orthopedic",null,"Medical taxonomy","N","50",null,"50","RN","50","50","50","RN",null,null,{"$f":"IF(ISNUMBER(SEARCH(INDIRECT(CELL(\"address\")),S742)),MAX($R$1:R741)+1,0)","v":0},{"$f":"Table1[[#This Row],[Portico_Specialty]]&\"-\"&Table1[[#This Row],[Code]]","v":"Registered Nurse: Orthopedic-163WX0800X"},null,{"$f":"IFERROR(VLOOKUP(ROWS($U$1:U741),$R$2:$S$918,2,FALSE),\"\")","v":""}]
["163WX1500X",{"$f":"Table1[[#This Row],[Code]]&\" \"&Table1[[#This Row],[Portico_Specialty]]","v":"163WX1500X Registered Nurse: Ostomy Care"},{"$f":"CLEAN(Table1[[#This Row],[Code]])","v":"163WX1500X"},"Registered Nurse: Ostomy Care",null,"Medical taxonomy","N","50",null,"50","RN","50","50","50","RN",null,null,{"$f":"IF(ISNUMBER(SEARCH(INDIRECT(CELL(\"address\")),S743)),MAX($R$1:R742)+1,0)","v":0},{"$f":"Table1[[#This Row],[Portico_Specialty]]&\"-\"&Table1[[#This Row],[Code]]","v":"Registered Nurse: Ostomy Care-163WX1500X"},null,{"$f":"IFERROR(VLOOKUP(ROWS($U$1:U742),$R$2:$S$918,2,FALSE),\"\")","v":""}]
["163WX0601X",{"$f":"Table1[[#This Row],[Code]]&\" \"&Table1[[#This Row],[Portico_Specialty]]","v":"163WX0601X Registered Nurse: Otorhinolaryngology & Head-Neck"},{"$f":"CLEAN(Table1[[#This Row],[Code]])","v":"163WX0601X"},"Registered Nurse: Otorhinolaryngology & Head-Neck",null,"Medical taxonomy","N","50",null,"50","RN","50","50","50","RN",null,null,{"$f":"IF(ISNUMBER(SEARCH(INDIRECT(CELL(\"address\")),S744)),MAX($R$1:R743)+1,0)","v":0},{"$f":"Table1[[#This Row],[Portico_Specialty]]&\"-\"&Table1[[#This Row],[Code]]","v":"Registered Nurse: Otorhinolaryngology & Head-Neck-163WX0601X"},null,{"$f":"IFERROR(VLOOKUP(ROWS($U$1:U743),$R$2:$S$918,2,FALSE),\"\")","v":""}]
["163WP0000X",{"$f":"Table1[[#This Row],[Code]]&\" \"&Table1[[#This Row],[Portico_Specialty]]","v":"163WP0000X Registered Nurse: Pain Management"},{"$f":"CLEAN(Table1[[#This Row],[Code]])","v":"163WP0000X"},"Registered Nurse: Pain Management",null,"Medical taxonomy","N","50",null,"50","RN","50","50","50","RN",null,null,{"$f":"IF(ISNUMBER(SEARCH(INDIRECT(CELL(\"address\")),S745)),MAX($R$1:R744)+1,0)","v":0},{"$f":"Table1[[#This Row],[Portico_Specialty]]&\"-\"&Table1[[#This Row],[Code]]","v":"Registered Nurse: Pain Management-163WP0000X"},null,{"$f":"IFERROR(VLOOKUP(ROWS($U$1:U744),$R$2:$S$918,2,FALSE),\"\")","v":""}]
["163WP0218X",{"$f":"Table1[[#This Row],[Code]]&\" \"&Table1[[#This Row],[Portico_Specialty]]","v":"163WP0218X Registered Nurse: Pediatric Oncology"},{"$f":"CLEAN(Table1[[#This Row],[Code]])","v":"163WP0218X"},"Registered Nurse: Pediatric Oncology",null,"Medical taxonomy","N","50",null,"50","RN","50","50","50","RN",null,null,{"$f":"IF(ISNUMBER(SEARCH(INDIRECT(CELL(\"address\")),S746)),MAX($R$1:R745)+1,0)","v":0},{"$f":"Table1[[#This Row],[Portico_Specialty]]&\"-\"&Table1[[#This Row],[Code]]","v":"Registered Nurse: Pediatric Oncology-163WP0218X"},null,{"$f":"IFERROR(VLOOKUP(ROWS($U$1:U745),$R$2:$S$918,2,FALSE),\"\")","v":""}]
["163WP0200X",{"$f":"Table1[[#This Row],[Code]]&\" \"&Table1[[#This Row],[Portico_Specialty]]","v":"163WP0200X Registered Nurse: Pediatrics"},{"$f":"CLEAN(Table1[[#This Row],[Code]])","v":"163WP0200X"},"Registered Nurse: Pediatrics",null,"Medical taxonomy","N","50",null,"50","RN","50","50","50","RN",null,null,{"$f":"IF(ISNUMBER(SEARCH(INDIRECT(CELL(\"address\")),S747)),MAX($R$1:R746)+1,0)","v":0},{"$f":"Table1[[#This Row],[Portico_Specialty]]&\"-\"&Table1[[#This Row],[Code]]","v":"Registered Nurse: Pediatrics-163WP0200X"},null,{"$f":"IFERROR(VLOOKUP(ROWS($U$1:U746),$R$2:$S$918,2,FALSE),\"\")","v":""}]
["163WP1700X",{"$f":"Table1[[#This Row],[Code]]&\" \"&Table1[[#This Row],[Portico_Specialty]]","v":"163WP1700X Registered Nurse: Perinatal"},{"$f":"CLEAN(Table1[[#This Row],[Code]])","v":"163WP1700X"},"Registered Nurse: Perinatal",null,"Medical taxonomy","N","50",null,"50","RN","50","50","50","RN",null,null,{"$f":"IF(ISNUMBER(SEARCH(INDIRECT(CELL(\"address\")),S748)),MAX($R$1:R747)+1,0)","v":0},{"$f":"Table1[[#This Row],[Portico_Specialty]]&\"-\"&Table1[[#This Row],[Code]]","v":"Registered Nurse: Perinatal-163WP1700X"},null,{"$f":"IFERROR(VLOOKUP(ROWS($U$1:U747),$R$2:$S$918,2,FALSE),\"\")","v":""}]
["163WS0121X",{"$f":"Table1[[#This Row],[Code]]&\" \"&Table1[[#This Row],[Portico_Specialty]]","v":"163WS0121X Registered Nurse: Plastic Surgery"},{"$f":"CLEAN(Table1[[#This Row],[Code]])","v":"163WS0121X"},"Registered Nurse: Plastic Surgery",null,"Medical taxonomy","N","50",null,"50","RN","50","50","50","RN",null,null,{"$f":"IF(ISNUMBER(SEARCH(INDIRECT(CELL(\"address\")),S749)),MAX($R$1:R748)+1,0)","v":0},{"$f":"Table1[[#This Row],[Portico_Specialty]]&\"-\"&Table1[[#This Row],[Code]]","v":"Registered Nurse: Plastic Surgery-163WS0121X"},null,{"$f":"IFERROR(VLOOKUP(ROWS($U$1:U748),$R$2:$S$918,2,FALSE),\"\")","v":""}]
["163WP0808X",{"$f":"Table1[[#This Row],[Code]]&\" \"&Table1[[#This Row],[Portico_Specialty]]","v":"163WP0808X Registered Nurse: Psych/Mental Health"},{"$f":"CLEAN(Table1[[#This Row],[Code]])","v":"163WP0808X"},"Registered Nurse: Psych/Mental Health",null,"BH Only Taxonomy","N","50",null,"50","RN","50","50","50","RN",null,null,{"$f":"IF(ISNUMBER(SEARCH(INDIRECT(CELL(\"address\")),S750)),MAX($R$1:R749)+1,0)","v":0},{"$f":"Table1[[#This Row],[Portico_Specialty]]&\"-\"&Table1[[#This Row],[Code]]","v":"Registered Nurse: Psych/Mental Health-163WP0808X"},null,{"$f":"IFERROR(VLOOKUP(ROWS($U$1:U749),$R$2:$S$918,2,FALSE),\"\")","v":""}]
["163WP0809X",{"$f":"Table1[[#This Row],[Code]]&\" \"&Table1[[#This Row],[Portico_Specialty]]","v":"163WP0809X Registered Nurse: Psych/Mental Health, Adult"},{"$f":"CLEAN(Table1[[#This Row],[Code]])","v":"163WP0809X"},"Registered Nurse: Psych/Mental Health, Adult",null,"BH Only Taxonomy","N","50",null,"50","RN","50","50","50","RN",null,null,{"$f":"IF(ISNUMBER(SEARCH(INDIRECT(CELL(\"address\")),S751)),MAX($R$1:R750)+1,0)","v":0},{"$f":"Table1[[#This Row],[Portico_Specialty]]&\"-\"&Table1[[#This Row],[Code]]","v":"Registered Nurse: Psych/Mental Health, Adult-163WP0809X"},null,{"$f":"IFERROR(VLOOKUP(ROWS($U$1:U750),$R$2:$S$918,2,FALSE),\"\")","v":""}]
["163WP0807X",{"$f":"Table1[[#This Row],[Code]]&\" \"&Table1[[#This Row],[Portico_Specialty]]","v":"163WP0807X Registered Nurse: Psych/Mental Health, Child & Adolescent"},{"$f":"CLEAN(Table1[[#This Row],[Code]])","v":"163WP0807X"},"Registered Nurse: Psych/Mental Health, Child & Adolescent",null,"BH Only Taxonomy","N","50",null,"50","RN","50","50","50","RN",null,null,{"$f":"IF(ISNUMBER(SEARCH(INDIRECT(CELL(\"address\")),S752)),MAX($R$1:R751)+1,0)","v":0},{"$f":"Table1[[#This Row],[Portico_Specialty]]&\"-\"&Table1[[#This Row],[Code]]","v":"Registered Nurse: Psych/Mental Health, Child & Adolescent-163WP0807X"},null,{"$f":"IFERROR(VLOOKUP(ROWS($U$1:U751),$R$2:$S$918,2,FALSE),\"\")","v":""}]
["163WR0006X",{"$f":"Table1[[#This Row],[Code]]&\" \"&Table1[[#This Row],[Portico_Specialty]]","v":"163WR0006X Registered Nurse: Registered Nurse First Assistant"},{"$f":"CLEAN(Table1[[#This Row],[Code]])","v":"163WR0006X"},"Registered Nurse: Registered Nurse First Assistant",null,"Medical taxonomy","N","50",null,"50","RN","50","50","50","RN",null,null,{"$f":"IF(ISNUMBER(SEARCH(INDIRECT(CELL(\"address\")),S753)),MAX($R$1:R752)+1,0)","v":0},{"$f":"Table1[[#This Row],[Portico_Specialty]]&\"-\"&Table1[[#This Row],[Code]]","v":"Registered Nurse: Registered Nurse First Assistant-163WR0006X"},null,{"$f":"IFERROR(VLOOKUP(ROWS($U$1:U752),$R$2:$S$918,2,FALSE),\"\")","v":""}]
["163WR0400X",{"$f":"Table1[[#This Row],[Code]]&\" \"&Table1[[#This Row],[Portico_Specialty]]","v":"163WR0400X Registered Nurse: Rehabilitation"},{"$f":"CLEAN(Table1[[#This Row],[Code]])","v":"163WR0400X"},"Registered Nurse: Rehabilitation",null,"Medical taxonomy","N","50",null,"50","RN","50","50","50","RN",null,null,{"$f":"IF(ISNUMBER(SEARCH(INDIRECT(CELL(\"address\")),S754)),MAX($R$1:R753)+1,0)","v":0},{"$f":"Table1[[#This Row],[Portico_Specialty]]&\"-\"&Table1[[#This Row],[Code]]","v":"Registered Nurse: Rehabilitation-163WR0400X"},null,{"$f":"IFERROR(VLOOKUP(ROWS($U$1:U753),$R$2:$S$918,2,FALSE),\"\")","v":""}]
["163WR1000X",{"$f":"Table1[[#This Row],[Code]]&\" \"&Table1[[#This Row],[Portico_Specialty]]","v":"163WR1000X Registered Nurse: Reproductive Endocrinology/Infertility"},{"$f":"CLEAN(Table1[[#This Row],[Code]])","v":"163WR1000X"},"Registered Nurse: Reproductive Endocrinology/Infertility",null,"Medical taxonomy","N","50",null,"50","RN","50","50","50","RN",null,null,{"$f":"IF(ISNUMBER(SEARCH(INDIRECT(CELL(\"address\")),S755)),MAX($R$1:R754)+1,0)","v":0},{"$f":"Table1[[#This Row],[Portico_Specialty]]&\"-\"&Table1[[#This Row],[Code]]","v":"Registered Nurse: Reproductive Endocrinology/Infertility-163WR1000X"},null,{"$f":"IFERROR(VLOOKUP(ROWS($U$1:U754),$R$2:$S$918,2,FALSE),\"\")","v":""}]
["163WS0200X",{"$f":"Table1[[#This Row],[Code]]&\" \"&Table1[[#This Row],[Portico_Specialty]]","v":"163WS0200X Registered Nurse: School"},{"$f":"CLEAN(Table1[[#This Row],[Code]])","v":"163WS0200X"},"Registered Nurse: School",null,"Medical taxonomy","N","50",null,"50","RN","50","50","50","RN",null,null,{"$f":"IF(ISNUMBER(SEARCH(INDIRECT(CELL(\"address\")),S756)),MAX($R$1:R755)+1,0)","v":0},{"$f":"Table1[[#This Row],[Portico_Specialty]]&\"-\"&Table1[[#This Row],[Code]]","v":"Registered Nurse: School-163WS0200X"},null,{"$f":"IFERROR(VLOOKUP(ROWS($U$1:U755),$R$2:$S$918,2,FALSE),\"\")","v":""}]
["163WU0100X",{"$f":"Table1[[#This Row],[Code]]&\" \"&Table1[[#This Row],[Portico_Specialty]]","v":"163WU0100X Registered Nurse: Urology"},{"$f":"CLEAN(Table1[[#This Row],[Code]])","v":"163WU0100X"},"Registered Nurse: Urology",null,"Medical taxonomy","N","50",null,"50","RN","50","50","50","RN",null,null,{"$f":"IF(ISNUMBER(SEARCH(INDIRECT(CELL(\"address\")),S757)),MAX($R$1:R756)+1,0)","v":0},{"$f":"Table1[[#This Row],[Portico_Specialty]]&\"-\"&Table1[[#This Row],[Code]]","v":"Registered Nurse: Urology-163WU0100X"},null,{"$f":"IFERROR(VLOOKUP(ROWS($U$1:U756),$R$2:$S$918,2,FALSE),\"\")","v":""}]
["163WW0101X",{"$f":"Table1[[#This Row],[Code]]&\" \"&Table1[[#This Row],[Portico_Specialty]]","v":"163WW0101X Registered Nurse: Womens Health Care, Ambulatory"},{"$f":"CLEAN(Table1[[#This Row],[Code]])","v":"163WW0101X"},"Registered Nurse: Womens Health Care, Ambulatory",null,"Medical taxonomy","N","50",null,"50","RN","50","50","50","RN",null,null,{"$f":"IF(ISNUMBER(SEARCH(INDIRECT(CELL(\"address\")),S758)),MAX($R$1:R757)+1,0)","v":0},{"$f":"Table1[[#This Row],[Portico_Specialty]]&\"-\"&Table1[[#This Row],[Code]]","v":"Registered Nurse: Womens Health Care, Ambulatory-163WW0101X"},null,{"$f":"IFERROR(VLOOKUP(ROWS($U$1:U757),$R$2:$S$918,2,FALSE),\"\")","v":""}]
["163WW0000X",{"$f":"Table1[[#This Row],[Code]]&\" \"&Table1[[#This Row],[Portico_Specialty]]","v":"163WW0000X Registered Nurse: Wound Care"},{"$f":"CLEAN(Table1[[#This Row],[Code]])","v":"163WW0000X"},"Registered Nurse: Wound Care",null,"Medical taxonomy","N","50",null,"50","RN","50","50","50","RN",null,null,{"$f":"IF(ISNUMBER(SEARCH(INDIRECT(CELL(\"address\")),S759)),MAX($R$1:R758)+1,0)","v":0},{"$f":"Table1[[#This Row],[Portico_Specialty]]&\"-\"&Table1[[#This Row],[Code]]","v":"Registered Nurse: Wound Care-163WW0000X"},null,{"$f":"IFERROR(VLOOKUP(ROWS($U$1:U758),$R$2:$S$918,2,FALSE),\"\")","v":""}]
["225C00000X",{"$f":"Table1[[#This Row],[Code]]&\" \"&Table1[[#This Row],[Portico_Specialty]]","v":"225C00000X Rehabilitation Counselor"},{"$f":"CLEAN(Table1[[#This Row],[Code]])","v":"225C00000X"},"Rehabilitation Counselor",null,"Medical taxonomy","N","65",null,"99","25",null,null,null,"25",null,null,{"$f":"IF(ISNUMBER(SEARCH(INDIRECT(CELL(\"address\")),S760)),MAX($R$1:R759)+1,0)","v":0},{"$f":"Table1[[#This Row],[Portico_Specialty]]&\"-\"&Table1[[#This Row],[Code]]","v":"Rehabilitation Counselor-225C00000X"},null,{"$f":"IFERROR(VLOOKUP(ROWS($U$1:U759),$R$2:$S$918,2,FALSE),\"\")","v":""}]
["225CA2400X",{"$f":"Table1[[#This Row],[Code]]&\" \"&Table1[[#This Row],[Portico_Specialty]]","v":"225CA2400X Rehabilitation Counselor: Assistive Technology Practitioner"},{"$f":"CLEAN(Table1[[#This Row],[Code]])","v":"225CA2400X"},"Rehabilitation Counselor: Assistive Technology Practitioner",null,"Medical taxonomy","N","87",null,"99","25",null,null,null,"25",null,null,{"$f":"IF(ISNUMBER(SEARCH(INDIRECT(CELL(\"address\")),S761)),MAX($R$1:R760)+1,0)","v":0},{"$f":"Table1[[#This Row],[Portico_Specialty]]&\"-\"&Table1[[#This Row],[Code]]","v":"Rehabilitation Counselor: Assistive Technology Practitioner-225CA2400X"},null,{"$f":"IFERROR(VLOOKUP(ROWS($U$1:U760),$R$2:$S$918,2,FALSE),\"\")","v":""}]
["225CA2500X",{"$f":"Table1[[#This Row],[Code]]&\" \"&Table1[[#This Row],[Portico_Specialty]]","v":"225CA2500X Rehabilitation Counselor: Assistive Technology Supplier"},{"$f":"CLEAN(Table1[[#This Row],[Code]])","v":"225CA2500X"},"Rehabilitation Counselor: Assistive Technology Supplier",null,"Medical taxonomy","N",null,null,"99","25",null,null,null,"25",null,null,{"$f":"IF(ISNUMBER(SEARCH(INDIRECT(CELL(\"address\")),S762)),MAX($R$1:R761)+1,0)","v":0},{"$f":"Table1[[#This Row],[Portico_Specialty]]&\"-\"&Table1[[#This Row],[Code]]","v":"Rehabilitation Counselor: Assistive Technology Supplier-225CA2500X"},null,{"$f":"IFERROR(VLOOKUP(ROWS($U$1:U761),$R$2:$S$918,2,FALSE),\"\")","v":""}]
["225CX0006X",{"$f":"Table1[[#This Row],[Code]]&\" \"&Table1[[#This Row],[Portico_Specialty]]","v":"225CX0006X Rehabilitation Counselor: Orientation and Mobility Training Provider"},{"$f":"CLEAN(Table1[[#This Row],[Code]])","v":"225CX0006X"},"Rehabilitation Counselor: Orientation and Mobility Training Provider",null,"Medical taxonomy","N",null,null,"99","25",null,null,null,"25",null,null,{"$f":"IF(ISNUMBER(SEARCH(INDIRECT(CELL(\"address\")),S763)),MAX($R$1:R762)+1,0)","v":0},{"$f":"Table1[[#This Row],[Portico_Specialty]]&\"-\"&Table1[[#This Row],[Code]]","v":"Rehabilitation Counselor: Orientation and Mobility Training Provider-225CX0006X"},null,{"$f":"IFERROR(VLOOKUP(ROWS($U$1:U762),$R$2:$S$918,2,FALSE),\"\")","v":""}]
["283X00000X",{"$f":"Table1[[#This Row],[Code]]&\" \"&Table1[[#This Row],[Portico_Specialty]]","v":"283X00000X Rehabilitation Hospital"},{"$f":"CLEAN(Table1[[#This Row],[Code]])","v":"283X00000X"},"Rehabilitation Hospital",null,"Medical taxonomy","Y","HO",null,"HO","HO","HO","HO","A0","HO",null,null,{"$f":"IF(ISNUMBER(SEARCH(INDIRECT(CELL(\"address\")),S764)),MAX($R$1:R763)+1,0)","v":0},{"$f":"Table1[[#This Row],[Portico_Specialty]]&\"-\"&Table1[[#This Row],[Code]]","v":"Rehabilitation Hospital-283X00000X"},null,{"$f":"IFERROR(VLOOKUP(ROWS($U$1:U763),$R$2:$S$918,2,FALSE),\"\")","v":""}]
["283XC2000X",{"$f":"Table1[[#This Row],[Code]]&\" \"&Table1[[#This Row],[Portico_Specialty]]","v":"283XC2000X Rehabilitation Hospital: Children"},{"$f":"CLEAN(Table1[[#This Row],[Code]])","v":"283XC2000X"},"Rehabilitation Hospital: Children",null,"Medical taxonomy","N","HO",null,"HO","HO","HO","HO","A0","HO",null,null,{"$f":"IF(ISNUMBER(SEARCH(INDIRECT(CELL(\"address\")),S765)),MAX($R$1:R764)+1,0)","v":0},{"$f":"Table1[[#This Row],[Portico_Specialty]]&\"-\"&Table1[[#This Row],[Code]]","v":"Rehabilitation Hospital: Children-283XC2000X"},null,{"$f":"IFERROR(VLOOKUP(ROWS($U$1:U764),$R$2:$S$918,2,FALSE),\"\")","v":""}]
["225400000X",{"$f":"Table1[[#This Row],[Code]]&\" \"&Table1[[#This Row],[Portico_Specialty]]","v":"225400000X Rehabilitation Practitioner"},{"$f":"CLEAN(Table1[[#This Row],[Code]])","v":"225400000X"},"Rehabilitation Practitioner",null,"Medical taxonomy","N","65",null,"99","25","65",null,"25","25",null,null,{"$f":"IF(ISNUMBER(SEARCH(INDIRECT(CELL(\"address\")),S766)),MAX($R$1:R765)+1,0)","v":0},{"$f":"Table1[[#This Row],[Portico_Specialty]]&\"-\"&Table1[[#This Row],[Code]]","v":"Rehabilitation Practitioner-225400000X"},null,{"$f":"IFERROR(VLOOKUP(ROWS($U$1:U765),$R$2:$S$918,2,FALSE),\"\")","v":""}]
["273Y00000X",{"$f":"Table1[[#This Row],[Code]]&\" \"&Table1[[#This Row],[Portico_Specialty]]","v":"273Y00000X Rehabilitation Unit"},{"$f":"CLEAN(Table1[[#This Row],[Code]])","v":"273Y00000X"},"Rehabilitation Unit",null,"Medical taxonomy","Y","HO",null,"HO","HO","HO","HO","A0","HO",null,null,{"$f":"IF(ISNUMBER(SEARCH(INDIRECT(CELL(\"address\")),S767)),MAX($R$1:R766)+1,0)","v":0},{"$f":"Table1[[#This Row],[Portico_Specialty]]&\"-\"&Table1[[#This Row],[Code]]","v":"Rehabilitation Unit-273Y00000X"},null,{"$f":"IFERROR(VLOOKUP(ROWS($U$1:U766),$R$2:$S$918,2,FALSE),\"\")","v":""}]
["276400000X",{"$f":"Table1[[#This Row],[Code]]&\" \"&Table1[[#This Row],[Portico_Specialty]]","v":"276400000X Rehabilitation, Substance Use Disorder Unit"},{"$f":"CLEAN(Table1[[#This Row],[Code]])","v":"276400000X"},"Rehabilitation, Substance Use Disorder Unit","REQUIRED: Both an M & H Claim_Type build for BH.","BH Only Taxonomy","N","HO",70,"SU","HO","HO","HO",null,"HO",null,null,{"$f":"IF(ISNUMBER(SEARCH(INDIRECT(CELL(\"address\")),S768)),MAX($R$1:R767)+1,0)","v":0},{"$f":"Table1[[#This Row],[Portico_Specialty]]&\"-\"&Table1[[#This Row],[Code]]","v":"Rehabilitation, Substance Use Disorder Unit-276400000X"},null,{"$f":"IFERROR(VLOOKUP(ROWS($U$1:U767),$R$2:$S$918,2,FALSE),\"\")","v":""}]
["282J00000X",{"$f":"Table1[[#This Row],[Code]]&\" \"&Table1[[#This Row],[Portico_Specialty]]","v":"282J00000X Religious Nonmedical Health Care Institution"},{"$f":"CLEAN(Table1[[#This Row],[Code]])","v":"282J00000X"},"Religious Nonmedical Health Care Institution",null,"Medical taxonomy","Y","HO",null,"HO","HO","HO","NM","A0","HO",null,null,{"$f":"IF(ISNUMBER(SEARCH(INDIRECT(CELL(\"address\")),S769)),MAX($R$1:R768)+1,0)","v":0},{"$f":"Table1[[#This Row],[Portico_Specialty]]&\"-\"&Table1[[#This Row],[Code]]","v":"Religious Nonmedical Health Care Institution-282J00000X"},null,{"$f":"IFERROR(VLOOKUP(ROWS($U$1:U768),$R$2:$S$918,2,FALSE),\"\")","v":""}]
["374K00000X",{"$f":"Table1[[#This Row],[Code]]&\" \"&Table1[[#This Row],[Portico_Specialty]]","v":"374K00000X Religious Nonmedical Practitioner"},{"$f":"CLEAN(Table1[[#This Row],[Code]])","v":"374K00000X"},"Religious Nonmedical Practitioner",null,"Medical taxonomy","N",null,null,"NM","PP",null,"NM",null,"PP",null,null,{"$f":"IF(ISNUMBER(SEARCH(INDIRECT(CELL(\"address\")),S770)),MAX($R$1:R769)+1,0)","v":0},{"$f":"Table1[[#This Row],[Portico_Specialty]]&\"-\"&Table1[[#This Row],[Code]]","v":"Religious Nonmedical Practitioner-374K00000X"},null,{"$f":"IFERROR(VLOOKUP(ROWS($U$1:U769),$R$2:$S$918,2,FALSE),\"\")","v":""}]
["322D00000X",{"$f":"Table1[[#This Row],[Code]]&\" \"&Table1[[#This Row],[Portico_Specialty]]","v":"322D00000X Residential Treatment Facility, Emotionally Disturbed Children"},{"$f":"CLEAN(Table1[[#This Row],[Code]])","v":"322D00000X"},"Residential Treatment Facility, Emotionally Disturbed Children","REQUIRED: Both an M & H Claim_Type build for BH.","BH Only Taxonomy","N","70",null,"70","70","CM","FR","70","70",null,null,{"$f":"IF(ISNUMBER(SEARCH(INDIRECT(CELL(\"address\")),S771)),MAX($R$1:R770)+1,0)","v":0},{"$f":"Table1[[#This Row],[Portico_Specialty]]&\"-\"&Table1[[#This Row],[Code]]","v":"Residential Treatment Facility, Emotionally Disturbed Children-322D00000X"},null,{"$f":"IFERROR(VLOOKUP(ROWS($U$1:U770),$R$2:$S$918,2,FALSE),\"\")","v":""}]
["320600000X",{"$f":"Table1[[#This Row],[Code]]&\" \"&Table1[[#This Row],[Portico_Specialty]]","v":"320600000X Residential Treatment Facility, Mental Retardation and/or Developmental Disabilities"},{"$f":"CLEAN(Table1[[#This Row],[Code]])","v":"320600000X"},"Residential Treatment Facility, Mental Retardation and/or Developmental Disabilities",null,"Shared Taxonomy","N","70",null,"70","70","70","70","70","70",null,null,{"$f":"IF(ISNUMBER(SEARCH(INDIRECT(CELL(\"address\")),S772)),MAX($R$1:R771)+1,0)","v":0},{"$f":"Table1[[#This Row],[Portico_Specialty]]&\"-\"&Table1[[#This Row],[Code]]","v":"Residential Treatment Facility, Mental Retardation and/or Developmental Disabilities-320600000X"},null,{"$f":"IFERROR(VLOOKUP(ROWS($U$1:U771),$R$2:$S$918,2,FALSE),\"\")","v":""}]
["320700000X",{"$f":"Table1[[#This Row],[Code]]&\" \"&Table1[[#This Row],[Portico_Specialty]]","v":"320700000X Residential Treatment Facility, Physical Disabilities"},{"$f":"CLEAN(Table1[[#This Row],[Code]])","v":"320700000X"},"Residential Treatment Facility, Physical Disabilities",null,"Medical taxonomy","N","70",null,"70","70","70","70","70","70",null,null,{"$f":"IF(ISNUMBER(SEARCH(INDIRECT(CELL(\"address\")),S773)),MAX($R$1:R772)+1,0)","v":0},{"$f":"Table1[[#This Row],[Portico_Specialty]]&\"-\"&Table1[[#This Row],[Code]]","v":"Residential Treatment Facility, Physical Disabilities-320700000X"},null,{"$f":"IFERROR(VLOOKUP(ROWS($U$1:U772),$R$2:$S$918,2,FALSE),\"\")","v":""}]
["227800000X",{"$f":"Table1[[#This Row],[Code]]&\" \"&Table1[[#This Row],[Portico_Specialty]]","v":"227800000X Respiratory Therapist, Certified"},{"$f":"CLEAN(Table1[[#This Row],[Code]])","v":"227800000X"},"Respiratory Therapist, Certified",null,"Medical taxonomy","N","RE",null,"65","25","65","65","65","25",null,null,{"$f":"IF(ISNUMBER(SEARCH(INDIRECT(CELL(\"address\")),S774)),MAX($R$1:R773)+1,0)","v":0},{"$f":"Table1[[#This Row],[Portico_Specialty]]&\"-\"&Table1[[#This Row],[Code]]","v":"Respiratory Therapist, Certified-227800000X"},null,{"$f":"IFERROR(VLOOKUP(ROWS($U$1:U773),$R$2:$S$918,2,FALSE),\"\")","v":""}]
["2278C0205X",{"$f":"Table1[[#This Row],[Code]]&\" \"&Table1[[#This Row],[Portico_Specialty]]","v":"2278C0205X Respiratory Therapist, Certified: Critical Care"},{"$f":"CLEAN(Table1[[#This Row],[Code]])","v":"2278C0205X"},"Respiratory Therapist, Certified: Critical Care",null,"Medical taxonomy","N","65",null,"65","25","65","65","65","25",null,null,{"$f":"IF(ISNUMBER(SEARCH(INDIRECT(CELL(\"address\")),S775)),MAX($R$1:R774)+1,0)","v":0},{"$f":"Table1[[#This Row],[Portico_Specialty]]&\"-\"&Table1[[#This Row],[Code]]","v":"Respiratory Therapist, Certified: Critical Care-2278C0205X"},null,{"$f":"IFERROR(VLOOKUP(ROWS($U$1:U774),$R$2:$S$918,2,FALSE),\"\")","v":""}]
["2278E1000X",{"$f":"Table1[[#This Row],[Code]]&\" \"&Table1[[#This Row],[Portico_Specialty]]","v":"2278E1000X Respiratory Therapist, Certified: Educational"},{"$f":"CLEAN(Table1[[#This Row],[Code]])","v":"2278E1000X"},"Respiratory Therapist, Certified: Educational",null,"Medical taxonomy","N","65",null,"65","25","65","65","65","25",null,null,{"$f":"IF(ISNUMBER(SEARCH(INDIRECT(CELL(\"address\")),S776)),MAX($R$1:R775)+1,0)","v":0},{"$f":"Table1[[#This Row],[Portico_Specialty]]&\"-\"&Table1[[#This Row],[Code]]","v":"Respiratory Therapist, Certified: Educational-2278E1000X"},null,{"$f":"IFERROR(VLOOKUP(ROWS($U$1:U775),$R$2:$S$918,2,FALSE),\"\")","v":""}]
["2278E0002X",{"$f":"Table1[[#This Row],[Code]]&\" \"&Table1[[#This Row],[Portico_Specialty]]","v":"2278E0002X Respiratory Therapist, Certified: Emergency Care"},{"$f":"CLEAN(Table1[[#This Row],[Code]])","v":"2278E0002X"},"Respiratory Therapist, Certified: Emergency Care",null,"Medical taxonomy","N","65",null,"65","25","65","65","65","25",null,null,{"$f":"IF(ISNUMBER(SEARCH(INDIRECT(CELL(\"address\")),S777)),MAX($R$1:R776)+1,0)","v":0},{"$f":"Table1[[#This Row],[Portico_Specialty]]&\"-\"&Table1[[#This Row],[Code]]","v":"Respiratory Therapist, Certified: Emergency Care-2278E0002X"},null,{"$f":"IFERROR(VLOOKUP(ROWS($U$1:U776),$R$2:$S$918,2,FALSE),\"\")","v":""}]
["2278G1100X",{"$f":"Table1[[#This Row],[Code]]&\" \"&Table1[[#This Row],[Portico_Specialty]]","v":"2278G1100X Respiratory Therapist, Certified: General Care"},{"$f":"CLEAN(Table1[[#This Row],[Code]])","v":"2278G1100X"},"Respiratory Therapist, Certified: General Care",null,"Medical taxonomy","N","65",null,"65","25","65","65","65","25",null,null,{"$f":"IF(ISNUMBER(SEARCH(INDIRECT(CELL(\"address\")),S778)),MAX($R$1:R777)+1,0)","v":0},{"$f":"Table1[[#This Row],[Portico_Specialty]]&\"-\"&Table1[[#This Row],[Code]]","v":"Respiratory Therapist, Certified: General Care-2278G1100X"},null,{"$f":"IFERROR(VLOOKUP(ROWS($U$1:U777),$R$2:$S$918,2,FALSE),\"\")","v":""}]
["2278G0305X",{"$f":"Table1[[#This Row],[Code]]&\" \"&Table1[[#This Row],[Portico_Specialty]]","v":"2278G0305X Respiratory Therapist, Certified: Geriatric Care"},{"$f":"CLEAN(Table1[[#This Row],[Code]])","v":"2278G0305X"},"Respiratory Therapist, Certified: Geriatric Care",null,"Medical taxonomy","N","65",null,"65","25","65","65","65","25",null,null,{"$f":"IF(ISNUMBER(SEARCH(INDIRECT(CELL(\"address\")),S779)),MAX($R$1:R778)+1,0)","v":0},{"$f":"Table1[[#This Row],[Portico_Specialty]]&\"-\"&Table1[[#This Row],[Code]]","v":"Respiratory Therapist, Certified: Geriatric Care-2278G0305X"},null,{"$f":"IFERROR(VLOOKUP(ROWS($U$1:U778),$R$2:$S$918,2,FALSE),\"\")","v":""}]
["2278H0200X",{"$f":"Table1[[#This Row],[Code]]&\" \"&Table1[[#This Row],[Portico_Specialty]]","v":"2278H0200X Respiratory Therapist, Certified: Home Health"},{"$f":"CLEAN(Table1[[#This Row],[Code]])","v":"2278H0200X"},"Respiratory Therapist, Certified: Home Health",null,"Medical taxonomy","N","65",null,"65","25","65","65","A6","25",null,null,{"$f":"IF(ISNUMBER(SEARCH(INDIRECT(CELL(\"address\")),S780)),MAX($R$1:R779)+1,0)","v":0},{"$f":"Table1[[#This Row],[Portico_Specialty]]&\"-\"&Table1[[#This Row],[Code]]","v":"Respiratory Therapist, Certified: Home Health-2278H0200X"},null,{"$f":"IFERROR(VLOOKUP(ROWS($U$1:U779),$R$2:$S$918,2,FALSE),\"\")","v":""}]
["2278P3900X",{"$f":"Table1[[#This Row],[Code]]&\" \"&Table1[[#This Row],[Portico_Specialty]]","v":"2278P3900X Respiratory Therapist, Certified: Neonatal/Pediatrics"},{"$f":"CLEAN(Table1[[#This Row],[Code]])","v":"2278P3900X"},"Respiratory Therapist, Certified: Neonatal/Pediatrics",null,"Medical taxonomy","N","65",null,"65","25","65","65","37","25",null,null,{"$f":"IF(ISNUMBER(SEARCH(INDIRECT(CELL(\"address\")),S781)),MAX($R$1:R780)+1,0)","v":0},{"$f":"Table1[[#This Row],[Portico_Specialty]]&\"-\"&Table1[[#This Row],[Code]]","v":"Respiratory Therapist, Certified: Neonatal/Pediatrics-2278P3900X"},null,{"$f":"IFERROR(VLOOKUP(ROWS($U$1:U780),$R$2:$S$918,2,FALSE),\"\")","v":""}]
["2278P3800X",{"$f":"Table1[[#This Row],[Code]]&\" \"&Table1[[#This Row],[Portico_Specialty]]","v":"2278P3800X Respiratory Therapist, Certified: Palliative/Hospice"},{"$f":"CLEAN(Table1[[#This Row],[Code]])","v":"2278P3800X"},"Respiratory Therapist, Certified: Palliative/Hospice",null,"Medical taxonomy","N","65",null,"65","25","65","65","65","25",null,null,{"$f":"IF(ISNUMBER(SEARCH(INDIRECT(CELL(\"address\")),S782)),MAX($R$1:R781)+1,0)","v":0},{"$f":"Table1[[#This Row],[Portico_Specialty]]&\"-\"&Table1[[#This Row],[Code]]","v":"Respiratory Therapist, Certified: Palliative/Hospice-2278P3800X"},null,{"$f":"IFERROR(VLOOKUP(ROWS($U$1:U781),$R$2:$S$918,2,FALSE),\"\")","v":""}]
["2278P4000X",{"$f":"Table1[[#This Row],[Code]]&\" \"&Table1[[#This Row],[Portico_Specialty]]","v":"2278P4000X Respiratory Therapist, Certified: Patient Transport"},{"$f":"CLEAN(Table1[[#This Row],[Code]])","v":"2278P4000X"},"Respiratory Therapist, Certified: Patient Transport",null,"Medical taxonomy","N","65",null,"65","25","65","65","65","25",null,null,{"$f":"IF(ISNUMBER(SEARCH(INDIRECT(CELL(\"address\")),S783)),MAX($R$1:R782)+1,0)","v":0},{"$f":"Table1[[#This Row],[Portico_Specialty]]&\"-\"&Table1[[#This Row],[Code]]","v":"Respiratory Therapist, Certified: Patient Transport-2278P4000X"},null,{"$f":"IFERROR(VLOOKUP(ROWS($U$1:U782),$R$2:$S$918,2,FALSE),\"\")","v":""}]
["2278P1004X",{"$f":"Table1[[#This Row],[Code]]&\" \"&Table1[[#This Row],[Portico_Specialty]]","v":"2278P1004X Respiratory Therapist, Certified: Pulmonary Diagnostics"},{"$f":"CLEAN(Table1[[#This Row],[Code]])","v":"2278P1004X"},"Respiratory Therapist, Certified: Pulmonary Diagnostics",null,"Medical taxonomy","N","65",null,"65","25","65","65","65","25",null,null,{"$f":"IF(ISNUMBER(SEARCH(INDIRECT(CELL(\"address\")),S784)),MAX($R$1:R783)+1,0)","v":0},{"$f":"Table1[[#This Row],[Portico_Specialty]]&\"-\"&Table1[[#This Row],[Code]]","v":"Respiratory Therapist, Certified: Pulmonary Diagnostics-2278P1004X"},null,{"$f":"IFERROR(VLOOKUP(ROWS($U$1:U783),$R$2:$S$918,2,FALSE),\"\")","v":""}]
["2278P1006X",{"$f":"Table1[[#This Row],[Code]]&\" \"&Table1[[#This Row],[Portico_Specialty]]","v":"2278P1006X Respiratory Therapist, Certified: Pulmonary Function Technologist"},{"$f":"CLEAN(Table1[[#This Row],[Code]])","v":"2278P1006X"},"Respiratory Therapist, Certified: Pulmonary Function Technologist",null,"Medical taxonomy","N","65",null,"65","25","65","65","65","25",null,null,{"$f":"IF(ISNUMBER(SEARCH(INDIRECT(CELL(\"address\")),S785)),MAX($R$1:R784)+1,0)","v":0},{"$f":"Table1[[#This Row],[Portico_Specialty]]&\"-\"&Table1[[#This Row],[Code]]","v":"Respiratory Therapist, Certified: Pulmonary Function Technologist-2278P1006X"},null,{"$f":"IFERROR(VLOOKUP(ROWS($U$1:U784),$R$2:$S$918,2,FALSE),\"\")","v":""}]
["2278P1005X",{"$f":"Table1[[#This Row],[Code]]&\" \"&Table1[[#This Row],[Portico_Specialty]]","v":"2278P1005X Respiratory Therapist, Certified: Pulmonary Rehabilitation"},{"$f":"CLEAN(Table1[[#This Row],[Code]])","v":"2278P1005X"},"Respiratory Therapist, Certified: Pulmonary Rehabilitation",null,"Medical taxonomy","N","65",null,"65","25","65","65","65","25",null,null,{"$f":"IF(ISNUMBER(SEARCH(INDIRECT(CELL(\"address\")),S786)),MAX($R$1:R785)+1,0)","v":0},{"$f":"Table1[[#This Row],[Portico_Specialty]]&\"-\"&Table1[[#This Row],[Code]]","v":"Respiratory Therapist, Certified: Pulmonary Rehabilitation-2278P1005X"},null,{"$f":"IFERROR(VLOOKUP(ROWS($U$1:U785),$R$2:$S$918,2,FALSE),\"\")","v":""}]
["2278S1500X",{"$f":"Table1[[#This Row],[Code]]&\" \"&Table1[[#This Row],[Portico_Specialty]]","v":"2278S1500X Respiratory Therapist, Certified: SNF/Subacute Care"},{"$f":"CLEAN(Table1[[#This Row],[Code]])","v":"2278S1500X"},"Respiratory Therapist, Certified: SNF/Subacute Care",null,"Medical taxonomy","N","65",null,"65","25","65","65","65","25",null,null,{"$f":"IF(ISNUMBER(SEARCH(INDIRECT(CELL(\"address\")),S787)),MAX($R$1:R786)+1,0)","v":0},{"$f":"Table1[[#This Row],[Portico_Specialty]]&\"-\"&Table1[[#This Row],[Code]]","v":"Respiratory Therapist, Certified: SNF/Subacute Care-2278S1500X"},null,{"$f":"IFERROR(VLOOKUP(ROWS($U$1:U786),$R$2:$S$918,2,FALSE),\"\")","v":""}]
["227900000X",{"$f":"Table1[[#This Row],[Code]]&\" \"&Table1[[#This Row],[Portico_Specialty]]","v":"227900000X Respiratory Therapist, Registered"},{"$f":"CLEAN(Table1[[#This Row],[Code]])","v":"227900000X"},"Respiratory Therapist, Registered",null,"Medical taxonomy","N","65",null,"65","25","65","65","65","25",null,null,{"$f":"IF(ISNUMBER(SEARCH(INDIRECT(CELL(\"address\")),S788)),MAX($R$1:R787)+1,0)","v":0},{"$f":"Table1[[#This Row],[Portico_Specialty]]&\"-\"&Table1[[#This Row],[Code]]","v":"Respiratory Therapist, Registered-227900000X"},null,{"$f":"IFERROR(VLOOKUP(ROWS($U$1:U787),$R$2:$S$918,2,FALSE),\"\")","v":""}]
["2279C0205X",{"$f":"Table1[[#This Row],[Code]]&\" \"&Table1[[#This Row],[Portico_Specialty]]","v":"2279C0205X Respiratory Therapist, Registered: Critical Care"},{"$f":"CLEAN(Table1[[#This Row],[Code]])","v":"2279C0205X"},"Respiratory Therapist, Registered: Critical Care",null,"Medical taxonomy","N","65",null,"65","25","65","65","A6","25",null,null,{"$f":"IF(ISNUMBER(SEARCH(INDIRECT(CELL(\"address\")),S789)),MAX($R$1:R788)+1,0)","v":0},{"$f":"Table1[[#This Row],[Portico_Specialty]]&\"-\"&Table1[[#This Row],[Code]]","v":"Respiratory Therapist, Registered: Critical Care-2279C0205X"},null,{"$f":"IFERROR(VLOOKUP(ROWS($U$1:U788),$R$2:$S$918,2,FALSE),\"\")","v":""}]
["2279E1000X",{"$f":"Table1[[#This Row],[Code]]&\" \"&Table1[[#This Row],[Portico_Specialty]]","v":"2279E1000X Respiratory Therapist, Registered: Educational"},{"$f":"CLEAN(Table1[[#This Row],[Code]])","v":"2279E1000X"},"Respiratory Therapist, Registered: Educational",null,"Medical taxonomy","N","65",null,"65","25","65","65","A6","25",null,null,{"$f":"IF(ISNUMBER(SEARCH(INDIRECT(CELL(\"address\")),S790)),MAX($R$1:R789)+1,0)","v":0},{"$f":"Table1[[#This Row],[Portico_Specialty]]&\"-\"&Table1[[#This Row],[Code]]","v":"Respiratory Therapist, Registered: Educational-2279E1000X"},null,{"$f":"IFERROR(VLOOKUP(ROWS($U$1:U789),$R$2:$S$918,2,FALSE),\"\")","v":""}]
["2279E0002X",{"$f":"Table1[[#This Row],[Code]]&\" \"&Table1[[#This Row],[Portico_Specialty]]","v":"2279E0002X Respiratory Therapist, Registered: Emergency Care"},{"$f":"CLEAN(Table1[[#This Row],[Code]])","v":"2279E0002X"},"Respiratory Therapist, Registered: Emergency Care",null,"Medical taxonomy","N","65",null,"65","25","65","65","A6","25",null,null,{"$f":"IF(ISNUMBER(SEARCH(INDIRECT(CELL(\"address\")),S791)),MAX($R$1:R790)+1,0)","v":0},{"$f":"Table1[[#This Row],[Portico_Specialty]]&\"-\"&Table1[[#This Row],[Code]]","v":"Respiratory Therapist, Registered: Emergency Care-2279E0002X"},null,{"$f":"IFERROR(VLOOKUP(ROWS($U$1:U790),$R$2:$S$918,2,FALSE),\"\")","v":""}]
["2279G1100X",{"$f":"Table1[[#This Row],[Code]]&\" \"&Table1[[#This Row],[Portico_Specialty]]","v":"2279G1100X Respiratory Therapist, Registered: General Care"},{"$f":"CLEAN(Table1[[#This Row],[Code]])","v":"2279G1100X"},"Respiratory Therapist, Registered: General Care",null,"Medical taxonomy","N","65",null,"65","25","65","65","A6","25",null,null,{"$f":"IF(ISNUMBER(SEARCH(INDIRECT(CELL(\"address\")),S792)),MAX($R$1:R791)+1,0)","v":0},{"$f":"Table1[[#This Row],[Portico_Specialty]]&\"-\"&Table1[[#This Row],[Code]]","v":"Respiratory Therapist, Registered: General Care-2279G1100X"},null,{"$f":"IFERROR(VLOOKUP(ROWS($U$1:U791),$R$2:$S$918,2,FALSE),\"\")","v":""}]
["2279G0305X",{"$f":"Table1[[#This Row],[Code]]&\" \"&Table1[[#This Row],[Portico_Specialty]]","v":"2279G0305X Respiratory Therapist, Registered: Geriatric Care"},{"$f":"CLEAN(Table1[[#This Row],[Code]])","v":"2279G0305X"},"Respiratory Therapist, Registered: Geriatric Care",null,"Medical taxonomy","N","65",null,"65","25","65","65","A6","25",null,null,{"$f":"IF(ISNUMBER(SEARCH(INDIRECT(CELL(\"address\")),S793)),MAX($R$1:R792)+1,0)","v":0},{"$f":"Table1[[#This Row],[Portico_Specialty]]&\"-\"&Table1[[#This Row],[Code]]","v":"Respiratory Therapist, Registered: Geriatric Care-2279G0305X"},null,{"$f":"IFERROR(VLOOKUP(ROWS($U$1:U792),$R$2:$S$918,2,FALSE),\"\")","v":""}]
["2279H0200X",{"$f":"Table1[[#This Row],[Code]]&\" \"&Table1[[#This Row],[Portico_Specialty]]","v":"2279H0200X Respiratory Therapist, Registered: Home Health"},{"$f":"CLEAN(Table1[[#This Row],[Code]])","v":"2279H0200X"},"Respiratory Therapist, Registered: Home Health",null,"Medical taxonomy","N","65",null,"65","25","65","65","A6","25",null,null,{"$f":"IF(ISNUMBER(SEARCH(INDIRECT(CELL(\"address\")),S794)),MAX($R$1:R793)+1,0)","v":0},{"$f":"Table1[[#This Row],[Portico_Specialty]]&\"-\"&Table1[[#This Row],[Code]]","v":"Respiratory Therapist, Registered: Home Health-2279H0200X"},null,{"$f":"IFERROR(VLOOKUP(ROWS($U$1:U793),$R$2:$S$918,2,FALSE),\"\")","v":""}]
["2279P3900X",{"$f":"Table1[[#This Row],[Code]]&\" \"&Table1[[#This Row],[Portico_Specialty]]","v":"2279P3900X Respiratory Therapist, Registered: Neonatal/Pediatrics"},{"$f":"CLEAN(Table1[[#This Row],[Code]])","v":"2279P3900X"},"Respiratory Therapist, Registered: Neonatal/Pediatrics",null,"Medical taxonomy","N","65",null,"65","25","65","65","37","25",null,null,{"$f":"IF(ISNUMBER(SEARCH(INDIRECT(CELL(\"address\")),S795)),MAX($R$1:R794)+1,0)","v":0},{"$f":"Table1[[#This Row],[Portico_Specialty]]&\"-\"&Table1[[#This Row],[Code]]","v":"Respiratory Therapist, Registered: Neonatal/Pediatrics-2279P3900X"},null,{"$f":"IFERROR(VLOOKUP(ROWS($U$1:U794),$R$2:$S$918,2,FALSE),\"\")","v":""}]
["2279P3800X",{"$f":"Table1[[#This Row],[Code]]&\" \"&Table1[[#This Row],[Portico_Specialty]]","v":"2279P3800X Respiratory Therapist, Registered: Palliative/Hospice"},{"$f":"CLEAN(Table1[[#This Row],[Code]])","v":"2279P3800X"},"Respiratory Therapist, Registered: Palliative/Hospice",null,"Medical taxonomy","N","65",null,"65","25","65","65","A6","25",null,null,{"$f":"IF(ISNUMBER(SEARCH(INDIRECT(CELL(\"address\")),S796)),MAX($R$1:R795)+1,0)","v":0},{"$f":"Table1[[#This Row],[Portico_Specialty]]&\"-\"&Table1[[#This Row],[Code]]","v":"Respiratory Therapist, Registered: Palliative/Hospice-2279P3800X"},null,{"$f":"IFERROR(VLOOKUP(ROWS($U$1:U795),$R$2:$S$918,2,FALSE),\"\")","v":""}]
["2279P4000X",{"$f":"Table1[[#This Row],[Code]]&\" \"&Table1[[#This Row],[Portico_Specialty]]","v":"2279P4000X Respiratory Therapist, Registered: Patient Transport"},{"$f":"CLEAN(Table1[[#This Row],[Code]])","v":"2279P4000X"},"Respiratory Therapist, Registered: Patient Transport",null,"Medical taxonomy","N","65",null,"65","25","65","65","A6","25",null,null,{"$f":"IF(ISNUMBER(SEARCH(INDIRECT(CELL(\"address\")),S797)),MAX($R$1:R796)+1,0)","v":0},{"$f":"Table1[[#This Row],[Portico_Specialty]]&\"-\"&Table1[[#This Row],[Code]]","v":"Respiratory Therapist, Registered: Patient Transport-2279P4000X"},null,{"$f":"IFERROR(VLOOKUP(ROWS($U$1:U796),$R$2:$S$918,2,FALSE),\"\")","v":""}]
["2279P1004X",{"$f":"Table1[[#This Row],[Code]]&\" \"&Table1[[#This Row],[Portico_Specialty]]","v":"2279P1004X Respiratory Therapist, Registered: Pulmonary Diagnostics"},{"$f":"CLEAN(Table1[[#This Row],[Code]])","v":"2279P1004X"},"Respiratory Therapist, Registered: Pulmonary Diagnostics",null,"Medical taxonomy","N","65",null,"65","25","65","65","A6","25",null,null,{"$f":"IF(ISNUMBER(SEARCH(INDIRECT(CELL(\"address\")),S798)),MAX($R$1:R797)+1,0)","v":0},{"$f":"Table1[[#This Row],[Portico_Specialty]]&\"-\"&Table1[[#This Row],[Code]]","v":"Respiratory Therapist, Registered: Pulmonary Diagnostics-2279P1004X"},null,{"$f":"IFERROR(VLOOKUP(ROWS($U$1:U797),$R$2:$S$918,2,FALSE),\"\")","v":""}]
["2279P1006X",{"$f":"Table1[[#This Row],[Code]]&\" \"&Table1[[#This Row],[Portico_Specialty]]","v":"2279P1006X Respiratory Therapist, Registered: Pulmonary Function Technologist"},{"$f":"CLEAN(Table1[[#This Row],[Code]])","v":"2279P1006X"},"Respiratory Therapist, Registered: Pulmonary Function Technologist",null,"Medical taxonomy","N","65",null,"65","25","65","65","A6","25",null,null,{"$f":"IF(ISNUMBER(SEARCH(INDIRECT(CELL(\"address\")),S799)),MAX($R$1:R798)+1,0)","v":0},{"$f":"Table1[[#This Row],[Portico_Specialty]]&\"-\"&Table1[[#This Row],[Code]]","v":"Respiratory Therapist, Registered: Pulmonary Function Technologist-2279P1006X"},null,{"$f":"IFERROR(VLOOKUP(ROWS($U$1:U798),$R$2:$S$918,2,FALSE),\"\")","v":""}]
["2279P1005X",{"$f":"Table1[[#This Row],[Code]]&\" \"&Table1[[#This Row],[Portico_Specialty]]","v":"2279P1005X Respiratory Therapist, Registered: Pulmonary Rehabilitation"},{"$f":"CLEAN(Table1[[#This Row],[Code]])","v":"2279P1005X"},"Respiratory Therapist, Registered: Pulmonary Rehabilitation",null,"Medical taxonomy","N","65",null,"65","25","65","65","A6","25",null,null,{"$f":"IF(ISNUMBER(SEARCH(INDIRECT(CELL(\"address\")),S800)),MAX($R$1:R799)+1,0)","v":0},{"$f":"Table1[[#This Row],[Portico_Specialty]]&\"-\"&Table1[[#This Row],[Code]]","v":"Respiratory Therapist, Registered: Pulmonary Rehabilitation-2279P1005X"},null,{"$f":"IFERROR(VLOOKUP(ROWS($U$1:U799),$R$2:$S$918,2,FALSE),\"\")","v":""}]
["2279S1500X",{"$f":"Table1[[#This Row],[Code]]&\" \"&Table1[[#This Row],[Portico_Specialty]]","v":"2279S1500X Respiratory Therapist, Registered: SNF/Subacute Care"},{"$f":"CLEAN(Table1[[#This Row],[Code]])","v":"2279S1500X"},"Respiratory Therapist, Registered: SNF/Subacute Care",null,"Medical taxonomy","N","65",null,"65","25","65","65","A6","25",null,null,{"$f":"IF(ISNUMBER(SEARCH(INDIRECT(CELL(\"address\")),S801)),MAX($R$1:R800)+1,0)","v":0},{"$f":"Table1[[#This Row],[Portico_Specialty]]&\"-\"&Table1[[#This Row],[Code]]","v":"Respiratory Therapist, Registered: SNF/Subacute Care-2279S1500X"},null,{"$f":"IFERROR(VLOOKUP(ROWS($U$1:U800),$R$2:$S$918,2,FALSE),\"\")","v":""}]
["385H00000X",{"$f":"Table1[[#This Row],[Code]]&\" \"&Table1[[#This Row],[Portico_Specialty]]","v":"385H00000X Respite Care"},{"$f":"CLEAN(Table1[[#This Row],[Code]])","v":"385H00000X"},"Respite Care",null,"Medical taxonomy","N","87",null,"99","99","87","87","87","99",null,null,{"$f":"IF(ISNUMBER(SEARCH(INDIRECT(CELL(\"address\")),S802)),MAX($R$1:R801)+1,0)","v":0},{"$f":"Table1[[#This Row],[Portico_Specialty]]&\"-\"&Table1[[#This Row],[Code]]","v":"Respite Care-385H00000X"},null,{"$f":"IFERROR(VLOOKUP(ROWS($U$1:U801),$R$2:$S$918,2,FALSE),\"\")","v":""}]
["385HR2050X",{"$f":"Table1[[#This Row],[Code]]&\" \"&Table1[[#This Row],[Portico_Specialty]]","v":"385HR2050X Respite Care: Respite Care Camp"},{"$f":"CLEAN(Table1[[#This Row],[Code]])","v":"385HR2050X"},"Respite Care: Respite Care Camp",null,"Medical taxonomy","N","87",null,"99","99","87","87",null,"99",null,null,{"$f":"IF(ISNUMBER(SEARCH(INDIRECT(CELL(\"address\")),S803)),MAX($R$1:R802)+1,0)","v":0},{"$f":"Table1[[#This Row],[Portico_Specialty]]&\"-\"&Table1[[#This Row],[Code]]","v":"Respite Care: Respite Care Camp-385HR2050X"},null,{"$f":"IFERROR(VLOOKUP(ROWS($U$1:U802),$R$2:$S$918,2,FALSE),\"\")","v":""}]
["385HR2055X",{"$f":"Table1[[#This Row],[Code]]&\" \"&Table1[[#This Row],[Portico_Specialty]]","v":"385HR2055X Respite Care: Respite Care, Mental Illness, Child"},{"$f":"CLEAN(Table1[[#This Row],[Code]])","v":"385HR2055X"},"Respite Care: Respite Care, Mental Illness, Child",null,"Medical taxonomy","N","87",null,"99","BA","87","87",null,"BA",null,null,{"$f":"IF(ISNUMBER(SEARCH(INDIRECT(CELL(\"address\")),S804)),MAX($R$1:R803)+1,0)","v":0},{"$f":"Table1[[#This Row],[Portico_Specialty]]&\"-\"&Table1[[#This Row],[Code]]","v":"Respite Care: Respite Care, Mental Illness, Child-385HR2055X"},null,{"$f":"IFERROR(VLOOKUP(ROWS($U$1:U803),$R$2:$S$918,2,FALSE),\"\")","v":""}]
["385HR2060X",{"$f":"Table1[[#This Row],[Code]]&\" \"&Table1[[#This Row],[Portico_Specialty]]","v":"385HR2060X Respite Care: Respite Care, Mental Retardation and/or Developmental Disabilities, Child"},{"$f":"CLEAN(Table1[[#This Row],[Code]])","v":"385HR2060X"},"Respite Care: Respite Care, Mental Retardation and/or Developmental Disabilities, Child",null,"Medical taxonomy","N","87",null,"99","BA","87","87",null,"BA",null,null,{"$f":"IF(ISNUMBER(SEARCH(INDIRECT(CELL(\"address\")),S805)),MAX($R$1:R804)+1,0)","v":0},{"$f":"Table1[[#This Row],[Portico_Specialty]]&\"-\"&Table1[[#This Row],[Code]]","v":"Respite Care: Respite Care, Mental Retardation and/or Developmental Disabilities, Child-385HR2060X"},null,{"$f":"IFERROR(VLOOKUP(ROWS($U$1:U804),$R$2:$S$918,2,FALSE),\"\")","v":""}]
["385HR2065X",{"$f":"Table1[[#This Row],[Code]]&\" \"&Table1[[#This Row],[Portico_Specialty]]","v":"385HR2065X Respite Care: Respite Care, Physical Disabilities, Child"},{"$f":"CLEAN(Table1[[#This Row],[Code]])","v":"385HR2065X"},"Respite Care: Respite Care, Physical Disabilities, Child",null,"Medical taxonomy","N","87",null,"99","99","87","87",null,"99",null,null,{"$f":"IF(ISNUMBER(SEARCH(INDIRECT(CELL(\"address\")),S806)),MAX($R$1:R805)+1,0)","v":0},{"$f":"Table1[[#This Row],[Portico_Specialty]]&\"-\"&Table1[[#This Row],[Code]]","v":"Respite Care: Respite Care, Physical Disabilities, Child-385HR2065X"},null,{"$f":"IFERROR(VLOOKUP(ROWS($U$1:U805),$R$2:$S$918,2,FALSE),\"\")","v":""}]
["343800000X",{"$f":"Table1[[#This Row],[Code]]&\" \"&Table1[[#This Row],[Portico_Specialty]]","v":"343800000X Secured Medical Transport (VAN)"},{"$f":"CLEAN(Table1[[#This Row],[Code]])","v":"343800000X"},"Secured Medical Transport (VAN)",null,"Medical taxonomy","N","TR",null,"TR","59","TR","TR",null,"59",null,null,{"$f":"IF(ISNUMBER(SEARCH(INDIRECT(CELL(\"address\")),S807)),MAX($R$1:R806)+1,0)","v":0},{"$f":"Table1[[#This Row],[Portico_Specialty]]&\"-\"&Table1[[#This Row],[Code]]","v":"Secured Medical Transport (VAN)-343800000X"},null,{"$f":"IFERROR(VLOOKUP(ROWS($U$1:U806),$R$2:$S$918,2,FALSE),\"\")","v":""}]
["193400000X",{"$f":"Table1[[#This Row],[Code]]&\" \"&Table1[[#This Row],[Portico_Specialty]]","v":"193400000X Single Specialty"},{"$f":"CLEAN(Table1[[#This Row],[Code]])","v":"193400000X"},"Single Specialty",null,"Shared Taxonomy","Y",null,null,"SS","SS",null,"70",null,"SS",null,null,{"$f":"IF(ISNUMBER(SEARCH(INDIRECT(CELL(\"address\")),S808)),MAX($R$1:R807)+1,0)","v":0},{"$f":"Table1[[#This Row],[Portico_Specialty]]&\"-\"&Table1[[#This Row],[Code]]","v":"Single Specialty-193400000X"},null,{"$f":"IFERROR(VLOOKUP(ROWS($U$1:U807),$R$2:$S$918,2,FALSE),\"\")","v":""}]
["314000000X",{"$f":"Table1[[#This Row],[Code]]&\" \"&Table1[[#This Row],[Portico_Specialty]]","v":"314000000X Skilled Nursing Facility"},{"$f":"CLEAN(Table1[[#This Row],[Code]])","v":"314000000X"},"Skilled Nursing Facility",null,"Medical taxonomy","Y","SN",null,"SN","SN","SN","SN","A1","SN",null,null,{"$f":"IF(ISNUMBER(SEARCH(INDIRECT(CELL(\"address\")),S809)),MAX($R$1:R808)+1,0)","v":0},{"$f":"Table1[[#This Row],[Portico_Specialty]]&\"-\"&Table1[[#This Row],[Code]]","v":"Skilled Nursing Facility-314000000X"},null,{"$f":"IFERROR(VLOOKUP(ROWS($U$1:U808),$R$2:$S$918,2,FALSE),\"\")","v":""}]
["3140N1450X",{"$f":"Table1[[#This Row],[Code]]&\" \"&Table1[[#This Row],[Portico_Specialty]]","v":"3140N1450X Skilled Nursing Facility: Nursing Care, Pediatric"},{"$f":"CLEAN(Table1[[#This Row],[Code]])","v":"3140N1450X"},"Skilled Nursing Facility: Nursing Care, Pediatric",null,"Medical taxonomy","N","SN",null,"SN","SN","SN","SN","A1","SN",null,null,{"$f":"IF(ISNUMBER(SEARCH(INDIRECT(CELL(\"address\")),S810)),MAX($R$1:R809)+1,0)","v":0},{"$f":"Table1[[#This Row],[Portico_Specialty]]&\"-\"&Table1[[#This Row],[Code]]","v":"Skilled Nursing Facility: Nursing Care, Pediatric-3140N1450X"},null,{"$f":"IFERROR(VLOOKUP(ROWS($U$1:U809),$R$2:$S$918,2,FALSE),\"\")","v":""}]
["173F00000X",{"$f":"Table1[[#This Row],[Code]]&\" \"&Table1[[#This Row],[Portico_Specialty]]","v":"173F00000X Sleep Specialist, PhD"},{"$f":"CLEAN(Table1[[#This Row],[Code]])","v":"173F00000X"},"Sleep Specialist, PhD",null,"Medical taxonomy","N","C0",null,"99","C0",null,null,null,"C0",null,null,{"$f":"IF(ISNUMBER(SEARCH(INDIRECT(CELL(\"address\")),S811)),MAX($R$1:R810)+1,0)","v":0},{"$f":"Table1[[#This Row],[Portico_Specialty]]&\"-\"&Table1[[#This Row],[Code]]","v":"Sleep Specialist, PhD-173F00000X"},null,{"$f":"IFERROR(VLOOKUP(ROWS($U$1:U810),$R$2:$S$918,2,FALSE),\"\")","v":""}]
["104100000X",{"$f":"Table1[[#This Row],[Code]]&\" \"&Table1[[#This Row],[Portico_Specialty]]","v":"104100000X Social Worker"},{"$f":"CLEAN(Table1[[#This Row],[Code]])","v":"104100000X"},"Social Worker",null,"BH Only Taxonomy","N","80",null,"80","80","80","80","80","80",null,null,{"$f":"IF(ISNUMBER(SEARCH(INDIRECT(CELL(\"address\")),S812)),MAX($R$1:R811)+1,0)","v":0},{"$f":"Table1[[#This Row],[Portico_Specialty]]&\"-\"&Table1[[#This Row],[Code]]","v":"Social Worker-104100000X"},null,{"$f":"IFERROR(VLOOKUP(ROWS($U$1:U811),$R$2:$S$918,2,FALSE),\"\")","v":""}]
["AltSpec1",{"$f":"Table1[[#This Row],[Code]]&\" \"&Table1[[#This Row],[Portico_Specialty]]","v":"AltSpec1 Social Worker Assistant - HCBS"},{"$f":"CLEAN(Table1[[#This Row],[Code]])","v":"AltSpec1"},"Social Worker Assistant - HCBS",null,"Medical taxonomy","N",null,null,null,"Z9",null,null,null,null,null,null,{"$f":"IF(ISNUMBER(SEARCH(INDIRECT(CELL(\"address\")),S813)),MAX($R$1:R812)+1,0)","v":0},{"$f":"Table1[[#This Row],[Portico_Specialty]]&\"-\"&Table1[[#This Row],[Code]]","v":"Social Worker Assistant - HCBS-AltSpec1"},null,{"$f":"IFERROR(VLOOKUP(ROWS($U$1:U812),$R$2:$S$918,2,FALSE),\"\")","v":""}]
["AltSpec1",{"$f":"Table1[[#This Row],[Code]]&\" \"&Table1[[#This Row],[Portico_Specialty]]","v":"AltSpec1 Social Worker Assistant Dual 399"},{"$f":"CLEAN(Table1[[#This Row],[Code]])","v":"AltSpec1"},"Social Worker Assistant Dual 399",null,"Medical taxonomy","N",null,null,null,"ZM",null,null,null,null,null,null,{"$f":"IF(ISNUMBER(SEARCH(INDIRECT(CELL(\"address\")),S814)),MAX($R$1:R813)+1,0)","v":0},{"$f":"Table1[[#This Row],[Portico_Specialty]]&\"-\"&Table1[[#This Row],[Code]]","v":"Social Worker Assistant Dual 399-AltSpec1"},null,{"$f":"IFERROR(VLOOKUP(ROWS($U$1:U813),$R$2:$S$918,2,FALSE),\"\")","v":""}]
["AltSpec1",{"$f":"Table1[[#This Row],[Code]]&\" \"&Table1[[#This Row],[Portico_Specialty]]","v":"AltSpec1 Social Worker Assistant Dual 699"},{"$f":"CLEAN(Table1[[#This Row],[Code]])","v":"AltSpec1"},"Social Worker Assistant Dual 699",null,"Medical taxonomy","N",null,null,null,"YM",null,null,null,null,null,null,{"$f":"IF(ISNUMBER(SEARCH(INDIRECT(CELL(\"address\")),S815)),MAX($R$1:R814)+1,0)","v":0},{"$f":"Table1[[#This Row],[Portico_Specialty]]&\"-\"&Table1[[#This Row],[Code]]","v":"Social Worker Assistant Dual 699-AltSpec1"},null,{"$f":"IFERROR(VLOOKUP(ROWS($U$1:U814),$R$2:$S$918,2,FALSE),\"\")","v":""}]
["AltSpec1",{"$f":"Table1[[#This Row],[Code]]&\" \"&Table1[[#This Row],[Portico_Specialty]]","v":"AltSpec1 Social Worker Trainee - HCBS"},{"$f":"CLEAN(Table1[[#This Row],[Code]])","v":"AltSpec1"},"Social Worker Trainee - HCBS",null,"Medical taxonomy","N",null,null,null,"Z0",null,null,null,null,null,null,{"$f":"IF(ISNUMBER(SEARCH(INDIRECT(CELL(\"address\")),S816)),MAX($R$1:R815)+1,0)","v":0},{"$f":"Table1[[#This Row],[Portico_Specialty]]&\"-\"&Table1[[#This Row],[Code]]","v":"Social Worker Trainee - HCBS-AltSpec1"},null,{"$f":"IFERROR(VLOOKUP(ROWS($U$1:U815),$R$2:$S$918,2,FALSE),\"\")","v":""}]
["AltSpec1",{"$f":"Table1[[#This Row],[Code]]&\" \"&Table1[[#This Row],[Portico_Specialty]]","v":"AltSpec1 Social Worker Trainee Dual 399"},{"$f":"CLEAN(Table1[[#This Row],[Code]])","v":"AltSpec1"},"Social Worker Trainee Dual 399",null,"Medical taxonomy","N",null,null,null,"ZL",null,null,null,null,null,null,{"$f":"IF(ISNUMBER(SEARCH(INDIRECT(CELL(\"address\")),S817)),MAX($R$1:R816)+1,0)","v":0},{"$f":"Table1[[#This Row],[Portico_Specialty]]&\"-\"&Table1[[#This Row],[Code]]","v":"Social Worker Trainee Dual 399-AltSpec1"},null,{"$f":"IFERROR(VLOOKUP(ROWS($U$1:U816),$R$2:$S$918,2,FALSE),\"\")","v":""}]
["AltSpec1",{"$f":"Table1[[#This Row],[Code]]&\" \"&Table1[[#This Row],[Portico_Specialty]]","v":"AltSpec1 Social Worker Trainee Dual 699"},{"$f":"CLEAN(Table1[[#This Row],[Code]])","v":"AltSpec1"},"Social Worker Trainee Dual 699",null,"Medical taxonomy","N",null,null,null,"YL",null,null,null,null,null,null,{"$f":"IF(ISNUMBER(SEARCH(INDIRECT(CELL(\"address\")),S818)),MAX($R$1:R817)+1,0)","v":0},{"$f":"Table1[[#This Row],[Portico_Specialty]]&\"-\"&Table1[[#This Row],[Code]]","v":"Social Worker Trainee Dual 699-AltSpec1"},null,{"$f":"IFERROR(VLOOKUP(ROWS($U$1:U817),$R$2:$S$918,2,FALSE),\"\")","v":""}]
["1041C0700X",{"$f":"Table1[[#This Row],[Code]]&\" \"&Table1[[#This Row],[Portico_Specialty]]","v":"1041C0700X Social Worker: Clinical"},{"$f":"CLEAN(Table1[[#This Row],[Code]])","v":"1041C0700X"},"Social Worker: Clinical",null,"BH Only Taxonomy","Y","80",null,"80","80","80","80","80","80",null,null,{"$f":"IF(ISNUMBER(SEARCH(INDIRECT(CELL(\"address\")),S819)),MAX($R$1:R818)+1,0)","v":0},{"$f":"Table1[[#This Row],[Portico_Specialty]]&\"-\"&Table1[[#This Row],[Code]]","v":"Social Worker: Clinical-1041C0700X"},null,{"$f":"IFERROR(VLOOKUP(ROWS($U$1:U818),$R$2:$S$918,2,FALSE),\"\")","v":""}]
["1041S0200X",{"$f":"Table1[[#This Row],[Code]]&\" \"&Table1[[#This Row],[Portico_Specialty]]","v":"1041S0200X Social Worker: School"},{"$f":"CLEAN(Table1[[#This Row],[Code]])","v":"1041S0200X"},"Social Worker: School",null,"BH Only Taxonomy","N","80",null,"80","80","80","80","80","80",null,null,{"$f":"IF(ISNUMBER(SEARCH(INDIRECT(CELL(\"address\")),S820)),MAX($R$1:R819)+1,0)","v":0},{"$f":"Table1[[#This Row],[Portico_Specialty]]&\"-\"&Table1[[#This Row],[Code]]","v":"Social Worker: School-1041S0200X"},null,{"$f":"IFERROR(VLOOKUP(ROWS($U$1:U819),$R$2:$S$918,2,FALSE),\"\")","v":""}]
["246X00000X",{"$f":"Table1[[#This Row],[Code]]&\" \"&Table1[[#This Row],[Portico_Specialty]]","v":"246X00000X Spec/Tech, Cardiovascular"},{"$f":"CLEAN(Table1[[#This Row],[Code]])","v":"246X00000X"},"Spec/Tech, Cardiovascular",null,"Medical taxonomy","N","87",null,"99","06","96",null,null,"06",null,null,{"$f":"IF(ISNUMBER(SEARCH(INDIRECT(CELL(\"address\")),S821)),MAX($R$1:R820)+1,0)","v":0},{"$f":"Table1[[#This Row],[Portico_Specialty]]&\"-\"&Table1[[#This Row],[Code]]","v":"Spec/Tech, Cardiovascular-246X00000X"},null,{"$f":"IFERROR(VLOOKUP(ROWS($U$1:U820),$R$2:$S$918,2,FALSE),\"\")","v":""}]
["246XC2901X",{"$f":"Table1[[#This Row],[Code]]&\" \"&Table1[[#This Row],[Portico_Specialty]]","v":"246XC2901X Spec/Tech, Cardiovascular: Cardiovascular Invasive Specialist"},{"$f":"CLEAN(Table1[[#This Row],[Code]])","v":"246XC2901X"},"Spec/Tech, Cardiovascular: Cardiovascular Invasive Specialist",null,"Medical taxonomy","N","87",null,"99","06",null,null,null,"06",null,null,{"$f":"IF(ISNUMBER(SEARCH(INDIRECT(CELL(\"address\")),S822)),MAX($R$1:R821)+1,0)","v":0},{"$f":"Table1[[#This Row],[Portico_Specialty]]&\"-\"&Table1[[#This Row],[Code]]","v":"Spec/Tech, Cardiovascular: Cardiovascular Invasive Specialist-246XC2901X"},null,{"$f":"IFERROR(VLOOKUP(ROWS($U$1:U821),$R$2:$S$918,2,FALSE),\"\")","v":""}]
["246XS1301X",{"$f":"Table1[[#This Row],[Code]]&\" \"&Table1[[#This Row],[Portico_Specialty]]","v":"246XS1301X Spec/Tech, Cardiovascular: Sonography"},{"$f":"CLEAN(Table1[[#This Row],[Code]])","v":"246XS1301X"},"Spec/Tech, Cardiovascular: Sonography",null,"Medical taxonomy","N","87",null,"99","06",null,null,null,"06",null,null,{"$f":"IF(ISNUMBER(SEARCH(INDIRECT(CELL(\"address\")),S823)),MAX($R$1:R822)+1,0)","v":0},{"$f":"Table1[[#This Row],[Portico_Specialty]]&\"-\"&Table1[[#This Row],[Code]]","v":"Spec/Tech, Cardiovascular: Sonography-246XS1301X"},null,{"$f":"IFERROR(VLOOKUP(ROWS($U$1:U822),$R$2:$S$918,2,FALSE),\"\")","v":""}]
["246XC2903X",{"$f":"Table1[[#This Row],[Code]]&\" \"&Table1[[#This Row],[Portico_Specialty]]","v":"246XC2903X Spec/Tech, Cardiovascular: Vascular Specialist"},{"$f":"CLEAN(Table1[[#This Row],[Code]])","v":"246XC2903X"},"Spec/Tech, Cardiovascular: Vascular Specialist",null,"Medical taxonomy","N","87",null,"99","06",null,null,null,"06",null,null,{"$f":"IF(ISNUMBER(SEARCH(INDIRECT(CELL(\"address\")),S824)),MAX($R$1:R823)+1,0)","v":0},{"$f":"Table1[[#This Row],[Portico_Specialty]]&\"-\"&Table1[[#This Row],[Code]]","v":"Spec/Tech, Cardiovascular: Vascular Specialist-246XC2903X"},null,{"$f":"IFERROR(VLOOKUP(ROWS($U$1:U823),$R$2:$S$918,2,FALSE),\"\")","v":""}]
["246Y00000X",{"$f":"Table1[[#This Row],[Code]]&\" \"&Table1[[#This Row],[Portico_Specialty]]","v":"246Y00000X Spec/Tech, Health Info"},{"$f":"CLEAN(Table1[[#This Row],[Code]])","v":"246Y00000X"},"Spec/Tech, Health Info",null,"Medical taxonomy","N","87",null,"99","PP","96",null,null,"PP",null,null,{"$f":"IF(ISNUMBER(SEARCH(INDIRECT(CELL(\"address\")),S825)),MAX($R$1:R824)+1,0)","v":0},{"$f":"Table1[[#This Row],[Portico_Specialty]]&\"-\"&Table1[[#This Row],[Code]]","v":"Spec/Tech, Health Info-246Y00000X"},null,{"$f":"IFERROR(VLOOKUP(ROWS($U$1:U824),$R$2:$S$918,2,FALSE),\"\")","v":""}]
["246YC3301X",{"$f":"Table1[[#This Row],[Code]]&\" \"&Table1[[#This Row],[Portico_Specialty]]","v":"246YC3301X Spec/Tech, Health Info: Coding Specialist, Hospital Based"},{"$f":"CLEAN(Table1[[#This Row],[Code]])","v":"246YC3301X"},"Spec/Tech, Health Info: Coding Specialist, Hospital Based",null,"Medical taxonomy","N",null,null,"99","PP",null,null,null,"PP",null,null,{"$f":"IF(ISNUMBER(SEARCH(INDIRECT(CELL(\"address\")),S826)),MAX($R$1:R825)+1,0)","v":0},{"$f":"Table1[[#This Row],[Portico_Specialty]]&\"-\"&Table1[[#This Row],[Code]]","v":"Spec/Tech, Health Info: Coding Specialist, Hospital Based-246YC3301X"},null,{"$f":"IFERROR(VLOOKUP(ROWS($U$1:U825),$R$2:$S$918,2,FALSE),\"\")","v":""}]
["246YC3302X",{"$f":"Table1[[#This Row],[Code]]&\" \"&Table1[[#This Row],[Portico_Specialty]]","v":"246YC3302X Spec/Tech, Health Info: Coding Specialist, Physician Office Based"},{"$f":"CLEAN(Table1[[#This Row],[Code]])","v":"246YC3302X"},"Spec/Tech, Health Info: Coding Specialist, Physician Office Based",null,"Medical taxonomy","N",null,null,"99","PP",null,null,null,"PP",null,null,{"$f":"IF(ISNUMBER(SEARCH(INDIRECT(CELL(\"address\")),S827)),MAX($R$1:R826)+1,0)","v":0},{"$f":"Table1[[#This Row],[Portico_Specialty]]&\"-\"&Table1[[#This Row],[Code]]","v":"Spec/Tech, Health Info: Coding Specialist, Physician Office Based-246YC3302X"},null,{"$f":"IFERROR(VLOOKUP(ROWS($U$1:U826),$R$2:$S$918,2,FALSE),\"\")","v":""}]
["246YR1600X",{"$f":"Table1[[#This Row],[Code]]&\" \"&Table1[[#This Row],[Portico_Specialty]]","v":"246YR1600X Spec/Tech, Health Info: Registered Record Administrator"},{"$f":"CLEAN(Table1[[#This Row],[Code]])","v":"246YR1600X"},"Spec/Tech, Health Info: Registered Record Administrator",null,"Medical taxonomy","N",null,null,"99","99",null,null,null,"99",null,null,{"$f":"IF(ISNUMBER(SEARCH(INDIRECT(CELL(\"address\")),S828)),MAX($R$1:R827)+1,0)","v":0},{"$f":"Table1[[#This Row],[Portico_Specialty]]&\"-\"&Table1[[#This Row],[Code]]","v":"Spec/Tech, Health Info: Registered Record Administrator-246YR1600X"},null,{"$f":"IFERROR(VLOOKUP(ROWS($U$1:U827),$R$2:$S$918,2,FALSE),\"\")","v":""}]
["246Q00000X",{"$f":"Table1[[#This Row],[Code]]&\" \"&Table1[[#This Row],[Portico_Specialty]]","v":"246Q00000X Spec/Tech, Pathology"},{"$f":"CLEAN(Table1[[#This Row],[Code]])","v":"246Q00000X"},"Spec/Tech, Pathology",null,"Medical taxonomy","N","87",null,"99","22","96",null,null,"22",null,null,{"$f":"IF(ISNUMBER(SEARCH(INDIRECT(CELL(\"address\")),S829)),MAX($R$1:R828)+1,0)","v":0},{"$f":"Table1[[#This Row],[Portico_Specialty]]&\"-\"&Table1[[#This Row],[Code]]","v":"Spec/Tech, Pathology-246Q00000X"},null,{"$f":"IFERROR(VLOOKUP(ROWS($U$1:U828),$R$2:$S$918,2,FALSE),\"\")","v":""}]
["246QB0000X",{"$f":"Table1[[#This Row],[Code]]&\" \"&Table1[[#This Row],[Portico_Specialty]]","v":"246QB0000X Spec/Tech, Pathology: Blood Banking"},{"$f":"CLEAN(Table1[[#This Row],[Code]])","v":"246QB0000X"},"Spec/Tech, Pathology: Blood Banking",null,"Medical taxonomy","N","87",null,"99","22",null,null,null,"22",null,null,{"$f":"IF(ISNUMBER(SEARCH(INDIRECT(CELL(\"address\")),S830)),MAX($R$1:R829)+1,0)","v":0},{"$f":"Table1[[#This Row],[Portico_Specialty]]&\"-\"&Table1[[#This Row],[Code]]","v":"Spec/Tech, Pathology: Blood Banking-246QB0000X"},null,{"$f":"IFERROR(VLOOKUP(ROWS($U$1:U829),$R$2:$S$918,2,FALSE),\"\")","v":""}]
["246QC1000X",{"$f":"Table1[[#This Row],[Code]]&\" \"&Table1[[#This Row],[Portico_Specialty]]","v":"246QC1000X Spec/Tech, Pathology: Chemistry"},{"$f":"CLEAN(Table1[[#This Row],[Code]])","v":"246QC1000X"},"Spec/Tech, Pathology: Chemistry",null,"Medical taxonomy","N","87",null,"99","22",null,null,null,"22",null,null,{"$f":"IF(ISNUMBER(SEARCH(INDIRECT(CELL(\"address\")),S831)),MAX($R$1:R830)+1,0)","v":0},{"$f":"Table1[[#This Row],[Portico_Specialty]]&\"-\"&Table1[[#This Row],[Code]]","v":"Spec/Tech, Pathology: Chemistry-246QC1000X"},null,{"$f":"IFERROR(VLOOKUP(ROWS($U$1:U830),$R$2:$S$918,2,FALSE),\"\")","v":""}]
["246QC2700X",{"$f":"Table1[[#This Row],[Code]]&\" \"&Table1[[#This Row],[Portico_Specialty]]","v":"246QC2700X Spec/Tech, Pathology: Cytotechnology"},{"$f":"CLEAN(Table1[[#This Row],[Code]])","v":"246QC2700X"},"Spec/Tech, Pathology: Cytotechnology",null,"Medical taxonomy","N","87",null,"99","22",null,null,null,"22",null,null,{"$f":"IF(ISNUMBER(SEARCH(INDIRECT(CELL(\"address\")),S832)),MAX($R$1:R831)+1,0)","v":0},{"$f":"Table1[[#This Row],[Portico_Specialty]]&\"-\"&Table1[[#This Row],[Code]]","v":"Spec/Tech, Pathology: Cytotechnology-246QC2700X"},null,{"$f":"IFERROR(VLOOKUP(ROWS($U$1:U831),$R$2:$S$918,2,FALSE),\"\")","v":""}]
["246QH0401X",{"$f":"Table1[[#This Row],[Code]]&\" \"&Table1[[#This Row],[Portico_Specialty]]","v":"246QH0401X Spec/Tech, Pathology: Hemapheresis Practitioner"},{"$f":"CLEAN(Table1[[#This Row],[Code]])","v":"246QH0401X"},"Spec/Tech, Pathology: Hemapheresis Practitioner",null,"Medical taxonomy","N","87",null,"99","22",null,null,null,"22",null,null,{"$f":"IF(ISNUMBER(SEARCH(INDIRECT(CELL(\"address\")),S833)),MAX($R$1:R832)+1,0)","v":0},{"$f":"Table1[[#This Row],[Portico_Specialty]]&\"-\"&Table1[[#This Row],[Code]]","v":"Spec/Tech, Pathology: Hemapheresis Practitioner-246QH0401X"},null,{"$f":"IFERROR(VLOOKUP(ROWS($U$1:U832),$R$2:$S$918,2,FALSE),\"\")","v":""}]
["246QH0000X",{"$f":"Table1[[#This Row],[Code]]&\" \"&Table1[[#This Row],[Portico_Specialty]]","v":"246QH0000X Spec/Tech, Pathology: Hematology"},{"$f":"CLEAN(Table1[[#This Row],[Code]])","v":"246QH0000X"},"Spec/Tech, Pathology: Hematology",null,"Medical taxonomy","N","87",null,"99","22",null,null,null,"22",null,null,{"$f":"IF(ISNUMBER(SEARCH(INDIRECT(CELL(\"address\")),S834)),MAX($R$1:R833)+1,0)","v":0},{"$f":"Table1[[#This Row],[Portico_Specialty]]&\"-\"&Table1[[#This Row],[Code]]","v":"Spec/Tech, Pathology: Hematology-246QH0000X"},null,{"$f":"IFERROR(VLOOKUP(ROWS($U$1:U833),$R$2:$S$918,2,FALSE),\"\")","v":""}]
["246QH0600X",{"$f":"Table1[[#This Row],[Code]]&\" \"&Table1[[#This Row],[Portico_Specialty]]","v":"246QH0600X Spec/Tech, Pathology: Histology"},{"$f":"CLEAN(Table1[[#This Row],[Code]])","v":"246QH0600X"},"Spec/Tech, Pathology: Histology",null,"Medical taxonomy","N","87",null,"99","22",null,null,null,"22",null,null,{"$f":"IF(ISNUMBER(SEARCH(INDIRECT(CELL(\"address\")),S835)),MAX($R$1:R834)+1,0)","v":0},{"$f":"Table1[[#This Row],[Portico_Specialty]]&\"-\"&Table1[[#This Row],[Code]]","v":"Spec/Tech, Pathology: Histology-246QH0600X"},null,{"$f":"IFERROR(VLOOKUP(ROWS($U$1:U834),$R$2:$S$918,2,FALSE),\"\")","v":""}]
["246QI0000X",{"$f":"Table1[[#This Row],[Code]]&\" \"&Table1[[#This Row],[Portico_Specialty]]","v":"246QI0000X Spec/Tech, Pathology: Immunology"},{"$f":"CLEAN(Table1[[#This Row],[Code]])","v":"246QI0000X"},"Spec/Tech, Pathology: Immunology",null,"Medical taxonomy","N","87",null,"99","22",null,null,null,"22",null,null,{"$f":"IF(ISNUMBER(SEARCH(INDIRECT(CELL(\"address\")),S836)),MAX($R$1:R835)+1,0)","v":0},{"$f":"Table1[[#This Row],[Portico_Specialty]]&\"-\"&Table1[[#This Row],[Code]]","v":"Spec/Tech, Pathology: Immunology-246QI0000X"},null,{"$f":"IFERROR(VLOOKUP(ROWS($U$1:U835),$R$2:$S$918,2,FALSE),\"\")","v":""}]
["246QL0900X",{"$f":"Table1[[#This Row],[Code]]&\" \"&Table1[[#This Row],[Portico_Specialty]]","v":"246QL0900X Spec/Tech, Pathology: Laboratory Management"},{"$f":"CLEAN(Table1[[#This Row],[Code]])","v":"246QL0900X"},"Spec/Tech, Pathology: Laboratory Management",null,"Medical taxonomy","N","87",null,"99","22",null,null,null,"22",null,null,{"$f":"IF(ISNUMBER(SEARCH(INDIRECT(CELL(\"address\")),S837)),MAX($R$1:R836)+1,0)","v":0},{"$f":"Table1[[#This Row],[Portico_Specialty]]&\"-\"&Table1[[#This Row],[Code]]","v":"Spec/Tech, Pathology: Laboratory Management-246QL0900X"},null,{"$f":"IFERROR(VLOOKUP(ROWS($U$1:U836),$R$2:$S$918,2,FALSE),\"\")","v":""}]
["246QL0901X",{"$f":"Table1[[#This Row],[Code]]&\" \"&Table1[[#This Row],[Portico_Specialty]]","v":"246QL0901X Spec/Tech, Pathology: Laboratory Management, Diplomate"},{"$f":"CLEAN(Table1[[#This Row],[Code]])","v":"246QL0901X"},"Spec/Tech, Pathology: Laboratory Management, Diplomate",null,"Medical taxonomy","N","87",null,"99","22",null,null,null,"22",null,null,{"$f":"IF(ISNUMBER(SEARCH(INDIRECT(CELL(\"address\")),S838)),MAX($R$1:R837)+1,0)","v":0},{"$f":"Table1[[#This Row],[Portico_Specialty]]&\"-\"&Table1[[#This Row],[Code]]","v":"Spec/Tech, Pathology: Laboratory Management, Diplomate-246QL0901X"},null,{"$f":"IFERROR(VLOOKUP(ROWS($U$1:U837),$R$2:$S$918,2,FALSE),\"\")","v":""}]
["246QM0706X",{"$f":"Table1[[#This Row],[Code]]&\" \"&Table1[[#This Row],[Portico_Specialty]]","v":"246QM0706X Spec/Tech, Pathology: Medical Technologist"},{"$f":"CLEAN(Table1[[#This Row],[Code]])","v":"246QM0706X"},"Spec/Tech, Pathology: Medical Technologist",null,"Medical taxonomy","N","87",null,"99","22",null,null,null,"22",null,null,{"$f":"IF(ISNUMBER(SEARCH(INDIRECT(CELL(\"address\")),S839)),MAX($R$1:R838)+1,0)","v":0},{"$f":"Table1[[#This Row],[Portico_Specialty]]&\"-\"&Table1[[#This Row],[Code]]","v":"Spec/Tech, Pathology: Medical Technologist-246QM0706X"},null,{"$f":"IFERROR(VLOOKUP(ROWS($U$1:U838),$R$2:$S$918,2,FALSE),\"\")","v":""}]
["246QM0900X",{"$f":"Table1[[#This Row],[Code]]&\" \"&Table1[[#This Row],[Portico_Specialty]]","v":"246QM0900X Spec/Tech, Pathology: Microbiology"},{"$f":"CLEAN(Table1[[#This Row],[Code]])","v":"246QM0900X"},"Spec/Tech, Pathology: Microbiology",null,"Medical taxonomy","N",null,null,"99","22",null,null,null,"22",null,null,{"$f":"IF(ISNUMBER(SEARCH(INDIRECT(CELL(\"address\")),S840)),MAX($R$1:R839)+1,0)","v":0},{"$f":"Table1[[#This Row],[Portico_Specialty]]&\"-\"&Table1[[#This Row],[Code]]","v":"Spec/Tech, Pathology: Microbiology-246QM0900X"},null,{"$f":"IFERROR(VLOOKUP(ROWS($U$1:U839),$R$2:$S$918,2,FALSE),\"\")","v":""}]
["284300000X",{"$f":"Table1[[#This Row],[Code]]&\" \"&Table1[[#This Row],[Portico_Specialty]]","v":"284300000X Special Hospital"},{"$f":"CLEAN(Table1[[#This Row],[Code]])","v":"284300000X"},"Special Hospital",null,"Medical taxonomy","Y","HO",null,"HO","HO","HO","HO","A0","HO",null,null,{"$f":"IF(ISNUMBER(SEARCH(INDIRECT(CELL(\"address\")),S841)),MAX($R$1:R840)+1,0)","v":0},{"$f":"Table1[[#This Row],[Portico_Specialty]]&\"-\"&Table1[[#This Row],[Code]]","v":"Special Hospital-284300000X"},null,{"$f":"IFERROR(VLOOKUP(ROWS($U$1:U840),$R$2:$S$918,2,FALSE),\"\")","v":""}]
["174400000X",{"$f":"Table1[[#This Row],[Code]]&\" \"&Table1[[#This Row],[Portico_Specialty]]","v":"174400000X Specialist"},{"$f":"CLEAN(Table1[[#This Row],[Code]])","v":"174400000X"},"Specialist",null,"Medical taxonomy","N","99",null,"99","26","99","87","99","26",null,null,{"$f":"IF(ISNUMBER(SEARCH(INDIRECT(CELL(\"address\")),S842)),MAX($R$1:R841)+1,0)","v":0},{"$f":"Table1[[#This Row],[Portico_Specialty]]&\"-\"&Table1[[#This Row],[Code]]","v":"Specialist-174400000X"},null,{"$f":"IFERROR(VLOOKUP(ROWS($U$1:U841),$R$2:$S$918,2,FALSE),\"\")","v":""}]
["225500000X",{"$f":"Table1[[#This Row],[Code]]&\" \"&Table1[[#This Row],[Portico_Specialty]]","v":"225500000X Specialist/Technologist (Respiratory & Rehab)"},{"$f":"CLEAN(Table1[[#This Row],[Code]])","v":"225500000X"},"Specialist/Technologist (Respiratory & Rehab)",null,"Medical taxonomy","N",null,null,"99","65",null,"87",null,"65",null,null,{"$f":"IF(ISNUMBER(SEARCH(INDIRECT(CELL(\"address\")),S843)),MAX($R$1:R842)+1,0)","v":0},{"$f":"Table1[[#This Row],[Portico_Specialty]]&\"-\"&Table1[[#This Row],[Code]]","v":"Specialist/Technologist (Respiratory & Rehab)-225500000X"},null,{"$f":"IFERROR(VLOOKUP(ROWS($U$1:U842),$R$2:$S$918,2,FALSE),\"\")","v":""}]
["235500000X",{"$f":"Table1[[#This Row],[Code]]&\" \"&Table1[[#This Row],[Portico_Specialty]]","v":"235500000X Specialist/Technologist (Speech & Hearing)"},{"$f":"CLEAN(Table1[[#This Row],[Code]])","v":"235500000X"},"Specialist/Technologist (Speech & Hearing)",null,"Medical taxonomy","N",null,null,"99","ST",null,null,null,"ST",null,null,{"$f":"IF(ISNUMBER(SEARCH(INDIRECT(CELL(\"address\")),S844)),MAX($R$1:R843)+1,0)","v":0},{"$f":"Table1[[#This Row],[Portico_Specialty]]&\"-\"&Table1[[#This Row],[Code]]","v":"Specialist/Technologist (Speech & Hearing)-235500000X"},null,{"$f":"IFERROR(VLOOKUP(ROWS($U$1:U843),$R$2:$S$918,2,FALSE),\"\")","v":""}]
["246Z00000X",{"$f":"Table1[[#This Row],[Code]]&\" \"&Table1[[#This Row],[Portico_Specialty]]","v":"246Z00000X Specialist/Technologist, Other"},{"$f":"CLEAN(Table1[[#This Row],[Code]])","v":"246Z00000X"},"Specialist/Technologist, Other",null,"Medical taxonomy","N","87",null,"99","PP",null,"87",null,"PP",null,null,{"$f":"IF(ISNUMBER(SEARCH(INDIRECT(CELL(\"address\")),S845)),MAX($R$1:R844)+1,0)","v":0},{"$f":"Table1[[#This Row],[Portico_Specialty]]&\"-\"&Table1[[#This Row],[Code]]","v":"Specialist/Technologist, Other-246Z00000X"},null,{"$f":"IFERROR(VLOOKUP(ROWS($U$1:U844),$R$2:$S$918,2,FALSE),\"\")","v":""}]
["246ZA2600X",{"$f":"Table1[[#This Row],[Code]]&\" \"&Table1[[#This Row],[Portico_Specialty]]","v":"246ZA2600X Specialist/Technologist, Other: Art, Medical"},{"$f":"CLEAN(Table1[[#This Row],[Code]])","v":"246ZA2600X"},"Specialist/Technologist, Other: Art, Medical",null,"Medical taxonomy","N",null,null,"99","PP",null,null,null,"PP",null,null,{"$f":"IF(ISNUMBER(SEARCH(INDIRECT(CELL(\"address\")),S846)),MAX($R$1:R845)+1,0)","v":0},{"$f":"Table1[[#This Row],[Portico_Specialty]]&\"-\"&Table1[[#This Row],[Code]]","v":"Specialist/Technologist, Other: Art, Medical-246ZA2600X"},null,{"$f":"IFERROR(VLOOKUP(ROWS($U$1:U845),$R$2:$S$918,2,FALSE),\"\")","v":""}]
["246ZB0500X",{"$f":"Table1[[#This Row],[Code]]&\" \"&Table1[[#This Row],[Portico_Specialty]]","v":"246ZB0500X Specialist/Technologist, Other: Biochemist"},{"$f":"CLEAN(Table1[[#This Row],[Code]])","v":"246ZB0500X"},"Specialist/Technologist, Other: Biochemist",null,"Medical taxonomy","N","87",null,"99","PP",null,null,null,"PP",null,null,{"$f":"IF(ISNUMBER(SEARCH(INDIRECT(CELL(\"address\")),S847)),MAX($R$1:R846)+1,0)","v":0},{"$f":"Table1[[#This Row],[Portico_Specialty]]&\"-\"&Table1[[#This Row],[Code]]","v":"Specialist/Technologist, Other: Biochemist-246ZB0500X"},null,{"$f":"IFERROR(VLOOKUP(ROWS($U$1:U846),$R$2:$S$918,2,FALSE),\"\")","v":""}]
["246ZB0301X",{"$f":"Table1[[#This Row],[Code]]&\" \"&Table1[[#This Row],[Portico_Specialty]]","v":"246ZB0301X Specialist/Technologist, Other: Biomedical Engineering"},{"$f":"CLEAN(Table1[[#This Row],[Code]])","v":"246ZB0301X"},"Specialist/Technologist, Other: Biomedical Engineering",null,"Medical taxonomy","N","87",null,"99","PP",null,null,null,"PP",null,null,{"$f":"IF(ISNUMBER(SEARCH(INDIRECT(CELL(\"address\")),S848)),MAX($R$1:R847)+1,0)","v":0},{"$f":"Table1[[#This Row],[Portico_Specialty]]&\"-\"&Table1[[#This Row],[Code]]","v":"Specialist/Technologist, Other: Biomedical Engineering-246ZB0301X"},null,{"$f":"IFERROR(VLOOKUP(ROWS($U$1:U847),$R$2:$S$918,2,FALSE),\"\")","v":""}]
["246ZB0302X",{"$f":"Table1[[#This Row],[Code]]&\" \"&Table1[[#This Row],[Portico_Specialty]]","v":"246ZB0302X Specialist/Technologist, Other: Biomedical Photographer"},{"$f":"CLEAN(Table1[[#This Row],[Code]])","v":"246ZB0302X"},"Specialist/Technologist, Other: Biomedical Photographer",null,"Medical taxonomy","N","87",null,"99","PP",null,null,null,"PP",null,null,{"$f":"IF(ISNUMBER(SEARCH(INDIRECT(CELL(\"address\")),S849)),MAX($R$1:R848)+1,0)","v":0},{"$f":"Table1[[#This Row],[Portico_Specialty]]&\"-\"&Table1[[#This Row],[Code]]","v":"Specialist/Technologist, Other: Biomedical Photographer-246ZB0302X"},null,{"$f":"IFERROR(VLOOKUP(ROWS($U$1:U848),$R$2:$S$918,2,FALSE),\"\")","v":""}]
["246ZB0600X",{"$f":"Table1[[#This Row],[Code]]&\" \"&Table1[[#This Row],[Portico_Specialty]]","v":"246ZB0600X Specialist/Technologist, Other: Biostatistician"},{"$f":"CLEAN(Table1[[#This Row],[Code]])","v":"246ZB0600X"},"Specialist/Technologist, Other: Biostatistician",null,"Medical taxonomy","N","87",null,"99","PP",null,null,null,"PP",null,null,{"$f":"IF(ISNUMBER(SEARCH(INDIRECT(CELL(\"address\")),S850)),MAX($R$1:R849)+1,0)","v":0},{"$f":"Table1[[#This Row],[Portico_Specialty]]&\"-\"&Table1[[#This Row],[Code]]","v":"Specialist/Technologist, Other: Biostatistician-246ZB0600X"},null,{"$f":"IFERROR(VLOOKUP(ROWS($U$1:U849),$R$2:$S$918,2,FALSE),\"\")","v":""}]
["246ZC0007X",{"$f":"Table1[[#This Row],[Code]]&\" \"&Table1[[#This Row],[Portico_Specialty]]","v":"246ZC0007X Specialist/Technologist, Other: Certified First Assistant"},{"$f":"CLEAN(Table1[[#This Row],[Code]])","v":"246ZC0007X"},"Specialist/Technologist, Other: Certified First Assistant",null,"Medical taxonomy","N",null,null,"99","99",null,"87","87","99",null,null,{"$f":"IF(ISNUMBER(SEARCH(INDIRECT(CELL(\"address\")),S851)),MAX($R$1:R850)+1,0)","v":0},{"$f":"Table1[[#This Row],[Portico_Specialty]]&\"-\"&Table1[[#This Row],[Code]]","v":"Specialist/Technologist, Other: Certified First Assistant-246ZC0007X"},null,{"$f":"IFERROR(VLOOKUP(ROWS($U$1:U850),$R$2:$S$918,2,FALSE),\"\")","v":""}]
["246ZE0500X",{"$f":"Table1[[#This Row],[Code]]&\" \"&Table1[[#This Row],[Portico_Specialty]]","v":"246ZE0500X Specialist/Technologist, Other: EEG"},{"$f":"CLEAN(Table1[[#This Row],[Code]])","v":"246ZE0500X"},"Specialist/Technologist, Other: EEG",null,"Medical taxonomy","N","87",null,"99","99",null,null,null,"99",null,null,{"$f":"IF(ISNUMBER(SEARCH(INDIRECT(CELL(\"address\")),S852)),MAX($R$1:R851)+1,0)","v":0},{"$f":"Table1[[#This Row],[Portico_Specialty]]&\"-\"&Table1[[#This Row],[Code]]","v":"Specialist/Technologist, Other: EEG-246ZE0500X"},null,{"$f":"IFERROR(VLOOKUP(ROWS($U$1:U851),$R$2:$S$918,2,FALSE),\"\")","v":""}]
["246ZE0600X",{"$f":"Table1[[#This Row],[Code]]&\" \"&Table1[[#This Row],[Portico_Specialty]]","v":"246ZE0600X Specialist/Technologist, Other: Electroneurodiagnostic"},{"$f":"CLEAN(Table1[[#This Row],[Code]])","v":"246ZE0600X"},"Specialist/Technologist, Other: Electroneurodiagnostic",null,"Medical taxonomy","N","87",null,"99","99","47","87","87","99",null,null,{"$f":"IF(ISNUMBER(SEARCH(INDIRECT(CELL(\"address\")),S853)),MAX($R$1:R852)+1,0)","v":0},{"$f":"Table1[[#This Row],[Portico_Specialty]]&\"-\"&Table1[[#This Row],[Code]]","v":"Specialist/Technologist, Other: Electroneurodiagnostic-246ZE0600X"},null,{"$f":"IFERROR(VLOOKUP(ROWS($U$1:U852),$R$2:$S$918,2,FALSE),\"\")","v":""}]
["246ZG1000X",{"$f":"Table1[[#This Row],[Code]]&\" \"&Table1[[#This Row],[Portico_Specialty]]","v":"246ZG1000X Specialist/Technologist, Other: Geneticist, Medical (PhD)"},{"$f":"CLEAN(Table1[[#This Row],[Code]])","v":"246ZG1000X"},"Specialist/Technologist, Other: Geneticist, Medical (PhD)",null,"Medical taxonomy","N","87",null,"99","GN",null,null,null,"GN",null,null,{"$f":"IF(ISNUMBER(SEARCH(INDIRECT(CELL(\"address\")),S854)),MAX($R$1:R853)+1,0)","v":0},{"$f":"Table1[[#This Row],[Portico_Specialty]]&\"-\"&Table1[[#This Row],[Code]]","v":"Specialist/Technologist, Other: Geneticist, Medical (PhD)-246ZG1000X"},null,{"$f":"IFERROR(VLOOKUP(ROWS($U$1:U853),$R$2:$S$918,2,FALSE),\"\")","v":""}]
["246ZG0701X",{"$f":"Table1[[#This Row],[Code]]&\" \"&Table1[[#This Row],[Portico_Specialty]]","v":"246ZG0701X Specialist/Technologist, Other: Graphics Methods"},{"$f":"CLEAN(Table1[[#This Row],[Code]])","v":"246ZG0701X"},"Specialist/Technologist, Other: Graphics Methods",null,"Medical taxonomy","N",null,null,"99","PP",null,null,null,"PP",null,null,{"$f":"IF(ISNUMBER(SEARCH(INDIRECT(CELL(\"address\")),S855)),MAX($R$1:R854)+1,0)","v":0},{"$f":"Table1[[#This Row],[Portico_Specialty]]&\"-\"&Table1[[#This Row],[Code]]","v":"Specialist/Technologist, Other: Graphics Methods-246ZG0701X"},null,{"$f":"IFERROR(VLOOKUP(ROWS($U$1:U854),$R$2:$S$918,2,FALSE),\"\")","v":""}]
["246ZI1000X",{"$f":"Table1[[#This Row],[Code]]&\" \"&Table1[[#This Row],[Portico_Specialty]]","v":"246ZI1000X Specialist/Technologist, Other: Illustration, Medical"},{"$f":"CLEAN(Table1[[#This Row],[Code]])","v":"246ZI1000X"},"Specialist/Technologist, Other: Illustration, Medical",null,"Medical taxonomy","N",null,null,"99","PP",null,null,null,"PP",null,null,{"$f":"IF(ISNUMBER(SEARCH(INDIRECT(CELL(\"address\")),S856)),MAX($R$1:R855)+1,0)","v":0},{"$f":"Table1[[#This Row],[Portico_Specialty]]&\"-\"&Table1[[#This Row],[Code]]","v":"Specialist/Technologist, Other: Illustration, Medical-246ZI1000X"},null,{"$f":"IFERROR(VLOOKUP(ROWS($U$1:U855),$R$2:$S$918,2,FALSE),\"\")","v":""}]
["246ZN0300X",{"$f":"Table1[[#This Row],[Code]]&\" \"&Table1[[#This Row],[Portico_Specialty]]","v":"246ZN0300X Specialist/Technologist, Other: Nephrology"},{"$f":"CLEAN(Table1[[#This Row],[Code]])","v":"246ZN0300X"},"Specialist/Technologist, Other: Nephrology",null,"Medical taxonomy","N","87",null,"99","39",null,null,null,"39",null,null,{"$f":"IF(ISNUMBER(SEARCH(INDIRECT(CELL(\"address\")),S857)),MAX($R$1:R856)+1,0)","v":0},{"$f":"Table1[[#This Row],[Portico_Specialty]]&\"-\"&Table1[[#This Row],[Code]]","v":"Specialist/Technologist, Other: Nephrology-246ZN0300X"},null,{"$f":"IFERROR(VLOOKUP(ROWS($U$1:U856),$R$2:$S$918,2,FALSE),\"\")","v":""}]
["246ZX2200X",{"$f":"Table1[[#This Row],[Code]]&\" \"&Table1[[#This Row],[Portico_Specialty]]","v":"246ZX2200X Specialist/Technologist, Other: Orthopedic Assistant"},{"$f":"CLEAN(Table1[[#This Row],[Code]])","v":"246ZX2200X"},"Specialist/Technologist, Other: Orthopedic Assistant",null,"Medical taxonomy","N",null,null,"99","20",null,null,null,"20",null,null,{"$f":"IF(ISNUMBER(SEARCH(INDIRECT(CELL(\"address\")),S858)),MAX($R$1:R857)+1,0)","v":0},{"$f":"Table1[[#This Row],[Portico_Specialty]]&\"-\"&Table1[[#This Row],[Code]]","v":"Specialist/Technologist, Other: Orthopedic Assistant-246ZX2200X"},null,{"$f":"IFERROR(VLOOKUP(ROWS($U$1:U857),$R$2:$S$918,2,FALSE),\"\")","v":""}]
["246ZS0400X",{"$f":"Table1[[#This Row],[Code]]&\" \"&Table1[[#This Row],[Portico_Specialty]]","v":"246ZS0400X Specialist/Technologist, Other: Surgical"},{"$f":"CLEAN(Table1[[#This Row],[Code]])","v":"246ZS0400X"},"Specialist/Technologist, Other: Surgical",null,"Medical taxonomy","N","87",null,"99","02",null,"87","87","02",null,null,{"$f":"IF(ISNUMBER(SEARCH(INDIRECT(CELL(\"address\")),S859)),MAX($R$1:R858)+1,0)","v":0},{"$f":"Table1[[#This Row],[Portico_Specialty]]&\"-\"&Table1[[#This Row],[Code]]","v":"Specialist/Technologist, Other: Surgical-246ZS0400X"},null,{"$f":"IFERROR(VLOOKUP(ROWS($U$1:U858),$R$2:$S$918,2,FALSE),\"\")","v":""}]
["246ZS0410X",{"$f":"Table1[[#This Row],[Code]]&\" \"&Table1[[#This Row],[Portico_Specialty]]","v":"246ZS0410X Specialist/Technologist, Other: Surgical Technologist"},{"$f":"CLEAN(Table1[[#This Row],[Code]])","v":"246ZS0410X"},"Specialist/Technologist, Other: Surgical Technologist",null,"Medical taxonomy","N",null,null,"02","02",null,null,null,"02",null,null,{"$f":"IF(ISNUMBER(SEARCH(INDIRECT(CELL(\"address\")),S860)),MAX($R$1:R859)+1,0)","v":0},{"$f":"Table1[[#This Row],[Portico_Specialty]]&\"-\"&Table1[[#This Row],[Code]]","v":"Specialist/Technologist, Other: Surgical Technologist-246ZS0410X"},null,{"$f":"IFERROR(VLOOKUP(ROWS($U$1:U859),$R$2:$S$918,2,FALSE),\"\")","v":""}]
["2255A2300X",{"$f":"Table1[[#This Row],[Code]]&\" \"&Table1[[#This Row],[Portico_Specialty]]","v":"2255A2300X Specialist/Technologist: Athletic Trainer"},{"$f":"CLEAN(Table1[[#This Row],[Code]])","v":"2255A2300X"},"Specialist/Technologist: Athletic Trainer",null,"Medical taxonomy","N","87",null,"99","65","65",null,"87","65",null,null,{"$f":"IF(ISNUMBER(SEARCH(INDIRECT(CELL(\"address\")),S861)),MAX($R$1:R860)+1,0)","v":0},{"$f":"Table1[[#This Row],[Portico_Specialty]]&\"-\"&Table1[[#This Row],[Code]]","v":"Specialist/Technologist: Athletic Trainer-2255A2300X"},null,{"$f":"IFERROR(VLOOKUP(ROWS($U$1:U860),$R$2:$S$918,2,FALSE),\"\")","v":""}]
["2355A2700X",{"$f":"Table1[[#This Row],[Code]]&\" \"&Table1[[#This Row],[Portico_Specialty]]","v":"2355A2700X Specialist/Technologist: Audiology Assistant"},{"$f":"CLEAN(Table1[[#This Row],[Code]])","v":"2355A2700X"},"Specialist/Technologist: Audiology Assistant",null,"Medical taxonomy","N",null,null,"99","64",null,null,null,"64",null,null,{"$f":"IF(ISNUMBER(SEARCH(INDIRECT(CELL(\"address\")),S862)),MAX($R$1:R861)+1,0)","v":0},{"$f":"Table1[[#This Row],[Portico_Specialty]]&\"-\"&Table1[[#This Row],[Code]]","v":"Specialist/Technologist: Audiology Assistant-2355A2700X"},null,{"$f":"IFERROR(VLOOKUP(ROWS($U$1:U861),$R$2:$S$918,2,FALSE),\"\")","v":""}]
["2255R0406X",{"$f":"Table1[[#This Row],[Code]]&\" \"&Table1[[#This Row],[Portico_Specialty]]","v":"2255R0406X Specialist/Technologist: Rehabilitation, Blind"},{"$f":"CLEAN(Table1[[#This Row],[Code]])","v":"2255R0406X"},"Specialist/Technologist: Rehabilitation, Blind",null,"Medical taxonomy","N","87",null,"99","25",null,null,null,"25",null,null,{"$f":"IF(ISNUMBER(SEARCH(INDIRECT(CELL(\"address\")),S863)),MAX($R$1:R862)+1,0)","v":0},{"$f":"Table1[[#This Row],[Portico_Specialty]]&\"-\"&Table1[[#This Row],[Code]]","v":"Specialist/Technologist: Rehabilitation, Blind-2255R0406X"},null,{"$f":"IFERROR(VLOOKUP(ROWS($U$1:U862),$R$2:$S$918,2,FALSE),\"\")","v":""}]
["2355S0801X",{"$f":"Table1[[#This Row],[Code]]&\" \"&Table1[[#This Row],[Portico_Specialty]]","v":"2355S0801X Specialist/Technologist: Speech-Language Assistant"},{"$f":"CLEAN(Table1[[#This Row],[Code]])","v":"2355S0801X"},"Specialist/Technologist: Speech-Language Assistant",null,"Medical taxonomy","N","ST",null,"99","ST","ST",null,null,"ST",null,null,{"$f":"IF(ISNUMBER(SEARCH(INDIRECT(CELL(\"address\")),S864)),MAX($R$1:R863)+1,0)","v":0},{"$f":"Table1[[#This Row],[Portico_Specialty]]&\"-\"&Table1[[#This Row],[Code]]","v":"Specialist/Technologist: Speech-Language Assistant-2355S0801X"},null,{"$f":"IFERROR(VLOOKUP(ROWS($U$1:U863),$R$2:$S$918,2,FALSE),\"\")","v":""}]
["1744G0900X",{"$f":"Table1[[#This Row],[Code]]&\" \"&Table1[[#This Row],[Portico_Specialty]]","v":"1744G0900X Specialist: Graphics Designer"},{"$f":"CLEAN(Table1[[#This Row],[Code]])","v":"1744G0900X"},"Specialist: Graphics Designer",null,"Medical taxonomy","N",null,null,"99","99",null,null,null,"99",null,null,{"$f":"IF(ISNUMBER(SEARCH(INDIRECT(CELL(\"address\")),S865)),MAX($R$1:R864)+1,0)","v":0},{"$f":"Table1[[#This Row],[Portico_Specialty]]&\"-\"&Table1[[#This Row],[Code]]","v":"Specialist: Graphics Designer-1744G0900X"},null,{"$f":"IFERROR(VLOOKUP(ROWS($U$1:U864),$R$2:$S$918,2,FALSE),\"\")","v":""}]
["1744P3200X",{"$f":"Table1[[#This Row],[Code]]&\" \"&Table1[[#This Row],[Portico_Specialty]]","v":"1744P3200X Specialist: Prosthetics Case Management"},{"$f":"CLEAN(Table1[[#This Row],[Code]])","v":"1744P3200X"},"Specialist: Prosthetics Case Management",null,"Medical taxonomy","N","87",null,"99","53","53",null,null,"53",null,null,{"$f":"IF(ISNUMBER(SEARCH(INDIRECT(CELL(\"address\")),S866)),MAX($R$1:R865)+1,0)","v":0},{"$f":"Table1[[#This Row],[Portico_Specialty]]&\"-\"&Table1[[#This Row],[Code]]","v":"Specialist: Prosthetics Case Management-1744P3200X"},null,{"$f":"IFERROR(VLOOKUP(ROWS($U$1:U865),$R$2:$S$918,2,FALSE),\"\")","v":""}]
["1744R1103X",{"$f":"Table1[[#This Row],[Code]]&\" \"&Table1[[#This Row],[Portico_Specialty]]","v":"1744R1103X Specialist: Research Data Abstracter/Coder"},{"$f":"CLEAN(Table1[[#This Row],[Code]])","v":"1744R1103X"},"Specialist: Research Data Abstracter/Coder",null,"Medical taxonomy","N",null,null,"99","99",null,null,null,"99",null,null,{"$f":"IF(ISNUMBER(SEARCH(INDIRECT(CELL(\"address\")),S867)),MAX($R$1:R866)+1,0)","v":0},{"$f":"Table1[[#This Row],[Portico_Specialty]]&\"-\"&Table1[[#This Row],[Code]]","v":"Specialist: Research Data Abstracter/Coder-1744R1103X"},null,{"$f":"IFERROR(VLOOKUP(ROWS($U$1:U866),$R$2:$S$918,2,FALSE),\"\")","v":""}]
["1744R1102X",{"$f":"Table1[[#This Row],[Code]]&\" \"&Table1[[#This Row],[Portico_Specialty]]","v":"1744R1102X Specialist: Research Study"},{"$f":"CLEAN(Table1[[#This Row],[Code]])","v":"1744R1102X"},"Specialist: Research Study",null,"Medical taxonomy","N",null,null,"99","99",null,null,null,"99",null,null,{"$f":"IF(ISNUMBER(SEARCH(INDIRECT(CELL(\"address\")),S868)),MAX($R$1:R867)+1,0)","v":0},{"$f":"Table1[[#This Row],[Portico_Specialty]]&\"-\"&Table1[[#This Row],[Code]]","v":"Specialist: Research Study-1744R1102X"},null,{"$f":"IFERROR(VLOOKUP(ROWS($U$1:U867),$R$2:$S$918,2,FALSE),\"\")","v":""}]
["235Z00000X",{"$f":"Table1[[#This Row],[Code]]&\" \"&Table1[[#This Row],[Portico_Specialty]]","v":"235Z00000X Speech-Language Pathologist"},{"$f":"CLEAN(Table1[[#This Row],[Code]])","v":"235Z00000X"},"Speech-Language Pathologist",null,"Medical taxonomy","Y","ST",null,"ST","ST","ST","ST","15","ST",null,null,{"$f":"IF(ISNUMBER(SEARCH(INDIRECT(CELL(\"address\")),S869)),MAX($R$1:R868)+1,0)","v":0},{"$f":"Table1[[#This Row],[Portico_Specialty]]&\"-\"&Table1[[#This Row],[Code]]","v":"Speech-Language Pathologist-235Z00000X"},null,{"$f":"IFERROR(VLOOKUP(ROWS($U$1:U868),$R$2:$S$918,2,FALSE),\"\")","v":""}]
["390200000X",{"$f":"Table1[[#This Row],[Code]]&\" \"&Table1[[#This Row],[Portico_Specialty]]","v":"390200000X Student in an Organized Health Care Education/Training Program"},{"$f":"CLEAN(Table1[[#This Row],[Code]])","v":"390200000X"},"Student in an Organized Health Care Education/Training Program",null,"Medical taxonomy","N","99",null,"99","PP","99","87","99","PP",null,null,{"$f":"IF(ISNUMBER(SEARCH(INDIRECT(CELL(\"address\")),S870)),MAX($R$1:R869)+1,0)","v":0},{"$f":"Table1[[#This Row],[Portico_Specialty]]&\"-\"&Table1[[#This Row],[Code]]","v":"Student in an Organized Health Care Education/Training Program-390200000X"},null,{"$f":"IFERROR(VLOOKUP(ROWS($U$1:U869),$R$2:$S$918,2,FALSE),\"\")","v":""}]
["324500000X",{"$f":"Table1[[#This Row],[Code]]&\" \"&Table1[[#This Row],[Portico_Specialty]]","v":"324500000X Substance Abuse Rehabilitation Facility"},{"$f":"CLEAN(Table1[[#This Row],[Code]])","v":"324500000X"},"Substance Abuse Rehabilitation Facility","REQUIRED: Both an M & H Claim_Type build for BH.","BH Only Taxonomy","N","CM",null,"SU","70","CM","FR","70","70",null,null,{"$f":"IF(ISNUMBER(SEARCH(INDIRECT(CELL(\"address\")),S871)),MAX($R$1:R870)+1,0)","v":0},{"$f":"Table1[[#This Row],[Portico_Specialty]]&\"-\"&Table1[[#This Row],[Code]]","v":"Substance Abuse Rehabilitation Facility-324500000X"},null,{"$f":"IFERROR(VLOOKUP(ROWS($U$1:U870),$R$2:$S$918,2,FALSE),\"\")","v":""}]
["3245S0500X",{"$f":"Table1[[#This Row],[Code]]&\" \"&Table1[[#This Row],[Portico_Specialty]]","v":"3245S0500X Substance Abuse Rehabilitation Facility: Substance Abuse Treatment, Children"},{"$f":"CLEAN(Table1[[#This Row],[Code]])","v":"3245S0500X"},"Substance Abuse Rehabilitation Facility: Substance Abuse Treatment, Children","REQUIRED: Both an M & H Claim_Type build for BH.","BH Only Taxonomy","N","CM",null,"SU","70","CM","FR",null,"70",null,null,{"$f":"IF(ISNUMBER(SEARCH(INDIRECT(CELL(\"address\")),S872)),MAX($R$1:R871)+1,0)","v":0},{"$f":"Table1[[#This Row],[Portico_Specialty]]&\"-\"&Table1[[#This Row],[Code]]","v":"Substance Abuse Rehabilitation Facility: Substance Abuse Treatment, Children-3245S0500X"},null,{"$f":"IFERROR(VLOOKUP(ROWS($U$1:U871),$R$2:$S$918,2,FALSE),\"\")","v":""}]
["251X00000X",{"$f":"Table1[[#This Row],[Code]]&\" \"&Table1[[#This Row],[Portico_Specialty]]","v":"251X00000X Supports Brokerage"},{"$f":"CLEAN(Table1[[#This Row],[Code]])","v":"251X00000X"},"Supports Brokerage",null,"Medical taxonomy","N","99",null,"99","70",null,null,null,"70",null,null,{"$f":"IF(ISNUMBER(SEARCH(INDIRECT(CELL(\"address\")),S873)),MAX($R$1:R872)+1,0)","v":0},{"$f":"Table1[[#This Row],[Portico_Specialty]]&\"-\"&Table1[[#This Row],[Code]]","v":"Supports Brokerage-251X00000X"},null,{"$f":"IFERROR(VLOOKUP(ROWS($U$1:U872),$R$2:$S$918,2,FALSE),\"\")","v":""}]
["208600000X",{"$f":"Table1[[#This Row],[Code]]&\" \"&Table1[[#This Row],[Portico_Specialty]]","v":"208600000X Surgery"},{"$f":"CLEAN(Table1[[#This Row],[Code]])","v":"208600000X"},"Surgery",null,"Medical taxonomy","Y","02",null,"02","02","02","02","02","02",null,null,{"$f":"IF(ISNUMBER(SEARCH(INDIRECT(CELL(\"address\")),S874)),MAX($R$1:R873)+1,0)","v":0},{"$f":"Table1[[#This Row],[Portico_Specialty]]&\"-\"&Table1[[#This Row],[Code]]","v":"Surgery-208600000X"},null,{"$f":"IFERROR(VLOOKUP(ROWS($U$1:U873),$R$2:$S$918,2,FALSE),\"\")","v":""}]
["2086H0002X",{"$f":"Table1[[#This Row],[Code]]&\" \"&Table1[[#This Row],[Portico_Specialty]]","v":"2086H0002X Surgery: Hospice and Palliative Medicine"},{"$f":"CLEAN(Table1[[#This Row],[Code]])","v":"2086H0002X"},"Surgery: Hospice and Palliative Medicine",null,"Medical taxonomy","Y","02",null,"02","02","02","02","02","02",null,null,{"$f":"IF(ISNUMBER(SEARCH(INDIRECT(CELL(\"address\")),S875)),MAX($R$1:R874)+1,0)","v":0},{"$f":"Table1[[#This Row],[Portico_Specialty]]&\"-\"&Table1[[#This Row],[Code]]","v":"Surgery: Hospice and Palliative Medicine-2086H0002X"},null,{"$f":"IFERROR(VLOOKUP(ROWS($U$1:U874),$R$2:$S$918,2,FALSE),\"\")","v":""}]
["2086S0120X",{"$f":"Table1[[#This Row],[Code]]&\" \"&Table1[[#This Row],[Portico_Specialty]]","v":"2086S0120X Surgery: Pediatric Surgery"},{"$f":"CLEAN(Table1[[#This Row],[Code]])","v":"2086S0120X"},"Surgery: Pediatric Surgery",null,"Medical taxonomy","Y","02",null,"02","02","02","02","02","02",null,null,{"$f":"IF(ISNUMBER(SEARCH(INDIRECT(CELL(\"address\")),S876)),MAX($R$1:R875)+1,0)","v":0},{"$f":"Table1[[#This Row],[Portico_Specialty]]&\"-\"&Table1[[#This Row],[Code]]","v":"Surgery: Pediatric Surgery-2086S0120X"},null,{"$f":"IFERROR(VLOOKUP(ROWS($U$1:U875),$R$2:$S$918,2,FALSE),\"\")","v":""}]
["2086S0122X",{"$f":"Table1[[#This Row],[Code]]&\" \"&Table1[[#This Row],[Portico_Specialty]]","v":"2086S0122X Surgery: Plastic and Reconstructive Surgery"},{"$f":"CLEAN(Table1[[#This Row],[Code]])","v":"2086S0122X"},"Surgery: Plastic and Reconstructive Surgery",null,"Medical taxonomy","Y","24",null,"24","02","24","24","24","02",null,null,{"$f":"IF(ISNUMBER(SEARCH(INDIRECT(CELL(\"address\")),S877)),MAX($R$1:R876)+1,0)","v":0},{"$f":"Table1[[#This Row],[Portico_Specialty]]&\"-\"&Table1[[#This Row],[Code]]","v":"Surgery: Plastic and Reconstructive Surgery-2086S0122X"},null,{"$f":"IFERROR(VLOOKUP(ROWS($U$1:U876),$R$2:$S$918,2,FALSE),\"\")","v":""}]
["2086S0105X",{"$f":"Table1[[#This Row],[Code]]&\" \"&Table1[[#This Row],[Portico_Specialty]]","v":"2086S0105X Surgery: Surgery of the Hand"},{"$f":"CLEAN(Table1[[#This Row],[Code]])","v":"2086S0105X"},"Surgery: Surgery of the Hand",null,"Medical taxonomy","Y","40",null,"40","40","40","40","40","40",null,null,{"$f":"IF(ISNUMBER(SEARCH(INDIRECT(CELL(\"address\")),S878)),MAX($R$1:R877)+1,0)","v":0},{"$f":"Table1[[#This Row],[Portico_Specialty]]&\"-\"&Table1[[#This Row],[Code]]","v":"Surgery: Surgery of the Hand-2086S0105X"},null,{"$f":"IFERROR(VLOOKUP(ROWS($U$1:U877),$R$2:$S$918,2,FALSE),\"\")","v":""}]
["2086S0102X",{"$f":"Table1[[#This Row],[Code]]&\" \"&Table1[[#This Row],[Portico_Specialty]]","v":"2086S0102X Surgery: Surgical Critical Care"},{"$f":"CLEAN(Table1[[#This Row],[Code]])","v":"2086S0102X"},"Surgery: Surgical Critical Care",null,"Medical taxonomy","Y","02",null,"02","02","02","02","02","02",null,null,{"$f":"IF(ISNUMBER(SEARCH(INDIRECT(CELL(\"address\")),S879)),MAX($R$1:R878)+1,0)","v":0},{"$f":"Table1[[#This Row],[Portico_Specialty]]&\"-\"&Table1[[#This Row],[Code]]","v":"Surgery: Surgical Critical Care-2086S0102X"},null,{"$f":"IFERROR(VLOOKUP(ROWS($U$1:U878),$R$2:$S$918,2,FALSE),\"\")","v":""}]
["2086X0206X",{"$f":"Table1[[#This Row],[Code]]&\" \"&Table1[[#This Row],[Portico_Specialty]]","v":"2086X0206X Surgery: Surgical Oncology"},{"$f":"CLEAN(Table1[[#This Row],[Code]])","v":"2086X0206X"},"Surgery: Surgical Oncology",null,"Medical taxonomy","Y","91",null,"91","02","91","91","91","02",null,null,{"$f":"IF(ISNUMBER(SEARCH(INDIRECT(CELL(\"address\")),S880)),MAX($R$1:R879)+1,0)","v":0},{"$f":"Table1[[#This Row],[Portico_Specialty]]&\"-\"&Table1[[#This Row],[Code]]","v":"Surgery: Surgical Oncology-2086X0206X"},null,{"$f":"IFERROR(VLOOKUP(ROWS($U$1:U879),$R$2:$S$918,2,FALSE),\"\")","v":""}]
["2086S0127X",{"$f":"Table1[[#This Row],[Code]]&\" \"&Table1[[#This Row],[Portico_Specialty]]","v":"2086S0127X Surgery: Trauma Surgery"},{"$f":"CLEAN(Table1[[#This Row],[Code]])","v":"2086S0127X"},"Surgery: Trauma Surgery",null,"Medical taxonomy","Y","02",null,"02","02","02","02","02","02",null,null,{"$f":"IF(ISNUMBER(SEARCH(INDIRECT(CELL(\"address\")),S881)),MAX($R$1:R880)+1,0)","v":0},{"$f":"Table1[[#This Row],[Portico_Specialty]]&\"-\"&Table1[[#This Row],[Code]]","v":"Surgery: Trauma Surgery-2086S0127X"},null,{"$f":"IFERROR(VLOOKUP(ROWS($U$1:U880),$R$2:$S$918,2,FALSE),\"\")","v":""}]
["2086S0129X",{"$f":"Table1[[#This Row],[Code]]&\" \"&Table1[[#This Row],[Portico_Specialty]]","v":"2086S0129X Surgery: Vascular Surgery"},{"$f":"CLEAN(Table1[[#This Row],[Code]])","v":"2086S0129X"},"Surgery: Vascular Surgery",null,"Medical taxonomy","Y","77",null,"77","77","77","77","77","77",null,null,{"$f":"IF(ISNUMBER(SEARCH(INDIRECT(CELL(\"address\")),S882)),MAX($R$1:R881)+1,0)","v":0},{"$f":"Table1[[#This Row],[Portico_Specialty]]&\"-\"&Table1[[#This Row],[Code]]","v":"Surgery: Vascular Surgery-2086S0129X"},null,{"$f":"IFERROR(VLOOKUP(ROWS($U$1:U881),$R$2:$S$918,2,FALSE),\"\")","v":""}]
["344600000X",{"$f":"Table1[[#This Row],[Code]]&\" \"&Table1[[#This Row],[Portico_Specialty]]","v":"344600000X Taxi"},{"$f":"CLEAN(Table1[[#This Row],[Code]])","v":"344600000X"},"Taxi",null,"Medical taxonomy","N","TR",null,"TR","59","TR","TR",null,"59",null,null,{"$f":"IF(ISNUMBER(SEARCH(INDIRECT(CELL(\"address\")),S883)),MAX($R$1:R882)+1,0)","v":0},{"$f":"Table1[[#This Row],[Portico_Specialty]]&\"-\"&Table1[[#This Row],[Code]]","v":"Taxi-344600000X"},null,{"$f":"IFERROR(VLOOKUP(ROWS($U$1:U882),$R$2:$S$918,2,FALSE),\"\")","v":""}]
["374700000X",{"$f":"Table1[[#This Row],[Code]]&\" \"&Table1[[#This Row],[Portico_Specialty]]","v":"374700000X Technician"},{"$f":"CLEAN(Table1[[#This Row],[Code]])","v":"374700000X"},"Technician",null,"Medical taxonomy","N","SN",null,"99","PP","SN",null,null,"PP",null,null,{"$f":"IF(ISNUMBER(SEARCH(INDIRECT(CELL(\"address\")),S884)),MAX($R$1:R883)+1,0)","v":0},{"$f":"Table1[[#This Row],[Portico_Specialty]]&\"-\"&Table1[[#This Row],[Code]]","v":"Technician-374700000X"},null,{"$f":"IFERROR(VLOOKUP(ROWS($U$1:U883),$R$2:$S$918,2,FALSE),\"\")","v":""}]
["246W00000X",{"$f":"Table1[[#This Row],[Code]]&\" \"&Table1[[#This Row],[Portico_Specialty]]","v":"246W00000X Technician, Cardiology"},{"$f":"CLEAN(Table1[[#This Row],[Code]])","v":"246W00000X"},"Technician, Cardiology",null,"Medical taxonomy","N","87",null,"99","06","96",null,null,"06",null,null,{"$f":"IF(ISNUMBER(SEARCH(INDIRECT(CELL(\"address\")),S885)),MAX($R$1:R884)+1,0)","v":0},{"$f":"Table1[[#This Row],[Portico_Specialty]]&\"-\"&Table1[[#This Row],[Code]]","v":"Technician, Cardiology-246W00000X"},null,{"$f":"IFERROR(VLOOKUP(ROWS($U$1:U884),$R$2:$S$918,2,FALSE),\"\")","v":""}]
["247000000X",{"$f":"Table1[[#This Row],[Code]]&\" \"&Table1[[#This Row],[Portico_Specialty]]","v":"247000000X Technician, Health Information"},{"$f":"CLEAN(Table1[[#This Row],[Code]])","v":"247000000X"},"Technician, Health Information",null,"Medical taxonomy","N","87",null,"99","PP","96",null,null,"PP",null,null,{"$f":"IF(ISNUMBER(SEARCH(INDIRECT(CELL(\"address\")),S886)),MAX($R$1:R885)+1,0)","v":0},{"$f":"Table1[[#This Row],[Portico_Specialty]]&\"-\"&Table1[[#This Row],[Code]]","v":"Technician, Health Information-247000000X"},null,{"$f":"IFERROR(VLOOKUP(ROWS($U$1:U885),$R$2:$S$918,2,FALSE),\"\")","v":""}]
["2470A2800X",{"$f":"Table1[[#This Row],[Code]]&\" \"&Table1[[#This Row],[Portico_Specialty]]","v":"2470A2800X Technician, Health Information: Assistant Record Technician"},{"$f":"CLEAN(Table1[[#This Row],[Code]])","v":"2470A2800X"},"Technician, Health Information: Assistant Record Technician",null,"Medical taxonomy","N",null,null,"99","PP",null,null,null,"PP",null,null,{"$f":"IF(ISNUMBER(SEARCH(INDIRECT(CELL(\"address\")),S887)),MAX($R$1:R886)+1,0)","v":0},{"$f":"Table1[[#This Row],[Portico_Specialty]]&\"-\"&Table1[[#This Row],[Code]]","v":"Technician, Health Information: Assistant Record Technician-2470A2800X"},null,{"$f":"IFERROR(VLOOKUP(ROWS($U$1:U886),$R$2:$S$918,2,FALSE),\"\")","v":""}]
["247200000X",{"$f":"Table1[[#This Row],[Code]]&\" \"&Table1[[#This Row],[Portico_Specialty]]","v":"247200000X Technician, Other"},{"$f":"CLEAN(Table1[[#This Row],[Code]])","v":"247200000X"},"Technician, Other",null,"Medical taxonomy","Y","87",null,"99","99","96",null,"75","99",null,null,{"$f":"IF(ISNUMBER(SEARCH(INDIRECT(CELL(\"address\")),S888)),MAX($R$1:R887)+1,0)","v":0},{"$f":"Table1[[#This Row],[Portico_Specialty]]&\"-\"&Table1[[#This Row],[Code]]","v":"Technician, Other-247200000X"},null,{"$f":"IFERROR(VLOOKUP(ROWS($U$1:U887),$R$2:$S$918,2,FALSE),\"\")","v":""}]
["2472B0301X",{"$f":"Table1[[#This Row],[Code]]&\" \"&Table1[[#This Row],[Portico_Specialty]]","v":"2472B0301X Technician, Other: Biomedical Engineering"},{"$f":"CLEAN(Table1[[#This Row],[Code]])","v":"2472B0301X"},"Technician, Other: Biomedical Engineering",null,"Medical taxonomy","N","87",null,"99","99",null,null,null,"99",null,null,{"$f":"IF(ISNUMBER(SEARCH(INDIRECT(CELL(\"address\")),S889)),MAX($R$1:R888)+1,0)","v":0},{"$f":"Table1[[#This Row],[Portico_Specialty]]&\"-\"&Table1[[#This Row],[Code]]","v":"Technician, Other: Biomedical Engineering-2472B0301X"},null,{"$f":"IFERROR(VLOOKUP(ROWS($U$1:U888),$R$2:$S$918,2,FALSE),\"\")","v":""}]
["2472D0500X",{"$f":"Table1[[#This Row],[Code]]&\" \"&Table1[[#This Row],[Portico_Specialty]]","v":"2472D0500X Technician, Other: Darkroom"},{"$f":"CLEAN(Table1[[#This Row],[Code]])","v":"2472D0500X"},"Technician, Other: Darkroom",null,"Medical taxonomy","N","87",null,"99","99",null,null,null,"99",null,null,{"$f":"IF(ISNUMBER(SEARCH(INDIRECT(CELL(\"address\")),S890)),MAX($R$1:R889)+1,0)","v":0},{"$f":"Table1[[#This Row],[Portico_Specialty]]&\"-\"&Table1[[#This Row],[Code]]","v":"Technician, Other: Darkroom-2472D0500X"},null,{"$f":"IFERROR(VLOOKUP(ROWS($U$1:U889),$R$2:$S$918,2,FALSE),\"\")","v":""}]
["2472E0500X",{"$f":"Table1[[#This Row],[Code]]&\" \"&Table1[[#This Row],[Portico_Specialty]]","v":"2472E0500X Technician, Other: EEG"},{"$f":"CLEAN(Table1[[#This Row],[Code]])","v":"2472E0500X"},"Technician, Other: EEG",null,"Medical taxonomy","N","87",null,"99","99",null,null,null,"99",null,null,{"$f":"IF(ISNUMBER(SEARCH(INDIRECT(CELL(\"address\")),S891)),MAX($R$1:R890)+1,0)","v":0},{"$f":"Table1[[#This Row],[Portico_Specialty]]&\"-\"&Table1[[#This Row],[Code]]","v":"Technician, Other: EEG-2472E0500X"},null,{"$f":"IFERROR(VLOOKUP(ROWS($U$1:U890),$R$2:$S$918,2,FALSE),\"\")","v":""}]
["2472R0900X",{"$f":"Table1[[#This Row],[Code]]&\" \"&Table1[[#This Row],[Portico_Specialty]]","v":"2472R0900X Technician, Other: Renal Dialysis"},{"$f":"CLEAN(Table1[[#This Row],[Code]])","v":"2472R0900X"},"Technician, Other: Renal Dialysis",null,"Medical taxonomy","N","87",null,"99","99",null,null,null,"99",null,null,{"$f":"IF(ISNUMBER(SEARCH(INDIRECT(CELL(\"address\")),S892)),MAX($R$1:R891)+1,0)","v":0},{"$f":"Table1[[#This Row],[Portico_Specialty]]&\"-\"&Table1[[#This Row],[Code]]","v":"Technician, Other: Renal Dialysis-2472R0900X"},null,{"$f":"IFERROR(VLOOKUP(ROWS($U$1:U891),$R$2:$S$918,2,FALSE),\"\")","v":""}]
["2472V0600X",{"$f":"Table1[[#This Row],[Code]]&\" \"&Table1[[#This Row],[Portico_Specialty]]","v":"2472V0600X Technician, Other: Veterinary"},{"$f":"CLEAN(Table1[[#This Row],[Code]])","v":"2472V0600X"},"Technician, Other: Veterinary",null,"Medical taxonomy","N",null,null,"99","99",null,null,null,"99",null,null,{"$f":"IF(ISNUMBER(SEARCH(INDIRECT(CELL(\"address\")),S893)),MAX($R$1:R892)+1,0)","v":0},{"$f":"Table1[[#This Row],[Portico_Specialty]]&\"-\"&Table1[[#This Row],[Code]]","v":"Technician, Other: Veterinary-2472V0600X"},null,{"$f":"IFERROR(VLOOKUP(ROWS($U$1:U892),$R$2:$S$918,2,FALSE),\"\")","v":""}]
["246R00000X",{"$f":"Table1[[#This Row],[Code]]&\" \"&Table1[[#This Row],[Portico_Specialty]]","v":"246R00000X Technician, Pathology"},{"$f":"CLEAN(Table1[[#This Row],[Code]])","v":"246R00000X"},"Technician, Pathology",null,"Medical taxonomy","N","87",null,"99","22","96",null,null,"22",null,null,{"$f":"IF(ISNUMBER(SEARCH(INDIRECT(CELL(\"address\")),S894)),MAX($R$1:R893)+1,0)","v":0},{"$f":"Table1[[#This Row],[Portico_Specialty]]&\"-\"&Table1[[#This Row],[Code]]","v":"Technician, Pathology-246R00000X"},null,{"$f":"IFERROR(VLOOKUP(ROWS($U$1:U893),$R$2:$S$918,2,FALSE),\"\")","v":""}]
["246RH0600X",{"$f":"Table1[[#This Row],[Code]]&\" \"&Table1[[#This Row],[Portico_Specialty]]","v":"246RH0600X Technician, Pathology: Histology"},{"$f":"CLEAN(Table1[[#This Row],[Code]])","v":"246RH0600X"},"Technician, Pathology: Histology",null,"Medical taxonomy","N","87",null,"99","22",null,null,null,"22",null,null,{"$f":"IF(ISNUMBER(SEARCH(INDIRECT(CELL(\"address\")),S895)),MAX($R$1:R894)+1,0)","v":0},{"$f":"Table1[[#This Row],[Portico_Specialty]]&\"-\"&Table1[[#This Row],[Code]]","v":"Technician, Pathology: Histology-246RH0600X"},null,{"$f":"IFERROR(VLOOKUP(ROWS($U$1:U894),$R$2:$S$918,2,FALSE),\"\")","v":""}]
["246RM2200X",{"$f":"Table1[[#This Row],[Code]]&\" \"&Table1[[#This Row],[Portico_Specialty]]","v":"246RM2200X Technician, Pathology: Medical Laboratory"},{"$f":"CLEAN(Table1[[#This Row],[Code]])","v":"246RM2200X"},"Technician, Pathology: Medical Laboratory",null,"Medical taxonomy","N","87",null,"99","22",null,null,null,"22",null,null,{"$f":"IF(ISNUMBER(SEARCH(INDIRECT(CELL(\"address\")),S896)),MAX($R$1:R895)+1,0)","v":0},{"$f":"Table1[[#This Row],[Portico_Specialty]]&\"-\"&Table1[[#This Row],[Code]]","v":"Technician, Pathology: Medical Laboratory-246RM2200X"},null,{"$f":"IFERROR(VLOOKUP(ROWS($U$1:U895),$R$2:$S$918,2,FALSE),\"\")","v":""}]
["246RP1900X",{"$f":"Table1[[#This Row],[Code]]&\" \"&Table1[[#This Row],[Portico_Specialty]]","v":"246RP1900X Technician, Pathology: Phlebotomy"},{"$f":"CLEAN(Table1[[#This Row],[Code]])","v":"246RP1900X"},"Technician, Pathology: Phlebotomy",null,"Medical taxonomy","N","87",null,"99","22",null,null,null,"22",null,null,{"$f":"IF(ISNUMBER(SEARCH(INDIRECT(CELL(\"address\")),S897)),MAX($R$1:R896)+1,0)","v":0},{"$f":"Table1[[#This Row],[Portico_Specialty]]&\"-\"&Table1[[#This Row],[Code]]","v":"Technician, Pathology: Phlebotomy-246RP1900X"},null,{"$f":"IFERROR(VLOOKUP(ROWS($U$1:U896),$R$2:$S$918,2,FALSE),\"\")","v":""}]
["156F00000X",{"$f":"Table1[[#This Row],[Code]]&\" \"&Table1[[#This Row],[Portico_Specialty]]","v":"156F00000X Technician/Technologist"},{"$f":"CLEAN(Table1[[#This Row],[Code]])","v":"156F00000X"},"Technician/Technologist",null,"Medical taxonomy","N","96",null,"96","41","96","96","96","41",null,null,{"$f":"IF(ISNUMBER(SEARCH(INDIRECT(CELL(\"address\")),S898)),MAX($R$1:R897)+1,0)","v":0},{"$f":"Table1[[#This Row],[Portico_Specialty]]&\"-\"&Table1[[#This Row],[Code]]","v":"Technician/Technologist-156F00000X"},null,{"$f":"IFERROR(VLOOKUP(ROWS($U$1:U897),$R$2:$S$918,2,FALSE),\"\")","v":""}]
["156FC0800X",{"$f":"Table1[[#This Row],[Code]]&\" \"&Table1[[#This Row],[Portico_Specialty]]","v":"156FC0800X Technician/Technologist: Contact Lens"},{"$f":"CLEAN(Table1[[#This Row],[Code]])","v":"156FC0800X"},"Technician/Technologist: Contact Lens",null,"Medical taxonomy","N","96",null,"96","41","96","96","96","41",null,null,{"$f":"IF(ISNUMBER(SEARCH(INDIRECT(CELL(\"address\")),S899)),MAX($R$1:R898)+1,0)","v":0},{"$f":"Table1[[#This Row],[Portico_Specialty]]&\"-\"&Table1[[#This Row],[Code]]","v":"Technician/Technologist: Contact Lens-156FC0800X"},null,{"$f":"IFERROR(VLOOKUP(ROWS($U$1:U898),$R$2:$S$918,2,FALSE),\"\")","v":""}]
["156FC0801X",{"$f":"Table1[[#This Row],[Code]]&\" \"&Table1[[#This Row],[Portico_Specialty]]","v":"156FC0801X Technician/Technologist: Contact Lens Fitter"},{"$f":"CLEAN(Table1[[#This Row],[Code]])","v":"156FC0801X"},"Technician/Technologist: Contact Lens Fitter",null,"Medical taxonomy","N","96",null,"96","41","96","96","96","41",null,null,{"$f":"IF(ISNUMBER(SEARCH(INDIRECT(CELL(\"address\")),S900)),MAX($R$1:R899)+1,0)","v":0},{"$f":"Table1[[#This Row],[Portico_Specialty]]&\"-\"&Table1[[#This Row],[Code]]","v":"Technician/Technologist: Contact Lens Fitter-156FC0801X"},null,{"$f":"IFERROR(VLOOKUP(ROWS($U$1:U899),$R$2:$S$918,2,FALSE),\"\")","v":""}]
["156FX1700X",{"$f":"Table1[[#This Row],[Code]]&\" \"&Table1[[#This Row],[Portico_Specialty]]","v":"156FX1700X Technician/Technologist: Ocularist"},{"$f":"CLEAN(Table1[[#This Row],[Code]])","v":"156FX1700X"},"Technician/Technologist: Ocularist",null,"Medical taxonomy","N","96",null,"96","41","96","96","B5","41",null,null,{"$f":"IF(ISNUMBER(SEARCH(INDIRECT(CELL(\"address\")),S901)),MAX($R$1:R900)+1,0)","v":0},{"$f":"Table1[[#This Row],[Portico_Specialty]]&\"-\"&Table1[[#This Row],[Code]]","v":"Technician/Technologist: Ocularist-156FX1700X"},null,{"$f":"IFERROR(VLOOKUP(ROWS($U$1:U900),$R$2:$S$918,2,FALSE),\"\")","v":""}]
["156FX1100X",{"$f":"Table1[[#This Row],[Code]]&\" \"&Table1[[#This Row],[Portico_Specialty]]","v":"156FX1100X Technician/Technologist: Ophthalmic"},{"$f":"CLEAN(Table1[[#This Row],[Code]])","v":"156FX1100X"},"Technician/Technologist: Ophthalmic",null,"Medical taxonomy","N","96",null,"96","41","96","96","96","41",null,null,{"$f":"IF(ISNUMBER(SEARCH(INDIRECT(CELL(\"address\")),S902)),MAX($R$1:R901)+1,0)","v":0},{"$f":"Table1[[#This Row],[Portico_Specialty]]&\"-\"&Table1[[#This Row],[Code]]","v":"Technician/Technologist: Ophthalmic-156FX1100X"},null,{"$f":"IFERROR(VLOOKUP(ROWS($U$1:U901),$R$2:$S$918,2,FALSE),\"\")","v":""}]
["156FX1101X",{"$f":"Table1[[#This Row],[Code]]&\" \"&Table1[[#This Row],[Portico_Specialty]]","v":"156FX1101X Technician/Technologist: Ophthalmic Assistant"},{"$f":"CLEAN(Table1[[#This Row],[Code]])","v":"156FX1101X"},"Technician/Technologist: Ophthalmic Assistant",null,"Medical taxonomy","N","96",null,"96","41","96","96","96","41",null,null,{"$f":"IF(ISNUMBER(SEARCH(INDIRECT(CELL(\"address\")),S903)),MAX($R$1:R902)+1,0)","v":0},{"$f":"Table1[[#This Row],[Portico_Specialty]]&\"-\"&Table1[[#This Row],[Code]]","v":"Technician/Technologist: Ophthalmic Assistant-156FX1101X"},null,{"$f":"IFERROR(VLOOKUP(ROWS($U$1:U902),$R$2:$S$918,2,FALSE),\"\")","v":""}]
["156FX1800X",{"$f":"Table1[[#This Row],[Code]]&\" \"&Table1[[#This Row],[Portico_Specialty]]","v":"156FX1800X Technician/Technologist: Optician"},{"$f":"CLEAN(Table1[[#This Row],[Code]])","v":"156FX1800X"},"Technician/Technologist: Optician",null,"Medical taxonomy","Y","96",null,"96","41","96","96","96","41",null,null,{"$f":"IF(ISNUMBER(SEARCH(INDIRECT(CELL(\"address\")),S904)),MAX($R$1:R903)+1,0)","v":0},{"$f":"Table1[[#This Row],[Portico_Specialty]]&\"-\"&Table1[[#This Row],[Code]]","v":"Technician/Technologist: Optician-156FX1800X"},null,{"$f":"IFERROR(VLOOKUP(ROWS($U$1:U903),$R$2:$S$918,2,FALSE),\"\")","v":""}]
["156FX1201X",{"$f":"Table1[[#This Row],[Code]]&\" \"&Table1[[#This Row],[Portico_Specialty]]","v":"156FX1201X Technician/Technologist: Optometric Assistant"},{"$f":"CLEAN(Table1[[#This Row],[Code]])","v":"156FX1201X"},"Technician/Technologist: Optometric Assistant",null,"Medical taxonomy","N","96",null,"96","41","96","96","96","41",null,null,{"$f":"IF(ISNUMBER(SEARCH(INDIRECT(CELL(\"address\")),S905)),MAX($R$1:R904)+1,0)","v":0},{"$f":"Table1[[#This Row],[Portico_Specialty]]&\"-\"&Table1[[#This Row],[Code]]","v":"Technician/Technologist: Optometric Assistant-156FX1201X"},null,{"$f":"IFERROR(VLOOKUP(ROWS($U$1:U904),$R$2:$S$918,2,FALSE),\"\")","v":""}]
["156FX1202X",{"$f":"Table1[[#This Row],[Code]]&\" \"&Table1[[#This Row],[Portico_Specialty]]","v":"156FX1202X Technician/Technologist: Optometric Technician"},{"$f":"CLEAN(Table1[[#This Row],[Code]])","v":"156FX1202X"},"Technician/Technologist: Optometric Technician",null,"Medical taxonomy","N","96",null,"96","41","96","96","96","41",null,null,{"$f":"IF(ISNUMBER(SEARCH(INDIRECT(CELL(\"address\")),S906)),MAX($R$1:R905)+1,0)","v":0},{"$f":"Table1[[#This Row],[Portico_Specialty]]&\"-\"&Table1[[#This Row],[Code]]","v":"Technician/Technologist: Optometric Technician-156FX1202X"},null,{"$f":"IFERROR(VLOOKUP(ROWS($U$1:U905),$R$2:$S$918,2,FALSE),\"\")","v":""}]
["156FX1900X",{"$f":"Table1[[#This Row],[Code]]&\" \"&Table1[[#This Row],[Portico_Specialty]]","v":"156FX1900X Technician/Technologist: Orthoptist"},{"$f":"CLEAN(Table1[[#This Row],[Code]])","v":"156FX1900X"},"Technician/Technologist: Orthoptist",null,"Medical taxonomy","N","96",null,"96","41","96","96","96","41",null,null,{"$f":"IF(ISNUMBER(SEARCH(INDIRECT(CELL(\"address\")),S907)),MAX($R$1:R906)+1,0)","v":0},{"$f":"Table1[[#This Row],[Portico_Specialty]]&\"-\"&Table1[[#This Row],[Code]]","v":"Technician/Technologist: Orthoptist-156FX1900X"},null,{"$f":"IFERROR(VLOOKUP(ROWS($U$1:U906),$R$2:$S$918,2,FALSE),\"\")","v":""}]
["3747A0650X",{"$f":"Table1[[#This Row],[Code]]&\" \"&Table1[[#This Row],[Portico_Specialty]]","v":"3747A0650X Technician: Attendant Care Provider"},{"$f":"CLEAN(Table1[[#This Row],[Code]])","v":"3747A0650X"},"Technician: Attendant Care Provider",null,"Medical taxonomy","N","HH",null,"99","PP","70",null,null,"PP",null,null,{"$f":"IF(ISNUMBER(SEARCH(INDIRECT(CELL(\"address\")),S908)),MAX($R$1:R907)+1,0)","v":0},{"$f":"Table1[[#This Row],[Portico_Specialty]]&\"-\"&Table1[[#This Row],[Code]]","v":"Technician: Attendant Care Provider-3747A0650X"},null,{"$f":"IFERROR(VLOOKUP(ROWS($U$1:U907),$R$2:$S$918,2,FALSE),\"\")","v":""}]
["3747P1801X",{"$f":"Table1[[#This Row],[Code]]&\" \"&Table1[[#This Row],[Portico_Specialty]]","v":"3747P1801X Technician: Personal Care Attendant"},{"$f":"CLEAN(Table1[[#This Row],[Code]])","v":"3747P1801X"},"Technician: Personal Care Attendant",null,"Medical taxonomy","N","HH",null,"99","HH",null,null,"99","HH",null,null,{"$f":"IF(ISNUMBER(SEARCH(INDIRECT(CELL(\"address\")),S909)),MAX($R$1:R908)+1,0)","v":0},{"$f":"Table1[[#This Row],[Portico_Specialty]]&\"-\"&Table1[[#This Row],[Code]]","v":"Technician: Personal Care Attendant-3747P1801X"},null,{"$f":"IFERROR(VLOOKUP(ROWS($U$1:U908),$R$2:$S$918,2,FALSE),\"\")","v":""}]
["208G00000X",{"$f":"Table1[[#This Row],[Code]]&\" \"&Table1[[#This Row],[Portico_Specialty]]","v":"208G00000X Thoracic Surgery (Cardiothoracic Vascular Surgery)"},{"$f":"CLEAN(Table1[[#This Row],[Code]])","v":"208G00000X"},"Thoracic Surgery (Cardiothoracic Vascular Surgery)",null,"Medical taxonomy","Y","33",null,"33","33","33","33","33","33",null,null,{"$f":"IF(ISNUMBER(SEARCH(INDIRECT(CELL(\"address\")),S910)),MAX($R$1:R909)+1,0)","v":0},{"$f":"Table1[[#This Row],[Portico_Specialty]]&\"-\"&Table1[[#This Row],[Code]]","v":"Thoracic Surgery (Cardiothoracic Vascular Surgery)-208G00000X"},null,{"$f":"IFERROR(VLOOKUP(ROWS($U$1:U909),$R$2:$S$918,2,FALSE),\"\")","v":""}]
["347D00000X",{"$f":"Table1[[#This Row],[Code]]&\" \"&Table1[[#This Row],[Portico_Specialty]]","v":"347D00000X Train"},{"$f":"CLEAN(Table1[[#This Row],[Code]])","v":"347D00000X"},"Train",null,"Medical taxonomy","N","TR",null,"TR","59","TR","TR",null,"59",null,null,{"$f":"IF(ISNUMBER(SEARCH(INDIRECT(CELL(\"address\")),S911)),MAX($R$1:R910)+1,0)","v":0},{"$f":"Table1[[#This Row],[Portico_Specialty]]&\"-\"&Table1[[#This Row],[Code]]","v":"Train-347D00000X"},null,{"$f":"IFERROR(VLOOKUP(ROWS($U$1:U910),$R$2:$S$918,2,FALSE),\"\")","v":""}]
["204F00000X",{"$f":"Table1[[#This Row],[Code]]&\" \"&Table1[[#This Row],[Portico_Specialty]]","v":"204F00000X Transplant Surgery"},{"$f":"CLEAN(Table1[[#This Row],[Code]])","v":"204F00000X"},"Transplant Surgery",null,"Medical taxonomy","Y","02",null,"02","02","02","02","02","02",null,null,{"$f":"IF(ISNUMBER(SEARCH(INDIRECT(CELL(\"address\")),S912)),MAX($R$1:R911)+1,0)","v":0},{"$f":"Table1[[#This Row],[Portico_Specialty]]&\"-\"&Table1[[#This Row],[Code]]","v":"Transplant Surgery-204F00000X"},null,{"$f":"IFERROR(VLOOKUP(ROWS($U$1:U911),$R$2:$S$918,2,FALSE),\"\")","v":""}]
["347E00000X",{"$f":"Table1[[#This Row],[Code]]&\" \"&Table1[[#This Row],[Portico_Specialty]]","v":"347E00000X Transportation Broker"},{"$f":"CLEAN(Table1[[#This Row],[Code]])","v":"347E00000X"},"Transportation Broker",null,"Medical taxonomy","N","TR",null,"TR","59","TR","TR",null,"59",null,null,{"$f":"IF(ISNUMBER(SEARCH(INDIRECT(CELL(\"address\")),S913)),MAX($R$1:R912)+1,0)","v":0},{"$f":"Table1[[#This Row],[Portico_Specialty]]&\"-\"&Table1[[#This Row],[Code]]","v":"Transportation Broker-347E00000X"},null,{"$f":"IFERROR(VLOOKUP(ROWS($U$1:U912),$R$2:$S$918,2,FALSE),\"\")","v":""}]
["208800000X",{"$f":"Table1[[#This Row],[Code]]&\" \"&Table1[[#This Row],[Portico_Specialty]]","v":"208800000X Urology"},{"$f":"CLEAN(Table1[[#This Row],[Code]])","v":"208800000X"},"Urology",null,"Medical taxonomy","Y","34",null,"34","34","34","34","34","34",null,null,{"$f":"IF(ISNUMBER(SEARCH(INDIRECT(CELL(\"address\")),S914)),MAX($R$1:R913)+1,0)","v":0},{"$f":"Table1[[#This Row],[Portico_Specialty]]&\"-\"&Table1[[#This Row],[Code]]","v":"Urology-208800000X"},null,{"$f":"IFERROR(VLOOKUP(ROWS($U$1:U913),$R$2:$S$918,2,FALSE),\"\")","v":""}]
["2088P0231X",{"$f":"Table1[[#This Row],[Code]]&\" \"&Table1[[#This Row],[Portico_Specialty]]","v":"2088P0231X Urology: Pediatric Urology"},{"$f":"CLEAN(Table1[[#This Row],[Code]])","v":"2088P0231X"},"Urology: Pediatric Urology",null,"Medical taxonomy","Y","34",null,"34","34","34","34","34","34",null,null,{"$f":"IF(ISNUMBER(SEARCH(INDIRECT(CELL(\"address\")),S915)),MAX($R$1:R914)+1,0)","v":0},{"$f":"Table1[[#This Row],[Portico_Specialty]]&\"-\"&Table1[[#This Row],[Code]]","v":"Urology: Pediatric Urology-2088P0231X"},null,{"$f":"IFERROR(VLOOKUP(ROWS($U$1:U914),$R$2:$S$918,2,FALSE),\"\")","v":""}]
["174M00000X",{"$f":"Table1[[#This Row],[Code]]&\" \"&Table1[[#This Row],[Portico_Specialty]]","v":"174M00000X Veterinarian"},{"$f":"CLEAN(Table1[[#This Row],[Code]])","v":"174M00000X"},"Veterinarian",null,"Medical taxonomy","N",null,null,"99","99",null,null,null,"99",null,null,{"$f":"IF(ISNUMBER(SEARCH(INDIRECT(CELL(\"address\")),S916)),MAX($R$1:R915)+1,0)","v":0},{"$f":"Table1[[#This Row],[Portico_Specialty]]&\"-\"&Table1[[#This Row],[Code]]","v":"Veterinarian-174M00000X"},null,{"$f":"IFERROR(VLOOKUP(ROWS($U$1:U915),$R$2:$S$918,2,FALSE),\"\")","v":""}]
["174MM1900X",{"$f":"Table1[[#This Row],[Code]]&\" \"&Table1[[#This Row],[Portico_Specialty]]","v":"174MM1900X Veterinarian: Medical Research"},{"$f":"CLEAN(Table1[[#This Row],[Code]])","v":"174MM1900X"},"Veterinarian: Medical Research",null,"Medical taxonomy","N",null,null,"99","99",null,null,null,"99",null,null,{"$f":"IF(ISNUMBER(SEARCH(INDIRECT(CELL(\"address\")),S917)),MAX($R$1:R916)+1,0)","v":0},{"$f":"Table1[[#This Row],[Portico_Specialty]]&\"-\"&Table1[[#This Row],[Code]]","v":"Veterinarian: Medical Research-174MM1900X"},null,{"$f":"IFERROR(VLOOKUP(ROWS($U$1:U916),$R$2:$S$918,2,FALSE),\"\")","v":""}]
["251V00000X",{"$f":"Table1[[#This Row],[Code]]&\" \"&Table1[[#This Row],[Portico_Specialty]]","v":"251V00000X Voluntary or Charitable"},{"$f":"CLEAN(Table1[[#This Row],[Code]])","v":"251V00000X"},"Voluntary or Charitable",null,"Medical taxonomy","Y","61",null,"61","70","61","61","61","70",null,null,{"$f":"IF(ISNUMBER(SEARCH(INDIRECT(CELL(\"address\")),S918)),MAX($R$1:R917)+1,0)","v":0},{"$f":"Table1[[#This Row],[Portico_Specialty]]&\"-\"&Table1[[#This Row],[Code]]","v":"Voluntary or Charitable-251V00000X"},null,{"$f":"IFERROR(VLOOKUP(ROWS($U$1:U917),$R$2:$S$918,2,FALSE),\"\")","v":""}]

{"sheet":"Sheet1","index":8,"n_rows":294,"n_cols":11,"rows_kept":294,"cut":false,"hidden":true,"merged":[]}
["N/A",null,null,null,null,"Selection Required","Selection Required",null,"Office Type","Hat Code"]
["Y","African American","Male","Abkhaz","A","Ancillary/Clinic","No","Alachua","Business Office","Primary Care","Practicing Location"]
["N","Asian","Female","Acehnese","B","Group Practice","Yes","Baker","Home Office","Specialist","Covering Location"]
["Referral Only","Caucasian","Non-Binary","Afan (Oromo)","C","Solo Practitioner"," ","Bay"]
[" ","Hispanic","Other","Afar","D",null,null,"Bradford"]
[null,"Native American","Decline to Answer","Af-Maay","E",null,null,"Brevard"]
[null,"Other",null,"Afrikaans","F",null,null,"Broward"]
[null,"Decline to Answer",null,"Akan","G",null,null,"Calhoun"]
[null,null,null,"Albanian","H",null,null,"Charlotte"]
[null,null,null,"Amarigna","I",null,null,"Citrus"]
[null,null,null,"American Sign Language","J",null,null,"Clay"]
[null,null,null,"Amharic","K",null,null,"Collier"]
[null,null,null,"Amoy","L",null,null,"Columbia"]
[null,null,null,"Apache","M",null,null,"DeSoto"]
[null,null,null,"Arabic","N",null,null,"Dixie"]
[null,null,null,"Aramaic","O",null,null,"Duval"]
[null,null,null,"Armenian","P",null,null,"Escambia"]
[null,null,null,"Asian Indian","Q",null,null,"Flagler"]
[null,null,null,"Assamese","R",null,null,"Franklin"]
[null,null,null,"Assyrian","S",null,null,"Gadsden"]
[null,null,null,"Aymara","T",null,null,"Gilchrist"]
[null,null,null,"Azerbaijani","U",null,null,"Glades"]
[null,null,null,"Azeri","V",null,null,"Gulf"]
[null,null,null,"Bahasa Indonesia","W",null,null,"Hamilton"]
[null,null,null,"Bahasa Malaya","Y",null,null,"Hardee"]
[null,null,null,"Baltic","Y",null,null,"Hendry"]
[null,null,null,"Bangla","Z",null,null,"Hernando"]
[null,null,null,"Bashkir","AA",null,null,"Highlands"]
[null,null,null,"Basque","AB",null,null,"Hillsborough"]
[null,null,null,"Behdini","AC",null,null,"Holmes"]
[null,null,null,"Belarusian","AD",null,null,"Indian River"]
[null,null,null,"Bengali","AE",null,null,"Jackson"]
[null,null,null,"Bhutani","AF",null,null,"Jefferson"]
[null,null,null,"Bihari","AG",null,null,"Lafayette"]
[null,null,null,"Bislama","AH",null,null,"Lake"]
[null,null,null,"Bokharian","AI",null,null,"Lee"]
[null,null,null,"Bosnian","AJ",null,null,"Leon"]
[null,null,null,"Braille","AK",null,null,"Levy"]
[null,null,null,"Breton","AL",null,null,"Liberty"]
[null,null,null,"Bulgarian","AM",null,null,"Madison"]
[null,null,null,"Burmese","AN",null,null,"Manatee"]
[null,null,null,"Byelorussian","AO",null,null,"Marion"]
[null,null,null,"Cambodian","AP",null,null,"Martin"]
[null,null,null,"Cambodian/Campuchean","AQ",null,null,"Miami-Dade"]
[null,null,null,"Cantonese","AR",null,null,"Monroe"]
[null,null,null,"Cape Verde Creole","AS",null,null,"Nassau"]
[null,null,null,"Catalan","AT",null,null,"Okaloosa"]
[null,null,null,"Cebuano","AU",null,null,"Okeechobee"]
[null,null,null,"Chaldean Neo-Aramaic","AV",null,null,"Orange"]
[null,null,null,"Chamorro","AW",null,null,"Osceola"]
[null,null,null,"Chau-Chow","AX",null,null,"Palm Beach"]
[null,null,null,"Cherokee(Tsalagi)","AY",null,null,"Pasco"]
[null,null,null,"Chinese","AZ",null,null,"Pinellas"]
[null,null,null,"Chuukese",null,null,null,"Polk"]
[null,null,null,"Coptic",null,null,null,"Putnam"]
[null,null,null,"Corsican",null,null,null,"Santa Rosa"]
[null,null,null,"CPE",null,null,null,"Sarasota"]
[null,null,null,"Creole",null,null,null,"Seminole"]
[null,null,null,"Croatian",null,null,null,"St. Johns"]
[null,null,null,"Czech",null,null,null,"St. Lucie"]
[null,null,null,"Danish",null,null,null,"Sumter"]
[null,null,null,"Dari",null,null,null,"Suwannee"]
[null,null,null,"Dinka",null,null,null,"Taylor"]
[null,null,null,"Dutch",null,null,null,"Union"]
[null,null,null,"Dzongkha",null,null,null,"Volusia"]
[null,null,null,"Edo",null,null,null,"Wakulla"]
[null,null,null,"Efik",null,null,null,"Walton"]
[null,null,null,"Egyptian Arabic",null,null,null,"Washington"]
[null,null,null,"Elamite"]
[null,null,null,"English"]
[null,null,null,"Esperanto"]
[null,null,null,"Estonian"]
[null,null,null,"Fanti"]
[null,null,null,"Faroese"]
[null,null,null,"Farsi"]
[null,null,null,"Fiji"]
[null,null,null,"Fijian"]
[null,null,null,"Filipino"]
[null,null,null,"Finnish"]
[null,null,null,"Flemish"]
[null,null,null,"Foochow/Fuzhou"]
[null,null,null,"Formosan"]
[null,null,null,"French"]
[null,null,null,"French Creole"]
[null,null,null,"Frisian"]
[null,null,null,"Frisian Eastern"]
[null,null,null,"Frisian Western"]
[null,null,null,"Fujian"]
[null,null,null,"Fukien"]
[null,null,null,"Fukienese"]
[null,null,null,"Fula"]
[null,null,null,"Ga"]
[null,null,null,"Gaelic"]
[null,null,null,"Galician"]
[null,null,null,"Georgian"]
[null,null,null,"German"]
[null,null,null,"Ghanaian"]
[null,null,null,"Greek"]
[null,null,null,"Greenlandic"]
[null,null,null,"Guarani"]
[null,null,null,"Gujarati"]
[null,null,null,"Haitian"]
[null,null,null,"Haitian Creole"]
[null,null,null,"Hakka"]
[null,null,null,"Halia"]
[null,null,null,"Hausa"]
[null,null,null,"Hawaiian"]
[null,null,null,"Hawrami"]
[null,null,null,"Hebrew"]
[null,null,null,"Hiligaynon"]
[null,null,null,"Hindi"]
[null,null,null,"Hmong"]
[null,null,null,"Hopi"]
[null,null,null,"Hunanese"]
[null,null,null,"Hungarian"]
[null,null,null,"Icelandic"]
[null,null,null,"Ido"]
[null,null,null,"Igbo"]
[null,null,null,"Ilocano"]
[null,null,null,"Indian"]
[null,null,null,"Indic"]
[null,null,null,"Indonesian"]
[null,null,null,"Indu"]
[null,null,null,"Interlingua"]
[null,null,null,"Interlingue"]
[null,null,null,"Inuktitut"]
[null,null,null,"Inupiaq"]
[null,null,null,"Iranian"]
[null,null,null,"Irish"]
[null,null,null,"Italian"]
[null,null,null,"Jamaican Creole"]
[null,null,null,"Japanese"]
[null,null,null,"Javanese"]
[null,null,null,"Kannada"]
[null,null,null,"Kashmin"]
[null,null,null,"Kashmiri"]
[null,null,null,"Kazakh"]
[null,null,null,"Keran"]
[null,null,null,"Khasi"]
[null,null,null,"Khmer"]
[null,null,null,"Kinyarwanda"]
[null,null,null,"Kirghiz"]
[null,null,null,"Kirundi"]
[null,null,null,"Kiswahili"]
[null,null,null,"Konkani"]
[null,null,null,"Korean"]
[null,null,null,"Kpelle"]
[null,null,null,"Krio"]
[null,null,null,"Kunama"]
[null,null,null,"Kurdish"]
[null,null,null,"Kurmanji"]
[null,null,null,"Kurundi"]
[null,null,null,"Kutchi"]
[null,null,null,"Lao"]
[null,null,null,"Laothian"]
[null,null,null,"Laotian"]
[null,null,null,"Latin"]
[null,null,null,"Latvian"]
[null,null,null,"Lebanese"]
[null,null,null,"Lelegu"]
[null,null,null,"Lingala"]
[null,null,null,"Lithuanian"]
[null,null,null,"Loatian"]
[null,null,null,"Luganda"]
[null,null,null,"Macedonian"]
[null,null,null,"Malagasy"]
[null,null,null,"Malasian"]
[null,null,null,"Malay"]
[null,null,null,"Malayalam"]
[null,null,null,"Malaysian"]
[null,null,null,"Maltese"]
[null,null,null,"Mandarin"]
[null,null,null,"Mandarin Chinese"]
[null,null,null,"Manipuri"]
[null,null,null,"Maori"]
[null,null,null,"Marathi"]
[null,null,null,"Marshallese"]
[null,null,null,"Masalhi"]
[null,null,null,"Memon"]
[null,null,null,"Mende"]
[null,null,null,"Mien"]
[null,null,null,"Mixe"]
[null,null,null,"Mixteco-Alta"]
[null,null,null,"Mixteco-Baja"]
[null,null,null,"Mohawk"]
[null,null,null,"Moldavian"]
[null,null,null,"Mongolian"]
[null,null,null,"Mon-Khmer"]
[null,null,null,"Movami"]
[null,null,null,"Nauru"]
[null,null,null,"Navajo"]
[null,null,null,"Nepali"]
[null,null,null,"Nigerian"]
[null,null,null,"None"]
[null,null,null,"Norwegian"]
[null,null,null,"Nuer"]
[null,null,null,"Occitan"]
[null,null,null,"Oriya"]
[null,null,null,"Other"]
[null,null,null,"Ouly"]
[null,null,null,"Pakistani"]
[null,null,null,"Pampango/Kapampangan"]
[null,null,null,"Pangasinian"]
[null,null,null,"Pansa"]
[null,null,null,"Pashto"]
[null,null,null,"Patois"]
[null,null,null,"Persian"]
[null,null,null,"Philippine"]
[null,null,null,"Polish"]
[null,null,null,"Portuguese"]
[null,null,null,"Portuguese Creole"]
[null,null,null,"Punjabi"]
[null,null,null,"Puyallup"]
[null,null,null,"Q'anjob'al"]
[null,null,null,"Quechua"]
[null,null,null,"Rhaeto-Romance"]
[null,null,null,"Romanian"]
[null,null,null,"Runyankole"]
[null,null,null,"Russian"]
[null,null,null,"Salish (Salishan)"]
[null,null,null,"Samoan"]
[null,null,null,"Sango"]
[null,null,null,"Sanhala"]
[null,null,null,"Sanskrit"]
[null,null,null,"Scot Gaelic"]
[null,null,null,"Serbian"]
[null,null,null,"Serbo-Croatian"]
[null,null,null,"Sesotho"]
[null,null,null,"Setswana"]
[null,null,null,"Shanghain"]
[null,null,null,"Shanghainese"]
[null,null,null,"Shona"]
[null,null,null,"Siamese"]
[null,null,null,"Sicilian"]
[null,null,null,"Sindhi"]
[null,null,null,"Singhalese"]
[null,null,null,"Sinhalese"]
[null,null,null,"Siswati"]
[null,null,null,"Slavic"]
[null,null,null,"Slovak"]
[null,null,null,"Slovene"]
[null,null,null,"Somali"]
[null,null,null,"Southern Sotho"]
[null,null,null,"Spanish"]
[null,null,null,"Srilankin"]
[null,null,null,"Sundanese"]
[null,null,null,"Swahili"]
[null,null,null,"Swati"]
[null,null,null,"Swedish"]
[null,null,null,"Swiss German"]
[null,null,null,"Syrian"]
[null,null,null,"Tagalog"]
[null,null,null,"Taiwanese"]
[null,null,null,"Tajik"]
[null,null,null,"Talgo"]
[null,null,null,"Tamil"]
[null,null,null,"Tarasco"]
[null,null,null,"Tasalos"]
[null,null,null,"Tatar"]
[null,null,null,"Telugu"]
[null,null,null,"Thai"]
[null,null,null,"Tibetan Central"]
[null,null,null,"Tibetan Standard"]
[null,null,null,"Tigrinya"]
[null,null,null,"Tio Chiu Or Teochew"]
[null,null,null,"Tohono O'odham"]
[null,null,null,"Toisanese"]
[null,null,null,"Tongan"]
[null,null,null,"Tsonga"]
[null,null,null,"Tunisian Arabic"]
[null,null,null,"Turkish"]
[null,null,null,"Turkmen"]
[null,null,null,"Twi"]
[null,null,null,"Uigar"]
[null,null,null,"Uigur"]
[null,null,null,"Ukrainian"]
[null,null,null,"Urdi"]
[null,null,null,"Urdu"]
[null,null,null,"Uzbek"]
[null,null,null,"Vietnamese"]
[null,null,null,"Visaya"]
[null,null,null,"Volapuk"]
[null,null,null,"Welsh"]
[null,null,null,"Wolof"]
[null,null,null,"Wu"]
[null,null,null,"Xhosa"]
[null,null,null,"Yakima"]
[null,null,null,"Yaqui"]
[null,null,null,"Yiddish"]
[null,null,null,"Yoruba"]
[null,null,null,"Zapotec"]
[null,null,null,"Zerbaijani"]
[null,null,null,"Zhuang"]
[null,null,null,"Zulu"]